{"text_format":"1","workbook":"xlsx","n_sheets":52,"sheets":["CARATULA","GUIA DE USO DEL REGISTRO PE","DATOS DEL ESTUDIANTE","MENU ASISTENCIA","MENU EVALUACION","FEBRERO","MARZO","ABRIL","MAYO","JUNIO","JULIO","AGOSTO","SEPTIEMBRE","OCTUBRE","NOVIEMBRE","DICIEMBRE","LENGUAJE PRIMER BIMESTRE","LENGUAJE SEGUNDO BIMESTRE","LENGUAJE TERCER BIMESTRE","LENGUAJE CUARTO BIMESTRE","CIENCIAS SOCIALES1","CIENCIAS SOCIALES2","CIENCIAS SOCIALES 3","CIENCIAS SOCIALES 4","EDUCACION MUSICAL 1","EDUCACION MUSICAL 2","EDUCACION MUSICAL 3","EDUCACION MUSICAL 4","EDUCACION FISICA 1","EDUCACION FISICA 2","EDUCACION FISICA 3","EDUCACION FISICA 4","CIENCIAS NATURALES 1","CIENCIAS NATURALES 2","CIENCIAS NATURALES 3","CIENCIAS NATURALES 4","MATEMATICAS 1","MATEMATICAS 2","MATEMATICAS 3","MATEMATICAS 4","TECNICA TECNOLOGICA 1","TECNICA TECNOLOGICA 2","TECNICA TECNOLOGICA 3","TECNICA TECNOLOGICA 4","ARTES PLASTICAS 1","ARTES PLASTICAS 2","ARTES PLASTICAS3","ARTES PLASTICAS 4","VALORES, ESPIRITUALIDADES Y R1","VALORES, ESPIRITUALIDADES Y R2","VALORES, ESPIRITUALIDADES Y R3","VALORES, ESPIRITUALIDADES Y R4"],"not_rendered":{"charts":0,"images":23,"macros":1,"external_links":0,"defined_names":0,"comments":46,"pivot_tables":0},"unopened":[],"bounds":{"document_bytes":16777216,"sheet_cells":100000,"rows_first":2000,"rows_last":500,"rows_between":2000,"halvings":0,"cell_chars":16384,"cell_head_chars":4096},"cells_cut":0,"cells_raw":0,"read":"whole","date_system":"1900"}

{"sheet":"CARATULA","index":0,"n_rows":18,"n_cols":4,"rows_kept":18,"cut":false,"hidden":false,"merged":[[7,3,7,5],[7,6,7,10],[7,11,8,11],[8,3,8,5],[8,6,8,10],[0,0,1,9],[0,11,1,11],[2,0,6,9],[2,11,3,11],[4,11,6,11],[9,3,9,5],[9,6,9,10],[10,3,10,5],[10,6,10,10],[11,3,11,5],[11,6,11,10],[12,3,12,5],[12,6,12,10],[13,3,13,5],[13,6,13,10],[14,3,14,5],[14,6,14,10],[15,3,15,5],[15,6,15,10],[16,3,16,5],[16,6,16,10],[17,3,17,5],[17,6,17,10]]}
[]
[]
[]
[]
[]
[]
[]
[null,null,null,"DEPARTAMENTO"]
[null,null,null,"DISTRITO EDUCATIVO"]
[null,null,null,"MUNICIPIO"]
[null,null,null,"LOCALIDAD"]
[null,null,null,"NUCLEO / RED"]
[null,null,null,"UNIDAD EDUCATIVA"]
[null,null,null,"CODIGO SIE:"]
[null,null,null,"AÑO DE ESCOLARIDAD"]
[null,null,null,"PARALELO"]
[null,null,null,"DIRECTORA / DIRECTOR"]
[null,null,null,"MAESTRA / MAESTRO"]

{"sheet":"GUIA DE USO DEL REGISTRO PE","index":1,"n_rows":0,"n_cols":0,"rows_kept":0,"cut":false,"hidden":false,"merged":[]}

{"sheet":"DATOS DEL ESTUDIANTE","index":2,"n_rows":48,"n_cols":11,"rows_kept":48,"cut":false,"hidden":false,"merged":[[0,0,0,10],[1,0,1,7],[1,8,1,10]]}
["REGISTRO DE  DE DATOS PERSONALES DEL ESTUDIANTE"]
["DATOS DEL ESTUDIANTE",null,null,null,null,null,null,null,"DATOS DE LA PERSONA  \nCON QUIEN VIVE EL ESTUDIANTE"]
["N°","NOMBRES ","APELLIDO PATERNO","APELLIDO MATERNO","RUDE","FECHA DE \nNAC.","C.I.","EDAD","PADRE/MADRE/TUTOR","DOMICILIO","TELÉFONO"]
[1]
[2]
[3]
[4]
[5]
[6]
[7]
[8]
[9]
[10]
[11]
[12]
[13]
[14]
[15]
[16]
[17]
[18]
[19]
[20]
[21]
[22]
[23]
[24]
[25]
[26]
[27]
[28]
[29]
[30]
[31]
[32]
[33]
[34]
[35]
[36]
[37]
[38]
[39]
[40]
[41]
[42]
[43]
[44]
[45]

{"sheet":"MENU ASISTENCIA","index":3,"n_rows":0,"n_cols":0,"rows_kept":0,"cut":false,"hidden":false,"merged":[]}

{"sheet":"MENU EVALUACION","index":4,"n_rows":0,"n_cols":0,"rows_kept":0,"cut":false,"hidden":false,"merged":[]}

{"sheet":"FEBRERO","index":5,"n_rows":55,"n_cols":38,"rows_kept":55,"cut":false,"hidden":false,"merged":[[1,0,3,0],[1,1,3,1],[1,4,3,4],[1,5,1,27],[1,28,3,28],[1,2,3,2],[1,3,3,3],[54,7,54,14],[54,17,54,24],[0,1,0,32],[0,34,1,36],[0,37,2,37],[1,29,3,29],[1,30,3,30],[1,31,3,31],[1,32,3,32],[49,23,49,27],[50,23,50,27]]}
[null,"REGISTRO DE ASISTENCIA",null,null,null,null,null,null,null,null,null,null,null,null,null,null,null,null,null,null,null,null,null,null,null,null,null,null,null,null,null,null,null,null,null,null,null,"A = Asistencia \nF = Faltas\nL= Licencia"]
[null,"N°","NOMBRES ","APELLIDO PATERNO","APELLIDO MATERNO","FEBRERO",null,null,null,null,null,null,null,null,null,null,null,null,null,null,null,null,null,null,null,null,null,null,"RETRASOS","ASISTENCIAS","FALTAS","LICENCIAS","DIAS TRABAJADOS"]
[null,null,null,null,null,1,2,3,4,5,6,7,8,9,10,11,12,13,14,15,16,17,18,19,20,21,22,23]
[null,null,null,null,null,"L","M","M","J","V","S","D","L","M","M","J","V","L","M","M","J","V","S","L","M","M","J","V"]
[null,1,{"$f":"'DATOS DEL ESTUDIANTE'!B4","v":0},{"$f":"'DATOS DEL ESTUDIANTE'!C4","v":0},{"$f":"'DATOS DEL ESTUDIANTE'!D4","v":0},null,null,null,null,null,null,null,null,null,null,null,null,null,null,null,null,null,null,null,null,null,null,null,{"$f":"COUNTIF(F5:AA5,\"R\")","v":0},{"$f":"COUNTIF(F5:AB5,\"A\")","v":0},{"$f":"COUNTIF(F5:AB5,\"F\")","v":0},{"$f":"COUNTIF(F5:AB5,\"L\")","v":0},{"$f":"SUM(AD5:AF5)","v":0}]
[null,2,{"$f":"'DATOS DEL ESTUDIANTE'!B5","v":0},{"$f":"'DATOS DEL ESTUDIANTE'!C5","v":0},{"$f":"'DATOS DEL ESTUDIANTE'!D5","v":0},null,null,null,null,null,null,null,null,null,null,null,null,null,null,null,null,null,null,null,null,null,null,null,{"$f":"COUNTIF(F6:AA6,\"R\")","v":0},{"$f":"COUNTIF(F6:AB6,\"A\")","v":0},{"$f":"COUNTIF(F6:AB6,\"F\")","v":0},{"$f":"COUNTIF(F6:AB6,\"L\")","v":0},{"$f":"SUM(AD6:AF6)","v":0}]
[null,3,{"$f":"'DATOS DEL ESTUDIANTE'!B6","v":0},{"$f":"'DATOS DEL ESTUDIANTE'!C6","v":0},{"$f":"'DATOS DEL ESTUDIANTE'!D6","v":0},null,null,null,null,null,null,null,null,null,null,null,null,null,null,null,null,null,null,null,null,null,null,null,0,0,0,0,0]
[null,4,{"$f":"'DATOS DEL ESTUDIANTE'!B7","v":0},{"$f":"'DATOS DEL ESTUDIANTE'!C7","v":0},{"$f":"'DATOS DEL ESTUDIANTE'!D7","v":0},null,null,null,null,null,null,null,null,null,null,null,null,null,null,null,null,null,null,null,null,null,null,null,0,0,0,0,0]
[null,5,{"$f":"'DATOS DEL ESTUDIANTE'!B8","v":0},{"$f":"'DATOS DEL ESTUDIANTE'!C8","v":0},{"$f":"'DATOS DEL ESTUDIANTE'!D8","v":0},null,null,null,null,null,null,null,null,null,null,null,null,null,null,null,null,null,null,null,null,null,null,null,0,0,0,0,0]
[null,6,{"$f":"'DATOS DEL ESTUDIANTE'!B9","v":0},{"$f":"'DATOS DEL ESTUDIANTE'!C9","v":0},{"$f":"'DATOS DEL ESTUDIANTE'!D9","v":0},null,null,null,null,null,null,null,null,null,null,null,null,null,null,null,null,null,null,null,null,null,null,null,0,0,0,0,0]
[null,7,{"$f":"'DATOS DEL ESTUDIANTE'!B10","v":0},{"$f":"'DATOS DEL ESTUDIANTE'!C10","v":0},{"$f":"'DATOS DEL ESTUDIANTE'!D10","v":0},null,null,null,null,null,null,null,null,null,null,null,null,null,null,null,null,null,null,null,null,null,null,null,0,0,0,0,0]
[null,8,{"$f":"'DATOS DEL ESTUDIANTE'!B11","v":0},{"$f":"'DATOS DEL ESTUDIANTE'!C11","v":0},{"$f":"'DATOS DEL ESTUDIANTE'!D11","v":0},null,null,null,null,null,null,null,null,null,null,null,null,null,null,null,null,null,null,null,null,null,null,null,0,0,0,0,0]
[null,9,{"$f":"'DATOS DEL ESTUDIANTE'!B12","v":0},{"$f":"'DATOS DEL ESTUDIANTE'!C12","v":0},{"$f":"'DATOS DEL ESTUDIANTE'!D12","v":0},null,null,null,null,null,null,null,null,null,null,null,null,null,null,null,null,null,null,null,null,null,null,null,0,0,0,0,0]
[null,10,{"$f":"'DATOS DEL ESTUDIANTE'!B13","v":0},{"$f":"'DATOS DEL ESTUDIANTE'!C13","v":0},{"$f":"'DATOS DEL ESTUDIANTE'!D13","v":0},null,null,null,null,null,null,null,null,null,null,null,null,null,null,null,null,null,null,null,null,null,null,null,0,0,0,0,0]
[null,11,{"$f":"'DATOS DEL ESTUDIANTE'!B14","v":0},{"$f":"'DATOS DEL ESTUDIANTE'!C14","v":0},{"$f":"'DATOS DEL ESTUDIANTE'!D14","v":0},null,null,null,null,null,null,null,null,null,null,null,null,null,null,null,null,null,null,null,null,null,null,null,0,0,0,0,0]
[null,12,{"$f":"'DATOS DEL ESTUDIANTE'!B15","v":0},{"$f":"'DATOS DEL ESTUDIANTE'!C15","v":0},{"$f":"'DATOS DEL ESTUDIANTE'!D15","v":0},null,null,null,null,null,null,null,null,null,null,null,null,null,null,null,null,null,null,null,null,null,null,null,0,0,0,0,0]
[null,13,{"$f":"'DATOS DEL ESTUDIANTE'!B16","v":0},{"$f":"'DATOS DEL ESTUDIANTE'!C16","v":0},{"$f":"'DATOS DEL ESTUDIANTE'!D16","v":0},null,null,null,null,null,null,null,null,null,null,null,null,null,null,null,null,null,null,null,null,null,null,null,0,0,0,0,0]
[null,14,{"$f":"'DATOS DEL ESTUDIANTE'!B17","v":0},{"$f":"'DATOS DEL ESTUDIANTE'!C17","v":0},{"$f":"'DATOS DEL ESTUDIANTE'!D17","v":0},null,null,null,null,null,null,null,null,null,null,null,null,null,null,null,null,null,null,null,null,null,null,null,0,0,0,0,0]
[null,15,{"$f":"'DATOS DEL ESTUDIANTE'!B18","v":0},{"$f":"'DATOS DEL ESTUDIANTE'!C18","v":0},{"$f":"'DATOS DEL ESTUDIANTE'!D18","v":0},null,null,null,null,null,null,null,null,null,null,null,null,null,null,null,null,null,null,null,null,null,null,null,0,0,0,0,0]
[null,16,{"$f":"'DATOS DEL ESTUDIANTE'!B19","v":0},{"$f":"'DATOS DEL ESTUDIANTE'!C19","v":0},{"$f":"'DATOS DEL ESTUDIANTE'!D19","v":0},null,null,null,null,null,null,null,null,null,null,null,null,null,null,null,null,null,null,null,null,null,null,null,0,0,0,0,0]
[null,17,{"$f":"'DATOS DEL ESTUDIANTE'!B20","v":0},{"$f":"'DATOS DEL ESTUDIANTE'!C20","v":0},{"$f":"'DATOS DEL ESTUDIANTE'!D20","v":0},null,null,null,null,null,null,null,null,null,null,null,null,null,null,null,null,null,null,null,null,null,null,null,0,0,0,0,0]
[null,18,{"$f":"'DATOS DEL ESTUDIANTE'!B21","v":0},{"$f":"'DATOS DEL ESTUDIANTE'!C21","v":0},{"$f":"'DATOS DEL ESTUDIANTE'!D21","v":0},null,null,null,null,null,null,null,null,null,null,null,null,null,null,null,null,null,null,null,null,null,null,null,0,0,0,0,0]
[null,19,{"$f":"'DATOS DEL ESTUDIANTE'!B22","v":0},{"$f":"'DATOS DEL ESTUDIANTE'!C22","v":0},{"$f":"'DATOS DEL ESTUDIANTE'!D22","v":0},null,null,null,null,null,null,null,null,null,null,null,null,null,null,null,null,null,null,null,null,null,null,null,0,0,0,0,0]
[null,20,{"$f":"'DATOS DEL ESTUDIANTE'!B23","v":0},{"$f":"'DATOS DEL ESTUDIANTE'!C23","v":0},{"$f":"'DATOS DEL ESTUDIANTE'!D23","v":0},null,null,null,null,null,null,null,null,null,null,null,null,null,null,null,null,null,null,null,null,null,null,null,0,0,0,0,0]
[null,21,{"$f":"'DATOS DEL ESTUDIANTE'!B24","v":0},{"$f":"'DATOS DEL ESTUDIANTE'!C24","v":0},{"$f":"'DATOS DEL ESTUDIANTE'!D24","v":0},null,null,null,null,null,null,null,null,null,null,null,null,null,null,null,null,null,null,null,null,null,null,null,0,0,0,0,0]
[null,22,{"$f":"'DATOS DEL ESTUDIANTE'!B25","v":0},{"$f":"'DATOS DEL ESTUDIANTE'!C25","v":0},{"$f":"'DATOS DEL ESTUDIANTE'!D25","v":0},null,null,null,null,null,null,null,null,null,null,null,null,null,null,null,null,null,null,null,null,null,null,null,0,0,0,0,0]
[null,23,{"$f":"'DATOS DEL ESTUDIANTE'!B26","v":0},{"$f":"'DATOS DEL ESTUDIANTE'!C26","v":0},{"$f":"'DATOS DEL ESTUDIANTE'!D26","v":0},null,null,null,null,null,null,null,null,null,null,null,null,null,null,null,null,null,null,null,null,null,null,null,0,0,0,0,0]
[null,24,{"$f":"'DATOS DEL ESTUDIANTE'!B27","v":0},{"$f":"'DATOS DEL ESTUDIANTE'!C27","v":0},{"$f":"'DATOS DEL ESTUDIANTE'!D27","v":0},null,null,null,null,null,null,null,null,null,null,null,null,null,null,null,null,null,null,null,null,null,null,null,0,0,0,0,0]
[null,25,{"$f":"'DATOS DEL ESTUDIANTE'!B28","v":0},{"$f":"'DATOS DEL ESTUDIANTE'!C28","v":0},{"$f":"'DATOS DEL ESTUDIANTE'!D28","v":0},null,null,null,null,null,null,null,null,null,null,null,null,null,null,null,null,null,null,null,null,null,null,null,0,0,0,0,0]
[null,26,{"$f":"'DATOS DEL ESTUDIANTE'!B29","v":0},{"$f":"'DATOS DEL ESTUDIANTE'!C29","v":0},{"$f":"'DATOS DEL ESTUDIANTE'!D29","v":0},null,null,null,null,null,null,null,null,null,null,null,null,null,null,null,null,null,null,null,null,null,null,null,0,0,0,0,0]
[null,27,{"$f":"'DATOS DEL ESTUDIANTE'!B30","v":0},{"$f":"'DATOS DEL ESTUDIANTE'!C30","v":0},{"$f":"'DATOS DEL ESTUDIANTE'!D30","v":0},null,null,null,null,null,null,null,null,null,null,null,null,null,null,null,null,null,null,null,null,null,null,null,0,0,0,0,0]
[null,28,{"$f":"'DATOS DEL ESTUDIANTE'!B31","v":0},{"$f":"'DATOS DEL ESTUDIANTE'!C31","v":0},{"$f":"'DATOS DEL ESTUDIANTE'!D31","v":0},null,null,null,null,null,null,null,null,null,null,null,null,null,null,null,null,null,null,null,null,null,null,null,null,0,0,0,0]
[null,29,{"$f":"'DATOS DEL ESTUDIANTE'!B32","v":0},{"$f":"'DATOS DEL ESTUDIANTE'!C32","v":0},{"$f":"'DATOS DEL ESTUDIANTE'!D32","v":0},null,null,null,null,null,null,null,null,null,null,null,null,null,null,null,null,null,null,null,null,null,null,null,null,0,0,0,0]
[null,30,{"$f":"'DATOS DEL ESTUDIANTE'!B33","v":0},{"$f":"'DATOS DEL ESTUDIANTE'!C33","v":0},{"$f":"'DATOS DEL ESTUDIANTE'!D33","v":0},null,null,null,null,null,null,null,null,null,null,null,null,null,null,null,null,null,null,null,null,null,null,null,null,0,0,0,0]
[null,31,{"$f":"'DATOS DEL ESTUDIANTE'!B34","v":0},{"$f":"'DATOS DEL ESTUDIANTE'!C34","v":0},{"$f":"'DATOS DEL ESTUDIANTE'!D34","v":0},null,null,null,null,null,null,null,null,null,null,null,null,null,null,null,null,null,null,null,null,null,null,null,null,0,0,0,0]
[null,32,{"$f":"'DATOS DEL ESTUDIANTE'!B35","v":0},{"$f":"'DATOS DEL ESTUDIANTE'!C35","v":0},{"$f":"'DATOS DEL ESTUDIANTE'!D35","v":0},null,null,null,null,null,null,null,null,null,null,null,null,null,null,null,null,null,null,null,null,null,null,null,null,0,0,0,0]
[null,33,{"$f":"'DATOS DEL ESTUDIANTE'!B36","v":0},{"$f":"'DATOS DEL ESTUDIANTE'!C36","v":0},{"$f":"'DATOS DEL ESTUDIANTE'!D36","v":0},null,null,null,null,null,null,null,null,null,null,null,null,null,null,null,null,null,null,null,null,null,null,null,null,0,0,0,0]
[null,34,{"$f":"'DATOS DEL ESTUDIANTE'!B37","v":0},{"$f":"'DATOS DEL ESTUDIANTE'!C37","v":0},{"$f":"'DATOS DEL ESTUDIANTE'!D37","v":0},null,null,null,null,null,null,null,null,null,null,null,null,null,null,null,null,null,null,null,null,null,null,null,null,0,0,0,0]
[null,35,{"$f":"'DATOS DEL ESTUDIANTE'!B38","v":0},{"$f":"'DATOS DEL ESTUDIANTE'!C38","v":0},{"$f":"'DATOS DEL ESTUDIANTE'!D38","v":0},null,null,null,null,null,null,null,null,null,null,null,null,null,null,null,null,null,null,null,null,null,null,null,null,0,0,0,0]
[null,36,{"$f":"'DATOS DEL ESTUDIANTE'!B39","v":0},{"$f":"'DATOS DEL ESTUDIANTE'!C39","v":0},{"$f":"'DATOS DEL ESTUDIANTE'!D39","v":0},null,null,null,null,null,null,null,null,null,null,null,null,null,null,null,null,null,null,null,null,null,null,null,null,0,0,0,0]
[null,37,{"$f":"'DATOS DEL ESTUDIANTE'!B40","v":0},{"$f":"'DATOS DEL ESTUDIANTE'!C40","v":0},{"$f":"'DATOS DEL ESTUDIANTE'!D40","v":0},null,null,null,null,null,null,null,null,null,null,null,null,null,null,null,null,null,null,null,null,null,null,null,null,0,0,0,0]
[null,38,{"$f":"'DATOS DEL ESTUDIANTE'!B41","v":0},{"$f":"'DATOS DEL ESTUDIANTE'!C41","v":0},{"$f":"'DATOS DEL ESTUDIANTE'!D41","v":0},null,null,null,null,null,null,null,null,null,null,null,null,null,null,null,null,null,null,null,null,null,null,null,null,0,0,0,0]
[null,39,{"$f":"'DATOS DEL ESTUDIANTE'!B42","v":0},{"$f":"'DATOS DEL ESTUDIANTE'!C42","v":0},{"$f":"'DATOS DEL ESTUDIANTE'!D42","v":0},null,null,null,null,null,null,null,null,null,null,null,null,null,null,null,null,null,null,null,null,null,null,null,null,0,0,0,0]
[null,40,{"$f":"'DATOS DEL ESTUDIANTE'!B43","v":0},{"$f":"'DATOS DEL ESTUDIANTE'!C43","v":0},{"$f":"'DATOS DEL ESTUDIANTE'!D43","v":0},null,null,null,null,null,null,null,null,null,null,null,null,null,null,null,null,null,null,null,null,null,null,null,null,0,0,0,0]
[null,41,{"$f":"'DATOS DEL ESTUDIANTE'!B44","v":0},{"$f":"'DATOS DEL ESTUDIANTE'!C44","v":0},{"$f":"'DATOS DEL ESTUDIANTE'!D44","v":0},null,null,null,null,null,null,null,null,null,null,null,null,null,null,null,null,null,null,null,null,null,null,null,null,0,0,0,0]
[null,42,{"$f":"'DATOS DEL ESTUDIANTE'!B45","v":0},{"$f":"'DATOS DEL ESTUDIANTE'!C45","v":0},{"$f":"'DATOS DEL ESTUDIANTE'!D45","v":0},null,null,null,null,null,null,null,null,null,null,null,null,null,null,null,null,null,null,null,null,null,null,null,null,0,0,0,0]
[null,43,{"$f":"'DATOS DEL ESTUDIANTE'!B46","v":0},{"$f":"'DATOS DEL ESTUDIANTE'!C46","v":0},{"$f":"'DATOS DEL ESTUDIANTE'!D46","v":0},null,null,null,null,null,null,null,null,null,null,null,null,null,null,null,null,null,null,null,null,null,null,null,null,0,0,0,0]
[null,44,{"$f":"'DATOS DEL ESTUDIANTE'!B47","v":0},{"$f":"'DATOS DEL ESTUDIANTE'!C47","v":0},{"$f":"'DATOS DEL ESTUDIANTE'!D47","v":0},null,null,null,null,null,null,null,null,null,null,null,null,null,null,null,null,null,null,null,null,null,null,null,null,0,0,0,0]
[null,45,{"$f":"'DATOS DEL ESTUDIANTE'!B48","v":0},{"$f":"'DATOS DEL ESTUDIANTE'!C48","v":0},{"$f":"'DATOS DEL ESTUDIANTE'!D48","v":0},null,null,null,null,null,null,null,null,null,null,null,null,null,null,null,null,null,null,null,null,null,null,null,null,0,0,0,0]
[null,null,null,null,null,null,null,null,null,null,null,null,null,null,null,null,null,null,null,null,null,null,null,"TOTAL",null,null,null,null,{"$f":"SUM(AC5:AC49)","v":0},{"$f":"SUM(AD5:AD49)","v":0},{"$f":"SUM(AE5:AE49)","v":0},{"$f":"SUM(AF5:AF49)","v":0},{"$f":"SUM(AG5:AG49)","v":0},null,{"$f":"SUM(AD50:AG50)","v":0}]
[null,null,null,null,null,null,null,null,null,null,null,null,null,null,null,null,null,null,null,null,null,null,null,"PORCENTAJES",null,null,null,null,null,{"$f":"AD50/$AI$50","v":{"$error":"#DIV/0!"}},{"$error":"#DIV/0!"},{"$error":"#DIV/0!"},{"$error":"#DIV/0!"},{"$error":"#DIV/0!"},{"$error":"#DIV/0!"}]
[]
[]
[]
[null,null,null,null,null,null,null,"MAESTRA (O)",null,null,null,null,null,null,null,null,null,"DIRECTOR (A)"]

{"sheet":"MARZO","index":6,"n_rows":55,"n_cols":38,"rows_kept":55,"cut":false,"hidden":false,"merged":[[1,0,3,0],[1,1,3,1],[1,4,3,4],[1,5,1,27],[1,28,3,28],[1,2,3,2],[1,3,3,3],[54,7,54,14],[54,17,54,24],[0,1,0,32],[0,34,1,36],[0,37,2,37],[1,29,3,29],[1,30,3,30],[1,31,3,31],[1,32,3,32],[49,23,49,27],[50,23,50,27]]}
[null,"REGISTRO DE ASISTENCIA",null,null,null,null,null,null,null,null,null,null,null,null,null,null,null,null,null,null,null,null,null,null,null,null,null,null,null,null,null,null,null,null,null,null,null,"A = Asistencia \nF = Faltas\nL= Licencia"]
[null,"N°","NOMBRES ","APELLIDO PATERNO","APELLIDO MATERNO","MARZO",null,null,null,null,null,null,null,null,null,null,null,null,null,null,null,null,null,null,null,null,null,null,"RETRASOS","ASISTENCIAS","FALTAS","LICENCIAS","DIAS TRABAJADOS"]
[]
[]
[null,1,{"$f":"'DATOS DEL ESTUDIANTE'!B4","v":0},{"$f":"'DATOS DEL ESTUDIANTE'!C4","v":0},{"$f":"'DATOS DEL ESTUDIANTE'!D4","v":0},null,null,null,null,null,null,null,null,null,null,null,null,null,null,null,null,null,null,null,null,null,null,null,{"$f":"COUNTIF(F5:AA5,\"R\")","v":0},{"$f":"COUNTIF(F5:AB5,\"A\")","v":0},{"$f":"COUNTIF(F5:AB5,\"F\")","v":0},{"$f":"COUNTIF(F5:AB5,\"L\")","v":0},{"$f":"SUM(AD5:AF5)","v":0}]
[null,2,{"$f":"'DATOS DEL ESTUDIANTE'!B5","v":0},{"$f":"'DATOS DEL ESTUDIANTE'!C5","v":0},{"$f":"'DATOS DEL ESTUDIANTE'!D5","v":0},null,null,null,null,null,null,null,null,null,null,null,null,null,null,null,null,null,null,null,null,null,null,null,{"$f":"COUNTIF(F6:AA6,\"R\")","v":0},{"$f":"COUNTIF(F6:AB6,\"A\")","v":0},{"$f":"COUNTIF(F6:AB6,\"F\")","v":0},{"$f":"COUNTIF(F6:AB6,\"L\")","v":0},{"$f":"SUM(AD6:AF6)","v":0}]
[null,3,{"$f":"'DATOS DEL ESTUDIANTE'!B6","v":0},{"$f":"'DATOS DEL ESTUDIANTE'!C6","v":0},{"$f":"'DATOS DEL ESTUDIANTE'!D6","v":0},null,null,null,null,null,null,null,null,null,null,null,null,null,null,null,null,null,null,null,null,null,null,null,0,0,0,0,0]
[null,4,{"$f":"'DATOS DEL ESTUDIANTE'!B7","v":0},{"$f":"'DATOS DEL ESTUDIANTE'!C7","v":0},{"$f":"'DATOS DEL ESTUDIANTE'!D7","v":0},null,null,null,null,null,null,null,null,null,null,null,null,null,null,null,null,null,null,null,null,null,null,null,0,0,0,0,0]
[null,5,{"$f":"'DATOS DEL ESTUDIANTE'!B8","v":0},{"$f":"'DATOS DEL ESTUDIANTE'!C8","v":0},{"$f":"'DATOS DEL ESTUDIANTE'!D8","v":0},null,null,null,null,null,null,null,null,null,null,null,null,null,null,null,null,null,null,null,null,null,null,null,0,0,0,0,0]
[null,6,{"$f":"'DATOS DEL ESTUDIANTE'!B9","v":0},{"$f":"'DATOS DEL ESTUDIANTE'!C9","v":0},{"$f":"'DATOS DEL ESTUDIANTE'!D9","v":0},null,null,null,null,null,null,null,null,null,null,null,null,null,null,null,null,null,null,null,null,null,null,null,0,0,0,0,0]
[null,7,{"$f":"'DATOS DEL ESTUDIANTE'!B10","v":0},{"$f":"'DATOS DEL ESTUDIANTE'!C10","v":0},{"$f":"'DATOS DEL ESTUDIANTE'!D10","v":0},null,null,null,null,null,null,null,null,null,null,null,null,null,null,null,null,null,null,null,null,null,null,null,0,0,0,0,0]
[null,8,{"$f":"'DATOS DEL ESTUDIANTE'!B11","v":0},{"$f":"'DATOS DEL ESTUDIANTE'!C11","v":0},{"$f":"'DATOS DEL ESTUDIANTE'!D11","v":0},null,null,null,null,null,null,null,null,null,null,null,null,null,null,null,null,null,null,null,null,null,null,null,0,0,0,0,0]
[null,9,{"$f":"'DATOS DEL ESTUDIANTE'!B12","v":0},{"$f":"'DATOS DEL ESTUDIANTE'!C12","v":0},{"$f":"'DATOS DEL ESTUDIANTE'!D12","v":0},null,null,null,null,null,null,null,null,null,null,null,null,null,null,null,null,null,null,null,null,null,null,null,0,0,0,0,0]
[null,10,{"$f":"'DATOS DEL ESTUDIANTE'!B13","v":0},{"$f":"'DATOS DEL ESTUDIANTE'!C13","v":0},{"$f":"'DATOS DEL ESTUDIANTE'!D13","v":0},null,null,null,null,null,null,null,null,null,null,null,null,null,null,null,null,null,null,null,null,null,null,null,0,0,0,0,0]
[null,11,{"$f":"'DATOS DEL ESTUDIANTE'!B14","v":0},{"$f":"'DATOS DEL ESTUDIANTE'!C14","v":0},{"$f":"'DATOS DEL ESTUDIANTE'!D14","v":0},null,null,null,null,null,null,null,null,null,null,null,null,null,null,null,null,null,null,null,null,null,null,null,0,0,0,0,0]
[null,12,{"$f":"'DATOS DEL ESTUDIANTE'!B15","v":0},{"$f":"'DATOS DEL ESTUDIANTE'!C15","v":0},{"$f":"'DATOS DEL ESTUDIANTE'!D15","v":0},null,null,null,null,null,null,null,null,null,null,null,null,null,null,null,null,null,null,null,null,null,null,null,0,0,0,0,0]
[null,13,{"$f":"'DATOS DEL ESTUDIANTE'!B16","v":0},{"$f":"'DATOS DEL ESTUDIANTE'!C16","v":0},{"$f":"'DATOS DEL ESTUDIANTE'!D16","v":0},null,null,null,null,null,null,null,null,null,null,null,null,null,null,null,null,null,null,null,null,null,null,null,0,0,0,0,0]
[null,14,{"$f":"'DATOS DEL ESTUDIANTE'!B17","v":0},{"$f":"'DATOS DEL ESTUDIANTE'!C17","v":0},{"$f":"'DATOS DEL ESTUDIANTE'!D17","v":0},null,null,null,null,null,null,null,null,null,null,null,null,null,null,null,null,null,null,null,null,null,null,null,0,0,0,0,0]
[null,15,{"$f":"'DATOS DEL ESTUDIANTE'!B18","v":0},{"$f":"'DATOS DEL ESTUDIANTE'!C18","v":0},{"$f":"'DATOS DEL ESTUDIANTE'!D18","v":0},null,null,null,null,null,null,null,null,null,null,null,null,null,null,null,null,null,null,null,null,null,null,null,0,0,0,0,0]
[null,16,{"$f":"'DATOS DEL ESTUDIANTE'!B19","v":0},{"$f":"'DATOS DEL ESTUDIANTE'!C19","v":0},{"$f":"'DATOS DEL ESTUDIANTE'!D19","v":0},null,null,null,null,null,null,null,null,null,null,null,null,null,null,null,null,null,null,null,null,null,null,null,0,0,0,0,0]
[null,17,{"$f":"'DATOS DEL ESTUDIANTE'!B20","v":0},{"$f":"'DATOS DEL ESTUDIANTE'!C20","v":0},{"$f":"'DATOS DEL ESTUDIANTE'!D20","v":0},null,null,null,null,null,null,null,null,null,null,null,null,null,null,null,null,null,null,null,null,null,null,null,0,0,0,0,0]
[null,18,{"$f":"'DATOS DEL ESTUDIANTE'!B21","v":0},{"$f":"'DATOS DEL ESTUDIANTE'!C21","v":0},{"$f":"'DATOS DEL ESTUDIANTE'!D21","v":0},null,null,null,null,null,null,null,null,null,null,null,null,null,null,null,null,null,null,null,null,null,null,null,0,0,0,0,0]
[null,19,{"$f":"'DATOS DEL ESTUDIANTE'!B22","v":0},{"$f":"'DATOS DEL ESTUDIANTE'!C22","v":0},{"$f":"'DATOS DEL ESTUDIANTE'!D22","v":0},null,null,null,null,null,null,null,null,null,null,null,null,null,null,null,null,null,null,null,null,null,null,null,0,0,0,0,0]
[null,20,{"$f":"'DATOS DEL ESTUDIANTE'!B23","v":0},{"$f":"'DATOS DEL ESTUDIANTE'!C23","v":0},{"$f":"'DATOS DEL ESTUDIANTE'!D23","v":0},null,null,null,null,null,null,null,null,null,null,null,null,null,null,null,null,null,null,null,null,null,null,null,0,0,0,0,0]
[null,21,{"$f":"'DATOS DEL ESTUDIANTE'!B24","v":0},{"$f":"'DATOS DEL ESTUDIANTE'!C24","v":0},{"$f":"'DATOS DEL ESTUDIANTE'!D24","v":0},null,null,null,null,null,null,null,null,null,null,null,null,null,null,null,null,null,null,null,null,null,null,null,0,0,0,0,0]
[null,22,{"$f":"'DATOS DEL ESTUDIANTE'!B25","v":0},{"$f":"'DATOS DEL ESTUDIANTE'!C25","v":0},{"$f":"'DATOS DEL ESTUDIANTE'!D25","v":0},null,null,null,null,null,null,null,null,null,null,null,null,null,null,null,null,null,null,null,null,null,null,null,0,0,0,0,0]
[null,23,{"$f":"'DATOS DEL ESTUDIANTE'!B26","v":0},{"$f":"'DATOS DEL ESTUDIANTE'!C26","v":0},{"$f":"'DATOS DEL ESTUDIANTE'!D26","v":0},null,null,null,null,null,null,null,null,null,null,null,null,null,null,null,null,null,null,null,null,null,null,null,0,0,0,0,0]
[null,24,{"$f":"'DATOS DEL ESTUDIANTE'!B27","v":0},{"$f":"'DATOS DEL ESTUDIANTE'!C27","v":0},{"$f":"'DATOS DEL ESTUDIANTE'!D27","v":0},null,null,null,null,null,null,null,null,null,null,null,null,null,null,null,null,null,null,null,null,null,null,null,0,0,0,0,0]
[null,25,{"$f":"'DATOS DEL ESTUDIANTE'!B28","v":0},{"$f":"'DATOS DEL ESTUDIANTE'!C28","v":0},{"$f":"'DATOS DEL ESTUDIANTE'!D28","v":0},null,null,null,null,null,null,null,null,null,null,null,null,null,null,null,null,null,null,null,null,null,null,null,0,0,0,0,0]
[null,26,{"$f":"'DATOS DEL ESTUDIANTE'!B29","v":0},{"$f":"'DATOS DEL ESTUDIANTE'!C29","v":0},{"$f":"'DATOS DEL ESTUDIANTE'!D29","v":0},null,null,null,null,null,null,null,null,null,null,null,null,null,null,null,null,null,null,null,null,null,null,null,0,0,0,0,0]
[null,27,{"$f":"'DATOS DEL ESTUDIANTE'!B30","v":0},{"$f":"'DATOS DEL ESTUDIANTE'!C30","v":0},{"$f":"'DATOS DEL ESTUDIANTE'!D30","v":0},null,null,null,null,null,null,null,null,null,null,null,null,null,null,null,null,null,null,null,null,null,null,null,0,0,0,0,0]
[null,28,{"$f":"'DATOS DEL ESTUDIANTE'!B31","v":0},{"$f":"'DATOS DEL ESTUDIANTE'!C31","v":0},{"$f":"'DATOS DEL ESTUDIANTE'!D31","v":0},null,null,null,null,null,null,null,null,null,null,null,null,null,null,null,null,null,null,null,null,null,null,null,0,0,0,0,0]
[null,29,{"$f":"'DATOS DEL ESTUDIANTE'!B32","v":0},{"$f":"'DATOS DEL ESTUDIANTE'!C32","v":0},{"$f":"'DATOS DEL ESTUDIANTE'!D32","v":0},null,null,null,null,null,null,null,null,null,null,null,null,null,null,null,null,null,null,null,null,null,null,null,0,0,0,0,0]
[null,30,{"$f":"'DATOS DEL ESTUDIANTE'!B33","v":0},{"$f":"'DATOS DEL ESTUDIANTE'!C33","v":0},{"$f":"'DATOS DEL ESTUDIANTE'!D33","v":0},null,null,null,null,null,null,null,null,null,null,null,null,null,null,null,null,null,null,null,null,null,null,null,0,0,0,0,0]
[null,31,{"$f":"'DATOS DEL ESTUDIANTE'!B34","v":0},{"$f":"'DATOS DEL ESTUDIANTE'!C34","v":0},{"$f":"'DATOS DEL ESTUDIANTE'!D34","v":0},null,null,null,null,null,null,null,null,null,null,null,null,null,null,null,null,null,null,null,null,null,null,null,0,0,0,0,0]
[null,32,{"$f":"'DATOS DEL ESTUDIANTE'!B35","v":0},{"$f":"'DATOS DEL ESTUDIANTE'!C35","v":0},{"$f":"'DATOS DEL ESTUDIANTE'!D35","v":0},null,null,null,null,null,null,null,null,null,null,null,null,null,null,null,null,null,null,null,null,null,null,null,0,0,0,0,0]
[null,33,{"$f":"'DATOS DEL ESTUDIANTE'!B36","v":0},{"$f":"'DATOS DEL ESTUDIANTE'!C36","v":0},{"$f":"'DATOS DEL ESTUDIANTE'!D36","v":0},null,null,null,null,null,null,null,null,null,null,null,null,null,null,null,null,null,null,null,null,null,null,null,0,0,0,0,0]
[null,34,{"$f":"'DATOS DEL ESTUDIANTE'!B37","v":0},{"$f":"'DATOS DEL ESTUDIANTE'!C37","v":0},{"$f":"'DATOS DEL ESTUDIANTE'!D37","v":0},null,null,null,null,null,null,null,null,null,null,null,null,null,null,null,null,null,null,null,null,null,null,null,0,0,0,0,0]
[null,35,{"$f":"'DATOS DEL ESTUDIANTE'!B38","v":0},{"$f":"'DATOS DEL ESTUDIANTE'!C38","v":0},{"$f":"'DATOS DEL ESTUDIANTE'!D38","v":0},null,null,null,null,null,null,null,null,null,null,null,null,null,null,null,null,null,null,null,null,null,null,null,0,0,0,0,0]
[null,36,{"$f":"'DATOS DEL ESTUDIANTE'!B39","v":0},{"$f":"'DATOS DEL ESTUDIANTE'!C39","v":0},{"$f":"'DATOS DEL ESTUDIANTE'!D39","v":0},null,null,null,null,null,null,null,null,null,null,null,null,null,null,null,null,null,null,null,null,null,null,null,0,0,0,0,0]
[null,37,{"$f":"'DATOS DEL ESTUDIANTE'!B40","v":0},{"$f":"'DATOS DEL ESTUDIANTE'!C40","v":0},{"$f":"'DATOS DEL ESTUDIANTE'!D40","v":0},null,null,null,null,null,null,null,null,null,null,null,null,null,null,null,null,null,null,null,null,null,null,null,0,0,0,0,0]
[null,38,{"$f":"'DATOS DEL ESTUDIANTE'!B41","v":0},{"$f":"'DATOS DEL ESTUDIANTE'!C41","v":0},{"$f":"'DATOS DEL ESTUDIANTE'!D41","v":0},null,null,null,null,null,null,null,null,null,null,null,null,null,null,null,null,null,null,null,null,null,null,null,0,0,0,0,0]
[null,39,{"$f":"'DATOS DEL ESTUDIANTE'!B42","v":0},{"$f":"'DATOS DEL ESTUDIANTE'!C42","v":0},{"$f":"'DATOS DEL ESTUDIANTE'!D42","v":0},null,null,null,null,null,null,null,null,null,null,null,null,null,null,null,null,null,null,null,null,null,null,null,0,0,0,0,0]
[null,40,{"$f":"'DATOS DEL ESTUDIANTE'!B43","v":0},{"$f":"'DATOS DEL ESTUDIANTE'!C43","v":0},{"$f":"'DATOS DEL ESTUDIANTE'!D43","v":0},null,null,null,null,null,null,null,null,null,null,null,null,null,null,null,null,null,null,null,null,null,null,null,0,0,0,0,0]
[null,41,{"$f":"'DATOS DEL ESTUDIANTE'!B44","v":0},{"$f":"'DATOS DEL ESTUDIANTE'!C44","v":0},{"$f":"'DATOS DEL ESTUDIANTE'!D44","v":0},null,null,null,null,null,null,null,null,null,null,null,null,null,null,null,null,null,null,null,null,null,null,null,0,0,0,0,0]
[null,42,{"$f":"'DATOS DEL ESTUDIANTE'!B45","v":0},{"$f":"'DATOS DEL ESTUDIANTE'!C45","v":0},{"$f":"'DATOS DEL ESTUDIANTE'!D45","v":0},null,null,null,null,null,null,null,null,null,null,null,null,null,null,null,null,null,null,null,null,null,null,null,0,0,0,0,0]
[null,43,{"$f":"'DATOS DEL ESTUDIANTE'!B46","v":0},{"$f":"'DATOS DEL ESTUDIANTE'!C46","v":0},{"$f":"'DATOS DEL ESTUDIANTE'!D46","v":0},null,null,null,null,null,null,null,null,null,null,null,null,null,null,null,null,null,null,null,null,null,null,null,0,0,0,0,0]
[null,44,{"$f":"'DATOS DEL ESTUDIANTE'!B47","v":0},{"$f":"'DATOS DEL ESTUDIANTE'!C47","v":0},{"$f":"'DATOS DEL ESTUDIANTE'!D47","v":0},null,null,null,null,null,null,null,null,null,null,null,null,null,null,null,null,null,null,null,null,null,null,null,0,0,0,0,0]
[null,45,{"$f":"'DATOS DEL ESTUDIANTE'!B48","v":0},{"$f":"'DATOS DEL ESTUDIANTE'!C48","v":0},{"$f":"'DATOS DEL ESTUDIANTE'!D48","v":0},null,null,null,null,null,null,null,null,null,null,null,null,null,null,null,null,null,null,null,null,null,null,null,0,0,0,0,0]
[null,null,null,null,null,null,null,null,null,null,null,null,null,null,null,null,null,null,null,null,null,null,null,"TOTAL",null,null,null,null,{"$f":"SUM(AC5:AC49)","v":0},{"$f":"SUM(AD5:AD49)","v":0},{"$f":"SUM(AE5:AE49)","v":0},{"$f":"SUM(AF5:AF49)","v":0},{"$f":"SUM(AG5:AG49)","v":0},null,{"$f":"SUM(AD50:AG50)","v":0}]
[null,null,null,null,null,null,null,null,null,null,null,null,null,null,null,null,null,null,null,null,null,null,null,"PORCENTAJES",null,null,null,null,null,{"$f":"AD50/$AI$50","v":{"$error":"#DIV/0!"}},{"$error":"#DIV/0!"},{"$error":"#DIV/0!"},{"$error":"#DIV/0!"},{"$error":"#DIV/0!"},{"$error":"#DIV/0!"}]
[]
[]
[]
[null,null,null,null,null,null,null,"MAESTRA (O)",null,null,null,null,null,null,null,null,null,"DIRECTOR (A)"]

{"sheet":"ABRIL","index":7,"n_rows":55,"n_cols":38,"rows_kept":55,"cut":false,"hidden":false,"merged":[[1,0,3,0],[1,1,3,1],[1,4,3,4],[1,5,1,27],[1,28,3,28],[1,2,3,2],[1,3,3,3],[54,7,54,14],[54,17,54,24],[0,1,0,32],[0,34,1,36],[0,37,2,37],[1,29,3,29],[1,30,3,30],[1,31,3,31],[1,32,3,32],[49,23,49,27],[50,23,50,27]]}
[null,"REGISTRO DE ASISTENCIA",null,null,null,null,null,null,null,null,null,null,null,null,null,null,null,null,null,null,null,null,null,null,null,null,null,null,null,null,null,null,null,null,null,null,null,"A = Asistencia \nF = Faltas\nL= Licencia"]
[null,"N°","NOMBRES ","APELLIDO PATERNO","APELLIDO MATERNO","ABRIL",null,null,null,null,null,null,null,null,null,null,null,null,null,null,null,null,null,null,null,null,null,null,"RETRASOS","ASISTENCIAS","FALTAS","LICENCIAS","DIAS TRABAJADOS"]
[]
[]
[null,1,{"$f":"'DATOS DEL ESTUDIANTE'!B4","v":0},{"$f":"'DATOS DEL ESTUDIANTE'!C4","v":0},{"$f":"'DATOS DEL ESTUDIANTE'!D4","v":0},null,null,null,null,null,null,null,null,null,null,null,null,null,null,null,null,null,null,null,null,null,null,null,{"$f":"COUNTIF(F5:AA5,\"R\")","v":0},{"$f":"COUNTIF(F5:AB5,\"A\")","v":0},{"$f":"COUNTIF(F5:AB5,\"F\")","v":0},{"$f":"COUNTIF(F5:AB5,\"L\")","v":0},{"$f":"SUM(AD5:AF5)","v":0}]
[null,2,{"$f":"'DATOS DEL ESTUDIANTE'!B5","v":0},{"$f":"'DATOS DEL ESTUDIANTE'!C5","v":0},{"$f":"'DATOS DEL ESTUDIANTE'!D5","v":0},null,null,null,null,null,null,null,null,null,null,null,null,null,null,null,null,null,null,null,null,null,null,null,{"$f":"COUNTIF(F6:AA6,\"R\")","v":0},{"$f":"COUNTIF(F6:AB6,\"A\")","v":0},{"$f":"COUNTIF(F6:AB6,\"F\")","v":0},{"$f":"COUNTIF(F6:AB6,\"L\")","v":0},{"$f":"SUM(AD6:AF6)","v":0}]
[null,3,{"$f":"'DATOS DEL ESTUDIANTE'!B6","v":0},{"$f":"'DATOS DEL ESTUDIANTE'!C6","v":0},{"$f":"'DATOS DEL ESTUDIANTE'!D6","v":0},null,null,null,null,null,null,null,null,null,null,null,null,null,null,null,null,null,null,null,null,null,null,null,0,0,0,0,0]
[null,4,{"$f":"'DATOS DEL ESTUDIANTE'!B7","v":0},{"$f":"'DATOS DEL ESTUDIANTE'!C7","v":0},{"$f":"'DATOS DEL ESTUDIANTE'!D7","v":0},null,null,null,null,null,null,null,null,null,null,null,null,null,null,null,null,null,null,null,null,null,null,null,0,0,0,0,0]
[null,5,{"$f":"'DATOS DEL ESTUDIANTE'!B8","v":0},{"$f":"'DATOS DEL ESTUDIANTE'!C8","v":0},{"$f":"'DATOS DEL ESTUDIANTE'!D8","v":0},null,null,null,null,null,null,null,null,null,null,null,null,null,null,null,null,null,null,null,null,null,null,null,0,0,0,0,0]
[null,6,{"$f":"'DATOS DEL ESTUDIANTE'!B9","v":0},{"$f":"'DATOS DEL ESTUDIANTE'!C9","v":0},{"$f":"'DATOS DEL ESTUDIANTE'!D9","v":0},null,null,null,null,null,null,null,null,null,null,null,null,null,null,null,null,null,null,null,null,null,null,null,0,0,0,0,0]
[null,7,{"$f":"'DATOS DEL ESTUDIANTE'!B10","v":0},{"$f":"'DATOS DEL ESTUDIANTE'!C10","v":0},{"$f":"'DATOS DEL ESTUDIANTE'!D10","v":0},null,null,null,null,null,null,null,null,null,null,null,null,null,null,null,null,null,null,null,null,null,null,null,0,0,0,0,0]
[null,8,{"$f":"'DATOS DEL ESTUDIANTE'!B11","v":0},{"$f":"'DATOS DEL ESTUDIANTE'!C11","v":0},{"$f":"'DATOS DEL ESTUDIANTE'!D11","v":0},null,null,null,null,null,null,null,null,null,null,null,null,null,null,null,null,null,null,null,null,null,null,null,0,0,0,0,0]
[null,9,{"$f":"'DATOS DEL ESTUDIANTE'!B12","v":0},{"$f":"'DATOS DEL ESTUDIANTE'!C12","v":0},{"$f":"'DATOS DEL ESTUDIANTE'!D12","v":0},null,null,null,null,null,null,null,null,null,null,null,null,null,null,null,null,null,null,null,null,null,null,null,0,0,0,0,0]
[null,10,{"$f":"'DATOS DEL ESTUDIANTE'!B13","v":0},{"$f":"'DATOS DEL ESTUDIANTE'!C13","v":0},{"$f":"'DATOS DEL ESTUDIANTE'!D13","v":0},null,null,null,null,null,null,null,null,null,null,null,null,null,null,null,null,null,null,null,null,null,null,null,0,0,0,0,0]
[null,11,{"$f":"'DATOS DEL ESTUDIANTE'!B14","v":0},{"$f":"'DATOS DEL ESTUDIANTE'!C14","v":0},{"$f":"'DATOS DEL ESTUDIANTE'!D14","v":0},null,null,null,null,null,null,null,null,null,null,null,null,null,null,null,null,null,null,null,null,null,null,null,0,0,0,0,0]
[null,12,{"$f":"'DATOS DEL ESTUDIANTE'!B15","v":0},{"$f":"'DATOS DEL ESTUDIANTE'!C15","v":0},{"$f":"'DATOS DEL ESTUDIANTE'!D15","v":0},null,null,null,null,null,null,null,null,null,null,null,null,null,null,null,null,null,null,null,null,null,null,null,0,0,0,0,0]
[null,13,{"$f":"'DATOS DEL ESTUDIANTE'!B16","v":0},{"$f":"'DATOS DEL ESTUDIANTE'!C16","v":0},{"$f":"'DATOS DEL ESTUDIANTE'!D16","v":0},null,null,null,null,null,null,null,null,null,null,null,null,null,null,null,null,null,null,null,null,null,null,null,0,0,0,0,0]
[null,14,{"$f":"'DATOS DEL ESTUDIANTE'!B17","v":0},{"$f":"'DATOS DEL ESTUDIANTE'!C17","v":0},{"$f":"'DATOS DEL ESTUDIANTE'!D17","v":0},null,null,null,null,null,null,null,null,null,null,null,null,null,null,null,null,null,null,null,null,null,null,null,0,0,0,0,0]
[null,15,{"$f":"'DATOS DEL ESTUDIANTE'!B18","v":0},{"$f":"'DATOS DEL ESTUDIANTE'!C18","v":0},{"$f":"'DATOS DEL ESTUDIANTE'!D18","v":0},null,null,null,null,null,null,null,null,null,null,null,null,null,null,null,null,null,null,null,null,null,null,null,0,0,0,0,0]
[null,16,{"$f":"'DATOS DEL ESTUDIANTE'!B19","v":0},{"$f":"'DATOS DEL ESTUDIANTE'!C19","v":0},{"$f":"'DATOS DEL ESTUDIANTE'!D19","v":0},null,null,null,null,null,null,null,null,null,null,null,null,null,null,null,null,null,null,null,null,null,null,null,0,0,0,0,0]
[null,17,{"$f":"'DATOS DEL ESTUDIANTE'!B20","v":0},{"$f":"'DATOS DEL ESTUDIANTE'!C20","v":0},{"$f":"'DATOS DEL ESTUDIANTE'!D20","v":0},null,null,null,null,null,null,null,null,null,null,null,null,null,null,null,null,null,null,null,null,null,null,null,0,0,0,0,0]
[null,18,{"$f":"'DATOS DEL ESTUDIANTE'!B21","v":0},{"$f":"'DATOS DEL ESTUDIANTE'!C21","v":0},{"$f":"'DATOS DEL ESTUDIANTE'!D21","v":0},null,null,null,null,null,null,null,null,null,null,null,null,null,null,null,null,null,null,null,null,null,null,null,0,0,0,0,0]
[null,19,{"$f":"'DATOS DEL ESTUDIANTE'!B22","v":0},{"$f":"'DATOS DEL ESTUDIANTE'!C22","v":0},{"$f":"'DATOS DEL ESTUDIANTE'!D22","v":0},null,null,null,null,null,null,null,null,null,null,null,null,null,null,null,null,null,null,null,null,null,null,null,0,0,0,0,0]
[null,20,{"$f":"'DATOS DEL ESTUDIANTE'!B23","v":0},{"$f":"'DATOS DEL ESTUDIANTE'!C23","v":0},{"$f":"'DATOS DEL ESTUDIANTE'!D23","v":0},null,null,null,null,null,null,null,null,null,null,null,null,null,null,null,null,null,null,null,null,null,null,null,0,0,0,0,0]
[null,21,{"$f":"'DATOS DEL ESTUDIANTE'!B24","v":0},{"$f":"'DATOS DEL ESTUDIANTE'!C24","v":0},{"$f":"'DATOS DEL ESTUDIANTE'!D24","v":0},null,null,null,null,null,null,null,null,null,null,null,null,null,null,null,null,null,null,null,null,null,null,null,0,0,0,0,0]
[null,22,{"$f":"'DATOS DEL ESTUDIANTE'!B25","v":0},{"$f":"'DATOS DEL ESTUDIANTE'!C25","v":0},{"$f":"'DATOS DEL ESTUDIANTE'!D25","v":0},null,null,null,null,null,null,null,null,null,null,null,null,null,null,null,null,null,null,null,null,null,null,null,0,0,0,0,0]
[null,23,{"$f":"'DATOS DEL ESTUDIANTE'!B26","v":0},{"$f":"'DATOS DEL ESTUDIANTE'!C26","v":0},{"$f":"'DATOS DEL ESTUDIANTE'!D26","v":0},null,null,null,null,null,null,null,null,null,null,null,null,null,null,null,null,null,null,null,null,null,null,null,0,0,0,0,0]
[null,24,{"$f":"'DATOS DEL ESTUDIANTE'!B27","v":0},{"$f":"'DATOS DEL ESTUDIANTE'!C27","v":0},{"$f":"'DATOS DEL ESTUDIANTE'!D27","v":0},null,null,null,null,null,null,null,null,null,null,null,null,null,null,null,null,null,null,null,null,null,null,null,0,0,0,0,0]
[null,25,{"$f":"'DATOS DEL ESTUDIANTE'!B28","v":0},{"$f":"'DATOS DEL ESTUDIANTE'!C28","v":0},{"$f":"'DATOS DEL ESTUDIANTE'!D28","v":0},null,null,null,null,null,null,null,null,null,null,null,null,null,null,null,null,null,null,null,null,null,null,null,0,0,0,0,0]
[null,26,{"$f":"'DATOS DEL ESTUDIANTE'!B29","v":0},{"$f":"'DATOS DEL ESTUDIANTE'!C29","v":0},{"$f":"'DATOS DEL ESTUDIANTE'!D29","v":0},null,null,null,null,null,null,null,null,null,null,null,null,null,null,null,null,null,null,null,null,null,null,null,0,0,0,0,0]
[null,27,{"$f":"'DATOS DEL ESTUDIANTE'!B30","v":0},{"$f":"'DATOS DEL ESTUDIANTE'!C30","v":0},{"$f":"'DATOS DEL ESTUDIANTE'!D30","v":0},null,null,null,null,null,null,null,null,null,null,null,null,null,null,null,null,null,null,null,null,null,null,null,0,0,0,0,0]
[null,28,{"$f":"'DATOS DEL ESTUDIANTE'!B31","v":0},{"$f":"'DATOS DEL ESTUDIANTE'!C31","v":0},{"$f":"'DATOS DEL ESTUDIANTE'!D31","v":0},null,null,null,null,null,null,null,null,null,null,null,null,null,null,null,null,null,null,null,null,null,null,null,0,0,0,0,0]
[null,29,{"$f":"'DATOS DEL ESTUDIANTE'!B32","v":0},{"$f":"'DATOS DEL ESTUDIANTE'!C32","v":0},{"$f":"'DATOS DEL ESTUDIANTE'!D32","v":0},null,null,null,null,null,null,null,null,null,null,null,null,null,null,null,null,null,null,null,null,null,null,null,0,0,0,0,0]
[null,30,{"$f":"'DATOS DEL ESTUDIANTE'!B33","v":0},{"$f":"'DATOS DEL ESTUDIANTE'!C33","v":0},{"$f":"'DATOS DEL ESTUDIANTE'!D33","v":0},null,null,null,null,null,null,null,null,null,null,null,null,null,null,null,null,null,null,null,null,null,null,null,0,0,0,0,0]
[null,31,{"$f":"'DATOS DEL ESTUDIANTE'!B34","v":0},{"$f":"'DATOS DEL ESTUDIANTE'!C34","v":0},{"$f":"'DATOS DEL ESTUDIANTE'!D34","v":0},null,null,null,null,null,null,null,null,null,null,null,null,null,null,null,null,null,null,null,null,null,null,null,0,0,0,0,0]
[null,32,{"$f":"'DATOS DEL ESTUDIANTE'!B35","v":0},{"$f":"'DATOS DEL ESTUDIANTE'!C35","v":0},{"$f":"'DATOS DEL ESTUDIANTE'!D35","v":0},null,null,null,null,null,null,null,null,null,null,null,null,null,null,null,null,null,null,null,null,null,null,null,0,0,0,0,0]
[null,33,{"$f":"'DATOS DEL ESTUDIANTE'!B36","v":0},{"$f":"'DATOS DEL ESTUDIANTE'!C36","v":0},{"$f":"'DATOS DEL ESTUDIANTE'!D36","v":0},null,null,null,null,null,null,null,null,null,null,null,null,null,null,null,null,null,null,null,null,null,null,null,0,0,0,0,0]
[null,34,{"$f":"'DATOS DEL ESTUDIANTE'!B37","v":0},{"$f":"'DATOS DEL ESTUDIANTE'!C37","v":0},{"$f":"'DATOS DEL ESTUDIANTE'!D37","v":0},null,null,null,null,null,null,null,null,null,null,null,null,null,null,null,null,null,null,null,null,null,null,null,0,0,0,0,0]
[null,35,{"$f":"'DATOS DEL ESTUDIANTE'!B38","v":0},{"$f":"'DATOS DEL ESTUDIANTE'!C38","v":0},{"$f":"'DATOS DEL ESTUDIANTE'!D38","v":0},null,null,null,null,null,null,null,null,null,null,null,null,null,null,null,null,null,null,null,null,null,null,null,0,0,0,0,0]
[null,36,{"$f":"'DATOS DEL ESTUDIANTE'!B39","v":0},{"$f":"'DATOS DEL ESTUDIANTE'!C39","v":0},{"$f":"'DATOS DEL ESTUDIANTE'!D39","v":0},null,null,null,null,null,null,null,null,null,null,null,null,null,null,null,null,null,null,null,null,null,null,null,0,0,0,0,0]
[null,37,{"$f":"'DATOS DEL ESTUDIANTE'!B40","v":0},{"$f":"'DATOS DEL ESTUDIANTE'!C40","v":0},{"$f":"'DATOS DEL ESTUDIANTE'!D40","v":0},null,null,null,null,null,null,null,null,null,null,null,null,null,null,null,null,null,null,null,null,null,null,null,0,0,0,0,0]
[null,38,{"$f":"'DATOS DEL ESTUDIANTE'!B41","v":0},{"$f":"'DATOS DEL ESTUDIANTE'!C41","v":0},{"$f":"'DATOS DEL ESTUDIANTE'!D41","v":0},null,null,null,null,null,null,null,null,null,null,null,null,null,null,null,null,null,null,null,null,null,null,null,0,0,0,0,0]
[null,39,{"$f":"'DATOS DEL ESTUDIANTE'!B42","v":0},{"$f":"'DATOS DEL ESTUDIANTE'!C42","v":0},{"$f":"'DATOS DEL ESTUDIANTE'!D42","v":0},null,null,null,null,null,null,null,null,null,null,null,null,null,null,null,null,null,null,null,null,null,null,null,0,0,0,0,0]
[null,40,{"$f":"'DATOS DEL ESTUDIANTE'!B43","v":0},{"$f":"'DATOS DEL ESTUDIANTE'!C43","v":0},{"$f":"'DATOS DEL ESTUDIANTE'!D43","v":0},null,null,null,null,null,null,null,null,null,null,null,null,null,null,null,null,null,null,null,null,null,null,null,0,0,0,0,0]
[null,41,{"$f":"'DATOS DEL ESTUDIANTE'!B44","v":0},{"$f":"'DATOS DEL ESTUDIANTE'!C44","v":0},{"$f":"'DATOS DEL ESTUDIANTE'!D44","v":0},null,null,null,null,null,null,null,null,null,null,null,null,null,null,null,null,null,null,null,null,null,null,null,0,0,0,0,0]
[null,42,{"$f":"'DATOS DEL ESTUDIANTE'!B45","v":0},{"$f":"'DATOS DEL ESTUDIANTE'!C45","v":0},{"$f":"'DATOS DEL ESTUDIANTE'!D45","v":0},null,null,null,null,null,null,null,null,null,null,null,null,null,null,null,null,null,null,null,null,null,null,null,0,0,0,0,0]
[null,43,{"$f":"'DATOS DEL ESTUDIANTE'!B46","v":0},{"$f":"'DATOS DEL ESTUDIANTE'!C46","v":0},{"$f":"'DATOS DEL ESTUDIANTE'!D46","v":0},null,null,null,null,null,null,null,null,null,null,null,null,null,null,null,null,null,null,null,null,null,null,null,0,0,0,0,0]
[null,44,{"$f":"'DATOS DEL ESTUDIANTE'!B47","v":0},{"$f":"'DATOS DEL ESTUDIANTE'!C47","v":0},{"$f":"'DATOS DEL ESTUDIANTE'!D47","v":0},null,null,null,null,null,null,null,null,null,null,null,null,null,null,null,null,null,null,null,null,null,null,null,0,0,0,0,0]
[null,45,{"$f":"'DATOS DEL ESTUDIANTE'!B48","v":0},{"$f":"'DATOS DEL ESTUDIANTE'!C48","v":0},{"$f":"'DATOS DEL ESTUDIANTE'!D48","v":0},null,null,null,null,null,null,null,null,null,null,null,null,null,null,null,null,null,null,null,null,null,null,null,0,0,0,0,0]
[null,null,null,null,null,null,null,null,null,null,null,null,null,null,null,null,null,null,null,null,null,null,null,"TOTAL",null,null,null,null,{"$f":"SUM(AC5:AC49)","v":0},{"$f":"SUM(AD5:AD49)","v":0},{"$f":"SUM(AE5:AE49)","v":0},{"$f":"SUM(AF5:AF49)","v":0},{"$f":"SUM(AG5:AG49)","v":0},null,{"$f":"SUM(AD50:AG50)","v":0}]
[null,null,null,null,null,null,null,null,null,null,null,null,null,null,null,null,null,null,null,null,null,null,null,"PORCENTAJES",null,null,null,null,null,{"$f":"AD50/$AI$50","v":{"$error":"#DIV/0!"}},{"$error":"#DIV/0!"},{"$error":"#DIV/0!"},{"$error":"#DIV/0!"},{"$error":"#DIV/0!"},{"$error":"#DIV/0!"}]
[]
[]
[]
[null,null,null,null,null,null,null,"MAESTRA (O)",null,null,null,null,null,null,null,null,null,"DIRECTOR (A)"]

{"sheet":"MAYO","index":8,"n_rows":55,"n_cols":38,"rows_kept":55,"cut":false,"hidden":false,"merged":[[1,0,3,0],[1,1,3,1],[1,4,3,4],[1,5,1,27],[1,28,3,28],[1,2,3,2],[1,3,3,3],[54,7,54,14],[54,17,54,24],[0,1,0,32],[0,34,1,36],[0,37,2,37],[1,29,3,29],[1,30,3,30],[1,31,3,31],[1,32,3,32],[49,23,49,27],[50,23,50,27]]}
[null,"REGISTRO DE ASISTENCIA",null,null,null,null,null,null,null,null,null,null,null,null,null,null,null,null,null,null,null,null,null,null,null,null,null,null,null,null,null,null,null,null,null,null,null,"A = Asistencia \nF = Faltas\nL= Licencia"]
[null,"N°","NOMBRES ","APELLIDO PATERNO","APELLIDO MATERNO","MAYO",null,null,null,null,null,null,null,null,null,null,null,null,null,null,null,null,null,null,null,null,null,null,"RETRASOS","ASISTENCIAS","FALTAS","LICENCIAS","DIAS TRABAJADOS"]
[]
[]
[null,1,{"$f":"'DATOS DEL ESTUDIANTE'!B4","v":0},{"$f":"'DATOS DEL ESTUDIANTE'!C4","v":0},{"$f":"'DATOS DEL ESTUDIANTE'!D4","v":0},null,null,null,null,null,null,null,null,null,null,null,null,null,null,null,null,null,null,null,null,null,null,null,{"$f":"COUNTIF(F5:AA5,\"R\")","v":0},{"$f":"COUNTIF(F5:AB5,\"A\")","v":0},{"$f":"COUNTIF(F5:AB5,\"F\")","v":0},{"$f":"COUNTIF(F5:AB5,\"L\")","v":0},{"$f":"SUM(AD5:AF5)","v":0}]
[null,2,{"$f":"'DATOS DEL ESTUDIANTE'!B5","v":0},{"$f":"'DATOS DEL ESTUDIANTE'!C5","v":0},{"$f":"'DATOS DEL ESTUDIANTE'!D5","v":0},null,null,null,null,null,null,null,null,null,null,null,null,null,null,null,null,null,null,null,null,null,null,null,{"$f":"COUNTIF(F6:AA6,\"R\")","v":0},{"$f":"COUNTIF(F6:AB6,\"A\")","v":0},{"$f":"COUNTIF(F6:AB6,\"F\")","v":0},{"$f":"COUNTIF(F6:AB6,\"L\")","v":0},{"$f":"SUM(AD6:AF6)","v":0}]
[null,3,{"$f":"'DATOS DEL ESTUDIANTE'!B6","v":0},{"$f":"'DATOS DEL ESTUDIANTE'!C6","v":0},{"$f":"'DATOS DEL ESTUDIANTE'!D6","v":0},null,null,null,null,null,null,null,null,null,null,null,null,null,null,null,null,null,null,null,null,null,null,null,0,0,0,0,0]
[null,4,{"$f":"'DATOS DEL ESTUDIANTE'!B7","v":0},{"$f":"'DATOS DEL ESTUDIANTE'!C7","v":0},{"$f":"'DATOS DEL ESTUDIANTE'!D7","v":0},null,null,null,null,null,null,null,null,null,null,null,null,null,null,null,null,null,null,null,null,null,null,null,0,0,0,0,0]
[null,5,{"$f":"'DATOS DEL ESTUDIANTE'!B8","v":0},{"$f":"'DATOS DEL ESTUDIANTE'!C8","v":0},{"$f":"'DATOS DEL ESTUDIANTE'!D8","v":0},null,null,null,null,null,null,null,null,null,null,null,null,null,null,null,null,null,null,null,null,null,null,null,0,0,0,0,0]
[null,6,{"$f":"'DATOS DEL ESTUDIANTE'!B9","v":0},{"$f":"'DATOS DEL ESTUDIANTE'!C9","v":0},{"$f":"'DATOS DEL ESTUDIANTE'!D9","v":0},null,null,null,null,null,null,null,null,null,null,null,null,null,null,null,null,null,null,null,null,null,null,null,0,0,0,0,0]
[null,7,{"$f":"'DATOS DEL ESTUDIANTE'!B10","v":0},{"$f":"'DATOS DEL ESTUDIANTE'!C10","v":0},{"$f":"'DATOS DEL ESTUDIANTE'!D10","v":0},null,null,null,null,null,null,null,null,null,null,null,null,null,null,null,null,null,null,null,null,null,null,null,0,0,0,0,0]
[null,8,{"$f":"'DATOS DEL ESTUDIANTE'!B11","v":0},{"$f":"'DATOS DEL ESTUDIANTE'!C11","v":0},{"$f":"'DATOS DEL ESTUDIANTE'!D11","v":0},null,null,null,null,null,null,null,null,null,null,null,null,null,null,null,null,null,null,null,null,null,null,null,0,0,0,0,0]
[null,9,{"$f":"'DATOS DEL ESTUDIANTE'!B12","v":0},{"$f":"'DATOS DEL ESTUDIANTE'!C12","v":0},{"$f":"'DATOS DEL ESTUDIANTE'!D12","v":0},null,null,null,null,null,null,null,null,null,null,null,null,null,null,null,null,null,null,null,null,null,null,null,0,0,0,0,0]
[null,10,{"$f":"'DATOS DEL ESTUDIANTE'!B13","v":0},{"$f":"'DATOS DEL ESTUDIANTE'!C13","v":0},{"$f":"'DATOS DEL ESTUDIANTE'!D13","v":0},null,null,null,null,null,null,null,null,null,null,null,null,null,null,null,null,null,null,null,null,null,null,null,0,0,0,0,0]
[null,11,{"$f":"'DATOS DEL ESTUDIANTE'!B14","v":0},{"$f":"'DATOS DEL ESTUDIANTE'!C14","v":0},{"$f":"'DATOS DEL ESTUDIANTE'!D14","v":0},null,null,null,null,null,null,null,null,null,null,null,null,null,null,null,null,null,null,null,null,null,null,null,0,0,0,0,0]
[null,12,{"$f":"'DATOS DEL ESTUDIANTE'!B15","v":0},{"$f":"'DATOS DEL ESTUDIANTE'!C15","v":0},{"$f":"'DATOS DEL ESTUDIANTE'!D15","v":0},null,null,null,null,null,null,null,null,null,null,null,null,null,null,null,null,null,null,null,null,null,null,null,0,0,0,0,0]
[null,13,{"$f":"'DATOS DEL ESTUDIANTE'!B16","v":0},{"$f":"'DATOS DEL ESTUDIANTE'!C16","v":0},{"$f":"'DATOS DEL ESTUDIANTE'!D16","v":0},null,null,null,null,null,null,null,null,null,null,null,null,null,null,null,null,null,null,null,null,null,null,null,0,0,0,0,0]
[null,14,{"$f":"'DATOS DEL ESTUDIANTE'!B17","v":0},{"$f":"'DATOS DEL ESTUDIANTE'!C17","v":0},{"$f":"'DATOS DEL ESTUDIANTE'!D17","v":0},null,null,null,null,null,null,null,null,null,null,null,null,null,null,null,null,null,null,null,null,null,null,null,0,0,0,0,0]
[null,15,{"$f":"'DATOS DEL ESTUDIANTE'!B18","v":0},{"$f":"'DATOS DEL ESTUDIANTE'!C18","v":0},{"$f":"'DATOS DEL ESTUDIANTE'!D18","v":0},null,null,null,null,null,null,null,null,null,null,null,null,null,null,null,null,null,null,null,null,null,null,null,0,0,0,0,0]
[null,16,{"$f":"'DATOS DEL ESTUDIANTE'!B19","v":0},{"$f":"'DATOS DEL ESTUDIANTE'!C19","v":0},{"$f":"'DATOS DEL ESTUDIANTE'!D19","v":0},null,null,null,null,null,null,null,null,null,null,null,null,null,null,null,null,null,null,null,null,null,null,null,0,0,0,0,0]
[null,17,{"$f":"'DATOS DEL ESTUDIANTE'!B20","v":0},{"$f":"'DATOS DEL ESTUDIANTE'!C20","v":0},{"$f":"'DATOS DEL ESTUDIANTE'!D20","v":0},null,null,null,null,null,null,null,null,null,null,null,null,null,null,null,null,null,null,null,null,null,null,null,0,0,0,0,0]
[null,18,{"$f":"'DATOS DEL ESTUDIANTE'!B21","v":0},{"$f":"'DATOS DEL ESTUDIANTE'!C21","v":0},{"$f":"'DATOS DEL ESTUDIANTE'!D21","v":0},null,null,null,null,null,null,null,null,null,null,null,null,null,null,null,null,null,null,null,null,null,null,null,0,0,0,0,0]
[null,19,{"$f":"'DATOS DEL ESTUDIANTE'!B22","v":0},{"$f":"'DATOS DEL ESTUDIANTE'!C22","v":0},{"$f":"'DATOS DEL ESTUDIANTE'!D22","v":0},null,null,null,null,null,null,null,null,null,null,null,null,null,null,null,null,null,null,null,null,null,null,null,0,0,0,0,0]
[null,20,{"$f":"'DATOS DEL ESTUDIANTE'!B23","v":0},{"$f":"'DATOS DEL ESTUDIANTE'!C23","v":0},{"$f":"'DATOS DEL ESTUDIANTE'!D23","v":0},null,null,null,null,null,null,null,null,null,null,null,null,null,null,null,null,null,null,null,null,null,null,null,0,0,0,0,0]
[null,21,{"$f":"'DATOS DEL ESTUDIANTE'!B24","v":0},{"$f":"'DATOS DEL ESTUDIANTE'!C24","v":0},{"$f":"'DATOS DEL ESTUDIANTE'!D24","v":0},null,null,null,null,null,null,null,null,null,null,null,null,null,null,null,null,null,null,null,null,null,null,null,0,0,0,0,0]
[null,22,{"$f":"'DATOS DEL ESTUDIANTE'!B25","v":0},{"$f":"'DATOS DEL ESTUDIANTE'!C25","v":0},{"$f":"'DATOS DEL ESTUDIANTE'!D25","v":0},null,null,null,null,null,null,null,null,null,null,null,null,null,null,null,null,null,null,null,null,null,null,null,0,0,0,0,0]
[null,23,{"$f":"'DATOS DEL ESTUDIANTE'!B26","v":0},{"$f":"'DATOS DEL ESTUDIANTE'!C26","v":0},{"$f":"'DATOS DEL ESTUDIANTE'!D26","v":0},null,null,null,null,null,null,null,null,null,null,null,null,null,null,null,null,null,null,null,null,null,null,null,0,0,0,0,0]
[null,24,{"$f":"'DATOS DEL ESTUDIANTE'!B27","v":0},{"$f":"'DATOS DEL ESTUDIANTE'!C27","v":0},{"$f":"'DATOS DEL ESTUDIANTE'!D27","v":0},null,null,null,null,null,null,null,null,null,null,null,null,null,null,null,null,null,null,null,null,null,null,null,0,0,0,0,0]
[null,25,{"$f":"'DATOS DEL ESTUDIANTE'!B28","v":0},{"$f":"'DATOS DEL ESTUDIANTE'!C28","v":0},{"$f":"'DATOS DEL ESTUDIANTE'!D28","v":0},null,null,null,null,null,null,null,null,null,null,null,null,null,null,null,null,null,null,null,null,null,null,null,0,0,0,0,0]
[null,26,{"$f":"'DATOS DEL ESTUDIANTE'!B29","v":0},{"$f":"'DATOS DEL ESTUDIANTE'!C29","v":0},{"$f":"'DATOS DEL ESTUDIANTE'!D29","v":0},null,null,null,null,null,null,null,null,null,null,null,null,null,null,null,null,null,null,null,null,null,null,null,0,0,0,0,0]
[null,27,{"$f":"'DATOS DEL ESTUDIANTE'!B30","v":0},{"$f":"'DATOS DEL ESTUDIANTE'!C30","v":0},{"$f":"'DATOS DEL ESTUDIANTE'!D30","v":0},null,null,null,null,null,null,null,null,null,null,null,null,null,null,null,null,null,null,null,null,null,null,null,0,0,0,0,0]
[null,28,{"$f":"'DATOS DEL ESTUDIANTE'!B31","v":0},{"$f":"'DATOS DEL ESTUDIANTE'!C31","v":0},{"$f":"'DATOS DEL ESTUDIANTE'!D31","v":0},null,null,null,null,null,null,null,null,null,null,null,null,null,null,null,null,null,null,null,null,null,null,null,0,0,0,0,0]
[null,29,{"$f":"'DATOS DEL ESTUDIANTE'!B32","v":0},{"$f":"'DATOS DEL ESTUDIANTE'!C32","v":0},{"$f":"'DATOS DEL ESTUDIANTE'!D32","v":0},null,null,null,null,null,null,null,null,null,null,null,null,null,null,null,null,null,null,null,null,null,null,null,0,0,0,0,0]
[null,30,{"$f":"'DATOS DEL ESTUDIANTE'!B33","v":0},{"$f":"'DATOS DEL ESTUDIANTE'!C33","v":0},{"$f":"'DATOS DEL ESTUDIANTE'!D33","v":0},null,null,null,null,null,null,null,null,null,null,null,null,null,null,null,null,null,null,null,null,null,null,null,0,0,0,0,0]
[null,31,{"$f":"'DATOS DEL ESTUDIANTE'!B34","v":0},{"$f":"'DATOS DEL ESTUDIANTE'!C34","v":0},{"$f":"'DATOS DEL ESTUDIANTE'!D34","v":0},null,null,null,null,null,null,null,null,null,null,null,null,null,null,null,null,null,null,null,null,null,null,null,0,0,0,0,0]
[null,32,{"$f":"'DATOS DEL ESTUDIANTE'!B35","v":0},{"$f":"'DATOS DEL ESTUDIANTE'!C35","v":0},{"$f":"'DATOS DEL ESTUDIANTE'!D35","v":0},null,null,null,null,null,null,null,null,null,null,null,null,null,null,null,null,null,null,null,null,null,null,null,0,0,0,0,0]
[null,33,{"$f":"'DATOS DEL ESTUDIANTE'!B36","v":0},{"$f":"'DATOS DEL ESTUDIANTE'!C36","v":0},{"$f":"'DATOS DEL ESTUDIANTE'!D36","v":0},null,null,null,null,null,null,null,null,null,null,null,null,null,null,null,null,null,null,null,null,null,null,null,0,0,0,0,0]
[null,34,{"$f":"'DATOS DEL ESTUDIANTE'!B37","v":0},{"$f":"'DATOS DEL ESTUDIANTE'!C37","v":0},{"$f":"'DATOS DEL ESTUDIANTE'!D37","v":0},null,null,null,null,null,null,null,null,null,null,null,null,null,null,null,null,null,null,null,null,null,null,null,0,0,0,0,0]
[null,35,{"$f":"'DATOS DEL ESTUDIANTE'!B38","v":0},{"$f":"'DATOS DEL ESTUDIANTE'!C38","v":0},{"$f":"'DATOS DEL ESTUDIANTE'!D38","v":0},null,null,null,null,null,null,null,null,null,null,null,null,null,null,null,null,null,null,null,null,null,null,null,0,0,0,0,0]
[null,36,{"$f":"'DATOS DEL ESTUDIANTE'!B39","v":0},{"$f":"'DATOS DEL ESTUDIANTE'!C39","v":0},{"$f":"'DATOS DEL ESTUDIANTE'!D39","v":0},null,null,null,null,null,null,null,null,null,null,null,null,null,null,null,null,null,null,null,null,null,null,null,0,0,0,0,0]
[null,37,{"$f":"'DATOS DEL ESTUDIANTE'!B40","v":0},{"$f":"'DATOS DEL ESTUDIANTE'!C40","v":0},{"$f":"'DATOS DEL ESTUDIANTE'!D40","v":0},null,null,null,null,null,null,null,null,null,null,null,null,null,null,null,null,null,null,null,null,null,null,null,0,0,0,0,0]
[null,38,{"$f":"'DATOS DEL ESTUDIANTE'!B41","v":0},{"$f":"'DATOS DEL ESTUDIANTE'!C41","v":0},{"$f":"'DATOS DEL ESTUDIANTE'!D41","v":0},null,null,null,null,null,null,null,null,null,null,null,null,null,null,null,null,null,null,null,null,null,null,null,0,0,0,0,0]
[null,39,{"$f":"'DATOS DEL ESTUDIANTE'!B42","v":0},{"$f":"'DATOS DEL ESTUDIANTE'!C42","v":0},{"$f":"'DATOS DEL ESTUDIANTE'!D42","v":0},null,null,null,null,null,null,null,null,null,null,null,null,null,null,null,null,null,null,null,null,null,null,null,0,0,0,0,0]
[null,40,{"$f":"'DATOS DEL ESTUDIANTE'!B43","v":0},{"$f":"'DATOS DEL ESTUDIANTE'!C43","v":0},{"$f":"'DATOS DEL ESTUDIANTE'!D43","v":0},null,null,null,null,null,null,null,null,null,null,null,null,null,null,null,null,null,null,null,null,null,null,null,0,0,0,0,0]
[null,41,{"$f":"'DATOS DEL ESTUDIANTE'!B44","v":0},{"$f":"'DATOS DEL ESTUDIANTE'!C44","v":0},{"$f":"'DATOS DEL ESTUDIANTE'!D44","v":0},null,null,null,null,null,null,null,null,null,null,null,null,null,null,null,null,null,null,null,null,null,null,null,0,0,0,0,0]
[null,42,{"$f":"'DATOS DEL ESTUDIANTE'!B45","v":0},{"$f":"'DATOS DEL ESTUDIANTE'!C45","v":0},{"$f":"'DATOS DEL ESTUDIANTE'!D45","v":0},null,null,null,null,null,null,null,null,null,null,null,null,null,null,null,null,null,null,null,null,null,null,null,0,0,0,0,0]
[null,43,{"$f":"'DATOS DEL ESTUDIANTE'!B46","v":0},{"$f":"'DATOS DEL ESTUDIANTE'!C46","v":0},{"$f":"'DATOS DEL ESTUDIANTE'!D46","v":0},null,null,null,null,null,null,null,null,null,null,null,null,null,null,null,null,null,null,null,null,null,null,null,0,0,0,0,0]
[null,44,{"$f":"'DATOS DEL ESTUDIANTE'!B47","v":0},{"$f":"'DATOS DEL ESTUDIANTE'!C47","v":0},{"$f":"'DATOS DEL ESTUDIANTE'!D47","v":0},null,null,null,null,null,null,null,null,null,null,null,null,null,null,null,null,null,null,null,null,null,null,null,0,0,0,0,0]
[null,45,{"$f":"'DATOS DEL ESTUDIANTE'!B48","v":0},{"$f":"'DATOS DEL ESTUDIANTE'!C48","v":0},{"$f":"'DATOS DEL ESTUDIANTE'!D48","v":0},null,null,null,null,null,null,null,null,null,null,null,null,null,null,null,null,null,null,null,null,null,null,null,0,0,0,0,0]
[null,null,null,null,null,null,null,null,null,null,null,null,null,null,null,null,null,null,null,null,null,null,null,"TOTAL",null,null,null,null,{"$f":"SUM(AC5:AC49)","v":0},{"$f":"SUM(AD5:AD49)","v":0},{"$f":"SUM(AE5:AE49)","v":0},{"$f":"SUM(AF5:AF49)","v":0},{"$f":"SUM(AG5:AG49)","v":0},null,{"$f":"SUM(AD50:AG50)","v":0}]
[null,null,null,null,null,null,null,null,null,null,null,null,null,null,null,null,null,null,null,null,null,null,null,"PORCENTAJES",null,null,null,null,null,{"$f":"AD50/$AI$50","v":{"$error":"#DIV/0!"}},{"$error":"#DIV/0!"},{"$error":"#DIV/0!"},{"$error":"#DIV/0!"},{"$error":"#DIV/0!"},{"$error":"#DIV/0!"}]
[]
[]
[]
[null,null,null,null,null,null,null,"MAESTRA (O)",null,null,null,null,null,null,null,null,null,"DIRECTOR (A)"]

{"sheet":"JUNIO","index":9,"n_rows":55,"n_cols":38,"rows_kept":55,"cut":false,"hidden":false,"merged":[[1,0,3,0],[1,1,3,1],[1,4,3,4],[1,5,1,27],[1,28,3,28],[1,2,3,2],[1,3,3,3],[54,7,54,14],[54,17,54,24],[0,1,0,32],[0,34,1,36],[0,37,2,37],[1,29,3,29],[1,30,3,30],[1,31,3,31],[1,32,3,32],[49,23,49,27],[50,23,50,27]]}
[null,"REGISTRO DE ASISTENCIA",null,null,null,null,null,null,null,null,null,null,null,null,null,null,null,null,null,null,null,null,null,null,null,null,null,null,null,null,null,null,null,null,null,null,null,"A = Asistencia \nF = Faltas\nL= Licencia"]
[null,"N°","NOMBRES ","APELLIDO PATERNO","APELLIDO MATERNO","JUNIO",null,null,null,null,null,null,null,null,null,null,null,null,null,null,null,null,null,null,null,null,null,null,"RETRASOS","ASISTENCIAS","FALTAS","LICENCIAS","DIAS TRABAJADOS"]
[]
[]
[null,1,{"$f":"'DATOS DEL ESTUDIANTE'!B4","v":0},{"$f":"'DATOS DEL ESTUDIANTE'!C4","v":0},{"$f":"'DATOS DEL ESTUDIANTE'!D4","v":0},null,null,null,null,null,null,null,null,null,null,null,null,null,null,null,null,null,null,null,null,null,null,null,{"$f":"COUNTIF(F5:AA5,\"R\")","v":0},{"$f":"COUNTIF(F5:AB5,\"A\")","v":0},{"$f":"COUNTIF(F5:AB5,\"F\")","v":0},{"$f":"COUNTIF(F5:AB5,\"L\")","v":0},{"$f":"SUM(AD5:AF5)","v":0}]
[null,2,{"$f":"'DATOS DEL ESTUDIANTE'!B5","v":0},{"$f":"'DATOS DEL ESTUDIANTE'!C5","v":0},{"$f":"'DATOS DEL ESTUDIANTE'!D5","v":0},null,null,null,null,null,null,null,null,null,null,null,null,null,null,null,null,null,null,null,null,null,null,null,{"$f":"COUNTIF(F6:AA6,\"R\")","v":0},{"$f":"COUNTIF(F6:AB6,\"A\")","v":0},{"$f":"COUNTIF(F6:AB6,\"F\")","v":0},{"$f":"COUNTIF(F6:AB6,\"L\")","v":0},{"$f":"SUM(AD6:AF6)","v":0}]
[null,3,{"$f":"'DATOS DEL ESTUDIANTE'!B6","v":0},{"$f":"'DATOS DEL ESTUDIANTE'!C6","v":0},{"$f":"'DATOS DEL ESTUDIANTE'!D6","v":0},null,null,null,null,null,null,null,null,null,null,null,null,null,null,null,null,null,null,null,null,null,null,null,0,0,0,0,0]
[null,4,{"$f":"'DATOS DEL ESTUDIANTE'!B7","v":0},{"$f":"'DATOS DEL ESTUDIANTE'!C7","v":0},{"$f":"'DATOS DEL ESTUDIANTE'!D7","v":0},null,null,null,null,null,null,null,null,null,null,null,null,null,null,null,null,null,null,null,null,null,null,null,0,0,0,0,0]
[null,5,{"$f":"'DATOS DEL ESTUDIANTE'!B8","v":0},{"$f":"'DATOS DEL ESTUDIANTE'!C8","v":0},{"$f":"'DATOS DEL ESTUDIANTE'!D8","v":0},null,null,null,null,null,null,null,null,null,null,null,null,null,null,null,null,null,null,null,null,null,null,null,0,0,0,0,0]
[null,6,{"$f":"'DATOS DEL ESTUDIANTE'!B9","v":0},{"$f":"'DATOS DEL ESTUDIANTE'!C9","v":0},{"$f":"'DATOS DEL ESTUDIANTE'!D9","v":0},null,null,null,null,null,null,null,null,null,null,null,null,null,null,null,null,null,null,null,null,null,null,null,0,0,0,0,0]
[null,7,{"$f":"'DATOS DEL ESTUDIANTE'!B10","v":0},{"$f":"'DATOS DEL ESTUDIANTE'!C10","v":0},{"$f":"'DATOS DEL ESTUDIANTE'!D10","v":0},null,null,null,null,null,null,null,null,null,null,null,null,null,null,null,null,null,null,null,null,null,null,null,0,0,0,0,0]
[null,8,{"$f":"'DATOS DEL ESTUDIANTE'!B11","v":0},{"$f":"'DATOS DEL ESTUDIANTE'!C11","v":0},{"$f":"'DATOS DEL ESTUDIANTE'!D11","v":0},null,null,null,null,null,null,null,null,null,null,null,null,null,null,null,null,null,null,null,null,null,null,null,0,0,0,0,0]
[null,9,{"$f":"'DATOS DEL ESTUDIANTE'!B12","v":0},{"$f":"'DATOS DEL ESTUDIANTE'!C12","v":0},{"$f":"'DATOS DEL ESTUDIANTE'!D12","v":0},null,null,null,null,null,null,null,null,null,null,null,null,null,null,null,null,null,null,null,null,null,null,null,0,0,0,0,0]
[null,10,{"$f":"'DATOS DEL ESTUDIANTE'!B13","v":0},{"$f":"'DATOS DEL ESTUDIANTE'!C13","v":0},{"$f":"'DATOS DEL ESTUDIANTE'!D13","v":0},null,null,null,null,null,null,null,null,null,null,null,null,null,null,null,null,null,null,null,null,null,null,null,0,0,0,0,0]
[null,11,{"$f":"'DATOS DEL ESTUDIANTE'!B14","v":0},{"$f":"'DATOS DEL ESTUDIANTE'!C14","v":0},{"$f":"'DATOS DEL ESTUDIANTE'!D14","v":0},null,null,null,null,null,null,null,null,null,null,null,null,null,null,null,null,null,null,null,null,null,null,null,0,0,0,0,0]
[null,12,{"$f":"'DATOS DEL ESTUDIANTE'!B15","v":0},{"$f":"'DATOS DEL ESTUDIANTE'!C15","v":0},{"$f":"'DATOS DEL ESTUDIANTE'!D15","v":0},null,null,null,null,null,null,null,null,null,null,null,null,null,null,null,null,null,null,null,null,null,null,null,0,0,0,0,0]
[null,13,{"$f":"'DATOS DEL ESTUDIANTE'!B16","v":0},{"$f":"'DATOS DEL ESTUDIANTE'!C16","v":0},{"$f":"'DATOS DEL ESTUDIANTE'!D16","v":0},null,null,null,null,null,null,null,null,null,null,null,null,null,null,null,null,null,null,null,null,null,null,null,0,0,0,0,0]
[null,14,{"$f":"'DATOS DEL ESTUDIANTE'!B17","v":0},{"$f":"'DATOS DEL ESTUDIANTE'!C17","v":0},{"$f":"'DATOS DEL ESTUDIANTE'!D17","v":0},null,null,null,null,null,null,null,null,null,null,null,null,null,null,null,null,null,null,null,null,null,null,null,0,0,0,0,0]
[null,15,{"$f":"'DATOS DEL ESTUDIANTE'!B18","v":0},{"$f":"'DATOS DEL ESTUDIANTE'!C18","v":0},{"$f":"'DATOS DEL ESTUDIANTE'!D18","v":0},null,null,null,null,null,null,null,null,null,null,null,null,null,null,null,null,null,null,null,null,null,null,null,0,0,0,0,0]
[null,16,{"$f":"'DATOS DEL ESTUDIANTE'!B19","v":0},{"$f":"'DATOS DEL ESTUDIANTE'!C19","v":0},{"$f":"'DATOS DEL ESTUDIANTE'!D19","v":0},null,null,null,null,null,null,null,null,null,null,null,null,null,null,null,null,null,null,null,null,null,null,null,0,0,0,0,0]
[null,17,{"$f":"'DATOS DEL ESTUDIANTE'!B20","v":0},{"$f":"'DATOS DEL ESTUDIANTE'!C20","v":0},{"$f":"'DATOS DEL ESTUDIANTE'!D20","v":0},null,null,null,null,null,null,null,null,null,null,null,null,null,null,null,null,null,null,null,null,null,null,null,0,0,0,0,0]
[null,18,{"$f":"'DATOS DEL ESTUDIANTE'!B21","v":0},{"$f":"'DATOS DEL ESTUDIANTE'!C21","v":0},{"$f":"'DATOS DEL ESTUDIANTE'!D21","v":0},null,null,null,null,null,null,null,null,null,null,null,null,null,null,null,null,null,null,null,null,null,null,null,0,0,0,0,0]
[null,19,{"$f":"'DATOS DEL ESTUDIANTE'!B22","v":0},{"$f":"'DATOS DEL ESTUDIANTE'!C22","v":0},{"$f":"'DATOS DEL ESTUDIANTE'!D22","v":0},null,null,null,null,null,null,null,null,null,null,null,null,null,null,null,null,null,null,null,null,null,null,null,0,0,0,0,0]
[null,20,{"$f":"'DATOS DEL ESTUDIANTE'!B23","v":0},{"$f":"'DATOS DEL ESTUDIANTE'!C23","v":0},{"$f":"'DATOS DEL ESTUDIANTE'!D23","v":0},null,null,null,null,null,null,null,null,null,null,null,null,null,null,null,null,null,null,null,null,null,null,null,0,0,0,0,0]
[null,21,{"$f":"'DATOS DEL ESTUDIANTE'!B24","v":0},{"$f":"'DATOS DEL ESTUDIANTE'!C24","v":0},{"$f":"'DATOS DEL ESTUDIANTE'!D24","v":0},null,null,null,null,null,null,null,null,null,null,null,null,null,null,null,null,null,null,null,null,null,null,null,0,0,0,0,0]
[null,22,{"$f":"'DATOS DEL ESTUDIANTE'!B25","v":0},{"$f":"'DATOS DEL ESTUDIANTE'!C25","v":0},{"$f":"'DATOS DEL ESTUDIANTE'!D25","v":0},null,null,null,null,null,null,null,null,null,null,null,null,null,null,null,null,null,null,null,null,null,null,null,0,0,0,0,0]
[null,23,{"$f":"'DATOS DEL ESTUDIANTE'!B26","v":0},{"$f":"'DATOS DEL ESTUDIANTE'!C26","v":0},{"$f":"'DATOS DEL ESTUDIANTE'!D26","v":0},null,null,null,null,null,null,null,null,null,null,null,null,null,null,null,null,null,null,null,null,null,null,null,0,0,0,0,0]
[null,24,{"$f":"'DATOS DEL ESTUDIANTE'!B27","v":0},{"$f":"'DATOS DEL ESTUDIANTE'!C27","v":0},{"$f":"'DATOS DEL ESTUDIANTE'!D27","v":0},null,null,null,null,null,null,null,null,null,null,null,null,null,null,null,null,null,null,null,null,null,null,null,0,0,0,0,0]
[null,25,{"$f":"'DATOS DEL ESTUDIANTE'!B28","v":0},{"$f":"'DATOS DEL ESTUDIANTE'!C28","v":0},{"$f":"'DATOS DEL ESTUDIANTE'!D28","v":0},null,null,null,null,null,null,null,null,null,null,null,null,null,null,null,null,null,null,null,null,null,null,null,0,0,0,0,0]
[null,26,{"$f":"'DATOS DEL ESTUDIANTE'!B29","v":0},{"$f":"'DATOS DEL ESTUDIANTE'!C29","v":0},{"$f":"'DATOS DEL ESTUDIANTE'!D29","v":0},null,null,null,null,null,null,null,null,null,null,null,null,null,null,null,null,null,null,null,null,null,null,null,0,0,0,0,0]
[null,27,{"$f":"'DATOS DEL ESTUDIANTE'!B30","v":0},{"$f":"'DATOS DEL ESTUDIANTE'!C30","v":0},{"$f":"'DATOS DEL ESTUDIANTE'!D30","v":0},null,null,null,null,null,null,null,null,null,null,null,null,null,null,null,null,null,null,null,null,null,null,null,0,0,0,0,0]
[null,28,{"$f":"'DATOS DEL ESTUDIANTE'!B31","v":0},{"$f":"'DATOS DEL ESTUDIANTE'!C31","v":0},{"$f":"'DATOS DEL ESTUDIANTE'!D31","v":0},null,null,null,null,null,null,null,null,null,null,null,null,null,null,null,null,null,null,null,null,null,null,null,0,0,0,0,0]
[null,29,{"$f":"'DATOS DEL ESTUDIANTE'!B32","v":0},{"$f":"'DATOS DEL ESTUDIANTE'!C32","v":0},{"$f":"'DATOS DEL ESTUDIANTE'!D32","v":0},null,null,null,null,null,null,null,null,null,null,null,null,null,null,null,null,null,null,null,null,null,null,null,0,0,0,0,0]
[null,30,{"$f":"'DATOS DEL ESTUDIANTE'!B33","v":0},{"$f":"'DATOS DEL ESTUDIANTE'!C33","v":0},{"$f":"'DATOS DEL ESTUDIANTE'!D33","v":0},null,null,null,null,null,null,null,null,null,null,null,null,null,null,null,null,null,null,null,null,null,null,null,0,0,0,0,0]
[null,31,{"$f":"'DATOS DEL ESTUDIANTE'!B34","v":0},{"$f":"'DATOS DEL ESTUDIANTE'!C34","v":0},{"$f":"'DATOS DEL ESTUDIANTE'!D34","v":0},null,null,null,null,null,null,null,null,null,null,null,null,null,null,null,null,null,null,null,null,null,null,null,0,0,0,0,0]
[null,32,{"$f":"'DATOS DEL ESTUDIANTE'!B35","v":0},{"$f":"'DATOS DEL ESTUDIANTE'!C35","v":0},{"$f":"'DATOS DEL ESTUDIANTE'!D35","v":0},null,null,null,null,null,null,null,null,null,null,null,null,null,null,null,null,null,null,null,null,null,null,null,0,0,0,0,0]
[null,33,{"$f":"'DATOS DEL ESTUDIANTE'!B36","v":0},{"$f":"'DATOS DEL ESTUDIANTE'!C36","v":0},{"$f":"'DATOS DEL ESTUDIANTE'!D36","v":0},null,null,null,null,null,null,null,null,null,null,null,null,null,null,null,null,null,null,null,null,null,null,null,0,0,0,0,0]
[null,34,{"$f":"'DATOS DEL ESTUDIANTE'!B37","v":0},{"$f":"'DATOS DEL ESTUDIANTE'!C37","v":0},{"$f":"'DATOS DEL ESTUDIANTE'!D37","v":0},null,null,null,null,null,null,null,null,null,null,null,null,null,null,null,null,null,null,null,null,null,null,null,0,0,0,0,0]
[null,35,{"$f":"'DATOS DEL ESTUDIANTE'!B38","v":0},{"$f":"'DATOS DEL ESTUDIANTE'!C38","v":0},{"$f":"'DATOS DEL ESTUDIANTE'!D38","v":0},null,null,null,null,null,null,null,null,null,null,null,null,null,null,null,null,null,null,null,null,null,null,null,0,0,0,0,0]
[null,36,{"$f":"'DATOS DEL ESTUDIANTE'!B39","v":0},{"$f":"'DATOS DEL ESTUDIANTE'!C39","v":0},{"$f":"'DATOS DEL ESTUDIANTE'!D39","v":0},null,null,null,null,null,null,null,null,null,null,null,null,null,null,null,null,null,null,null,null,null,null,null,0,0,0,0,0]
[null,37,{"$f":"'DATOS DEL ESTUDIANTE'!B40","v":0},{"$f":"'DATOS DEL ESTUDIANTE'!C40","v":0},{"$f":"'DATOS DEL ESTUDIANTE'!D40","v":0},null,null,null,null,null,null,null,null,null,null,null,null,null,null,null,null,null,null,null,null,null,null,null,0,0,0,0,0]
[null,38,{"$f":"'DATOS DEL ESTUDIANTE'!B41","v":0},{"$f":"'DATOS DEL ESTUDIANTE'!C41","v":0},{"$f":"'DATOS DEL ESTUDIANTE'!D41","v":0},null,null,null,null,null,null,null,null,null,null,null,null,null,null,null,null,null,null,null,null,null,null,null,0,0,0,0,0]
[null,39,{"$f":"'DATOS DEL ESTUDIANTE'!B42","v":0},{"$f":"'DATOS DEL ESTUDIANTE'!C42","v":0},{"$f":"'DATOS DEL ESTUDIANTE'!D42","v":0},null,null,null,null,null,null,null,null,null,null,null,null,null,null,null,null,null,null,null,null,null,null,null,0,0,0,0,0]
[null,40,{"$f":"'DATOS DEL ESTUDIANTE'!B43","v":0},{"$f":"'DATOS DEL ESTUDIANTE'!C43","v":0},{"$f":"'DATOS DEL ESTUDIANTE'!D43","v":0},null,null,null,null,null,null,null,null,null,null,null,null,null,null,null,null,null,null,null,null,null,null,null,0,0,0,0,0]
[null,41,{"$f":"'DATOS DEL ESTUDIANTE'!B44","v":0},{"$f":"'DATOS DEL ESTUDIANTE'!C44","v":0},{"$f":"'DATOS DEL ESTUDIANTE'!D44","v":0},null,null,null,null,null,null,null,null,null,null,null,null,null,null,null,null,null,null,null,null,null,null,null,0,0,0,0,0]
[null,42,{"$f":"'DATOS DEL ESTUDIANTE'!B45","v":0},{"$f":"'DATOS DEL ESTUDIANTE'!C45","v":0},{"$f":"'DATOS DEL ESTUDIANTE'!D45","v":0},null,null,null,null,null,null,null,null,null,null,null,null,null,null,null,null,null,null,null,null,null,null,null,0,0,0,0,0]
[null,43,{"$f":"'DATOS DEL ESTUDIANTE'!B46","v":0},{"$f":"'DATOS DEL ESTUDIANTE'!C46","v":0},{"$f":"'DATOS DEL ESTUDIANTE'!D46","v":0},null,null,null,null,null,null,null,null,null,null,null,null,null,null,null,null,null,null,null,null,null,null,null,0,0,0,0,0]
[null,44,{"$f":"'DATOS DEL ESTUDIANTE'!B47","v":0},{"$f":"'DATOS DEL ESTUDIANTE'!C47","v":0},{"$f":"'DATOS DEL ESTUDIANTE'!D47","v":0},null,null,null,null,null,null,null,null,null,null,null,null,null,null,null,null,null,null,null,null,null,null,null,0,0,0,0,0]
[null,45,{"$f":"'DATOS DEL ESTUDIANTE'!B48","v":0},{"$f":"'DATOS DEL ESTUDIANTE'!C48","v":0},{"$f":"'DATOS DEL ESTUDIANTE'!D48","v":0},null,null,null,null,null,null,null,null,null,null,null,null,null,null,null,null,null,null,null,null,null,null,null,0,0,0,0,0]
[null,null,null,null,null,null,null,null,null,null,null,null,null,null,null,null,null,null,null,null,null,null,null,"TOTAL",null,null,null,null,{"$f":"SUM(AC5:AC49)","v":0},{"$f":"SUM(AD5:AD49)","v":0},{"$f":"SUM(AE5:AE49)","v":0},{"$f":"SUM(AF5:AF49)","v":0},{"$f":"SUM(AG5:AG49)","v":0},null,{"$f":"SUM(AD50:AG50)","v":0}]
[null,null,null,null,null,null,null,null,null,null,null,null,null,null,null,null,null,null,null,null,null,null,null,"PORCENTAJES",null,null,null,null,null,{"$f":"AD50/$AI$50","v":{"$error":"#DIV/0!"}},{"$error":"#DIV/0!"},{"$error":"#DIV/0!"},{"$error":"#DIV/0!"},{"$error":"#DIV/0!"},{"$error":"#DIV/0!"}]
[]
[]
[]
[null,null,null,null,null,null,null,"MAESTRA (O)",null,null,null,null,null,null,null,null,null,"DIRECTOR (A)"]

{"sheet":"JULIO","index":10,"n_rows":55,"n_cols":38,"rows_kept":55,"cut":false,"hidden":false,"merged":[[1,0,3,0],[1,1,3,1],[1,4,3,4],[1,5,1,27],[1,28,3,28],[1,2,3,2],[1,3,3,3],[54,7,54,14],[54,17,54,24],[0,1,0,32],[0,34,1,36],[0,37,2,37],[1,29,3,29],[1,30,3,30],[1,31,3,31],[1,32,3,32],[49,23,49,27],[50,23,50,27]]}
[null,"REGISTRO DE ASISTENCIA",null,null,null,null,null,null,null,null,null,null,null,null,null,null,null,null,null,null,null,null,null,null,null,null,null,null,null,null,null,null,null,null,null,null,null,"A = Asistencia \nF = Faltas\nL= Licencia"]
[null,"N°","NOMBRES ","APELLIDO PATERNO","APELLIDO MATERNO","JULIO",null,null,null,null,null,null,null,null,null,null,null,null,null,null,null,null,null,null,null,null,null,null,"RETRASOS","ASISTENCIAS","FALTAS","LICENCIAS","DIAS TRABAJADOS"]
[]
[]
[null,1,{"$f":"'DATOS DEL ESTUDIANTE'!B4","v":0},{"$f":"'DATOS DEL ESTUDIANTE'!C4","v":0},{"$f":"'DATOS DEL ESTUDIANTE'!D4","v":0},null,null,null,null,null,null,null,null,null,null,null,null,null,null,null,null,null,null,null,null,null,null,null,{"$f":"COUNTIF(F5:AA5,\"R\")","v":0},{"$f":"COUNTIF(F5:AB5,\"A\")","v":0},{"$f":"COUNTIF(F5:AB5,\"F\")","v":0},{"$f":"COUNTIF(F5:AB5,\"L\")","v":0},{"$f":"SUM(AD5:AF5)","v":0}]
[null,2,{"$f":"'DATOS DEL ESTUDIANTE'!B5","v":0},{"$f":"'DATOS DEL ESTUDIANTE'!C5","v":0},{"$f":"'DATOS DEL ESTUDIANTE'!D5","v":0},null,null,null,null,null,null,null,null,null,null,null,null,null,null,null,null,null,null,null,null,null,null,null,{"$f":"COUNTIF(F6:AA6,\"R\")","v":0},{"$f":"COUNTIF(F6:AB6,\"A\")","v":0},{"$f":"COUNTIF(F6:AB6,\"F\")","v":0},{"$f":"COUNTIF(F6:AB6,\"L\")","v":0},{"$f":"SUM(AD6:AF6)","v":0}]
[null,3,{"$f":"'DATOS DEL ESTUDIANTE'!B6","v":0},{"$f":"'DATOS DEL ESTUDIANTE'!C6","v":0},{"$f":"'DATOS DEL ESTUDIANTE'!D6","v":0},null,null,null,null,null,null,null,null,null,null,null,null,null,null,null,null,null,null,null,null,null,null,null,0,0,0,0,0]
[null,4,{"$f":"'DATOS DEL ESTUDIANTE'!B7","v":0},{"$f":"'DATOS DEL ESTUDIANTE'!C7","v":0},{"$f":"'DATOS DEL ESTUDIANTE'!D7","v":0},null,null,null,null,null,null,null,null,null,null,null,null,null,null,null,null,null,null,null,null,null,null,null,0,0,0,0,0]
[null,5,{"$f":"'DATOS DEL ESTUDIANTE'!B8","v":0},{"$f":"'DATOS DEL ESTUDIANTE'!C8","v":0},{"$f":"'DATOS DEL ESTUDIANTE'!D8","v":0},null,null,null,null,null,null,null,null,null,null,null,null,null,null,null,null,null,null,null,null,null,null,null,0,0,0,0,0]
[null,6,{"$f":"'DATOS DEL ESTUDIANTE'!B9","v":0},{"$f":"'DATOS DEL ESTUDIANTE'!C9","v":0},{"$f":"'DATOS DEL ESTUDIANTE'!D9","v":0},null,null,null,null,null,null,null,null,null,null,null,null,null,null,null,null,null,null,null,null,null,null,null,0,0,0,0,0]
[null,7,{"$f":"'DATOS DEL ESTUDIANTE'!B10","v":0},{"$f":"'DATOS DEL ESTUDIANTE'!C10","v":0},{"$f":"'DATOS DEL ESTUDIANTE'!D10","v":0},null,null,null,null,null,null,null,null,null,null,null,null,null,null,null,null,null,null,null,null,null,null,null,0,0,0,0,0]
[null,8,{"$f":"'DATOS DEL ESTUDIANTE'!B11","v":0},{"$f":"'DATOS DEL ESTUDIANTE'!C11","v":0},{"$f":"'DATOS DEL ESTUDIANTE'!D11","v":0},null,null,null,null,null,null,null,null,null,null,null,null,null,null,null,null,null,null,null,null,null,null,null,0,0,0,0,0]
[null,9,{"$f":"'DATOS DEL ESTUDIANTE'!B12","v":0},{"$f":"'DATOS DEL ESTUDIANTE'!C12","v":0},{"$f":"'DATOS DEL ESTUDIANTE'!D12","v":0},null,null,null,null,null,null,null,null,null,null,null,null,null,null,null,null,null,null,null,null,null,null,null,0,0,0,0,0]
[null,10,{"$f":"'DATOS DEL ESTUDIANTE'!B13","v":0},{"$f":"'DATOS DEL ESTUDIANTE'!C13","v":0},{"$f":"'DATOS DEL ESTUDIANTE'!D13","v":0},null,null,null,null,null,null,null,null,null,null,null,null,null,null,null,null,null,null,null,null,null,null,null,0,0,0,0,0]
[null,11,{"$f":"'DATOS DEL ESTUDIANTE'!B14","v":0},{"$f":"'DATOS DEL ESTUDIANTE'!C14","v":0},{"$f":"'DATOS DEL ESTUDIANTE'!D14","v":0},null,null,null,null,null,null,null,null,null,null,null,null,null,null,null,null,null,null,null,null,null,null,null,0,0,0,0,0]
[null,12,{"$f":"'DATOS DEL ESTUDIANTE'!B15","v":0},{"$f":"'DATOS DEL ESTUDIANTE'!C15","v":0},{"$f":"'DATOS DEL ESTUDIANTE'!D15","v":0},null,null,null,null,null,null,null,null,null,null,null,null,null,null,null,null,null,null,null,null,null,null,null,0,0,0,0,0]
[null,13,{"$f":"'DATOS DEL ESTUDIANTE'!B16","v":0},{"$f":"'DATOS DEL ESTUDIANTE'!C16","v":0},{"$f":"'DATOS DEL ESTUDIANTE'!D16","v":0},null,null,null,null,null,null,null,null,null,null,null,null,null,null,null,null,null,null,null,null,null,null,null,0,0,0,0,0]
[null,14,{"$f":"'DATOS DEL ESTUDIANTE'!B17","v":0},{"$f":"'DATOS DEL ESTUDIANTE'!C17","v":0},{"$f":"'DATOS DEL ESTUDIANTE'!D17","v":0},null,null,null,null,null,null,null,null,null,null,null,null,null,null,null,null,null,null,null,null,null,null,null,0,0,0,0,0]
[null,15,{"$f":"'DATOS DEL ESTUDIANTE'!B18","v":0},{"$f":"'DATOS DEL ESTUDIANTE'!C18","v":0},{"$f":"'DATOS DEL ESTUDIANTE'!D18","v":0},null,null,null,null,null,null,null,null,null,null,null,null,null,null,null,null,null,null,null,null,null,null,null,0,0,0,0,0]
[null,16,{"$f":"'DATOS DEL ESTUDIANTE'!B19","v":0},{"$f":"'DATOS DEL ESTUDIANTE'!C19","v":0},{"$f":"'DATOS DEL ESTUDIANTE'!D19","v":0},null,null,null,null,null,null,null,null,null,null,null,null,null,null,null,null,null,null,null,null,null,null,null,0,0,0,0,0]
[null,17,{"$f":"'DATOS DEL ESTUDIANTE'!B20","v":0},{"$f":"'DATOS DEL ESTUDIANTE'!C20","v":0},{"$f":"'DATOS DEL ESTUDIANTE'!D20","v":0},null,null,null,null,null,null,null,null,null,null,null,null,null,null,null,null,null,null,null,null,null,null,null,0,0,0,0,0]
[null,18,{"$f":"'DATOS DEL ESTUDIANTE'!B21","v":0},{"$f":"'DATOS DEL ESTUDIANTE'!C21","v":0},{"$f":"'DATOS DEL ESTUDIANTE'!D21","v":0},null,null,null,null,null,null,null,null,null,null,null,null,null,null,null,null,null,null,null,null,null,null,null,0,0,0,0,0]
[null,19,{"$f":"'DATOS DEL ESTUDIANTE'!B22","v":0},{"$f":"'DATOS DEL ESTUDIANTE'!C22","v":0},{"$f":"'DATOS DEL ESTUDIANTE'!D22","v":0},null,null,null,null,null,null,null,null,null,null,null,null,null,null,null,null,null,null,null,null,null,null,null,0,0,0,0,0]
[null,20,{"$f":"'DATOS DEL ESTUDIANTE'!B23","v":0},{"$f":"'DATOS DEL ESTUDIANTE'!C23","v":0},{"$f":"'DATOS DEL ESTUDIANTE'!D23","v":0},null,null,null,null,null,null,null,null,null,null,null,null,null,null,null,null,null,null,null,null,null,null,null,0,0,0,0,0]
[null,21,{"$f":"'DATOS DEL ESTUDIANTE'!B24","v":0},{"$f":"'DATOS DEL ESTUDIANTE'!C24","v":0},{"$f":"'DATOS DEL ESTUDIANTE'!D24","v":0},null,null,null,null,null,null,null,null,null,null,null,null,null,null,null,null,null,null,null,null,null,null,null,0,0,0,0,0]
[null,22,{"$f":"'DATOS DEL ESTUDIANTE'!B25","v":0},{"$f":"'DATOS DEL ESTUDIANTE'!C25","v":0},{"$f":"'DATOS DEL ESTUDIANTE'!D25","v":0},null,null,null,null,null,null,null,null,null,null,null,null,null,null,null,null,null,null,null,null,null,null,null,0,0,0,0,0]
[null,23,{"$f":"'DATOS DEL ESTUDIANTE'!B26","v":0},{"$f":"'DATOS DEL ESTUDIANTE'!C26","v":0},{"$f":"'DATOS DEL ESTUDIANTE'!D26","v":0},null,null,null,null,null,null,null,null,null,null,null,null,null,null,null,null,null,null,null,null,null,null,null,0,0,0,0,0]
[null,24,{"$f":"'DATOS DEL ESTUDIANTE'!B27","v":0},{"$f":"'DATOS DEL ESTUDIANTE'!C27","v":0},{"$f":"'DATOS DEL ESTUDIANTE'!D27","v":0},null,null,null,null,null,null,null,null,null,null,null,null,null,null,null,null,null,null,null,null,null,null,null,0,0,0,0,0]
[null,25,{"$f":"'DATOS DEL ESTUDIANTE'!B28","v":0},{"$f":"'DATOS DEL ESTUDIANTE'!C28","v":0},{"$f":"'DATOS DEL ESTUDIANTE'!D28","v":0},null,null,null,null,null,null,null,null,null,null,null,null,null,null,null,null,null,null,null,null,null,null,null,0,0,0,0,0]
[null,26,{"$f":"'DATOS DEL ESTUDIANTE'!B29","v":0},{"$f":"'DATOS DEL ESTUDIANTE'!C29","v":0},{"$f":"'DATOS DEL ESTUDIANTE'!D29","v":0},null,null,null,null,null,null,null,null,null,null,null,null,null,null,null,null,null,null,null,null,null,null,null,0,0,0,0,0]
[null,27,{"$f":"'DATOS DEL ESTUDIANTE'!B30","v":0},{"$f":"'DATOS DEL ESTUDIANTE'!C30","v":0},{"$f":"'DATOS DEL ESTUDIANTE'!D30","v":0},null,null,null,null,null,null,null,null,null,null,null,null,null,null,null,null,null,null,null,null,null,null,null,0,0,0,0,0]
[null,28,{"$f":"'DATOS DEL ESTUDIANTE'!B31","v":0},{"$f":"'DATOS DEL ESTUDIANTE'!C31","v":0},{"$f":"'DATOS DEL ESTUDIANTE'!D31","v":0},null,null,null,null,null,null,null,null,null,null,null,null,null,null,null,null,null,null,null,null,null,null,null,0,0,0,0,0]
[null,29,{"$f":"'DATOS DEL ESTUDIANTE'!B32","v":0},{"$f":"'DATOS DEL ESTUDIANTE'!C32","v":0},{"$f":"'DATOS DEL ESTUDIANTE'!D32","v":0},null,null,null,null,null,null,null,null,null,null,null,null,null,null,null,null,null,null,null,null,null,null,null,0,0,0,0,0]
[null,30,{"$f":"'DATOS DEL ESTUDIANTE'!B33","v":0},{"$f":"'DATOS DEL ESTUDIANTE'!C33","v":0},{"$f":"'DATOS DEL ESTUDIANTE'!D33","v":0},null,null,null,null,null,null,null,null,null,null,null,null,null,null,null,null,null,null,null,null,null,null,null,0,0,0,0,0]
[null,31,{"$f":"'DATOS DEL ESTUDIANTE'!B34","v":0},{"$f":"'DATOS DEL ESTUDIANTE'!C34","v":0},{"$f":"'DATOS DEL ESTUDIANTE'!D34","v":0},null,null,null,null,null,null,null,null,null,null,null,null,null,null,null,null,null,null,null,null,null,null,null,0,0,0,0,0]
[null,32,{"$f":"'DATOS DEL ESTUDIANTE'!B35","v":0},{"$f":"'DATOS DEL ESTUDIANTE'!C35","v":0},{"$f":"'DATOS DEL ESTUDIANTE'!D35","v":0},null,null,null,null,null,null,null,null,null,null,null,null,null,null,null,null,null,null,null,null,null,null,null,0,0,0,0,0]
[null,33,{"$f":"'DATOS DEL ESTUDIANTE'!B36","v":0},{"$f":"'DATOS DEL ESTUDIANTE'!C36","v":0},{"$f":"'DATOS DEL ESTUDIANTE'!D36","v":0},null,null,null,null,null,null,null,null,null,null,null,null,null,null,null,null,null,null,null,null,null,null,null,0,0,0,0,0]
[null,34,{"$f":"'DATOS DEL ESTUDIANTE'!B37","v":0},{"$f":"'DATOS DEL ESTUDIANTE'!C37","v":0},{"$f":"'DATOS DEL ESTUDIANTE'!D37","v":0},null,null,null,null,null,null,null,null,null,null,null,null,null,null,null,null,null,null,null,null,null,null,null,0,0,0,0,0]
[null,35,{"$f":"'DATOS DEL ESTUDIANTE'!B38","v":0},{"$f":"'DATOS DEL ESTUDIANTE'!C38","v":0},{"$f":"'DATOS DEL ESTUDIANTE'!D38","v":0},null,null,null,null,null,null,null,null,null,null,null,null,null,null,null,null,null,null,null,null,null,null,null,0,0,0,0,0]
[null,36,{"$f":"'DATOS DEL ESTUDIANTE'!B39","v":0},{"$f":"'DATOS DEL ESTUDIANTE'!C39","v":0},{"$f":"'DATOS DEL ESTUDIANTE'!D39","v":0},null,null,null,null,null,null,null,null,null,null,null,null,null,null,null,null,null,null,null,null,null,null,null,0,0,0,0,0]
[null,37,{"$f":"'DATOS DEL ESTUDIANTE'!B40","v":0},{"$f":"'DATOS DEL ESTUDIANTE'!C40","v":0},{"$f":"'DATOS DEL ESTUDIANTE'!D40","v":0},null,null,null,null,null,null,null,null,null,null,null,null,null,null,null,null,null,null,null,null,null,null,null,0,0,0,0,0]
[null,38,{"$f":"'DATOS DEL ESTUDIANTE'!B41","v":0},{"$f":"'DATOS DEL ESTUDIANTE'!C41","v":0},{"$f":"'DATOS DEL ESTUDIANTE'!D41","v":0},null,null,null,null,null,null,null,null,null,null,null,null,null,null,null,null,null,null,null,null,null,null,null,0,0,0,0,0]
[null,39,{"$f":"'DATOS DEL ESTUDIANTE'!B42","v":0},{"$f":"'DATOS DEL ESTUDIANTE'!C42","v":0},{"$f":"'DATOS DEL ESTUDIANTE'!D42","v":0},null,null,null,null,null,null,null,null,null,null,null,null,null,null,null,null,null,null,null,null,null,null,null,0,0,0,0,0]
[null,40,{"$f":"'DATOS DEL ESTUDIANTE'!B43","v":0},{"$f":"'DATOS DEL ESTUDIANTE'!C43","v":0},{"$f":"'DATOS DEL ESTUDIANTE'!D43","v":0},null,null,null,null,null,null,null,null,null,null,null,null,null,null,null,null,null,null,null,null,null,null,null,0,0,0,0,0]
[null,41,{"$f":"'DATOS DEL ESTUDIANTE'!B44","v":0},{"$f":"'DATOS DEL ESTUDIANTE'!C44","v":0},{"$f":"'DATOS DEL ESTUDIANTE'!D44","v":0},null,null,null,null,null,null,null,null,null,null,null,null,null,null,null,null,null,null,null,null,null,null,null,0,0,0,0,0]
[null,42,{"$f":"'DATOS DEL ESTUDIANTE'!B45","v":0},{"$f":"'DATOS DEL ESTUDIANTE'!C45","v":0},{"$f":"'DATOS DEL ESTUDIANTE'!D45","v":0},null,null,null,null,null,null,null,null,null,null,null,null,null,null,null,null,null,null,null,null,null,null,null,0,0,0,0,0]
[null,43,{"$f":"'DATOS DEL ESTUDIANTE'!B46","v":0},{"$f":"'DATOS DEL ESTUDIANTE'!C46","v":0},{"$f":"'DATOS DEL ESTUDIANTE'!D46","v":0},null,null,null,null,null,null,null,null,null,null,null,null,null,null,null,null,null,null,null,null,null,null,null,0,0,0,0,0]
[null,44,{"$f":"'DATOS DEL ESTUDIANTE'!B47","v":0},{"$f":"'DATOS DEL ESTUDIANTE'!C47","v":0},{"$f":"'DATOS DEL ESTUDIANTE'!D47","v":0},null,null,null,null,null,null,null,null,null,null,null,null,null,null,null,null,null,null,null,null,null,null,null,0,0,0,0,0]
[null,45,{"$f":"'DATOS DEL ESTUDIANTE'!B48","v":0},{"$f":"'DATOS DEL ESTUDIANTE'!C48","v":0},{"$f":"'DATOS DEL ESTUDIANTE'!D48","v":0},null,null,null,null,null,null,null,null,null,null,null,null,null,null,null,null,null,null,null,null,null,null,null,0,0,0,0,0]
[null,null,null,null,null,null,null,null,null,null,null,null,null,null,null,null,null,null,null,null,null,null,null,"TOTAL",null,null,null,null,{"$f":"SUM(AC5:AC49)","v":0},{"$f":"SUM(AD5:AD49)","v":0},{"$f":"SUM(AE5:AE49)","v":0},{"$f":"SUM(AF5:AF49)","v":0},{"$f":"SUM(AG5:AG49)","v":0},null,{"$f":"SUM(AD50:AG50)","v":0}]
[null,null,null,null,null,null,null,null,null,null,null,null,null,null,null,null,null,null,null,null,null,null,null,"PORCENTAJES",null,null,null,null,null,{"$f":"AD50/$AI$50","v":{"$error":"#DIV/0!"}},{"$error":"#DIV/0!"},{"$error":"#DIV/0!"},{"$error":"#DIV/0!"},{"$error":"#DIV/0!"},{"$error":"#DIV/0!"}]
[]
[]
[]
[null,null,null,null,null,null,null,"MAESTRA (O)",null,null,null,null,null,null,null,null,null,"DIRECTOR (A)"]

{"sheet":"AGOSTO","index":11,"n_rows":55,"n_cols":38,"rows_kept":55,"cut":false,"hidden":false,"merged":[[1,0,3,0],[1,1,3,1],[1,4,3,4],[1,5,1,27],[1,28,3,28],[1,2,3,2],[1,3,3,3],[54,7,54,14],[54,17,54,24],[0,1,0,32],[0,34,1,36],[0,37,2,37],[1,29,3,29],[1,30,3,30],[1,31,3,31],[1,32,3,32],[49,23,49,27],[50,23,50,27]]}
[null,"REGISTRO DE ASISTENCIA",null,null,null,null,null,null,null,null,null,null,null,null,null,null,null,null,null,null,null,null,null,null,null,null,null,null,null,null,null,null,null,null,null,null,null,"A = Asistencia \nF = Faltas\nL= Licencia"]
[null,"N°","NOMBRES ","APELLIDO PATERNO","APELLIDO MATERNO","AGOSTO",null,null,null,null,null,null,null,null,null,null,null,null,null,null,null,null,null,null,null,null,null,null,"RETRASOS","ASISTENCIAS","FALTAS","LICENCIAS","DIAS TRABAJADOS"]
[]
[]
[null,1,{"$f":"'DATOS DEL ESTUDIANTE'!B4","v":0},{"$f":"'DATOS DEL ESTUDIANTE'!C4","v":0},{"$f":"'DATOS DEL ESTUDIANTE'!D4","v":0},null,null,null,null,null,null,null,null,null,null,null,null,null,null,null,null,null,null,null,null,null,null,null,{"$f":"COUNTIF(F5:AA5,\"R\")","v":0},{"$f":"COUNTIF(F5:AB5,\"A\")","v":0},{"$f":"COUNTIF(F5:AB5,\"F\")","v":0},{"$f":"COUNTIF(F5:AB5,\"L\")","v":0},{"$f":"SUM(AD5:AF5)","v":0}]
[null,2,{"$f":"'DATOS DEL ESTUDIANTE'!B5","v":0},{"$f":"'DATOS DEL ESTUDIANTE'!C5","v":0},{"$f":"'DATOS DEL ESTUDIANTE'!D5","v":0},null,null,null,null,null,null,null,null,null,null,null,null,null,null,null,null,null,null,null,null,null,null,null,{"$f":"COUNTIF(F6:AA6,\"R\")","v":0},{"$f":"COUNTIF(F6:AB6,\"A\")","v":0},{"$f":"COUNTIF(F6:AB6,\"F\")","v":0},{"$f":"COUNTIF(F6:AB6,\"L\")","v":0},{"$f":"SUM(AD6:AF6)","v":0}]
[null,3,{"$f":"'DATOS DEL ESTUDIANTE'!B6","v":0},{"$f":"'DATOS DEL ESTUDIANTE'!C6","v":0},{"$f":"'DATOS DEL ESTUDIANTE'!D6","v":0},null,null,null,null,null,null,null,null,null,null,null,null,null,null,null,null,null,null,null,null,null,null,null,0,0,0,0,0]
[null,4,{"$f":"'DATOS DEL ESTUDIANTE'!B7","v":0},{"$f":"'DATOS DEL ESTUDIANTE'!C7","v":0},{"$f":"'DATOS DEL ESTUDIANTE'!D7","v":0},null,null,null,null,null,null,null,null,null,null,null,null,null,null,null,null,null,null,null,null,null,null,null,0,0,0,0,0]
[null,5,{"$f":"'DATOS DEL ESTUDIANTE'!B8","v":0},{"$f":"'DATOS DEL ESTUDIANTE'!C8","v":0},{"$f":"'DATOS DEL ESTUDIANTE'!D8","v":0},null,null,null,null,null,null,null,null,null,null,null,null,null,null,null,null,null,null,null,null,null,null,null,0,0,0,0,0]
[null,6,{"$f":"'DATOS DEL ESTUDIANTE'!B9","v":0},{"$f":"'DATOS DEL ESTUDIANTE'!C9","v":0},{"$f":"'DATOS DEL ESTUDIANTE'!D9","v":0},null,null,null,null,null,null,null,null,null,null,null,null,null,null,null,null,null,null,null,null,null,null,null,0,0,0,0,0]
[null,7,{"$f":"'DATOS DEL ESTUDIANTE'!B10","v":0},{"$f":"'DATOS DEL ESTUDIANTE'!C10","v":0},{"$f":"'DATOS DEL ESTUDIANTE'!D10","v":0},null,null,null,null,null,null,null,null,null,null,null,null,null,null,null,null,null,null,null,null,null,null,null,0,0,0,0,0]
[null,8,{"$f":"'DATOS DEL ESTUDIANTE'!B11","v":0},{"$f":"'DATOS DEL ESTUDIANTE'!C11","v":0},{"$f":"'DATOS DEL ESTUDIANTE'!D11","v":0},null,null,null,null,null,null,null,null,null,null,null,null,null,null,null,null,null,null,null,null,null,null,null,0,0,0,0,0]
[null,9,{"$f":"'DATOS DEL ESTUDIANTE'!B12","v":0},{"$f":"'DATOS DEL ESTUDIANTE'!C12","v":0},{"$f":"'DATOS DEL ESTUDIANTE'!D12","v":0},null,null,null,null,null,null,null,null,null,null,null,null,null,null,null,null,null,null,null,null,null,null,null,0,0,0,0,0]
[null,10,{"$f":"'DATOS DEL ESTUDIANTE'!B13","v":0},{"$f":"'DATOS DEL ESTUDIANTE'!C13","v":0},{"$f":"'DATOS DEL ESTUDIANTE'!D13","v":0},null,null,null,null,null,null,null,null,null,null,null,null,null,null,null,null,null,null,null,null,null,null,null,0,0,0,0,0]
[null,11,{"$f":"'DATOS DEL ESTUDIANTE'!B14","v":0},{"$f":"'DATOS DEL ESTUDIANTE'!C14","v":0},{"$f":"'DATOS DEL ESTUDIANTE'!D14","v":0},null,null,null,null,null,null,null,null,null,null,null,null,null,null,null,null,null,null,null,null,null,null,null,0,0,0,0,0]
[null,12,{"$f":"'DATOS DEL ESTUDIANTE'!B15","v":0},{"$f":"'DATOS DEL ESTUDIANTE'!C15","v":0},{"$f":"'DATOS DEL ESTUDIANTE'!D15","v":0},null,null,null,null,null,null,null,null,null,null,null,null,null,null,null,null,null,null,null,null,null,null,null,0,0,0,0,0]
[null,13,{"$f":"'DATOS DEL ESTUDIANTE'!B16","v":0},{"$f":"'DATOS DEL ESTUDIANTE'!C16","v":0},{"$f":"'DATOS DEL ESTUDIANTE'!D16","v":0},null,null,null,null,null,null,null,null,null,null,null,null,null,null,null,null,null,null,null,null,null,null,null,0,0,0,0,0]
[null,14,{"$f":"'DATOS DEL ESTUDIANTE'!B17","v":0},{"$f":"'DATOS DEL ESTUDIANTE'!C17","v":0},{"$f":"'DATOS DEL ESTUDIANTE'!D17","v":0},null,null,null,null,null,null,null,null,null,null,null,null,null,null,null,null,null,null,null,null,null,null,null,0,0,0,0,0]
[null,15,{"$f":"'DATOS DEL ESTUDIANTE'!B18","v":0},{"$f":"'DATOS DEL ESTUDIANTE'!C18","v":0},{"$f":"'DATOS DEL ESTUDIANTE'!D18","v":0},null,null,null,null,null,null,null,null,null,null,null,null,null,null,null,null,null,null,null,null,null,null,null,0,0,0,0,0]
[null,16,{"$f":"'DATOS DEL ESTUDIANTE'!B19","v":0},{"$f":"'DATOS DEL ESTUDIANTE'!C19","v":0},{"$f":"'DATOS DEL ESTUDIANTE'!D19","v":0},null,null,null,null,null,null,null,null,null,null,null,null,null,null,null,null,null,null,null,null,null,null,null,0,0,0,0,0]
[null,17,{"$f":"'DATOS DEL ESTUDIANTE'!B20","v":0},{"$f":"'DATOS DEL ESTUDIANTE'!C20","v":0},{"$f":"'DATOS DEL ESTUDIANTE'!D20","v":0},null,null,null,null,null,null,null,null,null,null,null,null,null,null,null,null,null,null,null,null,null,null,null,0,0,0,0,0]
[null,18,{"$f":"'DATOS DEL ESTUDIANTE'!B21","v":0},{"$f":"'DATOS DEL ESTUDIANTE'!C21","v":0},{"$f":"'DATOS DEL ESTUDIANTE'!D21","v":0},null,null,null,null,null,null,null,null,null,null,null,null,null,null,null,null,null,null,null,null,null,null,null,0,0,0,0,0]
[null,19,{"$f":"'DATOS DEL ESTUDIANTE'!B22","v":0},{"$f":"'DATOS DEL ESTUDIANTE'!C22","v":0},{"$f":"'DATOS DEL ESTUDIANTE'!D22","v":0},null,null,null,null,null,null,null,null,null,null,null,null,null,null,null,null,null,null,null,null,null,null,null,0,0,0,0,0]
[null,20,{"$f":"'DATOS DEL ESTUDIANTE'!B23","v":0},{"$f":"'DATOS DEL ESTUDIANTE'!C23","v":0},{"$f":"'DATOS DEL ESTUDIANTE'!D23","v":0},null,null,null,null,null,null,null,null,null,null,null,null,null,null,null,null,null,null,null,null,null,null,null,0,0,0,0,0]
[null,21,{"$f":"'DATOS DEL ESTUDIANTE'!B24","v":0},{"$f":"'DATOS DEL ESTUDIANTE'!C24","v":0},{"$f":"'DATOS DEL ESTUDIANTE'!D24","v":0},null,null,null,null,null,null,null,null,null,null,null,null,null,null,null,null,null,null,null,null,null,null,null,0,0,0,0,0]
[null,22,{"$f":"'DATOS DEL ESTUDIANTE'!B25","v":0},{"$f":"'DATOS DEL ESTUDIANTE'!C25","v":0},{"$f":"'DATOS DEL ESTUDIANTE'!D25","v":0},null,null,null,null,null,null,null,null,null,null,null,null,null,null,null,null,null,null,null,null,null,null,null,0,0,0,0,0]
[null,23,{"$f":"'DATOS DEL ESTUDIANTE'!B26","v":0},{"$f":"'DATOS DEL ESTUDIANTE'!C26","v":0},{"$f":"'DATOS DEL ESTUDIANTE'!D26","v":0},null,null,null,null,null,null,null,null,null,null,null,null,null,null,null,null,null,null,null,null,null,null,null,0,0,0,0,0]
[null,24,{"$f":"'DATOS DEL ESTUDIANTE'!B27","v":0},{"$f":"'DATOS DEL ESTUDIANTE'!C27","v":0},{"$f":"'DATOS DEL ESTUDIANTE'!D27","v":0},null,null,null,null,null,null,null,null,null,null,null,null,null,null,null,null,null,null,null,null,null,null,null,0,0,0,0,0]
[null,25,{"$f":"'DATOS DEL ESTUDIANTE'!B28","v":0},{"$f":"'DATOS DEL ESTUDIANTE'!C28","v":0},{"$f":"'DATOS DEL ESTUDIANTE'!D28","v":0},null,null,null,null,null,null,null,null,null,null,null,null,null,null,null,null,null,null,null,null,null,null,null,0,0,0,0,0]
[null,26,{"$f":"'DATOS DEL ESTUDIANTE'!B29","v":0},{"$f":"'DATOS DEL ESTUDIANTE'!C29","v":0},{"$f":"'DATOS DEL ESTUDIANTE'!D29","v":0},null,null,null,null,null,null,null,null,null,null,null,null,null,null,null,null,null,null,null,null,null,null,null,0,0,0,0,0]
[null,27,{"$f":"'DATOS DEL ESTUDIANTE'!B30","v":0},{"$f":"'DATOS DEL ESTUDIANTE'!C30","v":0},{"$f":"'DATOS DEL ESTUDIANTE'!D30","v":0},null,null,null,null,null,null,null,null,null,null,null,null,null,null,null,null,null,null,null,null,null,null,null,0,0,0,0,0]
[null,28,{"$f":"'DATOS DEL ESTUDIANTE'!B31","v":0},{"$f":"'DATOS DEL ESTUDIANTE'!C31","v":0},{"$f":"'DATOS DEL ESTUDIANTE'!D31","v":0},null,null,null,null,null,null,null,null,null,null,null,null,null,null,null,null,null,null,null,null,null,null,null,0,0,0,0,0]
[null,29,{"$f":"'DATOS DEL ESTUDIANTE'!B32","v":0},{"$f":"'DATOS DEL ESTUDIANTE'!C32","v":0},{"$f":"'DATOS DEL ESTUDIANTE'!D32","v":0},null,null,null,null,null,null,null,null,null,null,null,null,null,null,null,null,null,null,null,null,null,null,null,0,0,0,0,0]
[null,30,{"$f":"'DATOS DEL ESTUDIANTE'!B33","v":0},{"$f":"'DATOS DEL ESTUDIANTE'!C33","v":0},{"$f":"'DATOS DEL ESTUDIANTE'!D33","v":0},null,null,null,null,null,null,null,null,null,null,null,null,null,null,null,null,null,null,null,null,null,null,null,0,0,0,0,0]
[null,31,{"$f":"'DATOS DEL ESTUDIANTE'!B34","v":0},{"$f":"'DATOS DEL ESTUDIANTE'!C34","v":0},{"$f":"'DATOS DEL ESTUDIANTE'!D34","v":0},null,null,null,null,null,null,null,null,null,null,null,null,null,null,null,null,null,null,null,null,null,null,null,0,0,0,0,0]
[null,32,{"$f":"'DATOS DEL ESTUDIANTE'!B35","v":0},{"$f":"'DATOS DEL ESTUDIANTE'!C35","v":0},{"$f":"'DATOS DEL ESTUDIANTE'!D35","v":0},null,null,null,null,null,null,null,null,null,null,null,null,null,null,null,null,null,null,null,null,null,null,null,0,0,0,0,0]
[null,33,{"$f":"'DATOS DEL ESTUDIANTE'!B36","v":0},{"$f":"'DATOS DEL ESTUDIANTE'!C36","v":0},{"$f":"'DATOS DEL ESTUDIANTE'!D36","v":0},null,null,null,null,null,null,null,null,null,null,null,null,null,null,null,null,null,null,null,null,null,null,null,0,0,0,0,0]
[null,34,{"$f":"'DATOS DEL ESTUDIANTE'!B37","v":0},{"$f":"'DATOS DEL ESTUDIANTE'!C37","v":0},{"$f":"'DATOS DEL ESTUDIANTE'!D37","v":0},null,null,null,null,null,null,null,null,null,null,null,null,null,null,null,null,null,null,null,null,null,null,null,0,0,0,0,0]
[null,35,{"$f":"'DATOS DEL ESTUDIANTE'!B38","v":0},{"$f":"'DATOS DEL ESTUDIANTE'!C38","v":0},{"$f":"'DATOS DEL ESTUDIANTE'!D38","v":0},null,null,null,null,null,null,null,null,null,null,null,null,null,null,null,null,null,null,null,null,null,null,null,0,0,0,0,0]
[null,36,{"$f":"'DATOS DEL ESTUDIANTE'!B39","v":0},{"$f":"'DATOS DEL ESTUDIANTE'!C39","v":0},{"$f":"'DATOS DEL ESTUDIANTE'!D39","v":0},null,null,null,null,null,null,null,null,null,null,null,null,null,null,null,null,null,null,null,null,null,null,null,0,0,0,0,0]
[null,37,{"$f":"'DATOS DEL ESTUDIANTE'!B40","v":0},{"$f":"'DATOS DEL ESTUDIANTE'!C40","v":0},{"$f":"'DATOS DEL ESTUDIANTE'!D40","v":0},null,null,null,null,null,null,null,null,null,null,null,null,null,null,null,null,null,null,null,null,null,null,null,0,0,0,0,0]
[null,38,{"$f":"'DATOS DEL ESTUDIANTE'!B41","v":0},{"$f":"'DATOS DEL ESTUDIANTE'!C41","v":0},{"$f":"'DATOS DEL ESTUDIANTE'!D41","v":0},null,null,null,null,null,null,null,null,null,null,null,null,null,null,null,null,null,null,null,null,null,null,null,0,0,0,0,0]
[null,39,{"$f":"'DATOS DEL ESTUDIANTE'!B42","v":0},{"$f":"'DATOS DEL ESTUDIANTE'!C42","v":0},{"$f":"'DATOS DEL ESTUDIANTE'!D42","v":0},null,null,null,null,null,null,null,null,null,null,null,null,null,null,null,null,null,null,null,null,null,null,null,0,0,0,0,0]
[null,40,{"$f":"'DATOS DEL ESTUDIANTE'!B43","v":0},{"$f":"'DATOS DEL ESTUDIANTE'!C43","v":0},{"$f":"'DATOS DEL ESTUDIANTE'!D43","v":0},null,null,null,null,null,null,null,null,null,null,null,null,null,null,null,null,null,null,null,null,null,null,null,0,0,0,0,0]
[null,41,{"$f":"'DATOS DEL ESTUDIANTE'!B44","v":0},{"$f":"'DATOS DEL ESTUDIANTE'!C44","v":0},{"$f":"'DATOS DEL ESTUDIANTE'!D44","v":0},null,null,null,null,null,null,null,null,null,null,null,null,null,null,null,null,null,null,null,null,null,null,null,0,0,0,0,0]
[null,42,{"$f":"'DATOS DEL ESTUDIANTE'!B45","v":0},{"$f":"'DATOS DEL ESTUDIANTE'!C45","v":0},{"$f":"'DATOS DEL ESTUDIANTE'!D45","v":0},null,null,null,null,null,null,null,null,null,null,null,null,null,null,null,null,null,null,null,null,null,null,null,0,0,0,0,0]
[null,43,{"$f":"'DATOS DEL ESTUDIANTE'!B46","v":0},{"$f":"'DATOS DEL ESTUDIANTE'!C46","v":0},{"$f":"'DATOS DEL ESTUDIANTE'!D46","v":0},null,null,null,null,null,null,null,null,null,null,null,null,null,null,null,null,null,null,null,null,null,null,null,0,0,0,0,0]
[null,44,{"$f":"'DATOS DEL ESTUDIANTE'!B47","v":0},{"$f":"'DATOS DEL ESTUDIANTE'!C47","v":0},{"$f":"'DATOS DEL ESTUDIANTE'!D47","v":0},null,null,null,null,null,null,null,null,null,null,null,null,null,null,null,null,null,null,null,null,null,null,null,0,0,0,0,0]
[null,45,{"$f":"'DATOS DEL ESTUDIANTE'!B48","v":0},{"$f":"'DATOS DEL ESTUDIANTE'!C48","v":0},{"$f":"'DATOS DEL ESTUDIANTE'!D48","v":0},null,null,null,null,null,null,null,null,null,null,null,null,null,null,null,null,null,null,null,null,null,null,null,0,0,0,0,0]
[null,null,null,null,null,null,null,null,null,null,null,null,null,null,null,null,null,null,null,null,null,null,null,"TOTAL",null,null,null,null,{"$f":"SUM(AC5:AC49)","v":0},{"$f":"SUM(AD5:AD49)","v":0},{"$f":"SUM(AE5:AE49)","v":0},{"$f":"SUM(AF5:AF49)","v":0},{"$f":"SUM(AG5:AG49)","v":0},null,{"$f":"SUM(AD50:AG50)","v":0}]
[null,null,null,null,null,null,null,null,null,null,null,null,null,null,null,null,null,null,null,null,null,null,null,"PORCENTAJES",null,null,null,null,null,{"$f":"AD50/$AI$50","v":{"$error":"#DIV/0!"}},{"$error":"#DIV/0!"},{"$error":"#DIV/0!"},{"$error":"#DIV/0!"},{"$error":"#DIV/0!"},{"$error":"#DIV/0!"}]
[]
[]
[]
[null,null,null,null,null,null,null,"MAESTRA (O)",null,null,null,null,null,null,null,null,null,"DIRECTOR (A)"]

{"sheet":"SEPTIEMBRE","index":12,"n_rows":55,"n_cols":38,"rows_kept":55,"cut":false,"hidden":false,"merged":[[1,0,3,0],[1,1,3,1],[1,4,3,4],[1,5,1,27],[1,28,3,28],[1,2,3,2],[1,3,3,3],[54,7,54,14],[54,17,54,24],[0,1,0,32],[0,34,1,36],[0,37,2,37],[1,29,3,29],[1,30,3,30],[1,31,3,31],[1,32,3,32],[49,23,49,27],[50,23,50,27]]}
[null,"REGISTRO DE ASISTENCIA",null,null,null,null,null,null,null,null,null,null,null,null,null,null,null,null,null,null,null,null,null,null,null,null,null,null,null,null,null,null,null,null,null,null,null,"A = Asistencia \nF = Faltas\nL= Licencia"]
[null,"N°","NOMBRES ","APELLIDO PATERNO","APELLIDO MATERNO","SEPTIEMBRE",null,null,null,null,null,null,null,null,null,null,null,null,null,null,null,null,null,null,null,null,null,null,"RETRASOS","ASISTENCIAS","FALTAS","LICENCIAS","DIAS TRABAJADOS"]
[]
[]
[null,1,{"$f":"'DATOS DEL ESTUDIANTE'!B4","v":0},{"$f":"'DATOS DEL ESTUDIANTE'!C4","v":0},{"$f":"'DATOS DEL ESTUDIANTE'!D4","v":0},null,null,null,null,null,null,null,null,null,null,null,null,null,null,null,null,null,null,null,null,null,null,null,{"$f":"COUNTIF(F5:AA5,\"R\")","v":0},{"$f":"COUNTIF(F5:AB5,\"A\")","v":0},{"$f":"COUNTIF(F5:AB5,\"F\")","v":0},{"$f":"COUNTIF(F5:AB5,\"L\")","v":0},{"$f":"SUM(AD5:AF5)","v":0}]
[null,2,{"$f":"'DATOS DEL ESTUDIANTE'!B5","v":0},{"$f":"'DATOS DEL ESTUDIANTE'!C5","v":0},{"$f":"'DATOS DEL ESTUDIANTE'!D5","v":0},null,null,null,null,null,null,null,null,null,null,null,null,null,null,null,null,null,null,null,null,null,null,null,{"$f":"COUNTIF(F6:AA6,\"R\")","v":0},{"$f":"COUNTIF(F6:AB6,\"A\")","v":0},{"$f":"COUNTIF(F6:AB6,\"F\")","v":0},{"$f":"COUNTIF(F6:AB6,\"L\")","v":0},{"$f":"SUM(AD6:AF6)","v":0}]
[null,3,{"$f":"'DATOS DEL ESTUDIANTE'!B6","v":0},{"$f":"'DATOS DEL ESTUDIANTE'!C6","v":0},{"$f":"'DATOS DEL ESTUDIANTE'!D6","v":0},null,null,null,null,null,null,null,null,null,null,null,null,null,null,null,null,null,null,null,null,null,null,null,0,0,0,0,0]
[null,4,{"$f":"'DATOS DEL ESTUDIANTE'!B7","v":0},{"$f":"'DATOS DEL ESTUDIANTE'!C7","v":0},{"$f":"'DATOS DEL ESTUDIANTE'!D7","v":0},null,null,null,null,null,null,null,null,null,null,null,null,null,null,null,null,null,null,null,null,null,null,null,0,0,0,0,0]
[null,5,{"$f":"'DATOS DEL ESTUDIANTE'!B8","v":0},{"$f":"'DATOS DEL ESTUDIANTE'!C8","v":0},{"$f":"'DATOS DEL ESTUDIANTE'!D8","v":0},null,null,null,null,null,null,null,null,null,null,null,null,null,null,null,null,null,null,null,null,null,null,null,0,0,0,0,0]
[null,6,{"$f":"'DATOS DEL ESTUDIANTE'!B9","v":0},{"$f":"'DATOS DEL ESTUDIANTE'!C9","v":0},{"$f":"'DATOS DEL ESTUDIANTE'!D9","v":0},null,null,null,null,null,null,null,null,null,null,null,null,null,null,null,null,null,null,null,null,null,null,null,0,0,0,0,0]
[null,7,{"$f":"'DATOS DEL ESTUDIANTE'!B10","v":0},{"$f":"'DATOS DEL ESTUDIANTE'!C10","v":0},{"$f":"'DATOS DEL ESTUDIANTE'!D10","v":0},null,null,null,null,null,null,null,null,null,null,null,null,null,null,null,null,null,null,null,null,null,null,null,0,0,0,0,0]
[null,8,{"$f":"'DATOS DEL ESTUDIANTE'!B11","v":0},{"$f":"'DATOS DEL ESTUDIANTE'!C11","v":0},{"$f":"'DATOS DEL ESTUDIANTE'!D11","v":0},null,null,null,null,null,null,null,null,null,null,null,null,null,null,null,null,null,null,null,null,null,null,null,0,0,0,0,0]
[null,9,{"$f":"'DATOS DEL ESTUDIANTE'!B12","v":0},{"$f":"'DATOS DEL ESTUDIANTE'!C12","v":0},{"$f":"'DATOS DEL ESTUDIANTE'!D12","v":0},null,null,null,null,null,null,null,null,null,null,null,null,null,null,null,null,null,null,null,null,null,null,null,0,0,0,0,0]
[null,10,{"$f":"'DATOS DEL ESTUDIANTE'!B13","v":0},{"$f":"'DATOS DEL ESTUDIANTE'!C13","v":0},{"$f":"'DATOS DEL ESTUDIANTE'!D13","v":0},null,null,null,null,null,null,null,null,null,null,null,null,null,null,null,null,null,null,null,null,null,null,null,0,0,0,0,0]
[null,11,{"$f":"'DATOS DEL ESTUDIANTE'!B14","v":0},{"$f":"'DATOS DEL ESTUDIANTE'!C14","v":0},{"$f":"'DATOS DEL ESTUDIANTE'!D14","v":0},null,null,null,null,null,null,null,null,null,null,null,null,null,null,null,null,null,null,null,null,null,null,null,0,0,0,0,0]
[null,12,{"$f":"'DATOS DEL ESTUDIANTE'!B15","v":0},{"$f":"'DATOS DEL ESTUDIANTE'!C15","v":0},{"$f":"'DATOS DEL ESTUDIANTE'!D15","v":0},null,null,null,null,null,null,null,null,null,null,null,null,null,null,null,null,null,null,null,null,null,null,null,0,0,0,0,0]
[null,13,{"$f":"'DATOS DEL ESTUDIANTE'!B16","v":0},{"$f":"'DATOS DEL ESTUDIANTE'!C16","v":0},{"$f":"'DATOS DEL ESTUDIANTE'!D16","v":0},null,null,null,null,null,null,null,null,null,null,null,null,null,null,null,null,null,null,null,null,null,null,null,0,0,0,0,0]
[null,14,{"$f":"'DATOS DEL ESTUDIANTE'!B17","v":0},{"$f":"'DATOS DEL ESTUDIANTE'!C17","v":0},{"$f":"'DATOS DEL ESTUDIANTE'!D17","v":0},null,null,null,null,null,null,null,null,null,null,null,null,null,null,null,null,null,null,null,null,null,null,null,0,0,0,0,0]
[null,15,{"$f":"'DATOS DEL ESTUDIANTE'!B18","v":0},{"$f":"'DATOS DEL ESTUDIANTE'!C18","v":0},{"$f":"'DATOS DEL ESTUDIANTE'!D18","v":0},null,null,null,null,null,null,null,null,null,null,null,null,null,null,null,null,null,null,null,null,null,null,null,0,0,0,0,0]
[null,16,{"$f":"'DATOS DEL ESTUDIANTE'!B19","v":0},{"$f":"'DATOS DEL ESTUDIANTE'!C19","v":0},{"$f":"'DATOS DEL ESTUDIANTE'!D19","v":0},null,null,null,null,null,null,null,null,null,null,null,null,null,null,null,null,null,null,null,null,null,null,null,0,0,0,0,0]
[null,17,{"$f":"'DATOS DEL ESTUDIANTE'!B20","v":0},{"$f":"'DATOS DEL ESTUDIANTE'!C20","v":0},{"$f":"'DATOS DEL ESTUDIANTE'!D20","v":0},null,null,null,null,null,null,null,null,null,null,null,null,null,null,null,null,null,null,null,null,null,null,null,0,0,0,0,0]
[null,18,{"$f":"'DATOS DEL ESTUDIANTE'!B21","v":0},{"$f":"'DATOS DEL ESTUDIANTE'!C21","v":0},{"$f":"'DATOS DEL ESTUDIANTE'!D21","v":0},null,null,null,null,null,null,null,null,null,null,null,null,null,null,null,null,null,null,null,null,null,null,null,0,0,0,0,0]
[null,19,{"$f":"'DATOS DEL ESTUDIANTE'!B22","v":0},{"$f":"'DATOS DEL ESTUDIANTE'!C22","v":0},{"$f":"'DATOS DEL ESTUDIANTE'!D22","v":0},null,null,null,null,null,null,null,null,null,null,null,null,null,null,null,null,null,null,null,null,null,null,null,0,0,0,0,0]
[null,20,{"$f":"'DATOS DEL ESTUDIANTE'!B23","v":0},{"$f":"'DATOS DEL ESTUDIANTE'!C23","v":0},{"$f":"'DATOS DEL ESTUDIANTE'!D23","v":0},null,null,null,null,null,null,null,null,null,null,null,null,null,null,null,null,null,null,null,null,null,null,null,0,0,0,0,0]
[null,21,{"$f":"'DATOS DEL ESTUDIANTE'!B24","v":0},{"$f":"'DATOS DEL ESTUDIANTE'!C24","v":0},{"$f":"'DATOS DEL ESTUDIANTE'!D24","v":0},null,null,null,null,null,null,null,null,null,null,null,null,null,null,null,null,null,null,null,null,null,null,null,0,0,0,0,0]
[null,22,{"$f":"'DATOS DEL ESTUDIANTE'!B25","v":0},{"$f":"'DATOS DEL ESTUDIANTE'!C25","v":0},{"$f":"'DATOS DEL ESTUDIANTE'!D25","v":0},null,null,null,null,null,null,null,null,null,null,null,null,null,null,null,null,null,null,null,null,null,null,null,0,0,0,0,0]
[null,23,{"$f":"'DATOS DEL ESTUDIANTE'!B26","v":0},{"$f":"'DATOS DEL ESTUDIANTE'!C26","v":0},{"$f":"'DATOS DEL ESTUDIANTE'!D26","v":0},null,null,null,null,null,null,null,null,null,null,null,null,null,null,null,null,null,null,null,null,null,null,null,0,0,0,0,0]
[null,24,{"$f":"'DATOS DEL ESTUDIANTE'!B27","v":0},{"$f":"'DATOS DEL ESTUDIANTE'!C27","v":0},{"$f":"'DATOS DEL ESTUDIANTE'!D27","v":0},null,null,null,null,null,null,null,null,null,null,null,null,null,null,null,null,null,null,null,null,null,null,null,0,0,0,0,0]
[null,25,{"$f":"'DATOS DEL ESTUDIANTE'!B28","v":0},{"$f":"'DATOS DEL ESTUDIANTE'!C28","v":0},{"$f":"'DATOS DEL ESTUDIANTE'!D28","v":0},null,null,null,null,null,null,null,null,null,null,null,null,null,null,null,null,null,null,null,null,null,null,null,0,0,0,0,0]
[null,26,{"$f":"'DATOS DEL ESTUDIANTE'!B29","v":0},{"$f":"'DATOS DEL ESTUDIANTE'!C29","v":0},{"$f":"'DATOS DEL ESTUDIANTE'!D29","v":0},null,null,null,null,null,null,null,null,null,null,null,null,null,null,null,null,null,null,null,null,null,null,null,0,0,0,0,0]
[null,27,{"$f":"'DATOS DEL ESTUDIANTE'!B30","v":0},{"$f":"'DATOS DEL ESTUDIANTE'!C30","v":0},{"$f":"'DATOS DEL ESTUDIANTE'!D30","v":0},null,null,null,null,null,null,null,null,null,null,null,null,null,null,null,null,null,null,null,null,null,null,null,0,0,0,0,0]
[null,28,{"$f":"'DATOS DEL ESTUDIANTE'!B31","v":0},{"$f":"'DATOS DEL ESTUDIANTE'!C31","v":0},{"$f":"'DATOS DEL ESTUDIANTE'!D31","v":0},null,null,null,null,null,null,null,null,null,null,null,null,null,null,null,null,null,null,null,null,null,null,null,0,0,0,0,0]
[null,29,{"$f":"'DATOS DEL ESTUDIANTE'!B32","v":0},{"$f":"'DATOS DEL ESTUDIANTE'!C32","v":0},{"$f":"'DATOS DEL ESTUDIANTE'!D32","v":0},null,null,null,null,null,null,null,null,null,null,null,null,null,null,null,null,null,null,null,null,null,null,null,0,0,0,0,0]
[null,30,{"$f":"'DATOS DEL ESTUDIANTE'!B33","v":0},{"$f":"'DATOS DEL ESTUDIANTE'!C33","v":0},{"$f":"'DATOS DEL ESTUDIANTE'!D33","v":0},null,null,null,null,null,null,null,null,null,null,null,null,null,null,null,null,null,null,null,null,null,null,null,0,0,0,0,0]
[null,31,{"$f":"'DATOS DEL ESTUDIANTE'!B34","v":0},{"$f":"'DATOS DEL ESTUDIANTE'!C34","v":0},{"$f":"'DATOS DEL ESTUDIANTE'!D34","v":0},null,null,null,null,null,null,null,null,null,null,null,null,null,null,null,null,null,null,null,null,null,null,null,0,0,0,0,0]
[null,32,{"$f":"'DATOS DEL ESTUDIANTE'!B35","v":0},{"$f":"'DATOS DEL ESTUDIANTE'!C35","v":0},{"$f":"'DATOS DEL ESTUDIANTE'!D35","v":0},null,null,null,null,null,null,null,null,null,null,null,null,null,null,null,null,null,null,null,null,null,null,null,0,0,0,0,0]
[null,33,{"$f":"'DATOS DEL ESTUDIANTE'!B36","v":0},{"$f":"'DATOS DEL ESTUDIANTE'!C36","v":0},{"$f":"'DATOS DEL ESTUDIANTE'!D36","v":0},null,null,null,null,null,null,null,null,null,null,null,null,null,null,null,null,null,null,null,null,null,null,null,0,0,0,0,0]
[null,34,{"$f":"'DATOS DEL ESTUDIANTE'!B37","v":0},{"$f":"'DATOS DEL ESTUDIANTE'!C37","v":0},{"$f":"'DATOS DEL ESTUDIANTE'!D37","v":0},null,null,null,null,null,null,null,null,null,null,null,null,null,null,null,null,null,null,null,null,null,null,null,0,0,0,0,0]
[null,35,{"$f":"'DATOS DEL ESTUDIANTE'!B38","v":0},{"$f":"'DATOS DEL ESTUDIANTE'!C38","v":0},{"$f":"'DATOS DEL ESTUDIANTE'!D38","v":0},null,null,null,null,null,null,null,null,null,null,null,null,null,null,null,null,null,null,null,null,null,null,null,0,0,0,0,0]
[null,36,{"$f":"'DATOS DEL ESTUDIANTE'!B39","v":0},{"$f":"'DATOS DEL ESTUDIANTE'!C39","v":0},{"$f":"'DATOS DEL ESTUDIANTE'!D39","v":0},null,null,null,null,null,null,null,null,null,null,null,null,null,null,null,null,null,null,null,null,null,null,null,0,0,0,0,0]
[null,37,{"$f":"'DATOS DEL ESTUDIANTE'!B40","v":0},{"$f":"'DATOS DEL ESTUDIANTE'!C40","v":0},{"$f":"'DATOS DEL ESTUDIANTE'!D40","v":0},null,null,null,null,null,null,null,null,null,null,null,null,null,null,null,null,null,null,null,null,null,null,null,0,0,0,0,0]
[null,38,{"$f":"'DATOS DEL ESTUDIANTE'!B41","v":0},{"$f":"'DATOS DEL ESTUDIANTE'!C41","v":0},{"$f":"'DATOS DEL ESTUDIANTE'!D41","v":0},null,null,null,null,null,null,null,null,null,null,null,null,null,null,null,null,null,null,null,null,null,null,null,0,0,0,0,0]
[null,39,{"$f":"'DATOS DEL ESTUDIANTE'!B42","v":0},{"$f":"'DATOS DEL ESTUDIANTE'!C42","v":0},{"$f":"'DATOS DEL ESTUDIANTE'!D42","v":0},null,null,null,null,null,null,null,null,null,null,null,null,null,null,null,null,null,null,null,null,null,null,null,0,0,0,0,0]
[null,40,{"$f":"'DATOS DEL ESTUDIANTE'!B43","v":0},{"$f":"'DATOS DEL ESTUDIANTE'!C43","v":0},{"$f":"'DATOS DEL ESTUDIANTE'!D43","v":0},null,null,null,null,null,null,null,null,null,null,null,null,null,null,null,null,null,null,null,null,null,null,null,0,0,0,0,0]
[null,41,{"$f":"'DATOS DEL ESTUDIANTE'!B44","v":0},{"$f":"'DATOS DEL ESTUDIANTE'!C44","v":0},{"$f":"'DATOS DEL ESTUDIANTE'!D44","v":0},null,null,null,null,null,null,null,null,null,null,null,null,null,null,null,null,null,null,null,null,null,null,null,0,0,0,0,0]
[null,42,{"$f":"'DATOS DEL ESTUDIANTE'!B45","v":0},{"$f":"'DATOS DEL ESTUDIANTE'!C45","v":0},{"$f":"'DATOS DEL ESTUDIANTE'!D45","v":0},null,null,null,null,null,null,null,null,null,null,null,null,null,null,null,null,null,null,null,null,null,null,null,0,0,0,0,0]
[null,43,{"$f":"'DATOS DEL ESTUDIANTE'!B46","v":0},{"$f":"'DATOS DEL ESTUDIANTE'!C46","v":0},{"$f":"'DATOS DEL ESTUDIANTE'!D46","v":0},null,null,null,null,null,null,null,null,null,null,null,null,null,null,null,null,null,null,null,null,null,null,null,0,0,0,0,0]
[null,44,{"$f":"'DATOS DEL ESTUDIANTE'!B47","v":0},{"$f":"'DATOS DEL ESTUDIANTE'!C47","v":0},{"$f":"'DATOS DEL ESTUDIANTE'!D47","v":0},null,null,null,null,null,null,null,null,null,null,null,null,null,null,null,null,null,null,null,null,null,null,null,0,0,0,0,0]
[null,45,{"$f":"'DATOS DEL ESTUDIANTE'!B48","v":0},{"$f":"'DATOS DEL ESTUDIANTE'!C48","v":0},{"$f":"'DATOS DEL ESTUDIANTE'!D48","v":0},null,null,null,null,null,null,null,null,null,null,null,null,null,null,null,null,null,null,null,null,null,null,null,0,0,0,0,0]
[null,null,null,null,null,null,null,null,null,null,null,null,null,null,null,null,null,null,null,null,null,null,null,"TOTAL",null,null,null,null,{"$f":"SUM(AC5:AC49)","v":0},{"$f":"SUM(AD5:AD49)","v":0},{"$f":"SUM(AE5:AE49)","v":0},{"$f":"SUM(AF5:AF49)","v":0},{"$f":"SUM(AG5:AG49)","v":0},null,{"$f":"SUM(AD50:AG50)","v":0}]
[null,null,null,null,null,null,null,null,null,null,null,null,null,null,null,null,null,null,null,null,null,null,null,"PORCENTAJES",null,null,null,null,null,{"$f":"AD50/$AI$50","v":{"$error":"#DIV/0!"}},{"$error":"#DIV/0!"},{"$error":"#DIV/0!"},{"$error":"#DIV/0!"},{"$error":"#DIV/0!"},{"$error":"#DIV/0!"}]
[]
[]
[]
[null,null,null,null,null,null,null,"MAESTRA (O)",null,null,null,null,null,null,null,null,null,"DIRECTOR (A)"]

{"sheet":"OCTUBRE","index":13,"n_rows":55,"n_cols":38,"rows_kept":55,"cut":false,"hidden":false,"merged":[[1,0,3,0],[1,1,3,1],[1,4,3,4],[1,5,1,27],[1,28,3,28],[1,2,3,2],[1,3,3,3],[54,7,54,14],[54,17,54,24],[0,1,0,32],[0,34,1,36],[0,37,2,37],[1,29,3,29],[1,30,3,30],[1,31,3,31],[1,32,3,32],[49,23,49,27],[50,23,50,27]]}
[null,"REGISTRO DE ASISTENCIA",null,null,null,null,null,null,null,null,null,null,null,null,null,null,null,null,null,null,null,null,null,null,null,null,null,null,null,null,null,null,null,null,null,null,null,"A = Asistencia \nF = Faltas\nL= Licencia"]
[null,"N°","NOMBRES ","APELLIDO PATERNO","APELLIDO MATERNO","OCTUBRE",null,null,null,null,null,null,null,null,null,null,null,null,null,null,null,null,null,null,null,null,null,null,"RETRASOS","ASISTENCIAS","FALTAS","LICENCIAS","DIAS TRABAJADOS"]
[]
[]
[null,1,{"$f":"'DATOS DEL ESTUDIANTE'!B4","v":0},{"$f":"'DATOS DEL ESTUDIANTE'!C4","v":0},{"$f":"'DATOS DEL ESTUDIANTE'!D4","v":0},null,null,null,null,null,null,null,null,null,null,null,null,null,null,null,null,null,null,null,null,null,null,null,{"$f":"COUNTIF(F5:AA5,\"R\")","v":0},{"$f":"COUNTIF(F5:AB5,\"A\")","v":0},{"$f":"COUNTIF(F5:AB5,\"F\")","v":0},{"$f":"COUNTIF(F5:AB5,\"L\")","v":0},{"$f":"SUM(AD5:AF5)","v":0}]
[null,2,{"$f":"'DATOS DEL ESTUDIANTE'!B5","v":0},{"$f":"'DATOS DEL ESTUDIANTE'!C5","v":0},{"$f":"'DATOS DEL ESTUDIANTE'!D5","v":0},null,null,null,null,null,null,null,null,null,null,null,null,null,null,null,null,null,null,null,null,null,null,null,{"$f":"COUNTIF(F6:AA6,\"R\")","v":0},{"$f":"COUNTIF(F6:AB6,\"A\")","v":0},{"$f":"COUNTIF(F6:AB6,\"F\")","v":0},{"$f":"COUNTIF(F6:AB6,\"L\")","v":0},{"$f":"SUM(AD6:AF6)","v":0}]
[null,3,{"$f":"'DATOS DEL ESTUDIANTE'!B6","v":0},{"$f":"'DATOS DEL ESTUDIANTE'!C6","v":0},{"$f":"'DATOS DEL ESTUDIANTE'!D6","v":0},null,null,null,null,null,null,null,null,null,null,null,null,null,null,null,null,null,null,null,null,null,null,null,0,0,0,0,0]
[null,4,{"$f":"'DATOS DEL ESTUDIANTE'!B7","v":0},{"$f":"'DATOS DEL ESTUDIANTE'!C7","v":0},{"$f":"'DATOS DEL ESTUDIANTE'!D7","v":0},null,null,null,null,null,null,null,null,null,null,null,null,null,null,null,null,null,null,null,null,null,null,null,0,0,0,0,0]
[null,5,{"$f":"'DATOS DEL ESTUDIANTE'!B8","v":0},{"$f":"'DATOS DEL ESTUDIANTE'!C8","v":0},{"$f":"'DATOS DEL ESTUDIANTE'!D8","v":0},null,null,null,null,null,null,null,null,null,null,null,null,null,null,null,null,null,null,null,null,null,null,null,0,0,0,0,0]
[null,6,{"$f":"'DATOS DEL ESTUDIANTE'!B9","v":0},{"$f":"'DATOS DEL ESTUDIANTE'!C9","v":0},{"$f":"'DATOS DEL ESTUDIANTE'!D9","v":0},null,null,null,null,null,null,null,null,null,null,null,null,null,null,null,null,null,null,null,null,null,null,null,0,0,0,0,0]
[null,7,{"$f":"'DATOS DEL ESTUDIANTE'!B10","v":0},{"$f":"'DATOS DEL ESTUDIANTE'!C10","v":0},{"$f":"'DATOS DEL ESTUDIANTE'!D10","v":0},null,null,null,null,null,null,null,null,null,null,null,null,null,null,null,null,null,null,null,null,null,null,null,0,0,0,0,0]
[null,8,{"$f":"'DATOS DEL ESTUDIANTE'!B11","v":0},{"$f":"'DATOS DEL ESTUDIANTE'!C11","v":0},{"$f":"'DATOS DEL ESTUDIANTE'!D11","v":0},null,null,null,null,null,null,null,null,null,null,null,null,null,null,null,null,null,null,null,null,null,null,null,0,0,0,0,0]
[null,9,{"$f":"'DATOS DEL ESTUDIANTE'!B12","v":0},{"$f":"'DATOS DEL ESTUDIANTE'!C12","v":0},{"$f":"'DATOS DEL ESTUDIANTE'!D12","v":0},null,null,null,null,null,null,null,null,null,null,null,null,null,null,null,null,null,null,null,null,null,null,null,0,0,0,0,0]
[null,10,{"$f":"'DATOS DEL ESTUDIANTE'!B13","v":0},{"$f":"'DATOS DEL ESTUDIANTE'!C13","v":0},{"$f":"'DATOS DEL ESTUDIANTE'!D13","v":0},null,null,null,null,null,null,null,null,null,null,null,null,null,null,null,null,null,null,null,null,null,null,null,0,0,0,0,0]
[null,11,{"$f":"'DATOS DEL ESTUDIANTE'!B14","v":0},{"$f":"'DATOS DEL ESTUDIANTE'!C14","v":0},{"$f":"'DATOS DEL ESTUDIANTE'!D14","v":0},null,null,null,null,null,null,null,null,null,null,null,null,null,null,null,null,null,null,null,null,null,null,null,0,0,0,0,0]
[null,12,{"$f":"'DATOS DEL ESTUDIANTE'!B15","v":0},{"$f":"'DATOS DEL ESTUDIANTE'!C15","v":0},{"$f":"'DATOS DEL ESTUDIANTE'!D15","v":0},null,null,null,null,null,null,null,null,null,null,null,null,null,null,null,null,null,null,null,null,null,null,null,0,0,0,0,0]
[null,13,{"$f":"'DATOS DEL ESTUDIANTE'!B16","v":0},{"$f":"'DATOS DEL ESTUDIANTE'!C16","v":0},{"$f":"'DATOS DEL ESTUDIANTE'!D16","v":0},null,null,null,null,null,null,null,null,null,null,null,null,null,null,null,null,null,null,null,null,null,null,null,0,0,0,0,0]
[null,14,{"$f":"'DATOS DEL ESTUDIANTE'!B17","v":0},{"$f":"'DATOS DEL ESTUDIANTE'!C17","v":0},{"$f":"'DATOS DEL ESTUDIANTE'!D17","v":0},null,null,null,null,null,null,null,null,null,null,null,null,null,null,null,null,null,null,null,null,null,null,null,0,0,0,0,0]
[null,15,{"$f":"'DATOS DEL ESTUDIANTE'!B18","v":0},{"$f":"'DATOS DEL ESTUDIANTE'!C18","v":0},{"$f":"'DATOS DEL ESTUDIANTE'!D18","v":0},null,null,null,null,null,null,null,null,null,null,null,null,null,null,null,null,null,null,null,null,null,null,null,0,0,0,0,0]
[null,16,{"$f":"'DATOS DEL ESTUDIANTE'!B19","v":0},{"$f":"'DATOS DEL ESTUDIANTE'!C19","v":0},{"$f":"'DATOS DEL ESTUDIANTE'!D19","v":0},null,null,null,null,null,null,null,null,null,null,null,null,null,null,null,null,null,null,null,null,null,null,null,0,0,0,0,0]
[null,17,{"$f":"'DATOS DEL ESTUDIANTE'!B20","v":0},{"$f":"'DATOS DEL ESTUDIANTE'!C20","v":0},{"$f":"'DATOS DEL ESTUDIANTE'!D20","v":0},null,null,null,null,null,null,null,null,null,null,null,null,null,null,null,null,null,null,null,null,null,null,null,0,0,0,0,0]
[null,18,{"$f":"'DATOS DEL ESTUDIANTE'!B21","v":0},{"$f":"'DATOS DEL ESTUDIANTE'!C21","v":0},{"$f":"'DATOS DEL ESTUDIANTE'!D21","v":0},null,null,null,null,null,null,null,null,null,null,null,null,null,null,null,null,null,null,null,null,null,null,null,0,0,0,0,0]
[null,19,{"$f":"'DATOS DEL ESTUDIANTE'!B22","v":0},{"$f":"'DATOS DEL ESTUDIANTE'!C22","v":0},{"$f":"'DATOS DEL ESTUDIANTE'!D22","v":0},null,null,null,null,null,null,null,null,null,null,null,null,null,null,null,null,null,null,null,null,null,null,null,0,0,0,0,0]
[null,20,{"$f":"'DATOS DEL ESTUDIANTE'!B23","v":0},{"$f":"'DATOS DEL ESTUDIANTE'!C23","v":0},{"$f":"'DATOS DEL ESTUDIANTE'!D23","v":0},null,null,null,null,null,null,null,null,null,null,null,null,null,null,null,null,null,null,null,null,null,null,null,0,0,0,0,0]
[null,21,{"$f":"'DATOS DEL ESTUDIANTE'!B24","v":0},{"$f":"'DATOS DEL ESTUDIANTE'!C24","v":0},{"$f":"'DATOS DEL ESTUDIANTE'!D24","v":0},null,null,null,null,null,null,null,null,null,null,null,null,null,null,null,null,null,null,null,null,null,null,null,0,0,0,0,0]
[null,22,{"$f":"'DATOS DEL ESTUDIANTE'!B25","v":0},{"$f":"'DATOS DEL ESTUDIANTE'!C25","v":0},{"$f":"'DATOS DEL ESTUDIANTE'!D25","v":0},null,null,null,null,null,null,null,null,null,null,null,null,null,null,null,null,null,null,null,null,null,null,null,0,0,0,0,0]
[null,23,{"$f":"'DATOS DEL ESTUDIANTE'!B26","v":0},{"$f":"'DATOS DEL ESTUDIANTE'!C26","v":0},{"$f":"'DATOS DEL ESTUDIANTE'!D26","v":0},null,null,null,null,null,null,null,null,null,null,null,null,null,null,null,null,null,null,null,null,null,null,null,0,0,0,0,0]
[null,24,{"$f":"'DATOS DEL ESTUDIANTE'!B27","v":0},{"$f":"'DATOS DEL ESTUDIANTE'!C27","v":0},{"$f":"'DATOS DEL ESTUDIANTE'!D27","v":0},null,null,null,null,null,null,null,null,null,null,null,null,null,null,null,null,null,null,null,null,null,null,null,0,0,0,0,0]
[null,25,{"$f":"'DATOS DEL ESTUDIANTE'!B28","v":0},{"$f":"'DATOS DEL ESTUDIANTE'!C28","v":0},{"$f":"'DATOS DEL ESTUDIANTE'!D28","v":0},null,null,null,null,null,null,null,null,null,null,null,null,null,null,null,null,null,null,null,null,null,null,null,0,0,0,0,0]
[null,26,{"$f":"'DATOS DEL ESTUDIANTE'!B29","v":0},{"$f":"'DATOS DEL ESTUDIANTE'!C29","v":0},{"$f":"'DATOS DEL ESTUDIANTE'!D29","v":0},null,null,null,null,null,null,null,null,null,null,null,null,null,null,null,null,null,null,null,null,null,null,null,0,0,0,0,0]
[null,27,{"$f":"'DATOS DEL ESTUDIANTE'!B30","v":0},{"$f":"'DATOS DEL ESTUDIANTE'!C30","v":0},{"$f":"'DATOS DEL ESTUDIANTE'!D30","v":0},null,null,null,null,null,null,null,null,null,null,null,null,null,null,null,null,null,null,null,null,null,null,null,0,0,0,0,0]
[null,28,{"$f":"'DATOS DEL ESTUDIANTE'!B31","v":0},{"$f":"'DATOS DEL ESTUDIANTE'!C31","v":0},{"$f":"'DATOS DEL ESTUDIANTE'!D31","v":0},null,null,null,null,null,null,null,null,null,null,null,null,null,null,null,null,null,null,null,null,null,null,null,0,0,0,0,0]
[null,29,{"$f":"'DATOS DEL ESTUDIANTE'!B32","v":0},{"$f":"'DATOS DEL ESTUDIANTE'!C32","v":0},{"$f":"'DATOS DEL ESTUDIANTE'!D32","v":0},null,null,null,null,null,null,null,null,null,null,null,null,null,null,null,null,null,null,null,null,null,null,null,0,0,0,0,0]
[null,30,{"$f":"'DATOS DEL ESTUDIANTE'!B33","v":0},{"$f":"'DATOS DEL ESTUDIANTE'!C33","v":0},{"$f":"'DATOS DEL ESTUDIANTE'!D33","v":0},null,null,null,null,null,null,null,null,null,null,null,null,null,null,null,null,null,null,null,null,null,null,null,0,0,0,0,0]
[null,31,{"$f":"'DATOS DEL ESTUDIANTE'!B34","v":0},{"$f":"'DATOS DEL ESTUDIANTE'!C34","v":0},{"$f":"'DATOS DEL ESTUDIANTE'!D34","v":0},null,null,null,null,null,null,null,null,null,null,null,null,null,null,null,null,null,null,null,null,null,null,null,0,0,0,0,0]
[null,32,{"$f":"'DATOS DEL ESTUDIANTE'!B35","v":0},{"$f":"'DATOS DEL ESTUDIANTE'!C35","v":0},{"$f":"'DATOS DEL ESTUDIANTE'!D35","v":0},null,null,null,null,null,null,null,null,null,null,null,null,null,null,null,null,null,null,null,null,null,null,null,0,0,0,0,0]
[null,33,{"$f":"'DATOS DEL ESTUDIANTE'!B36","v":0},{"$f":"'DATOS DEL ESTUDIANTE'!C36","v":0},{"$f":"'DATOS DEL ESTUDIANTE'!D36","v":0},null,null,null,null,null,null,null,null,null,null,null,null,null,null,null,null,null,null,null,null,null,null,null,0,0,0,0,0]
[null,34,{"$f":"'DATOS DEL ESTUDIANTE'!B37","v":0},{"$f":"'DATOS DEL ESTUDIANTE'!C37","v":0},{"$f":"'DATOS DEL ESTUDIANTE'!D37","v":0},null,null,null,null,null,null,null,null,null,null,null,null,null,null,null,null,null,null,null,null,null,null,null,0,0,0,0,0]
[null,35,{"$f":"'DATOS DEL ESTUDIANTE'!B38","v":0},{"$f":"'DATOS DEL ESTUDIANTE'!C38","v":0},{"$f":"'DATOS DEL ESTUDIANTE'!D38","v":0},null,null,null,null,null,null,null,null,null,null,null,null,null,null,null,null,null,null,null,null,null,null,null,0,0,0,0,0]
[null,36,{"$f":"'DATOS DEL ESTUDIANTE'!B39","v":0},{"$f":"'DATOS DEL ESTUDIANTE'!C39","v":0},{"$f":"'DATOS DEL ESTUDIANTE'!D39","v":0},null,null,null,null,null,null,null,null,null,null,null,null,null,null,null,null,null,null,null,null,null,null,null,0,0,0,0,0]
[null,37,{"$f":"'DATOS DEL ESTUDIANTE'!B40","v":0},{"$f":"'DATOS DEL ESTUDIANTE'!C40","v":0},{"$f":"'DATOS DEL ESTUDIANTE'!D40","v":0},null,null,null,null,null,null,null,null,null,null,null,null,null,null,null,null,null,null,null,null,null,null,null,0,0,0,0,0]
[null,38,{"$f":"'DATOS DEL ESTUDIANTE'!B41","v":0},{"$f":"'DATOS DEL ESTUDIANTE'!C41","v":0},{"$f":"'DATOS DEL ESTUDIANTE'!D41","v":0},null,null,null,null,null,null,null,null,null,null,null,null,null,null,null,null,null,null,null,null,null,null,null,0,0,0,0,0]
[null,39,{"$f":"'DATOS DEL ESTUDIANTE'!B42","v":0},{"$f":"'DATOS DEL ESTUDIANTE'!C42","v":0},{"$f":"'DATOS DEL ESTUDIANTE'!D42","v":0},null,null,null,null,null,null,null,null,null,null,null,null,null,null,null,null,null,null,null,null,null,null,null,0,0,0,0,0]
[null,40,{"$f":"'DATOS DEL ESTUDIANTE'!B43","v":0},{"$f":"'DATOS DEL ESTUDIANTE'!C43","v":0},{"$f":"'DATOS DEL ESTUDIANTE'!D43","v":0},null,null,null,null,null,null,null,null,null,null,null,null,null,null,null,null,null,null,null,null,null,null,null,0,0,0,0,0]
[null,41,{"$f":"'DATOS DEL ESTUDIANTE'!B44","v":0},{"$f":"'DATOS DEL ESTUDIANTE'!C44","v":0},{"$f":"'DATOS DEL ESTUDIANTE'!D44","v":0},null,null,null,null,null,null,null,null,null,null,null,null,null,null,null,null,null,null,null,null,null,null,null,0,0,0,0,0]
[null,42,{"$f":"'DATOS DEL ESTUDIANTE'!B45","v":0},{"$f":"'DATOS DEL ESTUDIANTE'!C45","v":0},{"$f":"'DATOS DEL ESTUDIANTE'!D45","v":0},null,null,null,null,null,null,null,null,null,null,null,null,null,null,null,null,null,null,null,null,null,null,null,0,0,0,0,0]
[null,43,{"$f":"'DATOS DEL ESTUDIANTE'!B46","v":0},{"$f":"'DATOS DEL ESTUDIANTE'!C46","v":0},{"$f":"'DATOS DEL ESTUDIANTE'!D46","v":0},null,null,null,null,null,null,null,null,null,null,null,null,null,null,null,null,null,null,null,null,null,null,null,0,0,0,0,0]
[null,44,{"$f":"'DATOS DEL ESTUDIANTE'!B47","v":0},{"$f":"'DATOS DEL ESTUDIANTE'!C47","v":0},{"$f":"'DATOS DEL ESTUDIANTE'!D47","v":0},null,null,null,null,null,null,null,null,null,null,null,null,null,null,null,null,null,null,null,null,null,null,null,0,0,0,0,0]
[null,45,{"$f":"'DATOS DEL ESTUDIANTE'!B48","v":0},{"$f":"'DATOS DEL ESTUDIANTE'!C48","v":0},{"$f":"'DATOS DEL ESTUDIANTE'!D48","v":0},null,null,null,null,null,null,null,null,null,null,null,null,null,null,null,null,null,null,null,null,null,null,null,0,0,0,0,0]
[null,null,null,null,null,null,null,null,null,null,null,null,null,null,null,null,null,null,null,null,null,null,null,"TOTAL",null,null,null,null,{"$f":"SUM(AC5:AC49)","v":0},{"$f":"SUM(AD5:AD49)","v":0},{"$f":"SUM(AE5:AE49)","v":0},{"$f":"SUM(AF5:AF49)","v":0},{"$f":"SUM(AG5:AG49)","v":0},null,{"$f":"SUM(AD50:AG50)","v":0}]
[null,null,null,null,null,null,null,null,null,null,null,null,null,null,null,null,null,null,null,null,null,null,null,"PORCENTAJES",null,null,null,null,null,{"$f":"AD50/$AI$50","v":{"$error":"#DIV/0!"}},{"$error":"#DIV/0!"},{"$error":"#DIV/0!"},{"$error":"#DIV/0!"},{"$error":"#DIV/0!"},{"$error":"#DIV/0!"}]
[]
[]
[]
[null,null,null,null,null,null,null,"MAESTRA (O)",null,null,null,null,null,null,null,null,null,"DIRECTOR (A)"]

{"sheet":"NOVIEMBRE","index":14,"n_rows":55,"n_cols":38,"rows_kept":55,"cut":false,"hidden":false,"merged":[[1,0,3,0],[1,1,3,1],[1,4,3,4],[1,5,1,27],[1,28,3,28],[1,2,3,2],[1,3,3,3],[54,7,54,14],[54,17,54,24],[0,1,0,32],[0,34,1,36],[0,37,2,37],[1,29,3,29],[1,30,3,30],[1,31,3,31],[1,32,3,32],[49,23,49,27],[50,23,50,27]]}
[null,"REGISTRO DE ASISTENCIA",null,null,null,null,null,null,null,null,null,null,null,null,null,null,null,null,null,null,null,null,null,null,null,null,null,null,null,null,null,null,null,null,null,null,null,"A = Asistencia \nF = Faltas\nL= Licencia"]
[null,"N°","NOMBRES ","APELLIDO PATERNO","APELLIDO MATERNO","NOVIEMBRE",null,null,null,null,null,null,null,null,null,null,null,null,null,null,null,null,null,null,null,null,null,null,"RETRASOS","ASISTENCIAS","FALTAS","LICENCIAS","DIAS TRABAJADOS"]
[]
[]
[null,1,{"$f":"'DATOS DEL ESTUDIANTE'!B4","v":0},{"$f":"'DATOS DEL ESTUDIANTE'!C4","v":0},{"$f":"'DATOS DEL ESTUDIANTE'!D4","v":0},null,null,null,null,null,null,null,null,null,null,null,null,null,null,null,null,null,null,null,null,null,null,null,{"$f":"COUNTIF(F5:AA5,\"R\")","v":0},{"$f":"COUNTIF(F5:AB5,\"A\")","v":0},{"$f":"COUNTIF(F5:AB5,\"F\")","v":0},{"$f":"COUNTIF(F5:AB5,\"L\")","v":0},{"$f":"SUM(AD5:AF5)","v":0}]
[null,2,{"$f":"'DATOS DEL ESTUDIANTE'!B5","v":0},{"$f":"'DATOS DEL ESTUDIANTE'!C5","v":0},{"$f":"'DATOS DEL ESTUDIANTE'!D5","v":0},null,null,null,null,null,null,null,null,null,null,null,null,null,null,null,null,null,null,null,null,null,null,null,{"$f":"COUNTIF(F6:AA6,\"R\")","v":0},{"$f":"COUNTIF(F6:AB6,\"A\")","v":0},{"$f":"COUNTIF(F6:AB6,\"F\")","v":0},{"$f":"COUNTIF(F6:AB6,\"L\")","v":0},{"$f":"SUM(AD6:AF6)","v":0}]
[null,3,{"$f":"'DATOS DEL ESTUDIANTE'!B6","v":0},{"$f":"'DATOS DEL ESTUDIANTE'!C6","v":0},{"$f":"'DATOS DEL ESTUDIANTE'!D6","v":0},null,null,null,null,null,null,null,null,null,null,null,null,null,null,null,null,null,null,null,null,null,null,null,0,0,0,0,0]
[null,4,{"$f":"'DATOS DEL ESTUDIANTE'!B7","v":0},{"$f":"'DATOS DEL ESTUDIANTE'!C7","v":0},{"$f":"'DATOS DEL ESTUDIANTE'!D7","v":0},null,null,null,null,null,null,null,null,null,null,null,null,null,null,null,null,null,null,null,null,null,null,null,0,0,0,0,0]
[null,5,{"$f":"'DATOS DEL ESTUDIANTE'!B8","v":0},{"$f":"'DATOS DEL ESTUDIANTE'!C8","v":0},{"$f":"'DATOS DEL ESTUDIANTE'!D8","v":0},null,null,null,null,null,null,null,null,null,null,null,null,null,null,null,null,null,null,null,null,null,null,null,0,0,0,0,0]
[null,6,{"$f":"'DATOS DEL ESTUDIANTE'!B9","v":0},{"$f":"'DATOS DEL ESTUDIANTE'!C9","v":0},{"$f":"'DATOS DEL ESTUDIANTE'!D9","v":0},null,null,null,null,null,null,null,null,null,null,null,null,null,null,null,null,null,null,null,null,null,null,null,0,0,0,0,0]
[null,7,{"$f":"'DATOS DEL ESTUDIANTE'!B10","v":0},{"$f":"'DATOS DEL ESTUDIANTE'!C10","v":0},{"$f":"'DATOS DEL ESTUDIANTE'!D10","v":0},null,null,null,null,null,null,null,null,null,null,null,null,null,null,null,null,null,null,null,null,null,null,null,0,0,0,0,0]
[null,8,{"$f":"'DATOS DEL ESTUDIANTE'!B11","v":0},{"$f":"'DATOS DEL ESTUDIANTE'!C11","v":0},{"$f":"'DATOS DEL ESTUDIANTE'!D11","v":0},null,null,null,null,null,null,null,null,null,null,null,null,null,null,null,null,null,null,null,null,null,null,null,0,0,0,0,0]
[null,9,{"$f":"'DATOS DEL ESTUDIANTE'!B12","v":0},{"$f":"'DATOS DEL ESTUDIANTE'!C12","v":0},{"$f":"'DATOS DEL ESTUDIANTE'!D12","v":0},null,null,null,null,null,null,null,null,null,null,null,null,null,null,null,null,null,null,null,null,null,null,null,0,0,0,0,0]
[null,10,{"$f":"'DATOS DEL ESTUDIANTE'!B13","v":0},{"$f":"'DATOS DEL ESTUDIANTE'!C13","v":0},{"$f":"'DATOS DEL ESTUDIANTE'!D13","v":0},null,null,null,null,null,null,null,null,null,null,null,null,null,null,null,null,null,null,null,null,null,null,null,0,0,0,0,0]
[null,11,{"$f":"'DATOS DEL ESTUDIANTE'!B14","v":0},{"$f":"'DATOS DEL ESTUDIANTE'!C14","v":0},{"$f":"'DATOS DEL ESTUDIANTE'!D14","v":0},null,null,null,null,null,null,null,null,null,null,null,null,null,null,null,null,null,null,null,null,null,null,null,0,0,0,0,0]
[null,12,{"$f":"'DATOS DEL ESTUDIANTE'!B15","v":0},{"$f":"'DATOS DEL ESTUDIANTE'!C15","v":0},{"$f":"'DATOS DEL ESTUDIANTE'!D15","v":0},null,null,null,null,null,null,null,null,null,null,null,null,null,null,null,null,null,null,null,null,null,null,null,0,0,0,0,0]
[null,13,{"$f":"'DATOS DEL ESTUDIANTE'!B16","v":0},{"$f":"'DATOS DEL ESTUDIANTE'!C16","v":0},{"$f":"'DATOS DEL ESTUDIANTE'!D16","v":0},null,null,null,null,null,null,null,null,null,null,null,null,null,null,null,null,null,null,null,null,null,null,null,0,0,0,0,0]
[null,14,{"$f":"'DATOS DEL ESTUDIANTE'!B17","v":0},{"$f":"'DATOS DEL ESTUDIANTE'!C17","v":0},{"$f":"'DATOS DEL ESTUDIANTE'!D17","v":0},null,null,null,null,null,null,null,null,null,null,null,null,null,null,null,null,null,null,null,null,null,null,null,0,0,0,0,0]
[null,15,{"$f":"'DATOS DEL ESTUDIANTE'!B18","v":0},{"$f":"'DATOS DEL ESTUDIANTE'!C18","v":0},{"$f":"'DATOS DEL ESTUDIANTE'!D18","v":0},null,null,null,null,null,null,null,null,null,null,null,null,null,null,null,null,null,null,null,null,null,null,null,0,0,0,0,0]
[null,16,{"$f":"'DATOS DEL ESTUDIANTE'!B19","v":0},{"$f":"'DATOS DEL ESTUDIANTE'!C19","v":0},{"$f":"'DATOS DEL ESTUDIANTE'!D19","v":0},null,null,null,null,null,null,null,null,null,null,null,null,null,null,null,null,null,null,null,null,null,null,null,0,0,0,0,0]
[null,17,{"$f":"'DATOS DEL ESTUDIANTE'!B20","v":0},{"$f":"'DATOS DEL ESTUDIANTE'!C20","v":0},{"$f":"'DATOS DEL ESTUDIANTE'!D20","v":0},null,null,null,null,null,null,null,null,null,null,null,null,null,null,null,null,null,null,null,null,null,null,null,0,0,0,0,0]
[null,18,{"$f":"'DATOS DEL ESTUDIANTE'!B21","v":0},{"$f":"'DATOS DEL ESTUDIANTE'!C21","v":0},{"$f":"'DATOS DEL ESTUDIANTE'!D21","v":0},null,null,null,null,null,null,null,null,null,null,null,null,null,null,null,null,null,null,null,null,null,null,null,0,0,0,0,0]
[null,19,{"$f":"'DATOS DEL ESTUDIANTE'!B22","v":0},{"$f":"'DATOS DEL ESTUDIANTE'!C22","v":0},{"$f":"'DATOS DEL ESTUDIANTE'!D22","v":0},null,null,null,null,null,null,null,null,null,null,null,null,null,null,null,null,null,null,null,null,null,null,null,0,0,0,0,0]
[null,20,{"$f":"'DATOS DEL ESTUDIANTE'!B23","v":0},{"$f":"'DATOS DEL ESTUDIANTE'!C23","v":0},{"$f":"'DATOS DEL ESTUDIANTE'!D23","v":0},null,null,null,null,null,null,null,null,null,null,null,null,null,null,null,null,null,null,null,null,null,null,null,0,0,0,0,0]
[null,21,{"$f":"'DATOS DEL ESTUDIANTE'!B24","v":0},{"$f":"'DATOS DEL ESTUDIANTE'!C24","v":0},{"$f":"'DATOS DEL ESTUDIANTE'!D24","v":0},null,null,null,null,null,null,null,null,null,null,null,null,null,null,null,null,null,null,null,null,null,null,null,0,0,0,0,0]
[null,22,{"$f":"'DATOS DEL ESTUDIANTE'!B25","v":0},{"$f":"'DATOS DEL ESTUDIANTE'!C25","v":0},{"$f":"'DATOS DEL ESTUDIANTE'!D25","v":0},null,null,null,null,null,null,null,null,null,null,null,null,null,null,null,null,null,null,null,null,null,null,null,0,0,0,0,0]
[null,23,{"$f":"'DATOS DEL ESTUDIANTE'!B26","v":0},{"$f":"'DATOS DEL ESTUDIANTE'!C26","v":0},{"$f":"'DATOS DEL ESTUDIANTE'!D26","v":0},null,null,null,null,null,null,null,null,null,null,null,null,null,null,null,null,null,null,null,null,null,null,null,0,0,0,0,0]
[null,24,{"$f":"'DATOS DEL ESTUDIANTE'!B27","v":0},{"$f":"'DATOS DEL ESTUDIANTE'!C27","v":0},{"$f":"'DATOS DEL ESTUDIANTE'!D27","v":0},null,null,null,null,null,null,null,null,null,null,null,null,null,null,null,null,null,null,null,null,null,null,null,0,0,0,0,0]
[null,25,{"$f":"'DATOS DEL ESTUDIANTE'!B28","v":0},{"$f":"'DATOS DEL ESTUDIANTE'!C28","v":0},{"$f":"'DATOS DEL ESTUDIANTE'!D28","v":0},null,null,null,null,null,null,null,null,null,null,null,null,null,null,null,null,null,null,null,null,null,null,null,0,0,0,0,0]
[null,26,{"$f":"'DATOS DEL ESTUDIANTE'!B29","v":0},{"$f":"'DATOS DEL ESTUDIANTE'!C29","v":0},{"$f":"'DATOS DEL ESTUDIANTE'!D29","v":0},null,null,null,null,null,null,null,null,null,null,null,null,null,null,null,null,null,null,null,null,null,null,null,0,0,0,0,0]
[null,27,{"$f":"'DATOS DEL ESTUDIANTE'!B30","v":0},{"$f":"'DATOS DEL ESTUDIANTE'!C30","v":0},{"$f":"'DATOS DEL ESTUDIANTE'!D30","v":0},null,null,null,null,null,null,null,null,null,null,null,null,null,null,null,null,null,null,null,null,null,null,null,0,0,0,0,0]
[null,28,{"$f":"'DATOS DEL ESTUDIANTE'!B31","v":0},{"$f":"'DATOS DEL ESTUDIANTE'!C31","v":0},{"$f":"'DATOS DEL ESTUDIANTE'!D31","v":0},null,null,null,null,null,null,null,null,null,null,null,null,null,null,null,null,null,null,null,null,null,null,null,0,0,0,0,0]
[null,29,{"$f":"'DATOS DEL ESTUDIANTE'!B32","v":0},{"$f":"'DATOS DEL ESTUDIANTE'!C32","v":0},{"$f":"'DATOS DEL ESTUDIANTE'!D32","v":0},null,null,null,null,null,null,null,null,null,null,null,null,null,null,null,null,null,null,null,null,null,null,null,0,0,0,0,0]
[null,30,{"$f":"'DATOS DEL ESTUDIANTE'!B33","v":0},{"$f":"'DATOS DEL ESTUDIANTE'!C33","v":0},{"$f":"'DATOS DEL ESTUDIANTE'!D33","v":0},null,null,null,null,null,null,null,null,null,null,null,null,null,null,null,null,null,null,null,null,null,null,null,0,0,0,0,0]
[null,31,{"$f":"'DATOS DEL ESTUDIANTE'!B34","v":0},{"$f":"'DATOS DEL ESTUDIANTE'!C34","v":0},{"$f":"'DATOS DEL ESTUDIANTE'!D34","v":0},null,null,null,null,null,null,null,null,null,null,null,null,null,null,null,null,null,null,null,null,null,null,null,0,0,0,0,0]
[null,32,{"$f":"'DATOS DEL ESTUDIANTE'!B35","v":0},{"$f":"'DATOS DEL ESTUDIANTE'!C35","v":0},{"$f":"'DATOS DEL ESTUDIANTE'!D35","v":0},null,null,null,null,null,null,null,null,null,null,null,null,null,null,null,null,null,null,null,null,null,null,null,0,0,0,0,0]
[null,33,{"$f":"'DATOS DEL ESTUDIANTE'!B36","v":0},{"$f":"'DATOS DEL ESTUDIANTE'!C36","v":0},{"$f":"'DATOS DEL ESTUDIANTE'!D36","v":0},null,null,null,null,null,null,null,null,null,null,null,null,null,null,null,null,null,null,null,null,null,null,null,0,0,0,0,0]
[null,34,{"$f":"'DATOS DEL ESTUDIANTE'!B37","v":0},{"$f":"'DATOS DEL ESTUDIANTE'!C37","v":0},{"$f":"'DATOS DEL ESTUDIANTE'!D37","v":0},null,null,null,null,null,null,null,null,null,null,null,null,null,null,null,null,null,null,null,null,null,null,null,0,0,0,0,0]
[null,35,{"$f":"'DATOS DEL ESTUDIANTE'!B38","v":0},{"$f":"'DATOS DEL ESTUDIANTE'!C38","v":0},{"$f":"'DATOS DEL ESTUDIANTE'!D38","v":0},null,null,null,null,null,null,null,null,null,null,null,null,null,null,null,null,null,null,null,null,null,null,null,0,0,0,0,0]
[null,36,{"$f":"'DATOS DEL ESTUDIANTE'!B39","v":0},{"$f":"'DATOS DEL ESTUDIANTE'!C39","v":0},{"$f":"'DATOS DEL ESTUDIANTE'!D39","v":0},null,null,null,null,null,null,null,null,null,null,null,null,null,null,null,null,null,null,null,null,null,null,null,0,0,0,0,0]
[null,37,{"$f":"'DATOS DEL ESTUDIANTE'!B40","v":0},{"$f":"'DATOS DEL ESTUDIANTE'!C40","v":0},{"$f":"'DATOS DEL ESTUDIANTE'!D40","v":0},null,null,null,null,null,null,null,null,null,null,null,null,null,null,null,null,null,null,null,null,null,null,null,0,0,0,0,0]
[null,38,{"$f":"'DATOS DEL ESTUDIANTE'!B41","v":0},{"$f":"'DATOS DEL ESTUDIANTE'!C41","v":0},{"$f":"'DATOS DEL ESTUDIANTE'!D41","v":0},null,null,null,null,null,null,null,null,null,null,null,null,null,null,null,null,null,null,null,null,null,null,null,0,0,0,0,0]
[null,39,{"$f":"'DATOS DEL ESTUDIANTE'!B42","v":0},{"$f":"'DATOS DEL ESTUDIANTE'!C42","v":0},{"$f":"'DATOS DEL ESTUDIANTE'!D42","v":0},null,null,null,null,null,null,null,null,null,null,null,null,null,null,null,null,null,null,null,null,null,null,null,0,0,0,0,0]
[null,40,{"$f":"'DATOS DEL ESTUDIANTE'!B43","v":0},{"$f":"'DATOS DEL ESTUDIANTE'!C43","v":0},{"$f":"'DATOS DEL ESTUDIANTE'!D43","v":0},null,null,null,null,null,null,null,null,null,null,null,null,null,null,null,null,null,null,null,null,null,null,null,0,0,0,0,0]
[null,41,{"$f":"'DATOS DEL ESTUDIANTE'!B44","v":0},{"$f":"'DATOS DEL ESTUDIANTE'!C44","v":0},{"$f":"'DATOS DEL ESTUDIANTE'!D44","v":0},null,null,null,null,null,null,null,null,null,null,null,null,null,null,null,null,null,null,null,null,null,null,null,0,0,0,0,0]
[null,42,{"$f":"'DATOS DEL ESTUDIANTE'!B45","v":0},{"$f":"'DATOS DEL ESTUDIANTE'!C45","v":0},{"$f":"'DATOS DEL ESTUDIANTE'!D45","v":0},null,null,null,null,null,null,null,null,null,null,null,null,null,null,null,null,null,null,null,null,null,null,null,0,0,0,0,0]
[null,43,{"$f":"'DATOS DEL ESTUDIANTE'!B46","v":0},{"$f":"'DATOS DEL ESTUDIANTE'!C46","v":0},{"$f":"'DATOS DEL ESTUDIANTE'!D46","v":0},null,null,null,null,null,null,null,null,null,null,null,null,null,null,null,null,null,null,null,null,null,null,null,0,0,0,0,0]
[null,44,{"$f":"'DATOS DEL ESTUDIANTE'!B47","v":0},{"$f":"'DATOS DEL ESTUDIANTE'!C47","v":0},{"$f":"'DATOS DEL ESTUDIANTE'!D47","v":0},null,null,null,null,null,null,null,null,null,null,null,null,null,null,null,null,null,null,null,null,null,null,null,0,0,0,0,0]
[null,45,{"$f":"'DATOS DEL ESTUDIANTE'!B48","v":0},{"$f":"'DATOS DEL ESTUDIANTE'!C48","v":0},{"$f":"'DATOS DEL ESTUDIANTE'!D48","v":0},null,null,null,null,null,null,null,null,null,null,null,null,null,null,null,null,null,null,null,null,null,null,null,0,0,0,0,0]
[null,null,null,null,null,null,null,null,null,null,null,null,null,null,null,null,null,null,null,null,null,null,null,"TOTAL",null,null,null,null,{"$f":"SUM(AC5:AC49)","v":0},{"$f":"SUM(AD5:AD49)","v":0},{"$f":"SUM(AE5:AE49)","v":0},{"$f":"SUM(AF5:AF49)","v":0},{"$f":"SUM(AG5:AG49)","v":0},null,{"$f":"SUM(AD50:AG50)","v":0}]
[null,null,null,null,null,null,null,null,null,null,null,null,null,null,null,null,null,null,null,null,null,null,null,"PORCENTAJES",null,null,null,null,null,{"$f":"AD50/$AI$50","v":{"$error":"#DIV/0!"}},{"$error":"#DIV/0!"},{"$error":"#DIV/0!"},{"$error":"#DIV/0!"},{"$error":"#DIV/0!"},{"$error":"#DIV/0!"}]
[]
[]
[]
[null,null,null,null,null,null,null,"MAESTRA (O)",null,null,null,null,null,null,null,null,null,"DIRECTOR (A)"]

{"sheet":"DICIEMBRE","index":15,"n_rows":55,"n_cols":38,"rows_kept":55,"cut":false,"hidden":false,"merged":[[1,0,3,0],[1,1,3,1],[1,4,3,4],[1,5,1,27],[1,28,3,28],[1,2,3,2],[1,3,3,3],[54,7,54,14],[54,17,54,24],[0,1,0,32],[0,34,1,36],[0,37,2,37],[1,29,3,29],[1,30,3,30],[1,31,3,31],[1,32,3,32],[49,23,49,27],[50,23,50,27]]}
[null,"REGISTRO DE ASISTENCIA",null,null,null,null,null,null,null,null,null,null,null,null,null,null,null,null,null,null,null,null,null,null,null,null,null,null,null,null,null,null,null,null,null,null,null,"A = Asistencia \nF = Faltas\nL= Licencia"]
[null,"N°","NOMBRES ","APELLIDO PATERNO","APELLIDO MATERNO","DICIEMBRE",null,null,null,null,null,null,null,null,null,null,null,null,null,null,null,null,null,null,null,null,null,null,"RETRASOS","ASISTENCIAS","FALTAS","LICENCIAS","DIAS TRABAJADOS"]
[]
[]
[null,1,{"$f":"'DATOS DEL ESTUDIANTE'!B4","v":0},{"$f":"'DATOS DEL ESTUDIANTE'!C4","v":0},{"$f":"'DATOS DEL ESTUDIANTE'!D4","v":0},null,null,null,null,null,null,null,null,null,null,null,null,null,null,null,null,null,null,null,null,null,null,null,{"$f":"COUNTIF(F5:AA5,\"R\")","v":0},{"$f":"COUNTIF(F5:AB5,\"A\")","v":0},{"$f":"COUNTIF(F5:AB5,\"F\")","v":0},{"$f":"COUNTIF(F5:AB5,\"L\")","v":0},{"$f":"SUM(AD5:AF5)","v":0}]
[null,2,{"$f":"'DATOS DEL ESTUDIANTE'!B5","v":0},{"$f":"'DATOS DEL ESTUDIANTE'!C5","v":0},{"$f":"'DATOS DEL ESTUDIANTE'!D5","v":0},null,null,null,null,null,null,null,null,null,null,null,null,null,null,null,null,null,null,null,null,null,null,null,{"$f":"COUNTIF(F6:AA6,\"R\")","v":0},{"$f":"COUNTIF(F6:AB6,\"A\")","v":0},{"$f":"COUNTIF(F6:AB6,\"F\")","v":0},{"$f":"COUNTIF(F6:AB6,\"L\")","v":0},{"$f":"SUM(AD6:AF6)","v":0}]
[null,3,{"$f":"'DATOS DEL ESTUDIANTE'!B6","v":0},{"$f":"'DATOS DEL ESTUDIANTE'!C6","v":0},{"$f":"'DATOS DEL ESTUDIANTE'!D6","v":0},null,null,null,null,null,null,null,null,null,null,null,null,null,null,null,null,null,null,null,null,null,null,null,0,0,0,0,0]
[null,4,{"$f":"'DATOS DEL ESTUDIANTE'!B7","v":0},{"$f":"'DATOS DEL ESTUDIANTE'!C7","v":0},{"$f":"'DATOS DEL ESTUDIANTE'!D7","v":0},null,null,null,null,null,null,null,null,null,null,null,null,null,null,null,null,null,null,null,null,null,null,null,0,0,0,0,0]
[null,5,{"$f":"'DATOS DEL ESTUDIANTE'!B8","v":0},{"$f":"'DATOS DEL ESTUDIANTE'!C8","v":0},{"$f":"'DATOS DEL ESTUDIANTE'!D8","v":0},null,null,null,null,null,null,null,null,null,null,null,null,null,null,null,null,null,null,null,null,null,null,null,0,0,0,0,0]
[null,6,{"$f":"'DATOS DEL ESTUDIANTE'!B9","v":0},{"$f":"'DATOS DEL ESTUDIANTE'!C9","v":0},{"$f":"'DATOS DEL ESTUDIANTE'!D9","v":0},null,null,null,null,null,null,null,null,null,null,null,null,null,null,null,null,null,null,null,null,null,null,null,0,0,0,0,0]
[null,7,{"$f":"'DATOS DEL ESTUDIANTE'!B10","v":0},{"$f":"'DATOS DEL ESTUDIANTE'!C10","v":0},{"$f":"'DATOS DEL ESTUDIANTE'!D10","v":0},null,null,null,null,null,null,null,null,null,null,null,null,null,null,null,null,null,null,null,null,null,null,null,0,0,0,0,0]
[null,8,{"$f":"'DATOS DEL ESTUDIANTE'!B11","v":0},{"$f":"'DATOS DEL ESTUDIANTE'!C11","v":0},{"$f":"'DATOS DEL ESTUDIANTE'!D11","v":0},null,null,null,null,null,null,null,null,null,null,null,null,null,null,null,null,null,null,null,null,null,null,null,0,0,0,0,0]
[null,9,{"$f":"'DATOS DEL ESTUDIANTE'!B12","v":0},{"$f":"'DATOS DEL ESTUDIANTE'!C12","v":0},{"$f":"'DATOS DEL ESTUDIANTE'!D12","v":0},null,null,null,null,null,null,null,null,null,null,null,null,null,null,null,null,null,null,null,null,null,null,null,0,0,0,0,0]
[null,10,{"$f":"'DATOS DEL ESTUDIANTE'!B13","v":0},{"$f":"'DATOS DEL ESTUDIANTE'!C13","v":0},{"$f":"'DATOS DEL ESTUDIANTE'!D13","v":0},null,null,null,null,null,null,null,null,null,null,null,null,null,null,null,null,null,null,null,null,null,null,null,0,0,0,0,0]
[null,11,{"$f":"'DATOS DEL ESTUDIANTE'!B14","v":0},{"$f":"'DATOS DEL ESTUDIANTE'!C14","v":0},{"$f":"'DATOS DEL ESTUDIANTE'!D14","v":0},null,null,null,null,null,null,null,null,null,null,null,null,null,null,null,null,null,null,null,null,null,null,null,0,0,0,0,0]
[null,12,{"$f":"'DATOS DEL ESTUDIANTE'!B15","v":0},{"$f":"'DATOS DEL ESTUDIANTE'!C15","v":0},{"$f":"'DATOS DEL ESTUDIANTE'!D15","v":0},null,null,null,null,null,null,null,null,null,null,null,null,null,null,null,null,null,null,null,null,null,null,null,0,0,0,0,0]
[null,13,{"$f":"'DATOS DEL ESTUDIANTE'!B16","v":0},{"$f":"'DATOS DEL ESTUDIANTE'!C16","v":0},{"$f":"'DATOS DEL ESTUDIANTE'!D16","v":0},null,null,null,null,null,null,null,null,null,null,null,null,null,null,null,null,null,null,null,null,null,null,null,0,0,0,0,0]
[null,14,{"$f":"'DATOS DEL ESTUDIANTE'!B17","v":0},{"$f":"'DATOS DEL ESTUDIANTE'!C17","v":0},{"$f":"'DATOS DEL ESTUDIANTE'!D17","v":0},null,null,null,null,null,null,null,null,null,null,null,null,null,null,null,null,null,null,null,null,null,null,null,0,0,0,0,0]
[null,15,{"$f":"'DATOS DEL ESTUDIANTE'!B18","v":0},{"$f":"'DATOS DEL ESTUDIANTE'!C18","v":0},{"$f":"'DATOS DEL ESTUDIANTE'!D18","v":0},null,null,null,null,null,null,null,null,null,null,null,null,null,null,null,null,null,null,null,null,null,null,null,0,0,0,0,0]
[null,16,{"$f":"'DATOS DEL ESTUDIANTE'!B19","v":0},{"$f":"'DATOS DEL ESTUDIANTE'!C19","v":0},{"$f":"'DATOS DEL ESTUDIANTE'!D19","v":0},null,null,null,null,null,null,null,null,null,null,null,null,null,null,null,null,null,null,null,null,null,null,null,0,0,0,0,0]
[null,17,{"$f":"'DATOS DEL ESTUDIANTE'!B20","v":0},{"$f":"'DATOS DEL ESTUDIANTE'!C20","v":0},{"$f":"'DATOS DEL ESTUDIANTE'!D20","v":0},null,null,null,null,null,null,null,null,null,null,null,null,null,null,null,null,null,null,null,null,null,null,null,0,0,0,0,0]
[null,18,{"$f":"'DATOS DEL ESTUDIANTE'!B21","v":0},{"$f":"'DATOS DEL ESTUDIANTE'!C21","v":0},{"$f":"'DATOS DEL ESTUDIANTE'!D21","v":0},null,null,null,null,null,null,null,null,null,null,null,null,null,null,null,null,null,null,null,null,null,null,null,0,0,0,0,0]
[null,19,{"$f":"'DATOS DEL ESTUDIANTE'!B22","v":0},{"$f":"'DATOS DEL ESTUDIANTE'!C22","v":0},{"$f":"'DATOS DEL ESTUDIANTE'!D22","v":0},null,null,null,null,null,null,null,null,null,null,null,null,null,null,null,null,null,null,null,null,null,null,null,0,0,0,0,0]
[null,20,{"$f":"'DATOS DEL ESTUDIANTE'!B23","v":0},{"$f":"'DATOS DEL ESTUDIANTE'!C23","v":0},{"$f":"'DATOS DEL ESTUDIANTE'!D23","v":0},null,null,null,null,null,null,null,null,null,null,null,null,null,null,null,null,null,null,null,null,null,null,null,0,0,0,0,0]
[null,21,{"$f":"'DATOS DEL ESTUDIANTE'!B24","v":0},{"$f":"'DATOS DEL ESTUDIANTE'!C24","v":0},{"$f":"'DATOS DEL ESTUDIANTE'!D24","v":0},null,null,null,null,null,null,null,null,null,null,null,null,null,null,null,null,null,null,null,null,null,null,null,0,0,0,0,0]
[null,22,{"$f":"'DATOS DEL ESTUDIANTE'!B25","v":0},{"$f":"'DATOS DEL ESTUDIANTE'!C25","v":0},{"$f":"'DATOS DEL ESTUDIANTE'!D25","v":0},null,null,null,null,null,null,null,null,null,null,null,null,null,null,null,null,null,null,null,null,null,null,null,0,0,0,0,0]
[null,23,{"$f":"'DATOS DEL ESTUDIANTE'!B26","v":0},{"$f":"'DATOS DEL ESTUDIANTE'!C26","v":0},{"$f":"'DATOS DEL ESTUDIANTE'!D26","v":0},null,null,null,null,null,null,null,null,null,null,null,null,null,null,null,null,null,null,null,null,null,null,null,0,0,0,0,0]
[null,24,{"$f":"'DATOS DEL ESTUDIANTE'!B27","v":0},{"$f":"'DATOS DEL ESTUDIANTE'!C27","v":0},{"$f":"'DATOS DEL ESTUDIANTE'!D27","v":0},null,null,null,null,null,null,null,null,null,null,null,null,null,null,null,null,null,null,null,null,null,null,null,0,0,0,0,0]
[null,25,{"$f":"'DATOS DEL ESTUDIANTE'!B28","v":0},{"$f":"'DATOS DEL ESTUDIANTE'!C28","v":0},{"$f":"'DATOS DEL ESTUDIANTE'!D28","v":0},null,null,null,null,null,null,null,null,null,null,null,null,null,null,null,null,null,null,null,null,null,null,null,0,0,0,0,0]
[null,26,{"$f":"'DATOS DEL ESTUDIANTE'!B29","v":0},{"$f":"'DATOS DEL ESTUDIANTE'!C29","v":0},{"$f":"'DATOS DEL ESTUDIANTE'!D29","v":0},null,null,null,null,null,null,null,null,null,null,null,null,null,null,null,null,null,null,null,null,null,null,null,0,0,0,0,0]
[null,27,{"$f":"'DATOS DEL ESTUDIANTE'!B30","v":0},{"$f":"'DATOS DEL ESTUDIANTE'!C30","v":0},{"$f":"'DATOS DEL ESTUDIANTE'!D30","v":0},null,null,null,null,null,null,null,null,null,null,null,null,null,null,null,null,null,null,null,null,null,null,null,0,0,0,0,0]
[null,28,{"$f":"'DATOS DEL ESTUDIANTE'!B31","v":0},{"$f":"'DATOS DEL ESTUDIANTE'!C31","v":0},{"$f":"'DATOS DEL ESTUDIANTE'!D31","v":0},null,null,null,null,null,null,null,null,null,null,null,null,null,null,null,null,null,null,null,null,null,null,null,0,0,0,0,0]
[null,29,{"$f":"'DATOS DEL ESTUDIANTE'!B32","v":0},{"$f":"'DATOS DEL ESTUDIANTE'!C32","v":0},{"$f":"'DATOS DEL ESTUDIANTE'!D32","v":0},null,null,null,null,null,null,null,null,null,null,null,null,null,null,null,null,null,null,null,null,null,null,null,0,0,0,0,0]
[null,30,{"$f":"'DATOS DEL ESTUDIANTE'!B33","v":0},{"$f":"'DATOS DEL ESTUDIANTE'!C33","v":0},{"$f":"'DATOS DEL ESTUDIANTE'!D33","v":0},null,null,null,null,null,null,null,null,null,null,null,null,null,null,null,null,null,null,null,null,null,null,null,0,0,0,0,0]
[null,31,{"$f":"'DATOS DEL ESTUDIANTE'!B34","v":0},{"$f":"'DATOS DEL ESTUDIANTE'!C34","v":0},{"$f":"'DATOS DEL ESTUDIANTE'!D34","v":0},null,null,null,null,null,null,null,null,null,null,null,null,null,null,null,null,null,null,null,null,null,null,null,0,0,0,0,0]
[null,32,{"$f":"'DATOS DEL ESTUDIANTE'!B35","v":0},{"$f":"'DATOS DEL ESTUDIANTE'!C35","v":0},{"$f":"'DATOS DEL ESTUDIANTE'!D35","v":0},null,null,null,null,null,null,null,null,null,null,null,null,null,null,null,null,null,null,null,null,null,null,null,0,0,0,0,0]
[null,33,{"$f":"'DATOS DEL ESTUDIANTE'!B36","v":0},{"$f":"'DATOS DEL ESTUDIANTE'!C36","v":0},{"$f":"'DATOS DEL ESTUDIANTE'!D36","v":0},null,null,null,null,null,null,null,null,null,null,null,null,null,null,null,null,null,null,null,null,null,null,null,0,0,0,0,0]
[null,34,{"$f":"'DATOS DEL ESTUDIANTE'!B37","v":0},{"$f":"'DATOS DEL ESTUDIANTE'!C37","v":0},{"$f":"'DATOS DEL ESTUDIANTE'!D37","v":0},null,null,null,null,null,null,null,null,null,null,null,null,null,null,null,null,null,null,null,null,null,null,null,0,0,0,0,0]
[null,35,{"$f":"'DATOS DEL ESTUDIANTE'!B38","v":0},{"$f":"'DATOS DEL ESTUDIANTE'!C38","v":0},{"$f":"'DATOS DEL ESTUDIANTE'!D38","v":0},null,null,null,null,null,null,null,null,null,null,null,null,null,null,null,null,null,null,null,null,null,null,null,0,0,0,0,0]
[null,36,{"$f":"'DATOS DEL ESTUDIANTE'!B39","v":0},{"$f":"'DATOS DEL ESTUDIANTE'!C39","v":0},{"$f":"'DATOS DEL ESTUDIANTE'!D39","v":0},null,null,null,null,null,null,null,null,null,null,null,null,null,null,null,null,null,null,null,null,null,null,null,0,0,0,0,0]
[null,37,{"$f":"'DATOS DEL ESTUDIANTE'!B40","v":0},{"$f":"'DATOS DEL ESTUDIANTE'!C40","v":0},{"$f":"'DATOS DEL ESTUDIANTE'!D40","v":0},null,null,null,null,null,null,null,null,null,null,null,null,null,null,null,null,null,null,null,null,null,null,null,0,0,0,0,0]
[null,38,{"$f":"'DATOS DEL ESTUDIANTE'!B41","v":0},{"$f":"'DATOS DEL ESTUDIANTE'!C41","v":0},{"$f":"'DATOS DEL ESTUDIANTE'!D41","v":0},null,null,null,null,null,null,null,null,null,null,null,null,null,null,null,null,null,null,null,null,null,null,null,0,0,0,0,0]
[null,39,{"$f":"'DATOS DEL ESTUDIANTE'!B42","v":0},{"$f":"'DATOS DEL ESTUDIANTE'!C42","v":0},{"$f":"'DATOS DEL ESTUDIANTE'!D42","v":0},null,null,null,null,null,null,null,null,null,null,null,null,null,null,null,null,null,null,null,null,null,null,null,0,0,0,0,0]
[null,40,{"$f":"'DATOS DEL ESTUDIANTE'!B43","v":0},{"$f":"'DATOS DEL ESTUDIANTE'!C43","v":0},{"$f":"'DATOS DEL ESTUDIANTE'!D43","v":0},null,null,null,null,null,null,null,null,null,null,null,null,null,null,null,null,null,null,null,null,null,null,null,0,0,0,0,0]
[null,41,{"$f":"'DATOS DEL ESTUDIANTE'!B44","v":0},{"$f":"'DATOS DEL ESTUDIANTE'!C44","v":0},{"$f":"'DATOS DEL ESTUDIANTE'!D44","v":0},null,null,null,null,null,null,null,null,null,null,null,null,null,null,null,null,null,null,null,null,null,null,null,0,0,0,0,0]
[null,42,{"$f":"'DATOS DEL ESTUDIANTE'!B45","v":0},{"$f":"'DATOS DEL ESTUDIANTE'!C45","v":0},{"$f":"'DATOS DEL ESTUDIANTE'!D45","v":0},null,null,null,null,null,null,null,null,null,null,null,null,null,null,null,null,null,null,null,null,null,null,null,0,0,0,0,0]
[null,43,{"$f":"'DATOS DEL ESTUDIANTE'!B46","v":0},{"$f":"'DATOS DEL ESTUDIANTE'!C46","v":0},{"$f":"'DATOS DEL ESTUDIANTE'!D46","v":0},null,null,null,null,null,null,null,null,null,null,null,null,null,null,null,null,null,null,null,null,null,null,null,0,0,0,0,0]
[null,44,{"$f":"'DATOS DEL ESTUDIANTE'!B47","v":0},{"$f":"'DATOS DEL ESTUDIANTE'!C47","v":0},{"$f":"'DATOS DEL ESTUDIANTE'!D47","v":0},null,null,null,null,null,null,null,null,null,null,null,null,null,null,null,null,null,null,null,null,null,null,null,0,0,0,0,0]
[null,45,{"$f":"'DATOS DEL ESTUDIANTE'!B48","v":0},{"$f":"'DATOS DEL ESTUDIANTE'!C48","v":0},{"$f":"'DATOS DEL ESTUDIANTE'!D48","v":0},null,null,null,null,null,null,null,null,null,null,null,null,null,null,null,null,null,null,null,null,null,null,null,0,0,0,0,0]
[null,null,null,null,null,null,null,null,null,null,null,null,null,null,null,null,null,null,null,null,null,null,null,"TOTAL",null,null,null,null,{"$f":"SUM(AC5:AC49)","v":0},{"$f":"SUM(AD5:AD49)","v":0},{"$f":"SUM(AE5:AE49)","v":0},{"$f":"SUM(AF5:AF49)","v":0},{"$f":"SUM(AG5:AG49)","v":0},null,{"$f":"SUM(AD50:AG50)","v":0}]
[null,null,null,null,null,null,null,null,null,null,null,null,null,null,null,null,null,null,null,null,null,null,null,"PORCENTAJES",null,null,null,null,null,{"$f":"AD50/$AI$50","v":{"$error":"#DIV/0!"}},{"$error":"#DIV/0!"},{"$error":"#DIV/0!"},{"$error":"#DIV/0!"},{"$error":"#DIV/0!"},{"$error":"#DIV/0!"}]
[]
[]
[]
[null,null,null,null,null,null,null,"MAESTRA (O)",null,null,null,null,null,null,null,null,null,"DIRECTOR (A)"]

{"sheet":"LENGUAJE PRIMER BIMESTRE","index":16,"n_rows":55,"n_cols":25,"rows_kept":55,"cut":false,"hidden":false,"merged":[[1,1,1,3],[0,0,9,0],[0,1,0,19],[0,21,2,24],[1,10,1,12],[1,13,1,19],[1,20,2,20],[2,1,2,19],[3,1,3,4],[3,21,9,21],[3,22,8,23],[3,24,9,24],[4,15,6,16],[4,17,6,18],[4,20,6,20],[8,7,9,7],[8,1,9,1],[8,5,9,5],[8,6,9,6],[3,6,3,12],[4,1,6,4],[4,5,6,5],[4,6,6,7],[4,8,6,9],[7,1,7,4],[4,10,6,11],[4,12,9,12],[8,2,8,4],[3,13,3,19],[0,25,4,25],[8,20,9,20],[8,8,9,8],[8,9,9,9],[8,10,9,10],[8,11,9,11],[8,13,9,13],[8,14,9,14],[8,16,9,16],[8,17,9,17],[8,18,9,18],[8,15,9,15],[4,13,6,14],[4,19,9,19],[1,4,1,9]]}
[null,"      COMUNICACIÓN Y  LENGUAJES",null,null,null,null,null,null,null,null,null,null,null,null,null,null,null,null,null,null,2018]
[null,"AÑO DE ESCOLARIDAD:",null,null,{"$f":"CARATULA!G15","v":0},null,null,null,null,null,"MAESTRA (O): ",null,null,{"$f":"CARATULA!G18","v":0},null,null,null,null,null,null,"PRIMER\nBIMESTRE"]
[null," REGISTRO  Y CENTRALIZADOR DEL PROCESO DE  EVALUACIÓN   "]
[null,"DIMENSIONES",null,null,null,"SER (10)","SABER (35)",null,null,null,null,null,null,"HACER (35)",null,null,null,null,null,null,"DECIDIR (10)","TOTAL     EVALUACIÓN    DEL     MAESTRO","AUTOEVALUACIÓN",null,"CALIFICACIÓN BIMESTRAL"]
[null,"CRITERIOS DE EVALUACIÓN SEGÚN PDC",null,null,null,null,null,null,null,null,null,null,"T      O     T     A       L",null,null,null,null,null,null,"T     O     T     A      L"]
[]
[]
[null,"INSTRUMENTO Y/ O ESTRATEGIAS DE EVALUACIÓN"]
[null,"N°","    FECHA DE  EVALUACIÓN\n \n\n"]
[null,null,"NOMBRES ","APELLIDO PATERNO"," \nAPELLIDO MATERNO",null,null,null,null,null,null,null,null,null,null,null,null,null,null,null,null,null,"SER\n(5)","DECIDIR\n(5)"]
[null,1,{"$f":"'DATOS DEL ESTUDIANTE'!B4","v":0},{"$f":"'DATOS DEL ESTUDIANTE'!C4","v":0},{"$f":"'DATOS DEL ESTUDIANTE'!D4","v":0},null,null,null,null,null,null,null,{"$f":"AVERAGE(G11:L11)","v":{"$error":"#DIV/0!"}},null,null,null,null,null,null,{"$f":"AVERAGE(N11:S11)","v":{"$error":"#DIV/0!"}},null,{"$f":"SUM(F11+M11+T11+U11)","v":{"$error":"#DIV/0!"}},null,null,{"$f":"SUM(V11:X11)","v":{"$error":"#DIV/0!"}}]
[null,2,{"$f":"'DATOS DEL ESTUDIANTE'!B5","v":0},{"$f":"'DATOS DEL ESTUDIANTE'!C5","v":0},{"$f":"'DATOS DEL ESTUDIANTE'!D5","v":0},null,null,null,null,null,null,null,{"$f":"AVERAGE(G12:L12)","v":{"$error":"#DIV/0!"}},null,null,null,null,null,null,{"$f":"AVERAGE(N12:S12)","v":{"$error":"#DIV/0!"}},null,{"$f":"SUM(F12+M12+T12+U12)","v":{"$error":"#DIV/0!"}},null,null,{"$f":"SUM(V12:X12)","v":{"$error":"#DIV/0!"}}]
[null,3,{"$f":"'DATOS DEL ESTUDIANTE'!B6","v":0},{"$f":"'DATOS DEL ESTUDIANTE'!C6","v":0},{"$f":"'DATOS DEL ESTUDIANTE'!D6","v":0},null,null,null,null,null,null,null,{"$error":"#DIV/0!"},null,null,null,null,null,null,{"$error":"#DIV/0!"},null,{"$error":"#DIV/0!"},null,null,{"$error":"#DIV/0!"}]
[null,4,{"$f":"'DATOS DEL ESTUDIANTE'!B7","v":0},{"$f":"'DATOS DEL ESTUDIANTE'!C7","v":0},{"$f":"'DATOS DEL ESTUDIANTE'!D7","v":0},null,null,null,null,null,null,null,{"$error":"#DIV/0!"},null,null,null,null,null,null,{"$error":"#DIV/0!"},null,{"$error":"#DIV/0!"},null,null,{"$error":"#DIV/0!"}]
[null,5,{"$f":"'DATOS DEL ESTUDIANTE'!B8","v":0},{"$f":"'DATOS DEL ESTUDIANTE'!C8","v":0},{"$f":"'DATOS DEL ESTUDIANTE'!D8","v":0},null,null,null,null,null,null,null,{"$error":"#DIV/0!"},null,null,null,null,null,null,{"$error":"#DIV/0!"},null,{"$error":"#DIV/0!"},null,null,{"$error":"#DIV/0!"}]
[null,6,{"$f":"'DATOS DEL ESTUDIANTE'!B9","v":0},{"$f":"'DATOS DEL ESTUDIANTE'!C9","v":0},{"$f":"'DATOS DEL ESTUDIANTE'!D9","v":0},null,null,null,null,null,null,null,{"$error":"#DIV/0!"},null,null,null,null,null,null,{"$error":"#DIV/0!"},null,{"$error":"#DIV/0!"},null,null,{"$error":"#DIV/0!"}]
[null,7,{"$f":"'DATOS DEL ESTUDIANTE'!B10","v":0},{"$f":"'DATOS DEL ESTUDIANTE'!C10","v":0},{"$f":"'DATOS DEL ESTUDIANTE'!D10","v":0},null,null,null,null,null,null,null,{"$error":"#DIV/0!"},null,null,null,null,null,null,{"$error":"#DIV/0!"},null,{"$error":"#DIV/0!"},null,null,{"$error":"#DIV/0!"}]
[null,8,{"$f":"'DATOS DEL ESTUDIANTE'!B11","v":0},{"$f":"'DATOS DEL ESTUDIANTE'!C11","v":0},{"$f":"'DATOS DEL ESTUDIANTE'!D11","v":0},null,null,null,null,null,null,null,{"$error":"#DIV/0!"},null,null,null,null,null,null,{"$error":"#DIV/0!"},null,{"$error":"#DIV/0!"},null,null,{"$error":"#DIV/0!"}]
[null,9,{"$f":"'DATOS DEL ESTUDIANTE'!B12","v":0},{"$f":"'DATOS DEL ESTUDIANTE'!C12","v":0},{"$f":"'DATOS DEL ESTUDIANTE'!D12","v":0},null,null,null,null,null,null,null,{"$error":"#DIV/0!"},null,null,null,null,null,null,{"$error":"#DIV/0!"},null,{"$error":"#DIV/0!"},null,null,{"$error":"#DIV/0!"}]
[null,10,{"$f":"'DATOS DEL ESTUDIANTE'!B13","v":0},{"$f":"'DATOS DEL ESTUDIANTE'!C13","v":0},{"$f":"'DATOS DEL ESTUDIANTE'!D13","v":0},null,null,null,null,null,null,null,{"$error":"#DIV/0!"},null,null,null,null,null,null,{"$error":"#DIV/0!"},null,{"$error":"#DIV/0!"},null,null,{"$error":"#DIV/0!"}]
[null,11,{"$f":"'DATOS DEL ESTUDIANTE'!B14","v":0},{"$f":"'DATOS DEL ESTUDIANTE'!C14","v":0},{"$f":"'DATOS DEL ESTUDIANTE'!D14","v":0},null,null,null,null,null,null,null,{"$error":"#DIV/0!"},null,null,null,null,null,null,{"$error":"#DIV/0!"},null,{"$error":"#DIV/0!"},null,null,{"$error":"#DIV/0!"}]
[null,12,{"$f":"'DATOS DEL ESTUDIANTE'!B15","v":0},{"$f":"'DATOS DEL ESTUDIANTE'!C15","v":0},{"$f":"'DATOS DEL ESTUDIANTE'!D15","v":0},null,null,null,null,null,null,null,{"$error":"#DIV/0!"},null,null,null,null,null,null,{"$error":"#DIV/0!"},null,{"$error":"#DIV/0!"},null,null,{"$error":"#DIV/0!"}]
[null,13,{"$f":"'DATOS DEL ESTUDIANTE'!B16","v":0},{"$f":"'DATOS DEL ESTUDIANTE'!C16","v":0},{"$f":"'DATOS DEL ESTUDIANTE'!D16","v":0},null,null,null,null,null,null,null,{"$error":"#DIV/0!"},null,null,null,null,null,null,{"$error":"#DIV/0!"},null,{"$error":"#DIV/0!"},null,null,{"$error":"#DIV/0!"}]
[null,14,{"$f":"'DATOS DEL ESTUDIANTE'!B17","v":0},{"$f":"'DATOS DEL ESTUDIANTE'!C17","v":0},{"$f":"'DATOS DEL ESTUDIANTE'!D17","v":0},null,null,null,null,null,null,null,{"$error":"#DIV/0!"},null,null,null,null,null,null,{"$error":"#DIV/0!"},null,{"$error":"#DIV/0!"},null,null,{"$error":"#DIV/0!"}]
[null,15,{"$f":"'DATOS DEL ESTUDIANTE'!B18","v":0},{"$f":"'DATOS DEL ESTUDIANTE'!C18","v":0},{"$f":"'DATOS DEL ESTUDIANTE'!D18","v":0},null,null,null,null,null,null,null,{"$error":"#DIV/0!"},null,null,null,null,null,null,{"$error":"#DIV/0!"},null,{"$error":"#DIV/0!"},null,null,{"$error":"#DIV/0!"}]
[null,16,{"$f":"'DATOS DEL ESTUDIANTE'!B19","v":0},{"$f":"'DATOS DEL ESTUDIANTE'!C19","v":0},{"$f":"'DATOS DEL ESTUDIANTE'!D19","v":0},null,null,null,null,null,null,null,{"$error":"#DIV/0!"},null,null,null,null,null,null,{"$error":"#DIV/0!"},null,{"$error":"#DIV/0!"},null,null,{"$error":"#DIV/0!"}]
[null,17,{"$f":"'DATOS DEL ESTUDIANTE'!B20","v":0},{"$f":"'DATOS DEL ESTUDIANTE'!C20","v":0},{"$f":"'DATOS DEL ESTUDIANTE'!D20","v":0},null,null,null,null,null,null,null,{"$error":"#DIV/0!"},null,null,null,null,null,null,{"$error":"#DIV/0!"},null,{"$error":"#DIV/0!"},null,null,{"$error":"#DIV/0!"}]
[null,18,{"$f":"'DATOS DEL ESTUDIANTE'!B21","v":0},{"$f":"'DATOS DEL ESTUDIANTE'!C21","v":0},{"$f":"'DATOS DEL ESTUDIANTE'!D21","v":0},null,null,null,null,null,null,null,{"$error":"#DIV/0!"},null,null,null,null,null,null,{"$error":"#DIV/0!"},null,{"$error":"#DIV/0!"},null,null,{"$error":"#DIV/0!"}]
[null,19,{"$f":"'DATOS DEL ESTUDIANTE'!B22","v":0},{"$f":"'DATOS DEL ESTUDIANTE'!C22","v":0},{"$f":"'DATOS DEL ESTUDIANTE'!D22","v":0},null,null,null,null,null,null,null,{"$error":"#DIV/0!"},null,null,null,null,null,null,{"$error":"#DIV/0!"},null,{"$error":"#DIV/0!"},null,null,{"$error":"#DIV/0!"}]
[null,20,{"$f":"'DATOS DEL ESTUDIANTE'!B23","v":0},{"$f":"'DATOS DEL ESTUDIANTE'!C23","v":0},{"$f":"'DATOS DEL ESTUDIANTE'!D23","v":0},null,null,null,null,null,null,null,{"$error":"#DIV/0!"},null,null,null,null,null,null,{"$error":"#DIV/0!"},null,{"$error":"#DIV/0!"},null,null,{"$error":"#DIV/0!"}]
[null,21,{"$f":"'DATOS DEL ESTUDIANTE'!B24","v":0},{"$f":"'DATOS DEL ESTUDIANTE'!C24","v":0},{"$f":"'DATOS DEL ESTUDIANTE'!D24","v":0},null,null,null,null,null,null,null,{"$error":"#DIV/0!"},null,null,null,null,null,null,{"$error":"#DIV/0!"},null,{"$error":"#DIV/0!"},null,null,{"$error":"#DIV/0!"}]
[null,22,{"$f":"'DATOS DEL ESTUDIANTE'!B25","v":0},{"$f":"'DATOS DEL ESTUDIANTE'!C25","v":0},{"$f":"'DATOS DEL ESTUDIANTE'!D25","v":0},null,null,null,null,null,null,null,{"$error":"#DIV/0!"},null,null,null,null,null,null,{"$error":"#DIV/0!"},null,{"$error":"#DIV/0!"},null,null,{"$error":"#DIV/0!"}]
[null,23,{"$f":"'DATOS DEL ESTUDIANTE'!B26","v":0},{"$f":"'DATOS DEL ESTUDIANTE'!C26","v":0},{"$f":"'DATOS DEL ESTUDIANTE'!D26","v":0},null,null,null,null,null,null,null,{"$error":"#DIV/0!"},null,null,null,null,null,null,{"$error":"#DIV/0!"},null,{"$error":"#DIV/0!"},null,null,{"$error":"#DIV/0!"}]
[null,24,{"$f":"'DATOS DEL ESTUDIANTE'!B27","v":0},{"$f":"'DATOS DEL ESTUDIANTE'!C27","v":0},{"$f":"'DATOS DEL ESTUDIANTE'!D27","v":0},null,null,null,null,null,null,null,{"$error":"#DIV/0!"},null,null,null,null,null,null,{"$error":"#DIV/0!"},null,{"$error":"#DIV/0!"},null,null,{"$error":"#DIV/0!"}]
[null,25,{"$f":"'DATOS DEL ESTUDIANTE'!B28","v":0},{"$f":"'DATOS DEL ESTUDIANTE'!C28","v":0},{"$f":"'DATOS DEL ESTUDIANTE'!D28","v":0},null,null,null,null,null,null,null,{"$error":"#DIV/0!"},null,null,null,null,null,null,{"$error":"#DIV/0!"},null,{"$error":"#DIV/0!"},null,null,{"$error":"#DIV/0!"}]
[null,26,{"$f":"'DATOS DEL ESTUDIANTE'!B29","v":0},{"$f":"'DATOS DEL ESTUDIANTE'!C29","v":0},{"$f":"'DATOS DEL ESTUDIANTE'!D29","v":0},null,null,null,null,null,null,null,{"$error":"#DIV/0!"},null,null,null,null,null,null,{"$error":"#DIV/0!"},null,{"$error":"#DIV/0!"},null,null,{"$error":"#DIV/0!"}]
[null,27,{"$f":"'DATOS DEL ESTUDIANTE'!B30","v":0},{"$f":"'DATOS DEL ESTUDIANTE'!C30","v":0},{"$f":"'DATOS DEL ESTUDIANTE'!D30","v":0},null,null,null,null,null,null,null,{"$error":"#DIV/0!"},null,null,null,null,null,null,{"$error":"#DIV/0!"},null,{"$error":"#DIV/0!"},null,null,{"$error":"#DIV/0!"}]
[null,28,{"$f":"'DATOS DEL ESTUDIANTE'!B31","v":0},{"$f":"'DATOS DEL ESTUDIANTE'!C31","v":0},{"$f":"'DATOS DEL ESTUDIANTE'!D31","v":0},null,null,null,null,null,null,null,{"$error":"#DIV/0!"},null,null,null,null,null,null,{"$error":"#DIV/0!"},null,{"$error":"#DIV/0!"},null,null,{"$error":"#DIV/0!"}]
[null,29,{"$f":"'DATOS DEL ESTUDIANTE'!B32","v":0},{"$f":"'DATOS DEL ESTUDIANTE'!C32","v":0},{"$f":"'DATOS DEL ESTUDIANTE'!D32","v":0},null,null,null,null,null,null,null,{"$error":"#DIV/0!"},null,null,null,null,null,null,{"$error":"#DIV/0!"},null,{"$error":"#DIV/0!"},null,null,{"$error":"#DIV/0!"}]
[null,30,{"$f":"'DATOS DEL ESTUDIANTE'!B33","v":0},{"$f":"'DATOS DEL ESTUDIANTE'!C33","v":0},{"$f":"'DATOS DEL ESTUDIANTE'!D33","v":0},null,null,null,null,null,null,null,{"$error":"#DIV/0!"},null,null,null,null,null,null,{"$error":"#DIV/0!"},null,{"$error":"#DIV/0!"},null,null,{"$error":"#DIV/0!"}]
[null,31,{"$f":"'DATOS DEL ESTUDIANTE'!B34","v":0},{"$f":"'DATOS DEL ESTUDIANTE'!C34","v":0},{"$f":"'DATOS DEL ESTUDIANTE'!D34","v":0},null,null,null,null,null,null,null,{"$error":"#DIV/0!"},null,null,null,null,null,null,{"$error":"#DIV/0!"},null,{"$error":"#DIV/0!"},null,null,{"$error":"#DIV/0!"}]
[null,32,{"$f":"'DATOS DEL ESTUDIANTE'!B35","v":0},{"$f":"'DATOS DEL ESTUDIANTE'!C35","v":0},{"$f":"'DATOS DEL ESTUDIANTE'!D35","v":0},null,null,null,null,null,null,null,{"$error":"#DIV/0!"},null,null,null,null,null,null,{"$error":"#DIV/0!"},null,{"$error":"#DIV/0!"},null,null,{"$error":"#DIV/0!"}]
[null,33,{"$f":"'DATOS DEL ESTUDIANTE'!B36","v":0},{"$f":"'DATOS DEL ESTUDIANTE'!C36","v":0},{"$f":"'DATOS DEL ESTUDIANTE'!D36","v":0},null,null,null,null,null,null,null,{"$error":"#DIV/0!"},null,null,null,null,null,null,{"$error":"#DIV/0!"},null,{"$error":"#DIV/0!"},null,null,{"$error":"#DIV/0!"}]
[null,34,{"$f":"'DATOS DEL ESTUDIANTE'!B37","v":0},{"$f":"'DATOS DEL ESTUDIANTE'!C37","v":0},{"$f":"'DATOS DEL ESTUDIANTE'!D37","v":0},null,null,null,null,null,null,null,{"$error":"#DIV/0!"},null,null,null,null,null,null,{"$error":"#DIV/0!"},null,{"$error":"#DIV/0!"},null,null,{"$error":"#DIV/0!"}]
[null,35,{"$f":"'DATOS DEL ESTUDIANTE'!B38","v":0},{"$f":"'DATOS DEL ESTUDIANTE'!C38","v":0},{"$f":"'DATOS DEL ESTUDIANTE'!D38","v":0},null,null,null,null,null,null,null,{"$error":"#DIV/0!"},null,null,null,null,null,null,{"$error":"#DIV/0!"},null,{"$error":"#DIV/0!"},null,null,{"$error":"#DIV/0!"}]
[null,36,{"$f":"'DATOS DEL ESTUDIANTE'!B39","v":0},{"$f":"'DATOS DEL ESTUDIANTE'!C39","v":0},{"$f":"'DATOS DEL ESTUDIANTE'!D39","v":0},null,null,null,null,null,null,null,{"$error":"#DIV/0!"},null,null,null,null,null,null,{"$error":"#DIV/0!"},null,{"$error":"#DIV/0!"},null,null,{"$error":"#DIV/0!"}]
[null,37,{"$f":"'DATOS DEL ESTUDIANTE'!B40","v":0},{"$f":"'DATOS DEL ESTUDIANTE'!C40","v":0},{"$f":"'DATOS DEL ESTUDIANTE'!D40","v":0},null,null,null,null,null,null,null,{"$error":"#DIV/0!"},null,null,null,null,null,null,{"$error":"#DIV/0!"},null,{"$error":"#DIV/0!"},null,null,{"$error":"#DIV/0!"}]
[null,38,{"$f":"'DATOS DEL ESTUDIANTE'!B41","v":0},{"$f":"'DATOS DEL ESTUDIANTE'!C41","v":0},{"$f":"'DATOS DEL ESTUDIANTE'!D41","v":0},null,null,null,null,null,null,null,{"$error":"#DIV/0!"},null,null,null,null,null,null,{"$error":"#DIV/0!"},null,{"$error":"#DIV/0!"},null,null,{"$error":"#DIV/0!"}]
[null,39,{"$f":"'DATOS DEL ESTUDIANTE'!B42","v":0},{"$f":"'DATOS DEL ESTUDIANTE'!C42","v":0},{"$f":"'DATOS DEL ESTUDIANTE'!D42","v":0},null,null,null,null,null,null,null,{"$error":"#DIV/0!"},null,null,null,null,null,null,{"$error":"#DIV/0!"},null,{"$error":"#DIV/0!"},null,null,{"$error":"#DIV/0!"}]
[null,40,{"$f":"'DATOS DEL ESTUDIANTE'!B43","v":0},{"$f":"'DATOS DEL ESTUDIANTE'!C43","v":0},{"$f":"'DATOS DEL ESTUDIANTE'!D43","v":0},null,null,null,null,null,null,null,{"$error":"#DIV/0!"},null,null,null,null,null,null,{"$error":"#DIV/0!"},null,{"$error":"#DIV/0!"},null,null,{"$error":"#DIV/0!"}]
[null,41,{"$f":"'DATOS DEL ESTUDIANTE'!B44","v":0},{"$f":"'DATOS DEL ESTUDIANTE'!C44","v":0},{"$f":"'DATOS DEL ESTUDIANTE'!D44","v":0},null,null,null,null,null,null,null,{"$error":"#DIV/0!"},null,null,null,null,null,null,{"$error":"#DIV/0!"},null,{"$error":"#DIV/0!"},null,null,{"$error":"#DIV/0!"}]
[null,42,{"$f":"'DATOS DEL ESTUDIANTE'!B45","v":0},{"$f":"'DATOS DEL ESTUDIANTE'!C45","v":0},{"$f":"'DATOS DEL ESTUDIANTE'!D45","v":0},null,null,null,null,null,null,null,{"$error":"#DIV/0!"},null,null,null,null,null,null,{"$error":"#DIV/0!"},null,{"$error":"#DIV/0!"},null,null,{"$error":"#DIV/0!"}]
[null,43,{"$f":"'DATOS DEL ESTUDIANTE'!B46","v":0},{"$f":"'DATOS DEL ESTUDIANTE'!C46","v":0},{"$f":"'DATOS DEL ESTUDIANTE'!D46","v":0},null,null,null,null,null,null,null,{"$error":"#DIV/0!"},null,null,null,null,null,null,{"$error":"#DIV/0!"},null,{"$error":"#DIV/0!"},null,null,{"$error":"#DIV/0!"}]
[null,44,{"$f":"'DATOS DEL ESTUDIANTE'!B47","v":0},{"$f":"'DATOS DEL ESTUDIANTE'!C47","v":0},{"$f":"'DATOS DEL ESTUDIANTE'!D47","v":0},null,null,null,null,null,null,null,{"$error":"#DIV/0!"},null,null,null,null,null,null,{"$error":"#DIV/0!"},null,{"$error":"#DIV/0!"},null,null,{"$error":"#DIV/0!"}]
[null,45,{"$f":"'DATOS DEL ESTUDIANTE'!B48","v":0},{"$f":"'DATOS DEL ESTUDIANTE'!C48","v":0},{"$f":"'DATOS DEL ESTUDIANTE'!D48","v":0},null,null,null,null,null,null,null,{"$error":"#DIV/0!"},null,null,null,null,null,null,{"$error":"#DIV/0!"},null,{"$error":"#DIV/0!"},null,null,{"$error":"#DIV/0!"}]

{"sheet":"LENGUAJE SEGUNDO BIMESTRE","index":17,"n_rows":55,"n_cols":25,"rows_kept":55,"cut":false,"hidden":false,"merged":[[0,0,9,0],[0,1,0,19],[1,10,1,12],[1,13,1,19],[2,1,2,19],[3,1,3,4],[4,1,6,4],[4,5,6,5],[4,6,6,7],[4,8,6,9],[7,1,7,4],[4,10,6,11],[4,12,9,12],[3,6,3,12],[1,1,1,9],[8,1,9,1],[8,2,8,4],[0,25,3,25],[8,20,9,20],[8,8,9,8],[8,9,9,9],[8,10,9,10],[8,11,9,11],[8,13,9,13],[8,14,9,14],[8,16,9,16],[8,17,9,17],[8,18,9,18],[8,15,9,15],[3,24,9,24],[4,15,6,16],[4,17,6,18],[0,21,2,24],[1,20,2,20],[3,21,9,21],[8,5,9,5],[8,6,9,6],[8,7,9,7],[4,20,6,20],[4,13,6,14],[4,19,9,19],[3,13,3,19],[3,22,8,23]]}
[null,"      COMUNICACIÓN Y  LENGUAJES",null,null,null,null,null,null,null,null,null,null,null,null,null,null,null,null,null,null,2018]
[null,"AÑO DE ESCOLARIDAD:",null,null,null,null,null,null,null,null,"MAESTRA (O): ",null,null,{"$f":"CARATULA!G18","v":0},null,null,null,null,null,null,"SEUNDO\nBIMESTRE"]
[null," REGISTRO  Y CENTRALIZADOR DEL PROCESO DE  EVALUACIÓN   "]
[null,"DIMENSIONES",null,null,null,"SER (10)","SABER (35)",null,null,null,null,null,null,"HACER (35)",null,null,null,null,null,null,"DECIDIR (10)","TOTAL     EVALUACIÓN    DEL     MAESTRO","AUTOEVALUACIÓN",null,"CALIFICACIÓN BIMESTRAL"]
[null,"CRITERIOS DE EVALUACIÓN SEGÚN PDC",null,null,null,null,null,null,null,null,null,null,"T      O     T     A       L",null,null,null,null,null,null,"T     O     T     A      L"]
[]
[]
[null,"INSTRUMENTO Y/ O ESTRATEGIAS DE EVALUACIÓN"]
[null,"N°","    FECHA DE  EVALUACIÓN\n \n\n"]
[null,null,"NOMBRES ","APELLIDO PATERNO"," \nAPELLIDO MATERNO",null,null,null,null,null,null,null,null,null,null,null,null,null,null,null,null,null,"SER\n(5)","DECIDIR\n(5)"]
[null,1,{"$f":"'DATOS DEL ESTUDIANTE'!B4","v":0},{"$f":"'DATOS DEL ESTUDIANTE'!C4","v":0},{"$f":"'DATOS DEL ESTUDIANTE'!D4","v":0},null,null,null,null,null,null,null,{"$f":"AVERAGE(G11:L11)","v":{"$error":"#DIV/0!"}},null,null,null,null,null,null,{"$f":"AVERAGE(N11:S11)","v":{"$error":"#DIV/0!"}},null,{"$f":"SUM(F11+M11+T11+U11)","v":{"$error":"#DIV/0!"}},3,4,{"$f":"SUM(V11:X11)","v":{"$error":"#DIV/0!"}}]
[null,2,{"$f":"'DATOS DEL ESTUDIANTE'!B5","v":0},{"$f":"'DATOS DEL ESTUDIANTE'!C5","v":0},{"$f":"'DATOS DEL ESTUDIANTE'!D5","v":0},null,null,null,null,null,null,null,{"$f":"AVERAGE(G12:L12)","v":{"$error":"#DIV/0!"}},null,null,null,null,null,null,{"$f":"AVERAGE(N12:S12)","v":{"$error":"#DIV/0!"}},null,{"$f":"SUM(F12+M12+T12+U12)","v":{"$error":"#DIV/0!"}},4,3,{"$f":"SUM(V12:X12)","v":{"$error":"#DIV/0!"}}]
[null,3,{"$f":"'DATOS DEL ESTUDIANTE'!B6","v":0},{"$f":"'DATOS DEL ESTUDIANTE'!C6","v":0},{"$f":"'DATOS DEL ESTUDIANTE'!D6","v":0},null,null,null,null,null,null,null,{"$error":"#DIV/0!"},null,null,null,null,null,null,{"$error":"#DIV/0!"},null,{"$error":"#DIV/0!"},4,3,{"$error":"#DIV/0!"}]
[null,4,{"$f":"'DATOS DEL ESTUDIANTE'!B7","v":0},{"$f":"'DATOS DEL ESTUDIANTE'!C7","v":0},{"$f":"'DATOS DEL ESTUDIANTE'!D7","v":0},null,null,null,null,null,null,null,{"$error":"#DIV/0!"},null,null,null,null,null,null,{"$error":"#DIV/0!"},null,{"$error":"#DIV/0!"},4,3,{"$error":"#DIV/0!"}]
[null,5,{"$f":"'DATOS DEL ESTUDIANTE'!B8","v":0},{"$f":"'DATOS DEL ESTUDIANTE'!C8","v":0},{"$f":"'DATOS DEL ESTUDIANTE'!D8","v":0},null,null,null,null,null,null,null,{"$error":"#DIV/0!"},null,null,null,null,null,null,{"$error":"#DIV/0!"},null,{"$error":"#DIV/0!"},4,3,{"$error":"#DIV/0!"}]
[null,6,{"$f":"'DATOS DEL ESTUDIANTE'!B9","v":0},{"$f":"'DATOS DEL ESTUDIANTE'!C9","v":0},{"$f":"'DATOS DEL ESTUDIANTE'!D9","v":0},null,null,null,null,null,null,null,{"$error":"#DIV/0!"},null,null,null,null,null,null,{"$error":"#DIV/0!"},null,{"$error":"#DIV/0!"},4,3,{"$error":"#DIV/0!"}]
[null,7,{"$f":"'DATOS DEL ESTUDIANTE'!B10","v":0},{"$f":"'DATOS DEL ESTUDIANTE'!C10","v":0},{"$f":"'DATOS DEL ESTUDIANTE'!D10","v":0},null,null,null,null,null,null,null,{"$error":"#DIV/0!"},null,null,null,null,null,null,{"$error":"#DIV/0!"},null,{"$error":"#DIV/0!"},4,3,{"$error":"#DIV/0!"}]
[null,8,{"$f":"'DATOS DEL ESTUDIANTE'!B11","v":0},{"$f":"'DATOS DEL ESTUDIANTE'!C11","v":0},{"$f":"'DATOS DEL ESTUDIANTE'!D11","v":0},null,null,null,null,null,null,null,{"$error":"#DIV/0!"},null,null,null,null,null,null,{"$error":"#DIV/0!"},null,{"$error":"#DIV/0!"},4,3,{"$error":"#DIV/0!"}]
[null,9,{"$f":"'DATOS DEL ESTUDIANTE'!B12","v":0},{"$f":"'DATOS DEL ESTUDIANTE'!C12","v":0},{"$f":"'DATOS DEL ESTUDIANTE'!D12","v":0},null,null,null,null,null,null,null,{"$error":"#DIV/0!"},null,null,null,null,null,null,{"$error":"#DIV/0!"},null,{"$error":"#DIV/0!"},4,3,{"$error":"#DIV/0!"}]
[null,10,{"$f":"'DATOS DEL ESTUDIANTE'!B13","v":0},{"$f":"'DATOS DEL ESTUDIANTE'!C13","v":0},{"$f":"'DATOS DEL ESTUDIANTE'!D13","v":0},null,null,null,null,null,null,null,{"$error":"#DIV/0!"},null,null,null,null,null,null,{"$error":"#DIV/0!"},null,{"$error":"#DIV/0!"},4,3,{"$error":"#DIV/0!"}]
[null,11,{"$f":"'DATOS DEL ESTUDIANTE'!B14","v":0},{"$f":"'DATOS DEL ESTUDIANTE'!C14","v":0},{"$f":"'DATOS DEL ESTUDIANTE'!D14","v":0},null,null,null,null,null,null,null,{"$error":"#DIV/0!"},null,null,null,null,null,null,{"$error":"#DIV/0!"},null,{"$error":"#DIV/0!"},4,3,{"$error":"#DIV/0!"}]
[null,12,{"$f":"'DATOS DEL ESTUDIANTE'!B15","v":0},{"$f":"'DATOS DEL ESTUDIANTE'!C15","v":0},{"$f":"'DATOS DEL ESTUDIANTE'!D15","v":0},null,null,null,null,null,null,null,{"$error":"#DIV/0!"},null,null,null,null,null,null,{"$error":"#DIV/0!"},null,{"$error":"#DIV/0!"},4,3,{"$error":"#DIV/0!"}]
[null,13,{"$f":"'DATOS DEL ESTUDIANTE'!B16","v":0},{"$f":"'DATOS DEL ESTUDIANTE'!C16","v":0},{"$f":"'DATOS DEL ESTUDIANTE'!D16","v":0},null,null,null,null,null,null,null,{"$error":"#DIV/0!"},null,null,null,null,null,null,{"$error":"#DIV/0!"},null,{"$error":"#DIV/0!"},4,3,{"$error":"#DIV/0!"}]
[null,14,{"$f":"'DATOS DEL ESTUDIANTE'!B17","v":0},{"$f":"'DATOS DEL ESTUDIANTE'!C17","v":0},{"$f":"'DATOS DEL ESTUDIANTE'!D17","v":0},null,null,null,null,null,null,null,{"$error":"#DIV/0!"},null,null,null,null,null,null,{"$error":"#DIV/0!"},null,{"$error":"#DIV/0!"},4,3,{"$error":"#DIV/0!"}]
[null,15,{"$f":"'DATOS DEL ESTUDIANTE'!B18","v":0},{"$f":"'DATOS DEL ESTUDIANTE'!C18","v":0},{"$f":"'DATOS DEL ESTUDIANTE'!D18","v":0},null,null,null,null,null,null,null,{"$error":"#DIV/0!"},null,null,null,null,null,null,{"$error":"#DIV/0!"},null,{"$error":"#DIV/0!"},4,3,{"$error":"#DIV/0!"}]
[null,16,{"$f":"'DATOS DEL ESTUDIANTE'!B19","v":0},{"$f":"'DATOS DEL ESTUDIANTE'!C19","v":0},{"$f":"'DATOS DEL ESTUDIANTE'!D19","v":0},null,null,null,null,null,null,null,{"$error":"#DIV/0!"},null,null,null,null,null,null,{"$error":"#DIV/0!"},null,{"$error":"#DIV/0!"},4,3,{"$error":"#DIV/0!"}]
[null,17,{"$f":"'DATOS DEL ESTUDIANTE'!B20","v":0},{"$f":"'DATOS DEL ESTUDIANTE'!C20","v":0},{"$f":"'DATOS DEL ESTUDIANTE'!D20","v":0},null,null,null,null,null,null,null,{"$error":"#DIV/0!"},null,null,null,null,null,null,{"$error":"#DIV/0!"},null,{"$error":"#DIV/0!"},4,3,{"$error":"#DIV/0!"}]
[null,18,{"$f":"'DATOS DEL ESTUDIANTE'!B21","v":0},{"$f":"'DATOS DEL ESTUDIANTE'!C21","v":0},{"$f":"'DATOS DEL ESTUDIANTE'!D21","v":0},null,null,null,null,null,null,null,{"$error":"#DIV/0!"},null,null,null,null,null,null,{"$error":"#DIV/0!"},null,{"$error":"#DIV/0!"},4,3,{"$error":"#DIV/0!"}]
[null,19,{"$f":"'DATOS DEL ESTUDIANTE'!B22","v":0},{"$f":"'DATOS DEL ESTUDIANTE'!C22","v":0},{"$f":"'DATOS DEL ESTUDIANTE'!D22","v":0},null,null,null,null,null,null,null,{"$error":"#DIV/0!"},null,null,null,null,null,null,{"$error":"#DIV/0!"},null,{"$error":"#DIV/0!"},4,3,{"$error":"#DIV/0!"}]
[null,20,{"$f":"'DATOS DEL ESTUDIANTE'!B23","v":0},{"$f":"'DATOS DEL ESTUDIANTE'!C23","v":0},{"$f":"'DATOS DEL ESTUDIANTE'!D23","v":0},null,null,null,null,null,null,null,{"$error":"#DIV/0!"},null,null,null,null,null,null,{"$error":"#DIV/0!"},null,{"$error":"#DIV/0!"},4,3,{"$error":"#DIV/0!"}]
[null,21,{"$f":"'DATOS DEL ESTUDIANTE'!B24","v":0},{"$f":"'DATOS DEL ESTUDIANTE'!C24","v":0},{"$f":"'DATOS DEL ESTUDIANTE'!D24","v":0},null,null,null,null,null,null,null,{"$error":"#DIV/0!"},null,null,null,null,null,null,{"$error":"#DIV/0!"},null,{"$error":"#DIV/0!"},4,3,{"$error":"#DIV/0!"}]
[null,22,{"$f":"'DATOS DEL ESTUDIANTE'!B25","v":0},{"$f":"'DATOS DEL ESTUDIANTE'!C25","v":0},{"$f":"'DATOS DEL ESTUDIANTE'!D25","v":0},null,null,null,null,null,null,null,{"$error":"#DIV/0!"},null,null,null,null,null,null,{"$error":"#DIV/0!"},null,{"$error":"#DIV/0!"},4,3,{"$error":"#DIV/0!"}]
[null,23,{"$f":"'DATOS DEL ESTUDIANTE'!B26","v":0},{"$f":"'DATOS DEL ESTUDIANTE'!C26","v":0},{"$f":"'DATOS DEL ESTUDIANTE'!D26","v":0},null,null,null,null,null,null,null,{"$error":"#DIV/0!"},null,null,null,null,null,null,{"$error":"#DIV/0!"},null,{"$error":"#DIV/0!"},4,3,{"$error":"#DIV/0!"}]
[null,24,{"$f":"'DATOS DEL ESTUDIANTE'!B27","v":0},{"$f":"'DATOS DEL ESTUDIANTE'!C27","v":0},{"$f":"'DATOS DEL ESTUDIANTE'!D27","v":0},null,null,null,null,null,null,null,{"$error":"#DIV/0!"},null,null,null,null,null,null,{"$error":"#DIV/0!"},null,{"$error":"#DIV/0!"},null,null,{"$error":"#DIV/0!"}]
[null,25,{"$f":"'DATOS DEL ESTUDIANTE'!B28","v":0},{"$f":"'DATOS DEL ESTUDIANTE'!C28","v":0},{"$f":"'DATOS DEL ESTUDIANTE'!D28","v":0},null,null,null,null,null,null,null,{"$error":"#DIV/0!"},null,null,null,null,null,null,{"$error":"#DIV/0!"},null,{"$error":"#DIV/0!"},null,null,{"$error":"#DIV/0!"}]
[null,26,{"$f":"'DATOS DEL ESTUDIANTE'!B29","v":0},{"$f":"'DATOS DEL ESTUDIANTE'!C29","v":0},{"$f":"'DATOS DEL ESTUDIANTE'!D29","v":0},null,null,null,null,null,null,null,{"$error":"#DIV/0!"},null,null,null,null,null,null,{"$error":"#DIV/0!"},null,{"$error":"#DIV/0!"},null,null,{"$error":"#DIV/0!"}]
[null,27,{"$f":"'DATOS DEL ESTUDIANTE'!B30","v":0},{"$f":"'DATOS DEL ESTUDIANTE'!C30","v":0},{"$f":"'DATOS DEL ESTUDIANTE'!D30","v":0},null,null,null,null,null,null,null,{"$error":"#DIV/0!"},null,null,null,null,null,null,{"$error":"#DIV/0!"},null,{"$error":"#DIV/0!"},null,null,{"$error":"#DIV/0!"}]
[null,28,{"$f":"'DATOS DEL ESTUDIANTE'!B31","v":0},{"$f":"'DATOS DEL ESTUDIANTE'!C31","v":0},{"$f":"'DATOS DEL ESTUDIANTE'!D31","v":0},null,null,null,null,null,null,null,{"$error":"#DIV/0!"},null,null,null,null,null,null,{"$error":"#DIV/0!"},null,{"$error":"#DIV/0!"},null,null,{"$error":"#DIV/0!"}]
[null,29,{"$f":"'DATOS DEL ESTUDIANTE'!B32","v":0},{"$f":"'DATOS DEL ESTUDIANTE'!C32","v":0},{"$f":"'DATOS DEL ESTUDIANTE'!D32","v":0},null,null,null,null,null,null,null,{"$error":"#DIV/0!"},null,null,null,null,null,null,{"$error":"#DIV/0!"},null,{"$error":"#DIV/0!"},null,null,{"$error":"#DIV/0!"}]
[null,30,{"$f":"'DATOS DEL ESTUDIANTE'!B33","v":0},{"$f":"'DATOS DEL ESTUDIANTE'!C33","v":0},{"$f":"'DATOS DEL ESTUDIANTE'!D33","v":0},null,null,null,null,null,null,null,{"$error":"#DIV/0!"},null,null,null,null,null,null,{"$error":"#DIV/0!"},null,{"$error":"#DIV/0!"},null,null,{"$error":"#DIV/0!"}]
[null,31,{"$f":"'DATOS DEL ESTUDIANTE'!B34","v":0},{"$f":"'DATOS DEL ESTUDIANTE'!C34","v":0},{"$f":"'DATOS DEL ESTUDIANTE'!D34","v":0},null,null,null,null,null,null,null,{"$error":"#DIV/0!"},null,null,null,null,null,null,{"$error":"#DIV/0!"},null,{"$error":"#DIV/0!"},null,null,{"$error":"#DIV/0!"}]
[null,32,{"$f":"'DATOS DEL ESTUDIANTE'!B35","v":0},{"$f":"'DATOS DEL ESTUDIANTE'!C35","v":0},{"$f":"'DATOS DEL ESTUDIANTE'!D35","v":0},null,null,null,null,null,null,null,{"$error":"#DIV/0!"},null,null,null,null,null,null,{"$error":"#DIV/0!"},null,{"$error":"#DIV/0!"},null,null,{"$error":"#DIV/0!"}]
[null,33,{"$f":"'DATOS DEL ESTUDIANTE'!B36","v":0},{"$f":"'DATOS DEL ESTUDIANTE'!C36","v":0},{"$f":"'DATOS DEL ESTUDIANTE'!D36","v":0},null,null,null,null,null,null,null,{"$error":"#DIV/0!"},null,null,null,null,null,null,{"$error":"#DIV/0!"},null,{"$error":"#DIV/0!"},null,null,{"$error":"#DIV/0!"}]
[null,34,{"$f":"'DATOS DEL ESTUDIANTE'!B37","v":0},{"$f":"'DATOS DEL ESTUDIANTE'!C37","v":0},{"$f":"'DATOS DEL ESTUDIANTE'!D37","v":0},null,null,null,null,null,null,null,{"$error":"#DIV/0!"},null,null,null,null,null,null,{"$error":"#DIV/0!"},null,{"$error":"#DIV/0!"},null,null,{"$error":"#DIV/0!"}]
[null,35,{"$f":"'DATOS DEL ESTUDIANTE'!B38","v":0},{"$f":"'DATOS DEL ESTUDIANTE'!C38","v":0},{"$f":"'DATOS DEL ESTUDIANTE'!D38","v":0},null,null,null,null,null,null,null,{"$error":"#DIV/0!"},null,null,null,null,null,null,{"$error":"#DIV/0!"},null,{"$error":"#DIV/0!"},null,null,{"$error":"#DIV/0!"}]
[null,36,{"$f":"'DATOS DEL ESTUDIANTE'!B39","v":0},{"$f":"'DATOS DEL ESTUDIANTE'!C39","v":0},{"$f":"'DATOS DEL ESTUDIANTE'!D39","v":0},null,null,null,null,null,null,null,{"$error":"#DIV/0!"},null,null,null,null,null,null,{"$error":"#DIV/0!"},null,{"$error":"#DIV/0!"},null,null,{"$error":"#DIV/0!"}]
[null,37,{"$f":"'DATOS DEL ESTUDIANTE'!B40","v":0},{"$f":"'DATOS DEL ESTUDIANTE'!C40","v":0},{"$f":"'DATOS DEL ESTUDIANTE'!D40","v":0},null,null,null,null,null,null,null,{"$error":"#DIV/0!"},null,null,null,null,null,null,{"$error":"#DIV/0!"},null,{"$error":"#DIV/0!"},null,null,{"$error":"#DIV/0!"}]
[null,38,{"$f":"'DATOS DEL ESTUDIANTE'!B41","v":0},{"$f":"'DATOS DEL ESTUDIANTE'!C41","v":0},{"$f":"'DATOS DEL ESTUDIANTE'!D41","v":0},null,null,null,null,null,null,null,{"$error":"#DIV/0!"},null,null,null,null,null,null,{"$error":"#DIV/0!"},null,{"$error":"#DIV/0!"},null,null,{"$error":"#DIV/0!"}]
[null,39,{"$f":"'DATOS DEL ESTUDIANTE'!B42","v":0},{"$f":"'DATOS DEL ESTUDIANTE'!C42","v":0},{"$f":"'DATOS DEL ESTUDIANTE'!D42","v":0},null,null,null,null,null,null,null,{"$error":"#DIV/0!"},null,null,null,null,null,null,{"$error":"#DIV/0!"},null,{"$error":"#DIV/0!"},null,null,{"$error":"#DIV/0!"}]
[null,40,{"$f":"'DATOS DEL ESTUDIANTE'!B43","v":0},{"$f":"'DATOS DEL ESTUDIANTE'!C43","v":0},{"$f":"'DATOS DEL ESTUDIANTE'!D43","v":0},null,null,null,null,null,null,null,{"$error":"#DIV/0!"},null,null,null,null,null,null,{"$error":"#DIV/0!"},null,{"$error":"#DIV/0!"},null,null,{"$error":"#DIV/0!"}]
[null,41,{"$f":"'DATOS DEL ESTUDIANTE'!B44","v":0},{"$f":"'DATOS DEL ESTUDIANTE'!C44","v":0},{"$f":"'DATOS DEL ESTUDIANTE'!D44","v":0},null,null,null,null,null,null,null,{"$error":"#DIV/0!"},null,null,null,null,null,null,{"$error":"#DIV/0!"},null,{"$error":"#DIV/0!"},null,null,{"$error":"#DIV/0!"}]
[null,42,{"$f":"'DATOS DEL ESTUDIANTE'!B45","v":0},{"$f":"'DATOS DEL ESTUDIANTE'!C45","v":0},{"$f":"'DATOS DEL ESTUDIANTE'!D45","v":0},null,null,null,null,null,null,null,{"$error":"#DIV/0!"},null,null,null,null,null,null,{"$error":"#DIV/0!"},null,{"$error":"#DIV/0!"},null,null,{"$error":"#DIV/0!"}]
[null,43,{"$f":"'DATOS DEL ESTUDIANTE'!B46","v":0},{"$f":"'DATOS DEL ESTUDIANTE'!C46","v":0},{"$f":"'DATOS DEL ESTUDIANTE'!D46","v":0},null,null,null,null,null,null,null,{"$error":"#DIV/0!"},null,null,null,null,null,null,{"$error":"#DIV/0!"},null,{"$error":"#DIV/0!"},null,null,{"$error":"#DIV/0!"}]
[null,44,{"$f":"'DATOS DEL ESTUDIANTE'!B47","v":0},{"$f":"'DATOS DEL ESTUDIANTE'!C47","v":0},{"$f":"'DATOS DEL ESTUDIANTE'!D47","v":0},null,null,null,null,null,null,null,{"$error":"#DIV/0!"},null,null,null,null,null,null,{"$error":"#DIV/0!"},null,{"$error":"#DIV/0!"},null,null,{"$error":"#DIV/0!"}]
[null,45,{"$f":"'DATOS DEL ESTUDIANTE'!B48","v":0},{"$f":"'DATOS DEL ESTUDIANTE'!C48","v":0},{"$f":"'DATOS DEL ESTUDIANTE'!D48","v":0},null,null,null,null,null,null,null,{"$error":"#DIV/0!"},null,null,null,null,null,null,{"$error":"#DIV/0!"},null,{"$error":"#DIV/0!"},null,null,{"$error":"#DIV/0!"}]

{"sheet":"LENGUAJE TERCER BIMESTRE","index":18,"n_rows":55,"n_cols":25,"rows_kept":55,"cut":false,"hidden":false,"merged":[[1,1,1,3],[0,0,9,0],[0,1,0,19],[0,21,2,24],[1,10,1,12],[1,13,1,19],[1,20,2,20],[2,1,2,19],[3,1,3,4],[3,21,9,21],[3,22,8,23],[3,24,9,24],[4,15,6,16],[4,17,6,18],[4,20,6,20],[4,10,6,11],[0,25,3,25],[8,20,9,20],[8,8,9,8],[8,9,9,9],[8,10,9,10],[8,11,9,11],[8,13,9,13],[8,14,9,14],[8,16,9,16],[8,17,9,17],[8,18,9,18],[8,15,9,15],[4,13,6,14],[4,8,6,9],[1,4,1,9],[3,6,3,12],[3,13,3,19],[4,12,9,12],[4,19,9,19],[8,7,9,7],[4,1,6,4],[4,5,6,5],[4,6,6,7],[7,1,7,4],[8,1,9,1],[8,5,9,5],[8,6,9,6],[8,2,8,4]]}
[null,"      COMUNICACIÓN Y  LENGUAJES",null,null,null,null,null,null,null,null,null,null,null,null,null,null,null,null,null,null,2018]
[null,"AÑO DE ESCOLARIDAD:",null,null,{"$f":"CARATULA!G15","v":0},null,null,null,null,null,"MAESTRA (O): ",null,null,{"$f":"CARATULA!G18","v":0},null,null,null,null,null,null,"TERCER\nBIMESTRE"]
[null," REGISTRO  Y CENTRALIZADOR DEL PROCESO DE  EVALUACIÓN   "]
[null,"DIMENSIONES",null,null,null,"SER (10)","SABER (35)",null,null,null,null,null,null,"HACER (35)",null,null,null,null,null,null,"DECIDIR (10)","TOTAL     EVALUACIÓN    DEL     MAESTRO","AUTOEVALUACIÓN",null,"CALIFICACIÓN BIMESTRAL"]
[null,"CRITERIOS DE EVALUACIÓN SEGÚN PDC",null,null,null,null,null,null,null,null,null,null,"T      O     T     A       L",null,null,null,null,null,null,"T      O     T     A       L"]
[]
[]
[null,"INSTRUMENTO Y/ O ESTRATEGIAS DE EVALUACIÓN"]
[null,"N°","    FECHA DE  EVALUACIÓN\n \n\n"]
[null,null,"NOMBRES ","APELLIDO PATERNO"," \nAPELLIDO MATERNO",null,null,null,null,null,null,null,null,null,null,null,null,null,null,null,null,null,"SER\n(5)","DECIDIR\n(5)"]
[null,1,{"$f":"'DATOS DEL ESTUDIANTE'!B4","v":0},{"$f":"'DATOS DEL ESTUDIANTE'!C4","v":0},{"$f":"'DATOS DEL ESTUDIANTE'!D4","v":0},null,null,null,null,null,null,null,{"$f":"AVERAGE(G11:L11)","v":{"$error":"#DIV/0!"}},null,null,null,null,null,null,{"$f":"AVERAGE(N11:S11)","v":{"$error":"#DIV/0!"}},null,{"$f":"SUM(F11+M11+T11+U11)","v":{"$error":"#DIV/0!"}},null,null,{"$f":"SUM(V11:X11)","v":{"$error":"#DIV/0!"}}]
[null,2,{"$f":"'DATOS DEL ESTUDIANTE'!B5","v":0},{"$f":"'DATOS DEL ESTUDIANTE'!C5","v":0},{"$f":"'DATOS DEL ESTUDIANTE'!D5","v":0},null,null,null,null,null,null,null,{"$f":"AVERAGE(G12:L12)","v":{"$error":"#DIV/0!"}},null,null,null,null,null,null,{"$f":"AVERAGE(N12:S12)","v":{"$error":"#DIV/0!"}},null,{"$f":"SUM(F12+M12+T12+U12)","v":{"$error":"#DIV/0!"}},null,null,{"$f":"SUM(V12:X12)","v":{"$error":"#DIV/0!"}}]
[null,3,{"$f":"'DATOS DEL ESTUDIANTE'!B6","v":0},{"$f":"'DATOS DEL ESTUDIANTE'!C6","v":0},{"$f":"'DATOS DEL ESTUDIANTE'!D6","v":0},null,null,null,null,null,null,null,{"$error":"#DIV/0!"},null,null,null,null,null,null,{"$error":"#DIV/0!"},null,{"$error":"#DIV/0!"},null,null,{"$error":"#DIV/0!"}]
[null,4,{"$f":"'DATOS DEL ESTUDIANTE'!B7","v":0},{"$f":"'DATOS DEL ESTUDIANTE'!C7","v":0},{"$f":"'DATOS DEL ESTUDIANTE'!D7","v":0},null,null,null,null,null,null,null,{"$error":"#DIV/0!"},null,null,null,null,null,null,{"$error":"#DIV/0!"},null,{"$error":"#DIV/0!"},null,null,{"$error":"#DIV/0!"}]
[null,5,{"$f":"'DATOS DEL ESTUDIANTE'!B8","v":0},{"$f":"'DATOS DEL ESTUDIANTE'!C8","v":0},{"$f":"'DATOS DEL ESTUDIANTE'!D8","v":0},null,null,null,null,null,null,null,{"$error":"#DIV/0!"},null,null,null,null,null,null,{"$error":"#DIV/0!"},null,{"$error":"#DIV/0!"},null,null,{"$error":"#DIV/0!"}]
[null,6,{"$f":"'DATOS DEL ESTUDIANTE'!B9","v":0},{"$f":"'DATOS DEL ESTUDIANTE'!C9","v":0},{"$f":"'DATOS DEL ESTUDIANTE'!D9","v":0},null,null,null,null,null,null,null,{"$error":"#DIV/0!"},null,null,null,null,null,null,{"$error":"#DIV/0!"},null,{"$error":"#DIV/0!"},null,null,{"$error":"#DIV/0!"}]
[null,7,{"$f":"'DATOS DEL ESTUDIANTE'!B10","v":0},{"$f":"'DATOS DEL ESTUDIANTE'!C10","v":0},{"$f":"'DATOS DEL ESTUDIANTE'!D10","v":0},null,null,null,null,null,null,null,{"$error":"#DIV/0!"},null,null,null,null,null,null,{"$error":"#DIV/0!"},null,{"$error":"#DIV/0!"},null,null,{"$error":"#DIV/0!"}]
[null,8,{"$f":"'DATOS DEL ESTUDIANTE'!B11","v":0},{"$f":"'DATOS DEL ESTUDIANTE'!C11","v":0},{"$f":"'DATOS DEL ESTUDIANTE'!D11","v":0},null,null,null,null,null,null,null,{"$error":"#DIV/0!"},null,null,null,null,null,null,{"$error":"#DIV/0!"},null,{"$error":"#DIV/0!"},null,null,{"$error":"#DIV/0!"}]
[null,9,{"$f":"'DATOS DEL ESTUDIANTE'!B12","v":0},{"$f":"'DATOS DEL ESTUDIANTE'!C12","v":0},{"$f":"'DATOS DEL ESTUDIANTE'!D12","v":0},null,null,null,null,null,null,null,{"$error":"#DIV/0!"},null,null,null,null,null,null,{"$error":"#DIV/0!"},null,{"$error":"#DIV/0!"},null,null,{"$error":"#DIV/0!"}]
[null,10,{"$f":"'DATOS DEL ESTUDIANTE'!B13","v":0},{"$f":"'DATOS DEL ESTUDIANTE'!C13","v":0},{"$f":"'DATOS DEL ESTUDIANTE'!D13","v":0},null,null,null,null,null,null,null,{"$error":"#DIV/0!"},null,null,null,null,null,null,{"$error":"#DIV/0!"},null,{"$error":"#DIV/0!"},null,null,{"$error":"#DIV/0!"}]
[null,11,{"$f":"'DATOS DEL ESTUDIANTE'!B14","v":0},{"$f":"'DATOS DEL ESTUDIANTE'!C14","v":0},{"$f":"'DATOS DEL ESTUDIANTE'!D14","v":0},null,null,null,null,null,null,null,{"$error":"#DIV/0!"},null,null,null,null,null,null,{"$error":"#DIV/0!"},null,{"$error":"#DIV/0!"},null,null,{"$error":"#DIV/0!"}]
[null,12,{"$f":"'DATOS DEL ESTUDIANTE'!B15","v":0},{"$f":"'DATOS DEL ESTUDIANTE'!C15","v":0},{"$f":"'DATOS DEL ESTUDIANTE'!D15","v":0},null,null,null,null,null,null,null,{"$error":"#DIV/0!"},null,null,null,null,null,null,{"$error":"#DIV/0!"},null,{"$error":"#DIV/0!"},null,null,{"$error":"#DIV/0!"}]
[null,13,{"$f":"'DATOS DEL ESTUDIANTE'!B16","v":0},{"$f":"'DATOS DEL ESTUDIANTE'!C16","v":0},{"$f":"'DATOS DEL ESTUDIANTE'!D16","v":0},null,null,null,null,null,null,null,{"$error":"#DIV/0!"},null,null,null,null,null,null,{"$error":"#DIV/0!"},null,{"$error":"#DIV/0!"},null,null,{"$error":"#DIV/0!"}]
[null,14,{"$f":"'DATOS DEL ESTUDIANTE'!B17","v":0},{"$f":"'DATOS DEL ESTUDIANTE'!C17","v":0},{"$f":"'DATOS DEL ESTUDIANTE'!D17","v":0},null,null,null,null,null,null,null,{"$error":"#DIV/0!"},null,null,null,null,null,null,{"$error":"#DIV/0!"},null,{"$error":"#DIV/0!"},null,null,{"$error":"#DIV/0!"}]
[null,15,{"$f":"'DATOS DEL ESTUDIANTE'!B18","v":0},{"$f":"'DATOS DEL ESTUDIANTE'!C18","v":0},{"$f":"'DATOS DEL ESTUDIANTE'!D18","v":0},null,null,null,null,null,null,null,{"$error":"#DIV/0!"},null,null,null,null,null,null,{"$error":"#DIV/0!"},null,{"$error":"#DIV/0!"},null,null,{"$error":"#DIV/0!"}]
[null,16,{"$f":"'DATOS DEL ESTUDIANTE'!B19","v":0},{"$f":"'DATOS DEL ESTUDIANTE'!C19","v":0},{"$f":"'DATOS DEL ESTUDIANTE'!D19","v":0},null,null,null,null,null,null,null,{"$error":"#DIV/0!"},null,null,null,null,null,null,{"$error":"#DIV/0!"},null,{"$error":"#DIV/0!"},null,null,{"$error":"#DIV/0!"}]
[null,17,{"$f":"'DATOS DEL ESTUDIANTE'!B20","v":0},{"$f":"'DATOS DEL ESTUDIANTE'!C20","v":0},{"$f":"'DATOS DEL ESTUDIANTE'!D20","v":0},null,null,null,null,null,null,null,{"$error":"#DIV/0!"},null,null,null,null,null,null,{"$error":"#DIV/0!"},null,{"$error":"#DIV/0!"},null,null,{"$error":"#DIV/0!"}]
[null,18,{"$f":"'DATOS DEL ESTUDIANTE'!B21","v":0},{"$f":"'DATOS DEL ESTUDIANTE'!C21","v":0},{"$f":"'DATOS DEL ESTUDIANTE'!D21","v":0},null,null,null,null,null,null,null,{"$error":"#DIV/0!"},null,null,null,null,null,null,{"$error":"#DIV/0!"},null,{"$error":"#DIV/0!"},null,null,{"$error":"#DIV/0!"}]
[null,19,{"$f":"'DATOS DEL ESTUDIANTE'!B22","v":0},{"$f":"'DATOS DEL ESTUDIANTE'!C22","v":0},{"$f":"'DATOS DEL ESTUDIANTE'!D22","v":0},null,null,null,null,null,null,null,{"$error":"#DIV/0!"},null,null,null,null,null,null,{"$error":"#DIV/0!"},null,{"$error":"#DIV/0!"},null,null,{"$error":"#DIV/0!"}]
[null,20,{"$f":"'DATOS DEL ESTUDIANTE'!B23","v":0},{"$f":"'DATOS DEL ESTUDIANTE'!C23","v":0},{"$f":"'DATOS DEL ESTUDIANTE'!D23","v":0},null,null,null,null,null,null,null,{"$error":"#DIV/0!"},null,null,null,null,null,null,{"$error":"#DIV/0!"},null,{"$error":"#DIV/0!"},null,null,{"$error":"#DIV/0!"}]
[null,21,{"$f":"'DATOS DEL ESTUDIANTE'!B24","v":0},{"$f":"'DATOS DEL ESTUDIANTE'!C24","v":0},{"$f":"'DATOS DEL ESTUDIANTE'!D24","v":0},null,null,null,null,null,null,null,{"$error":"#DIV/0!"},null,null,null,null,null,null,{"$error":"#DIV/0!"},null,{"$error":"#DIV/0!"},null,null,{"$error":"#DIV/0!"}]
[null,22,{"$f":"'DATOS DEL ESTUDIANTE'!B25","v":0},{"$f":"'DATOS DEL ESTUDIANTE'!C25","v":0},{"$f":"'DATOS DEL ESTUDIANTE'!D25","v":0},null,null,null,null,null,null,null,{"$error":"#DIV/0!"},null,null,null,null,null,null,{"$error":"#DIV/0!"},null,{"$error":"#DIV/0!"},null,null,{"$error":"#DIV/0!"}]
[null,23,{"$f":"'DATOS DEL ESTUDIANTE'!B26","v":0},{"$f":"'DATOS DEL ESTUDIANTE'!C26","v":0},{"$f":"'DATOS DEL ESTUDIANTE'!D26","v":0},null,null,null,null,null,null,null,{"$error":"#DIV/0!"},null,null,null,null,null,null,{"$error":"#DIV/0!"},null,{"$error":"#DIV/0!"},null,null,{"$error":"#DIV/0!"}]
[null,24,{"$f":"'DATOS DEL ESTUDIANTE'!B27","v":0},{"$f":"'DATOS DEL ESTUDIANTE'!C27","v":0},{"$f":"'DATOS DEL ESTUDIANTE'!D27","v":0},null,null,null,null,null,null,null,{"$error":"#DIV/0!"},null,null,null,null,null,null,{"$error":"#DIV/0!"},null,{"$error":"#DIV/0!"},null,null,{"$error":"#DIV/0!"}]
[null,25,{"$f":"'DATOS DEL ESTUDIANTE'!B28","v":0},{"$f":"'DATOS DEL ESTUDIANTE'!C28","v":0},{"$f":"'DATOS DEL ESTUDIANTE'!D28","v":0},null,null,null,null,null,null,null,{"$error":"#DIV/0!"},null,null,null,null,null,null,{"$error":"#DIV/0!"},null,{"$error":"#DIV/0!"},null,null,{"$error":"#DIV/0!"}]
[null,26,{"$f":"'DATOS DEL ESTUDIANTE'!B29","v":0},{"$f":"'DATOS DEL ESTUDIANTE'!C29","v":0},{"$f":"'DATOS DEL ESTUDIANTE'!D29","v":0},null,null,null,null,null,null,null,{"$error":"#DIV/0!"},null,null,null,null,null,null,{"$error":"#DIV/0!"},null,{"$error":"#DIV/0!"},null,null,{"$error":"#DIV/0!"}]
[null,27,{"$f":"'DATOS DEL ESTUDIANTE'!B30","v":0},{"$f":"'DATOS DEL ESTUDIANTE'!C30","v":0},{"$f":"'DATOS DEL ESTUDIANTE'!D30","v":0},null,null,null,null,null,null,null,{"$error":"#DIV/0!"},null,null,null,null,null,null,{"$error":"#DIV/0!"},null,{"$error":"#DIV/0!"},null,null,{"$error":"#DIV/0!"}]
[null,28,{"$f":"'DATOS DEL ESTUDIANTE'!B31","v":0},{"$f":"'DATOS DEL ESTUDIANTE'!C31","v":0},{"$f":"'DATOS DEL ESTUDIANTE'!D31","v":0},null,null,null,null,null,null,null,{"$error":"#DIV/0!"},null,null,null,null,null,null,{"$error":"#DIV/0!"},null,{"$error":"#DIV/0!"},null,null,{"$error":"#DIV/0!"}]
[null,29,{"$f":"'DATOS DEL ESTUDIANTE'!B32","v":0},{"$f":"'DATOS DEL ESTUDIANTE'!C32","v":0},{"$f":"'DATOS DEL ESTUDIANTE'!D32","v":0},null,null,null,null,null,null,null,{"$error":"#DIV/0!"},null,null,null,null,null,null,{"$error":"#DIV/0!"},null,{"$error":"#DIV/0!"},null,null,{"$error":"#DIV/0!"}]
[null,30,{"$f":"'DATOS DEL ESTUDIANTE'!B33","v":0},{"$f":"'DATOS DEL ESTUDIANTE'!C33","v":0},{"$f":"'DATOS DEL ESTUDIANTE'!D33","v":0},null,null,null,null,null,null,null,{"$error":"#DIV/0!"},null,null,null,null,null,null,{"$error":"#DIV/0!"},null,{"$error":"#DIV/0!"},null,null,{"$error":"#DIV/0!"}]
[null,31,{"$f":"'DATOS DEL ESTUDIANTE'!B34","v":0},{"$f":"'DATOS DEL ESTUDIANTE'!C34","v":0},{"$f":"'DATOS DEL ESTUDIANTE'!D34","v":0},null,null,null,null,null,null,null,{"$error":"#DIV/0!"},null,null,null,null,null,null,{"$error":"#DIV/0!"},null,{"$error":"#DIV/0!"},null,null,{"$error":"#DIV/0!"}]
[null,32,{"$f":"'DATOS DEL ESTUDIANTE'!B35","v":0},{"$f":"'DATOS DEL ESTUDIANTE'!C35","v":0},{"$f":"'DATOS DEL ESTUDIANTE'!D35","v":0},null,null,null,null,null,null,null,{"$error":"#DIV/0!"},null,null,null,null,null,null,{"$error":"#DIV/0!"},null,{"$error":"#DIV/0!"},null,null,{"$error":"#DIV/0!"}]
[null,33,{"$f":"'DATOS DEL ESTUDIANTE'!B36","v":0},{"$f":"'DATOS DEL ESTUDIANTE'!C36","v":0},{"$f":"'DATOS DEL ESTUDIANTE'!D36","v":0},null,null,null,null,null,null,null,{"$error":"#DIV/0!"},null,null,null,null,null,null,{"$error":"#DIV/0!"},null,{"$error":"#DIV/0!"},null,null,{"$error":"#DIV/0!"}]
[null,34,{"$f":"'DATOS DEL ESTUDIANTE'!B37","v":0},{"$f":"'DATOS DEL ESTUDIANTE'!C37","v":0},{"$f":"'DATOS DEL ESTUDIANTE'!D37","v":0},null,null,null,null,null,null,null,{"$error":"#DIV/0!"},null,null,null,null,null,null,{"$error":"#DIV/0!"},null,{"$error":"#DIV/0!"},null,null,{"$error":"#DIV/0!"}]
[null,35,{"$f":"'DATOS DEL ESTUDIANTE'!B38","v":0},{"$f":"'DATOS DEL ESTUDIANTE'!C38","v":0},{"$f":"'DATOS DEL ESTUDIANTE'!D38","v":0},null,null,null,null,null,null,null,{"$error":"#DIV/0!"},null,null,null,null,null,null,{"$error":"#DIV/0!"},null,{"$error":"#DIV/0!"},null,null,{"$error":"#DIV/0!"}]
[null,36,{"$f":"'DATOS DEL ESTUDIANTE'!B39","v":0},{"$f":"'DATOS DEL ESTUDIANTE'!C39","v":0},{"$f":"'DATOS DEL ESTUDIANTE'!D39","v":0},null,null,null,null,null,null,null,{"$error":"#DIV/0!"},null,null,null,null,null,null,{"$error":"#DIV/0!"},null,{"$error":"#DIV/0!"},null,null,{"$error":"#DIV/0!"}]
[null,37,{"$f":"'DATOS DEL ESTUDIANTE'!B40","v":0},{"$f":"'DATOS DEL ESTUDIANTE'!C40","v":0},{"$f":"'DATOS DEL ESTUDIANTE'!D40","v":0},null,null,null,null,null,null,null,{"$error":"#DIV/0!"},null,null,null,null,null,null,{"$error":"#DIV/0!"},null,{"$error":"#DIV/0!"},null,null,{"$error":"#DIV/0!"}]
[null,38,{"$f":"'DATOS DEL ESTUDIANTE'!B41","v":0},{"$f":"'DATOS DEL ESTUDIANTE'!C41","v":0},{"$f":"'DATOS DEL ESTUDIANTE'!D41","v":0},null,null,null,null,null,null,null,{"$error":"#DIV/0!"},null,null,null,null,null,null,{"$error":"#DIV/0!"},null,{"$error":"#DIV/0!"},null,null,{"$error":"#DIV/0!"}]
[null,39,{"$f":"'DATOS DEL ESTUDIANTE'!B42","v":0},{"$f":"'DATOS DEL ESTUDIANTE'!C42","v":0},{"$f":"'DATOS DEL ESTUDIANTE'!D42","v":0},null,null,null,null,null,null,null,{"$error":"#DIV/0!"},null,null,null,null,null,null,{"$error":"#DIV/0!"},null,{"$error":"#DIV/0!"},null,null,{"$error":"#DIV/0!"}]
[null,40,{"$f":"'DATOS DEL ESTUDIANTE'!B43","v":0},{"$f":"'DATOS DEL ESTUDIANTE'!C43","v":0},{"$f":"'DATOS DEL ESTUDIANTE'!D43","v":0},null,null,null,null,null,null,null,{"$error":"#DIV/0!"},null,null,null,null,null,null,{"$error":"#DIV/0!"},null,{"$error":"#DIV/0!"},null,null,{"$error":"#DIV/0!"}]
[null,41,{"$f":"'DATOS DEL ESTUDIANTE'!B44","v":0},{"$f":"'DATOS DEL ESTUDIANTE'!C44","v":0},{"$f":"'DATOS DEL ESTUDIANTE'!D44","v":0},null,null,null,null,null,null,null,{"$error":"#DIV/0!"},null,null,null,null,null,null,{"$error":"#DIV/0!"},null,{"$error":"#DIV/0!"},null,null,{"$error":"#DIV/0!"}]
[null,42,{"$f":"'DATOS DEL ESTUDIANTE'!B45","v":0},{"$f":"'DATOS DEL ESTUDIANTE'!C45","v":0},{"$f":"'DATOS DEL ESTUDIANTE'!D45","v":0},null,null,null,null,null,null,null,{"$error":"#DIV/0!"},null,null,null,null,null,null,{"$error":"#DIV/0!"},null,{"$error":"#DIV/0!"},null,null,{"$error":"#DIV/0!"}]
[null,43,{"$f":"'DATOS DEL ESTUDIANTE'!B46","v":0},{"$f":"'DATOS DEL ESTUDIANTE'!C46","v":0},{"$f":"'DATOS DEL ESTUDIANTE'!D46","v":0},null,null,null,null,null,null,null,{"$error":"#DIV/0!"},null,null,null,null,null,null,{"$error":"#DIV/0!"},null,{"$error":"#DIV/0!"},null,null,{"$error":"#DIV/0!"}]
[null,44,{"$f":"'DATOS DEL ESTUDIANTE'!B47","v":0},{"$f":"'DATOS DEL ESTUDIANTE'!C47","v":0},{"$f":"'DATOS DEL ESTUDIANTE'!D47","v":0},null,null,null,null,null,null,null,{"$error":"#DIV/0!"},null,null,null,null,null,null,{"$error":"#DIV/0!"},null,{"$error":"#DIV/0!"},null,null,{"$error":"#DIV/0!"}]
[null,45,{"$f":"'DATOS DEL ESTUDIANTE'!B48","v":0},{"$f":"'DATOS DEL ESTUDIANTE'!C48","v":0},{"$f":"'DATOS DEL ESTUDIANTE'!D48","v":0},null,null,null,null,null,null,null,{"$error":"#DIV/0!"},null,null,null,null,null,null,{"$error":"#DIV/0!"},null,{"$error":"#DIV/0!"},null,null,{"$error":"#DIV/0!"}]

{"sheet":"LENGUAJE CUARTO BIMESTRE","index":19,"n_rows":55,"n_cols":25,"rows_kept":55,"cut":false,"hidden":false,"merged":[[3,13,3,19],[3,22,8,23],[4,15,6,16],[4,17,6,18],[4,20,6,20],[4,13,6,14],[4,19,9,19],[0,0,9,0],[0,1,0,19],[1,10,1,12],[1,13,1,19],[2,1,2,19],[3,1,3,4],[4,1,6,4],[4,5,6,5],[4,6,6,7],[4,8,6,9],[7,1,7,4],[4,10,6,11],[4,12,9,12],[3,6,3,12],[1,1,1,3],[8,1,9,1],[8,5,9,5],[8,6,9,6],[8,7,9,7],[8,2,8,4],[1,4,1,9],[0,25,4,25],[8,20,9,20],[8,8,9,8],[8,9,9,9],[8,10,9,10],[8,11,9,11],[8,13,9,13],[8,14,9,14],[8,16,9,16],[8,17,9,17],[8,18,9,18],[8,15,9,15],[0,21,2,24],[1,20,2,20],[3,21,9,21],[3,24,9,24]]}
[null,"      COMUNICACIÓN Y  LENGUAJES",null,null,null,null,null,null,null,null,null,null,null,null,null,null,null,null,null,null,2018]
[null,"AÑO DE ESCOLARIDAD:",null,null,{"$f":"CARATULA!G15","v":0},null,null,null,null,null,"MAESTRA (O): ",null,null,{"$f":"CARATULA!G18","v":0},null,null,null,null,null,null,"CUARTO\nBIMESTRE"]
[null," REGISTRO  Y CENTRALIZADOR DEL PROCESO DE  EVALUACIÓN   "]
[null,"DIMENSIONES",null,null,null,"SER (10)","SABER (35)",null,null,null,null,null,null,"HACER (35)",null,null,null,null,null,null,"DECIDIR (10)","TOTAL     EVALUACIÓN    DEL     MAESTRO","AUTOEVALUACIÓN",null,"CALIFICACIÓN BIMESTRAL"]
[null,"CRITERIOS DE EVALUACIÓN SEGÚN PDC",null,null,null,null,null,null,null,null,null,null,"T      O     T     A       L",null,null,null,null,null,null,"T      O     T     A       L"]
[]
[]
[null,"INSTRUMENTO Y/ O ESTRATEGIAS DE EVALUACIÓN"]
[null,"N°","    FECHA DE  EVALUACIÓN\n \n\n"]
[null,null,"NOMBRES ","APELLIDO PATERNO"," \nAPELLIDO MATERNO",null,null,null,null,null,null,null,null,null,null,null,null,null,null,null,null,null,"SER\n(5)","DECIDIR\n(5)"]
[null,1,{"$f":"'DATOS DEL ESTUDIANTE'!B4","v":0},{"$f":"'DATOS DEL ESTUDIANTE'!C4","v":0},{"$f":"'DATOS DEL ESTUDIANTE'!D4","v":0},null,null,null,null,null,null,null,{"$f":"AVERAGE(G11:L11)","v":{"$error":"#DIV/0!"}},null,null,null,null,null,null,{"$f":"AVERAGE(N11:S11)","v":{"$error":"#DIV/0!"}},null,{"$f":"SUM(F11+M11+T11+U11)","v":{"$error":"#DIV/0!"}},null,null,{"$f":"SUM(V11:X11)","v":{"$error":"#DIV/0!"}}]
[null,2,{"$f":"'DATOS DEL ESTUDIANTE'!B5","v":0},{"$f":"'DATOS DEL ESTUDIANTE'!C5","v":0},{"$f":"'DATOS DEL ESTUDIANTE'!D5","v":0},null,null,null,null,null,null,null,{"$f":"AVERAGE(G12:L12)","v":{"$error":"#DIV/0!"}},null,null,null,null,null,null,{"$f":"AVERAGE(N12:S12)","v":{"$error":"#DIV/0!"}},null,{"$f":"SUM(F12+M12+T12+U12)","v":{"$error":"#DIV/0!"}},null,null,{"$f":"SUM(V12:X12)","v":{"$error":"#DIV/0!"}}]
[null,3,{"$f":"'DATOS DEL ESTUDIANTE'!B6","v":0},{"$f":"'DATOS DEL ESTUDIANTE'!C6","v":0},{"$f":"'DATOS DEL ESTUDIANTE'!D6","v":0},null,null,null,null,null,null,null,{"$error":"#DIV/0!"},null,null,null,null,null,null,{"$error":"#DIV/0!"},null,{"$error":"#DIV/0!"},null,null,{"$error":"#DIV/0!"}]
[null,4,{"$f":"'DATOS DEL ESTUDIANTE'!B7","v":0},{"$f":"'DATOS DEL ESTUDIANTE'!C7","v":0},{"$f":"'DATOS DEL ESTUDIANTE'!D7","v":0},null,null,null,null,null,null,null,{"$error":"#DIV/0!"},null,null,null,null,null,null,{"$error":"#DIV/0!"},null,{"$error":"#DIV/0!"},null,null,{"$error":"#DIV/0!"}]
[null,5,{"$f":"'DATOS DEL ESTUDIANTE'!B8","v":0},{"$f":"'DATOS DEL ESTUDIANTE'!C8","v":0},{"$f":"'DATOS DEL ESTUDIANTE'!D8","v":0},null,null,null,null,null,null,null,{"$error":"#DIV/0!"},null,null,null,null,null,null,{"$error":"#DIV/0!"},null,{"$error":"#DIV/0!"},null,null,{"$error":"#DIV/0!"}]
[null,6,{"$f":"'DATOS DEL ESTUDIANTE'!B9","v":0},{"$f":"'DATOS DEL ESTUDIANTE'!C9","v":0},{"$f":"'DATOS DEL ESTUDIANTE'!D9","v":0},null,null,null,null,null,null,null,{"$error":"#DIV/0!"},null,null,null,null,null,null,{"$error":"#DIV/0!"},null,{"$error":"#DIV/0!"},null,null,{"$error":"#DIV/0!"}]
[null,7,{"$f":"'DATOS DEL ESTUDIANTE'!B10","v":0},{"$f":"'DATOS DEL ESTUDIANTE'!C10","v":0},{"$f":"'DATOS DEL ESTUDIANTE'!D10","v":0},null,null,null,null,null,null,null,{"$error":"#DIV/0!"},null,null,null,null,null,null,{"$error":"#DIV/0!"},null,{"$error":"#DIV/0!"},null,null,{"$error":"#DIV/0!"}]
[null,8,{"$f":"'DATOS DEL ESTUDIANTE'!B11","v":0},{"$f":"'DATOS DEL ESTUDIANTE'!C11","v":0},{"$f":"'DATOS DEL ESTUDIANTE'!D11","v":0},null,null,null,null,null,null,null,{"$error":"#DIV/0!"},null,null,null,null,null,null,{"$error":"#DIV/0!"},null,{"$error":"#DIV/0!"},null,null,{"$error":"#DIV/0!"}]
[null,9,{"$f":"'DATOS DEL ESTUDIANTE'!B12","v":0},{"$f":"'DATOS DEL ESTUDIANTE'!C12","v":0},{"$f":"'DATOS DEL ESTUDIANTE'!D12","v":0},null,null,null,null,null,null,null,{"$error":"#DIV/0!"},null,null,null,null,null,null,{"$error":"#DIV/0!"},null,{"$error":"#DIV/0!"},null,null,{"$error":"#DIV/0!"}]
[null,10,{"$f":"'DATOS DEL ESTUDIANTE'!B13","v":0},{"$f":"'DATOS DEL ESTUDIANTE'!C13","v":0},{"$f":"'DATOS DEL ESTUDIANTE'!D13","v":0},null,null,null,null,null,null,null,{"$error":"#DIV/0!"},null,null,null,null,null,null,{"$error":"#DIV/0!"},null,{"$error":"#DIV/0!"},null,null,{"$error":"#DIV/0!"}]
[null,11,{"$f":"'DATOS DEL ESTUDIANTE'!B14","v":0},{"$f":"'DATOS DEL ESTUDIANTE'!C14","v":0},{"$f":"'DATOS DEL ESTUDIANTE'!D14","v":0},null,null,null,null,null,null,null,{"$error":"#DIV/0!"},null,null,null,null,null,null,{"$error":"#DIV/0!"},null,{"$error":"#DIV/0!"},null,null,{"$error":"#DIV/0!"}]
[null,12,{"$f":"'DATOS DEL ESTUDIANTE'!B15","v":0},{"$f":"'DATOS DEL ESTUDIANTE'!C15","v":0},{"$f":"'DATOS DEL ESTUDIANTE'!D15","v":0},null,null,null,null,null,null,null,{"$error":"#DIV/0!"},null,null,null,null,null,null,{"$error":"#DIV/0!"},null,{"$error":"#DIV/0!"},null,null,{"$error":"#DIV/0!"}]
[null,13,{"$f":"'DATOS DEL ESTUDIANTE'!B16","v":0},{"$f":"'DATOS DEL ESTUDIANTE'!C16","v":0},{"$f":"'DATOS DEL ESTUDIANTE'!D16","v":0},null,null,null,null,null,null,null,{"$error":"#DIV/0!"},null,null,null,null,null,null,{"$error":"#DIV/0!"},null,{"$error":"#DIV/0!"},null,null,{"$error":"#DIV/0!"}]
[null,14,{"$f":"'DATOS DEL ESTUDIANTE'!B17","v":0},{"$f":"'DATOS DEL ESTUDIANTE'!C17","v":0},{"$f":"'DATOS DEL ESTUDIANTE'!D17","v":0},null,null,null,null,null,null,null,{"$error":"#DIV/0!"},null,null,null,null,null,null,{"$error":"#DIV/0!"},null,{"$error":"#DIV/0!"},null,null,{"$error":"#DIV/0!"}]
[null,15,{"$f":"'DATOS DEL ESTUDIANTE'!B18","v":0},{"$f":"'DATOS DEL ESTUDIANTE'!C18","v":0},{"$f":"'DATOS DEL ESTUDIANTE'!D18","v":0},null,null,null,null,null,null,null,{"$error":"#DIV/0!"},null,null,null,null,null,null,{"$error":"#DIV/0!"},null,{"$error":"#DIV/0!"},null,null,{"$error":"#DIV/0!"}]
[null,16,{"$f":"'DATOS DEL ESTUDIANTE'!B19","v":0},{"$f":"'DATOS DEL ESTUDIANTE'!C19","v":0},{"$f":"'DATOS DEL ESTUDIANTE'!D19","v":0},null,null,null,null,null,null,null,{"$error":"#DIV/0!"},null,null,null,null,null,null,{"$error":"#DIV/0!"},null,{"$error":"#DIV/0!"},null,null,{"$error":"#DIV/0!"}]
[null,17,{"$f":"'DATOS DEL ESTUDIANTE'!B20","v":0},{"$f":"'DATOS DEL ESTUDIANTE'!C20","v":0},{"$f":"'DATOS DEL ESTUDIANTE'!D20","v":0},null,null,null,null,null,null,null,{"$error":"#DIV/0!"},null,null,null,null,null,null,{"$error":"#DIV/0!"},null,{"$error":"#DIV/0!"},null,null,{"$error":"#DIV/0!"}]
[null,18,{"$f":"'DATOS DEL ESTUDIANTE'!B21","v":0},{"$f":"'DATOS DEL ESTUDIANTE'!C21","v":0},{"$f":"'DATOS DEL ESTUDIANTE'!D21","v":0},null,null,null,null,null,null,null,{"$error":"#DIV/0!"},null,null,null,null,null,null,{"$error":"#DIV/0!"},null,{"$error":"#DIV/0!"},null,null,{"$error":"#DIV/0!"}]
[null,19,{"$f":"'DATOS DEL ESTUDIANTE'!B22","v":0},{"$f":"'DATOS DEL ESTUDIANTE'!C22","v":0},{"$f":"'DATOS DEL ESTUDIANTE'!D22","v":0},null,null,null,null,null,null,null,{"$error":"#DIV/0!"},null,null,null,null,null,null,{"$error":"#DIV/0!"},null,{"$error":"#DIV/0!"},null,null,{"$error":"#DIV/0!"}]
[null,20,{"$f":"'DATOS DEL ESTUDIANTE'!B23","v":0},{"$f":"'DATOS DEL ESTUDIANTE'!C23","v":0},{"$f":"'DATOS DEL ESTUDIANTE'!D23","v":0},null,null,null,null,null,null,null,{"$error":"#DIV/0!"},null,null,null,null,null,null,{"$error":"#DIV/0!"},null,{"$error":"#DIV/0!"},null,null,{"$error":"#DIV/0!"}]
[null,21,{"$f":"'DATOS DEL ESTUDIANTE'!B24","v":0},{"$f":"'DATOS DEL ESTUDIANTE'!C24","v":0},{"$f":"'DATOS DEL ESTUDIANTE'!D24","v":0},null,null,null,null,null,null,null,{"$error":"#DIV/0!"},null,null,null,null,null,null,{"$error":"#DIV/0!"},null,{"$error":"#DIV/0!"},null,null,{"$error":"#DIV/0!"}]
[null,22,{"$f":"'DATOS DEL ESTUDIANTE'!B25","v":0},{"$f":"'DATOS DEL ESTUDIANTE'!C25","v":0},{"$f":"'DATOS DEL ESTUDIANTE'!D25","v":0},null,null,null,null,null,null,null,{"$error":"#DIV/0!"},null,null,null,null,null,null,{"$error":"#DIV/0!"},null,{"$error":"#DIV/0!"},null,null,{"$error":"#DIV/0!"}]
[null,23,{"$f":"'DATOS DEL ESTUDIANTE'!B26","v":0},{"$f":"'DATOS DEL ESTUDIANTE'!C26","v":0},{"$f":"'DATOS DEL ESTUDIANTE'!D26","v":0},null,null,null,null,null,null,null,{"$error":"#DIV/0!"},null,null,null,null,null,null,{"$error":"#DIV/0!"},null,{"$error":"#DIV/0!"},null,null,{"$error":"#DIV/0!"}]
[null,24,{"$f":"'DATOS DEL ESTUDIANTE'!B27","v":0},{"$f":"'DATOS DEL ESTUDIANTE'!C27","v":0},{"$f":"'DATOS DEL ESTUDIANTE'!D27","v":0},null,null,null,null,null,null,null,{"$error":"#DIV/0!"},null,null,null,null,null,null,{"$error":"#DIV/0!"},null,{"$error":"#DIV/0!"},null,null,{"$error":"#DIV/0!"}]
[null,25,{"$f":"'DATOS DEL ESTUDIANTE'!B28","v":0},{"$f":"'DATOS DEL ESTUDIANTE'!C28","v":0},{"$f":"'DATOS DEL ESTUDIANTE'!D28","v":0},null,null,null,null,null,null,null,{"$error":"#DIV/0!"},null,null,null,null,null,null,{"$error":"#DIV/0!"},null,{"$error":"#DIV/0!"},null,null,{"$error":"#DIV/0!"}]
[null,26,{"$f":"'DATOS DEL ESTUDIANTE'!B29","v":0},{"$f":"'DATOS DEL ESTUDIANTE'!C29","v":0},{"$f":"'DATOS DEL ESTUDIANTE'!D29","v":0},null,null,null,null,null,null,null,{"$error":"#DIV/0!"},null,null,null,null,null,null,{"$error":"#DIV/0!"},null,{"$error":"#DIV/0!"},null,null,{"$error":"#DIV/0!"}]
[null,27,{"$f":"'DATOS DEL ESTUDIANTE'!B30","v":0},{"$f":"'DATOS DEL ESTUDIANTE'!C30","v":0},{"$f":"'DATOS DEL ESTUDIANTE'!D30","v":0},null,null,null,null,null,null,null,{"$error":"#DIV/0!"},null,null,null,null,null,null,{"$error":"#DIV/0!"},null,{"$error":"#DIV/0!"},null,null,{"$error":"#DIV/0!"}]
[null,28,{"$f":"'DATOS DEL ESTUDIANTE'!B31","v":0},{"$f":"'DATOS DEL ESTUDIANTE'!C31","v":0},{"$f":"'DATOS DEL ESTUDIANTE'!D31","v":0},null,null,null,null,null,null,null,{"$error":"#DIV/0!"},null,null,null,null,null,null,{"$error":"#DIV/0!"},null,{"$error":"#DIV/0!"},null,null,{"$error":"#DIV/0!"}]
[null,29,{"$f":"'DATOS DEL ESTUDIANTE'!B32","v":0},{"$f":"'DATOS DEL ESTUDIANTE'!C32","v":0},{"$f":"'DATOS DEL ESTUDIANTE'!D32","v":0},null,null,null,null,null,null,null,{"$error":"#DIV/0!"},null,null,null,null,null,null,{"$error":"#DIV/0!"},null,{"$error":"#DIV/0!"},null,null,{"$error":"#DIV/0!"}]
[null,30,{"$f":"'DATOS DEL ESTUDIANTE'!B33","v":0},{"$f":"'DATOS DEL ESTUDIANTE'!C33","v":0},{"$f":"'DATOS DEL ESTUDIANTE'!D33","v":0},null,null,null,null,null,null,null,{"$error":"#DIV/0!"},null,null,null,null,null,null,{"$error":"#DIV/0!"},null,{"$error":"#DIV/0!"},null,null,{"$error":"#DIV/0!"}]
[null,31,{"$f":"'DATOS DEL ESTUDIANTE'!B34","v":0},{"$f":"'DATOS DEL ESTUDIANTE'!C34","v":0},{"$f":"'DATOS DEL ESTUDIANTE'!D34","v":0},null,null,null,null,null,null,null,{"$error":"#DIV/0!"},null,null,null,null,null,null,{"$error":"#DIV/0!"},null,{"$error":"#DIV/0!"},null,null,{"$error":"#DIV/0!"}]
[null,32,{"$f":"'DATOS DEL ESTUDIANTE'!B35","v":0},{"$f":"'DATOS DEL ESTUDIANTE'!C35","v":0},{"$f":"'DATOS DEL ESTUDIANTE'!D35","v":0},null,null,null,null,null,null,null,{"$error":"#DIV/0!"},null,null,null,null,null,null,{"$error":"#DIV/0!"},null,{"$error":"#DIV/0!"},null,null,{"$error":"#DIV/0!"}]
[null,33,{"$f":"'DATOS DEL ESTUDIANTE'!B36","v":0},{"$f":"'DATOS DEL ESTUDIANTE'!C36","v":0},{"$f":"'DATOS DEL ESTUDIANTE'!D36","v":0},null,null,null,null,null,null,null,{"$error":"#DIV/0!"},null,null,null,null,null,null,{"$error":"#DIV/0!"},null,{"$error":"#DIV/0!"},null,null,{"$error":"#DIV/0!"}]
[null,34,{"$f":"'DATOS DEL ESTUDIANTE'!B37","v":0},{"$f":"'DATOS DEL ESTUDIANTE'!C37","v":0},{"$f":"'DATOS DEL ESTUDIANTE'!D37","v":0},null,null,null,null,null,null,null,{"$error":"#DIV/0!"},null,null,null,null,null,null,{"$error":"#DIV/0!"},null,{"$error":"#DIV/0!"},null,null,{"$error":"#DIV/0!"}]
[null,35,{"$f":"'DATOS DEL ESTUDIANTE'!B38","v":0},{"$f":"'DATOS DEL ESTUDIANTE'!C38","v":0},{"$f":"'DATOS DEL ESTUDIANTE'!D38","v":0},null,null,null,null,null,null,null,{"$error":"#DIV/0!"},null,null,null,null,null,null,{"$error":"#DIV/0!"},null,{"$error":"#DIV/0!"},null,null,{"$error":"#DIV/0!"}]
[null,36,{"$f":"'DATOS DEL ESTUDIANTE'!B39","v":0},{"$f":"'DATOS DEL ESTUDIANTE'!C39","v":0},{"$f":"'DATOS DEL ESTUDIANTE'!D39","v":0},null,null,null,null,null,null,null,{"$error":"#DIV/0!"},null,null,null,null,null,null,{"$error":"#DIV/0!"},null,{"$error":"#DIV/0!"},null,null,{"$error":"#DIV/0!"}]
[null,37,{"$f":"'DATOS DEL ESTUDIANTE'!B40","v":0},{"$f":"'DATOS DEL ESTUDIANTE'!C40","v":0},{"$f":"'DATOS DEL ESTUDIANTE'!D40","v":0},null,null,null,null,null,null,null,{"$error":"#DIV/0!"},null,null,null,null,null,null,{"$error":"#DIV/0!"},null,{"$error":"#DIV/0!"},null,null,{"$error":"#DIV/0!"}]
[null,38,{"$f":"'DATOS DEL ESTUDIANTE'!B41","v":0},{"$f":"'DATOS DEL ESTUDIANTE'!C41","v":0},{"$f":"'DATOS DEL ESTUDIANTE'!D41","v":0},null,null,null,null,null,null,null,{"$error":"#DIV/0!"},null,null,null,null,null,null,{"$error":"#DIV/0!"},null,{"$error":"#DIV/0!"},null,null,{"$error":"#DIV/0!"}]
[null,39,{"$f":"'DATOS DEL ESTUDIANTE'!B42","v":0},{"$f":"'DATOS DEL ESTUDIANTE'!C42","v":0},{"$f":"'DATOS DEL ESTUDIANTE'!D42","v":0},null,null,null,null,null,null,null,{"$error":"#DIV/0!"},null,null,null,null,null,null,{"$error":"#DIV/0!"},null,{"$error":"#DIV/0!"},null,null,{"$error":"#DIV/0!"}]
[null,40,{"$f":"'DATOS DEL ESTUDIANTE'!B43","v":0},{"$f":"'DATOS DEL ESTUDIANTE'!C43","v":0},{"$f":"'DATOS DEL ESTUDIANTE'!D43","v":0},null,null,null,null,null,null,null,{"$error":"#DIV/0!"},null,null,null,null,null,null,{"$error":"#DIV/0!"},null,{"$error":"#DIV/0!"},null,null,{"$error":"#DIV/0!"}]
[null,41,{"$f":"'DATOS DEL ESTUDIANTE'!B44","v":0},{"$f":"'DATOS DEL ESTUDIANTE'!C44","v":0},{"$f":"'DATOS DEL ESTUDIANTE'!D44","v":0},null,null,null,null,null,null,null,{"$error":"#DIV/0!"},null,null,null,null,null,null,{"$error":"#DIV/0!"},null,{"$error":"#DIV/0!"},null,null,{"$error":"#DIV/0!"}]
[null,42,{"$f":"'DATOS DEL ESTUDIANTE'!B45","v":0},{"$f":"'DATOS DEL ESTUDIANTE'!C45","v":0},{"$f":"'DATOS DEL ESTUDIANTE'!D45","v":0},null,null,null,null,null,null,null,{"$error":"#DIV/0!"},null,null,null,null,null,null,{"$error":"#DIV/0!"},null,{"$error":"#DIV/0!"},null,null,{"$error":"#DIV/0!"}]
[null,43,{"$f":"'DATOS DEL ESTUDIANTE'!B46","v":0},{"$f":"'DATOS DEL ESTUDIANTE'!C46","v":0},{"$f":"'DATOS DEL ESTUDIANTE'!D46","v":0},null,null,null,null,null,null,null,{"$error":"#DIV/0!"},null,null,null,null,null,null,{"$error":"#DIV/0!"},null,{"$error":"#DIV/0!"},null,null,{"$error":"#DIV/0!"}]
[null,44,{"$f":"'DATOS DEL ESTUDIANTE'!B47","v":0},{"$f":"'DATOS DEL ESTUDIANTE'!C47","v":0},{"$f":"'DATOS DEL ESTUDIANTE'!D47","v":0},null,null,null,null,null,null,null,{"$error":"#DIV/0!"},null,null,null,null,null,null,{"$error":"#DIV/0!"},null,{"$error":"#DIV/0!"},null,null,{"$error":"#DIV/0!"}]
[null,45,{"$f":"'DATOS DEL ESTUDIANTE'!B48","v":0},{"$f":"'DATOS DEL ESTUDIANTE'!C48","v":0},{"$f":"'DATOS DEL ESTUDIANTE'!D48","v":0},null,null,null,null,null,null,null,{"$error":"#DIV/0!"},null,null,null,null,null,null,{"$error":"#DIV/0!"},null,{"$error":"#DIV/0!"},null,null,{"$error":"#DIV/0!"}]

{"sheet":"CIENCIAS SOCIALES1","index":20,"n_rows":55,"n_cols":25,"rows_kept":55,"cut":false,"hidden":false,"merged":[[1,1,1,3],[8,18,9,18],[8,15,9,15],[4,19,9,19],[8,5,9,5],[7,1,7,4],[8,17,9,17],[8,13,9,13],[8,14,9,14],[8,11,9,11],[8,16,9,16],[8,2,8,4],[0,25,4,25],[4,1,6,4],[4,5,6,5],[4,6,6,7],[4,8,6,9],[1,4,1,9],[3,13,3,19],[4,10,6,11],[4,13,6,14],[4,12,9,12],[3,6,3,12],[8,7,9,7],[8,6,9,6],[8,8,9,8],[8,9,9,9],[8,10,9,10],[0,0,9,0],[0,1,0,19],[0,21,2,24],[1,10,1,12],[1,13,1,19],[1,20,2,20],[2,1,2,19],[3,1,3,4],[3,21,9,21],[3,22,8,23],[3,24,9,24],[4,15,6,16],[4,17,6,18],[4,20,6,20],[8,1,9,1],[8,20,9,20]]}
[null,"CIENCIAS    SOCIALES",null,null,null,null,null,null,null,null,null,null,null,null,null,null,null,null,null,null,2018]
[null,"AÑO DE ESCOLARIDAD:",null,null,{"$f":"CARATULA!G15","v":0},null,null,null,null,null,"MAESTRA (O): ",null,null,{"$f":"CARATULA!G18","v":0},null,null,null,null,null,null,"PRIMER\nBIMESTRE"]
[null," REGISTRO  Y CENTRALIZADOR DEL PROCESO DE  EVALUACIÓN   "]
[null,"DIMENSIONES",null,null,null,"SER (10)","SABER (35)",null,null,null,null,null,null,"HACER (35)",null,null,null,null,null,null,"DECIDIR (10)","TOTAL     EVALUACIÓN    DEL     MAESTRO","AUTOEVALUACIÓN",null,"CALIFICACIÓN BIMESTRAL"]
[null,"CRITERIOS DE EVALUACIÓN SEGÚN PDC",null,null,null,null,null,null,null,null,null,null,"T      O     T     A       L",null,null,null,null,null,null,"T      O     T     A       L"]
[]
[]
[null,"INSTRUMENTO Y/ O ESTRATEGIAS DE EVALUACIÓN"]
[null,"N°","    FECHA DE  EVALUACIÓN\n \n\n"]
[null,null,"NOMBRES ","APELLIDO PATERNO"," \nAPELLIDO MATERNO",null,null,null,null,null,null,null,null,null,null,null,null,null,null,null,null,null,"SER\n(5)","DECIDIR\n(5)"]
[null,1,{"$f":"'DATOS DEL ESTUDIANTE'!B4","v":0},{"$f":"'DATOS DEL ESTUDIANTE'!C4","v":0},{"$f":"'DATOS DEL ESTUDIANTE'!D4","v":0},null,null,null,null,null,null,null,{"$f":"AVERAGE(G11:L11)","v":{"$error":"#DIV/0!"}},null,null,null,null,null,null,{"$f":"AVERAGE(N11:S11)","v":{"$error":"#DIV/0!"}},null,{"$f":"SUM(F11+M11+T11+U11)","v":{"$error":"#DIV/0!"}},null,null,{"$f":"SUM(V11:X11)","v":{"$error":"#DIV/0!"}}]
[null,2,{"$f":"'DATOS DEL ESTUDIANTE'!B5","v":0},{"$f":"'DATOS DEL ESTUDIANTE'!C5","v":0},{"$f":"'DATOS DEL ESTUDIANTE'!D5","v":0},null,null,null,null,null,null,null,{"$f":"AVERAGE(G12:L12)","v":{"$error":"#DIV/0!"}},null,null,null,null,null,null,{"$f":"AVERAGE(N12:S12)","v":{"$error":"#DIV/0!"}},null,{"$f":"SUM(F12+M12+T12+U12)","v":{"$error":"#DIV/0!"}},null,null,{"$f":"SUM(V12:X12)","v":{"$error":"#DIV/0!"}}]
[null,3,{"$f":"'DATOS DEL ESTUDIANTE'!B6","v":0},{"$f":"'DATOS DEL ESTUDIANTE'!C6","v":0},{"$f":"'DATOS DEL ESTUDIANTE'!D6","v":0},null,null,null,null,null,null,null,{"$error":"#DIV/0!"},null,null,null,null,null,null,{"$error":"#DIV/0!"},null,{"$error":"#DIV/0!"},null,null,{"$error":"#DIV/0!"}]
[null,4,{"$f":"'DATOS DEL ESTUDIANTE'!B7","v":0},{"$f":"'DATOS DEL ESTUDIANTE'!C7","v":0},{"$f":"'DATOS DEL ESTUDIANTE'!D7","v":0},null,null,null,null,null,null,null,{"$error":"#DIV/0!"},null,null,null,null,null,null,{"$error":"#DIV/0!"},null,{"$error":"#DIV/0!"},null,null,{"$error":"#DIV/0!"}]
[null,5,{"$f":"'DATOS DEL ESTUDIANTE'!B8","v":0},{"$f":"'DATOS DEL ESTUDIANTE'!C8","v":0},{"$f":"'DATOS DEL ESTUDIANTE'!D8","v":0},null,null,null,null,null,null,null,{"$error":"#DIV/0!"},null,null,null,null,null,null,{"$error":"#DIV/0!"},null,{"$error":"#DIV/0!"},null,null,{"$error":"#DIV/0!"}]
[null,6,{"$f":"'DATOS DEL ESTUDIANTE'!B9","v":0},{"$f":"'DATOS DEL ESTUDIANTE'!C9","v":0},{"$f":"'DATOS DEL ESTUDIANTE'!D9","v":0},null,null,null,null,null,null,null,{"$error":"#DIV/0!"},null,null,null,null,null,null,{"$error":"#DIV/0!"},null,{"$error":"#DIV/0!"},null,null,{"$error":"#DIV/0!"}]
[null,7,{"$f":"'DATOS DEL ESTUDIANTE'!B10","v":0},{"$f":"'DATOS DEL ESTUDIANTE'!C10","v":0},{"$f":"'DATOS DEL ESTUDIANTE'!D10","v":0},null,null,null,null,null,null,null,{"$error":"#DIV/0!"},null,null,null,null,null,null,{"$error":"#DIV/0!"},null,{"$error":"#DIV/0!"},null,null,{"$error":"#DIV/0!"}]
[null,8,{"$f":"'DATOS DEL ESTUDIANTE'!B11","v":0},{"$f":"'DATOS DEL ESTUDIANTE'!C11","v":0},{"$f":"'DATOS DEL ESTUDIANTE'!D11","v":0},null,null,null,null,null,null,null,{"$error":"#DIV/0!"},null,null,null,null,null,null,{"$error":"#DIV/0!"},null,{"$error":"#DIV/0!"},null,null,{"$error":"#DIV/0!"}]
[null,9,{"$f":"'DATOS DEL ESTUDIANTE'!B12","v":0},{"$f":"'DATOS DEL ESTUDIANTE'!C12","v":0},{"$f":"'DATOS DEL ESTUDIANTE'!D12","v":0},null,null,null,null,null,null,null,{"$error":"#DIV/0!"},null,null,null,null,null,null,{"$error":"#DIV/0!"},null,{"$error":"#DIV/0!"},null,null,{"$error":"#DIV/0!"}]
[null,10,{"$f":"'DATOS DEL ESTUDIANTE'!B13","v":0},{"$f":"'DATOS DEL ESTUDIANTE'!C13","v":0},{"$f":"'DATOS DEL ESTUDIANTE'!D13","v":0},null,null,null,null,null,null,null,{"$error":"#DIV/0!"},null,null,null,null,null,null,{"$error":"#DIV/0!"},null,{"$error":"#DIV/0!"},null,null,{"$error":"#DIV/0!"}]
[null,11,{"$f":"'DATOS DEL ESTUDIANTE'!B14","v":0},{"$f":"'DATOS DEL ESTUDIANTE'!C14","v":0},{"$f":"'DATOS DEL ESTUDIANTE'!D14","v":0},null,null,null,null,null,null,null,{"$error":"#DIV/0!"},null,null,null,null,null,null,{"$error":"#DIV/0!"},null,{"$error":"#DIV/0!"},null,null,{"$error":"#DIV/0!"}]
[null,12,{"$f":"'DATOS DEL ESTUDIANTE'!B15","v":0},{"$f":"'DATOS DEL ESTUDIANTE'!C15","v":0},{"$f":"'DATOS DEL ESTUDIANTE'!D15","v":0},null,null,null,null,null,null,null,{"$error":"#DIV/0!"},null,null,null,null,null,null,{"$error":"#DIV/0!"},null,{"$error":"#DIV/0!"},null,null,{"$error":"#DIV/0!"}]
[null,13,{"$f":"'DATOS DEL ESTUDIANTE'!B16","v":0},{"$f":"'DATOS DEL ESTUDIANTE'!C16","v":0},{"$f":"'DATOS DEL ESTUDIANTE'!D16","v":0},null,null,null,null,null,null,null,{"$error":"#DIV/0!"},null,null,null,null,null,null,{"$error":"#DIV/0!"},null,{"$error":"#DIV/0!"},null,null,{"$error":"#DIV/0!"}]
[null,14,{"$f":"'DATOS DEL ESTUDIANTE'!B17","v":0},{"$f":"'DATOS DEL ESTUDIANTE'!C17","v":0},{"$f":"'DATOS DEL ESTUDIANTE'!D17","v":0},null,null,null,null,null,null,null,{"$error":"#DIV/0!"},null,null,null,null,null,null,{"$error":"#DIV/0!"},null,{"$error":"#DIV/0!"},null,null,{"$error":"#DIV/0!"}]
[null,15,{"$f":"'DATOS DEL ESTUDIANTE'!B18","v":0},{"$f":"'DATOS DEL ESTUDIANTE'!C18","v":0},{"$f":"'DATOS DEL ESTUDIANTE'!D18","v":0},null,null,null,null,null,null,null,{"$error":"#DIV/0!"},null,null,null,null,null,null,{"$error":"#DIV/0!"},null,{"$error":"#DIV/0!"},null,null,{"$error":"#DIV/0!"}]
[null,16,{"$f":"'DATOS DEL ESTUDIANTE'!B19","v":0},{"$f":"'DATOS DEL ESTUDIANTE'!C19","v":0},{"$f":"'DATOS DEL ESTUDIANTE'!D19","v":0},null,null,null,null,null,null,null,{"$error":"#DIV/0!"},null,null,null,null,null,null,{"$error":"#DIV/0!"},null,{"$error":"#DIV/0!"},null,null,{"$error":"#DIV/0!"}]
[null,17,{"$f":"'DATOS DEL ESTUDIANTE'!B20","v":0},{"$f":"'DATOS DEL ESTUDIANTE'!C20","v":0},{"$f":"'DATOS DEL ESTUDIANTE'!D20","v":0},null,null,null,null,null,null,null,{"$error":"#DIV/0!"},null,null,null,null,null,null,{"$error":"#DIV/0!"},null,{"$error":"#DIV/0!"},null,null,{"$error":"#DIV/0!"}]
[null,18,{"$f":"'DATOS DEL ESTUDIANTE'!B21","v":0},{"$f":"'DATOS DEL ESTUDIANTE'!C21","v":0},{"$f":"'DATOS DEL ESTUDIANTE'!D21","v":0},null,null,null,null,null,null,null,{"$error":"#DIV/0!"},null,null,null,null,null,null,{"$error":"#DIV/0!"},null,{"$error":"#DIV/0!"},null,null,{"$error":"#DIV/0!"}]
[null,19,{"$f":"'DATOS DEL ESTUDIANTE'!B22","v":0},{"$f":"'DATOS DEL ESTUDIANTE'!C22","v":0},{"$f":"'DATOS DEL ESTUDIANTE'!D22","v":0},null,null,null,null,null,null,null,{"$error":"#DIV/0!"},null,null,null,null,null,null,{"$error":"#DIV/0!"},null,{"$error":"#DIV/0!"},null,null,{"$error":"#DIV/0!"}]
[null,20,{"$f":"'DATOS DEL ESTUDIANTE'!B23","v":0},{"$f":"'DATOS DEL ESTUDIANTE'!C23","v":0},{"$f":"'DATOS DEL ESTUDIANTE'!D23","v":0},null,null,null,null,null,null,null,{"$error":"#DIV/0!"},null,null,null,null,null,null,{"$error":"#DIV/0!"},null,{"$error":"#DIV/0!"},null,null,{"$error":"#DIV/0!"}]
[null,21,{"$f":"'DATOS DEL ESTUDIANTE'!B24","v":0},{"$f":"'DATOS DEL ESTUDIANTE'!C24","v":0},{"$f":"'DATOS DEL ESTUDIANTE'!D24","v":0},null,null,null,null,null,null,null,{"$error":"#DIV/0!"},null,null,null,null,null,null,{"$error":"#DIV/0!"},null,{"$error":"#DIV/0!"},null,null,{"$error":"#DIV/0!"}]
[null,22,{"$f":"'DATOS DEL ESTUDIANTE'!B25","v":0},{"$f":"'DATOS DEL ESTUDIANTE'!C25","v":0},{"$f":"'DATOS DEL ESTUDIANTE'!D25","v":0},null,null,null,null,null,null,null,{"$error":"#DIV/0!"},null,null,null,null,null,null,{"$error":"#DIV/0!"},null,{"$error":"#DIV/0!"},null,null,{"$error":"#DIV/0!"}]
[null,23,{"$f":"'DATOS DEL ESTUDIANTE'!B26","v":0},{"$f":"'DATOS DEL ESTUDIANTE'!C26","v":0},{"$f":"'DATOS DEL ESTUDIANTE'!D26","v":0},null,null,null,null,null,null,null,{"$error":"#DIV/0!"},null,null,null,null,null,null,{"$error":"#DIV/0!"},null,{"$error":"#DIV/0!"},null,null,{"$error":"#DIV/0!"}]
[null,24,{"$f":"'DATOS DEL ESTUDIANTE'!B27","v":0},{"$f":"'DATOS DEL ESTUDIANTE'!C27","v":0},{"$f":"'DATOS DEL ESTUDIANTE'!D27","v":0},null,null,null,null,null,null,null,{"$error":"#DIV/0!"},null,null,null,null,null,null,{"$error":"#DIV/0!"},null,{"$error":"#DIV/0!"},null,null,{"$error":"#DIV/0!"}]
[null,25,{"$f":"'DATOS DEL ESTUDIANTE'!B28","v":0},{"$f":"'DATOS DEL ESTUDIANTE'!C28","v":0},{"$f":"'DATOS DEL ESTUDIANTE'!D28","v":0},null,null,null,null,null,null,null,{"$error":"#DIV/0!"},null,null,null,null,null,null,{"$error":"#DIV/0!"},null,{"$error":"#DIV/0!"},null,null,{"$error":"#DIV/0!"}]
[null,26,{"$f":"'DATOS DEL ESTUDIANTE'!B29","v":0},{"$f":"'DATOS DEL ESTUDIANTE'!C29","v":0},{"$f":"'DATOS DEL ESTUDIANTE'!D29","v":0},null,null,null,null,null,null,null,{"$error":"#DIV/0!"},null,null,null,null,null,null,{"$error":"#DIV/0!"},null,{"$error":"#DIV/0!"},null,null,{"$error":"#DIV/0!"}]
[null,27,{"$f":"'DATOS DEL ESTUDIANTE'!B30","v":0},{"$f":"'DATOS DEL ESTUDIANTE'!C30","v":0},{"$f":"'DATOS DEL ESTUDIANTE'!D30","v":0},null,null,null,null,null,null,null,{"$error":"#DIV/0!"},null,null,null,null,null,null,{"$error":"#DIV/0!"},null,{"$error":"#DIV/0!"},null,null,{"$error":"#DIV/0!"}]
[null,28,{"$f":"'DATOS DEL ESTUDIANTE'!B31","v":0},{"$f":"'DATOS DEL ESTUDIANTE'!C31","v":0},{"$f":"'DATOS DEL ESTUDIANTE'!D31","v":0},null,null,null,null,null,null,null,{"$error":"#DIV/0!"},null,null,null,null,null,null,{"$error":"#DIV/0!"},null,{"$error":"#DIV/0!"},null,null,{"$error":"#DIV/0!"}]
[null,29,{"$f":"'DATOS DEL ESTUDIANTE'!B32","v":0},{"$f":"'DATOS DEL ESTUDIANTE'!C32","v":0},{"$f":"'DATOS DEL ESTUDIANTE'!D32","v":0},null,null,null,null,null,null,null,{"$error":"#DIV/0!"},null,null,null,null,null,null,{"$error":"#DIV/0!"},null,{"$error":"#DIV/0!"},null,null,{"$error":"#DIV/0!"}]
[null,30,{"$f":"'DATOS DEL ESTUDIANTE'!B33","v":0},{"$f":"'DATOS DEL ESTUDIANTE'!C33","v":0},{"$f":"'DATOS DEL ESTUDIANTE'!D33","v":0},null,null,null,null,null,null,null,{"$error":"#DIV/0!"},null,null,null,null,null,null,{"$error":"#DIV/0!"},null,{"$error":"#DIV/0!"},null,null,{"$error":"#DIV/0!"}]
[null,31,{"$f":"'DATOS DEL ESTUDIANTE'!B34","v":0},{"$f":"'DATOS DEL ESTUDIANTE'!C34","v":0},{"$f":"'DATOS DEL ESTUDIANTE'!D34","v":0},null,null,null,null,null,null,null,{"$error":"#DIV/0!"},null,null,null,null,null,null,{"$error":"#DIV/0!"},null,{"$error":"#DIV/0!"},null,null,{"$error":"#DIV/0!"}]
[null,32,{"$f":"'DATOS DEL ESTUDIANTE'!B35","v":0},{"$f":"'DATOS DEL ESTUDIANTE'!C35","v":0},{"$f":"'DATOS DEL ESTUDIANTE'!D35","v":0},null,null,null,null,null,null,null,{"$error":"#DIV/0!"},null,null,null,null,null,null,{"$error":"#DIV/0!"},null,{"$error":"#DIV/0!"},null,null,{"$error":"#DIV/0!"}]
[null,33,{"$f":"'DATOS DEL ESTUDIANTE'!B36","v":0},{"$f":"'DATOS DEL ESTUDIANTE'!C36","v":0},{"$f":"'DATOS DEL ESTUDIANTE'!D36","v":0},null,null,null,null,null,null,null,{"$error":"#DIV/0!"},null,null,null,null,null,null,{"$error":"#DIV/0!"},null,{"$error":"#DIV/0!"},null,null,{"$error":"#DIV/0!"}]
[null,34,{"$f":"'DATOS DEL ESTUDIANTE'!B37","v":0},{"$f":"'DATOS DEL ESTUDIANTE'!C37","v":0},{"$f":"'DATOS DEL ESTUDIANTE'!D37","v":0},null,null,null,null,null,null,null,{"$error":"#DIV/0!"},null,null,null,null,null,null,{"$error":"#DIV/0!"},null,{"$error":"#DIV/0!"},null,null,{"$error":"#DIV/0!"}]
[null,35,{"$f":"'DATOS DEL ESTUDIANTE'!B38","v":0},{"$f":"'DATOS DEL ESTUDIANTE'!C38","v":0},{"$f":"'DATOS DEL ESTUDIANTE'!D38","v":0},null,null,null,null,null,null,null,{"$error":"#DIV/0!"},null,null,null,null,null,null,{"$error":"#DIV/0!"},null,{"$error":"#DIV/0!"},null,null,{"$error":"#DIV/0!"}]
[null,36,{"$f":"'DATOS DEL ESTUDIANTE'!B39","v":0},{"$f":"'DATOS DEL ESTUDIANTE'!C39","v":0},{"$f":"'DATOS DEL ESTUDIANTE'!D39","v":0},null,null,null,null,null,null,null,{"$error":"#DIV/0!"},null,null,null,null,null,null,{"$error":"#DIV/0!"},null,{"$error":"#DIV/0!"},null,null,{"$error":"#DIV/0!"}]
[null,37,{"$f":"'DATOS DEL ESTUDIANTE'!B40","v":0},{"$f":"'DATOS DEL ESTUDIANTE'!C40","v":0},{"$f":"'DATOS DEL ESTUDIANTE'!D40","v":0},null,null,null,null,null,null,null,{"$error":"#DIV/0!"},null,null,null,null,null,null,{"$error":"#DIV/0!"},null,{"$error":"#DIV/0!"},null,null,{"$error":"#DIV/0!"}]
[null,38,{"$f":"'DATOS DEL ESTUDIANTE'!B41","v":0},{"$f":"'DATOS DEL ESTUDIANTE'!C41","v":0},{"$f":"'DATOS DEL ESTUDIANTE'!D41","v":0},null,null,null,null,null,null,null,{"$error":"#DIV/0!"},null,null,null,null,null,null,{"$error":"#DIV/0!"},null,{"$error":"#DIV/0!"},null,null,{"$error":"#DIV/0!"}]
[null,39,{"$f":"'DATOS DEL ESTUDIANTE'!B42","v":0},{"$f":"'DATOS DEL ESTUDIANTE'!C42","v":0},{"$f":"'DATOS DEL ESTUDIANTE'!D42","v":0},null,null,null,null,null,null,null,{"$error":"#DIV/0!"},null,null,null,null,null,null,{"$error":"#DIV/0!"},null,{"$error":"#DIV/0!"},null,null,{"$error":"#DIV/0!"}]
[null,40,{"$f":"'DATOS DEL ESTUDIANTE'!B43","v":0},{"$f":"'DATOS DEL ESTUDIANTE'!C43","v":0},{"$f":"'DATOS DEL ESTUDIANTE'!D43","v":0},null,null,null,null,null,null,null,{"$error":"#DIV/0!"},null,null,null,null,null,null,{"$error":"#DIV/0!"},null,{"$error":"#DIV/0!"},null,null,{"$error":"#DIV/0!"}]
[null,41,{"$f":"'DATOS DEL ESTUDIANTE'!B44","v":0},{"$f":"'DATOS DEL ESTUDIANTE'!C44","v":0},{"$f":"'DATOS DEL ESTUDIANTE'!D44","v":0},null,null,null,null,null,null,null,{"$error":"#DIV/0!"},null,null,null,null,null,null,{"$error":"#DIV/0!"},null,{"$error":"#DIV/0!"},null,null,{"$error":"#DIV/0!"}]
[null,42,{"$f":"'DATOS DEL ESTUDIANTE'!B45","v":0},{"$f":"'DATOS DEL ESTUDIANTE'!C45","v":0},{"$f":"'DATOS DEL ESTUDIANTE'!D45","v":0},null,null,null,null,null,null,null,{"$error":"#DIV/0!"},null,null,null,null,null,null,{"$error":"#DIV/0!"},null,{"$error":"#DIV/0!"},null,null,{"$error":"#DIV/0!"}]
[null,43,{"$f":"'DATOS DEL ESTUDIANTE'!B46","v":0},{"$f":"'DATOS DEL ESTUDIANTE'!C46","v":0},{"$f":"'DATOS DEL ESTUDIANTE'!D46","v":0},null,null,null,null,null,null,null,{"$error":"#DIV/0!"},null,null,null,null,null,null,{"$error":"#DIV/0!"},null,{"$error":"#DIV/0!"},null,null,{"$error":"#DIV/0!"}]
[null,44,{"$f":"'DATOS DEL ESTUDIANTE'!B47","v":0},{"$f":"'DATOS DEL ESTUDIANTE'!C47","v":0},{"$f":"'DATOS DEL ESTUDIANTE'!D47","v":0},null,null,null,null,null,null,null,{"$error":"#DIV/0!"},null,null,null,null,null,null,{"$error":"#DIV/0!"},null,{"$error":"#DIV/0!"},null,null,{"$error":"#DIV/0!"}]
[null,45,{"$f":"'DATOS DEL ESTUDIANTE'!B48","v":0},{"$f":"'DATOS DEL ESTUDIANTE'!C48","v":0},{"$f":"'DATOS DEL ESTUDIANTE'!D48","v":0},null,null,null,null,null,null,null,{"$error":"#DIV/0!"},null,null,null,null,null,null,{"$error":"#DIV/0!"},null,{"$error":"#DIV/0!"},null,null,{"$error":"#DIV/0!"}]

{"sheet":"CIENCIAS SOCIALES2","index":21,"n_rows":55,"n_cols":25,"rows_kept":55,"cut":false,"hidden":false,"merged":[[0,25,4,25],[3,13,3,19],[1,4,1,9],[8,16,9,16],[8,17,9,17],[8,18,9,18],[8,15,9,15],[4,19,9,19],[8,2,8,4],[3,6,3,12],[8,8,9,8],[8,9,9,9],[8,10,9,10],[8,11,9,11],[4,8,6,9],[4,13,6,14],[3,21,9,21],[3,22,8,23],[3,24,9,24],[4,15,6,16],[4,17,6,18],[4,20,6,20],[0,21,2,24],[1,10,1,12],[1,13,1,19],[1,20,2,20],[2,1,2,19],[1,1,1,3],[8,1,9,1],[8,20,9,20],[8,7,9,7],[4,10,6,11],[0,0,9,0],[0,1,0,19],[3,1,3,4],[8,5,9,5],[8,6,9,6],[8,13,9,13],[8,14,9,14],[4,12,9,12],[7,1,7,4],[4,1,6,4],[4,5,6,5],[4,6,6,7]]}
[null,"CIENCIAS    SOCIALES",null,null,null,null,null,null,null,null,null,null,null,null,null,null,null,null,null,null,2018]
[null,"AÑO DE ESCOLARIDAD:",null,null,{"$f":"CARATULA!G15","v":0},null,null,null,null,null,"MAESTRA (O): ",null,null,{"$f":"CARATULA!G18","v":0},null,null,null,null,null,null,"SEGUNDO\nBIMESTRE"]
[null," REGISTRO  Y CENTRALIZADOR DEL PROCESO DE  EVALUACIÓN   "]
[null,"DIMENSIONES",null,null,null,"SER (10)","SABER (35)",null,null,null,null,null,null,"HACER (35)",null,null,null,null,null,null,"DECIDIR (10)","TOTAL     EVALUACIÓN    DEL     MAESTRO","AUTOEVALUACIÓN",null,"CALIFICACIÓN BIMESTRAL"]
[null,"CRITERIOS DE EVALUACIÓN SEGÚN PDC",null,null,null,null,null,null,null,null,null,null,"T      O     T     A       L",null,null,null,null,null,null,"T      O     T     A       L"]
[]
[]
[null,"INSTRUMENTO Y/ O ESTRATEGIAS DE EVALUACIÓN"]
[null,"N°","    FECHA DE  EVALUACIÓN\n \n\n"]
[null,null,"NOMBRES ","APELLIDO PATERNO"," \nAPELLIDO MATERNO",null,null,null,null,null,null,null,null,null,null,null,null,null,null,null,null,null,"SER\n(5)","DECIDIR\n(5)"]
[null,1,{"$f":"'DATOS DEL ESTUDIANTE'!B4","v":0},{"$f":"'DATOS DEL ESTUDIANTE'!C4","v":0},{"$f":"'DATOS DEL ESTUDIANTE'!D4","v":0},null,null,null,null,null,null,null,{"$f":"AVERAGE(G11:L11)","v":{"$error":"#DIV/0!"}},null,null,null,null,null,null,{"$f":"AVERAGE(N11:S11)","v":{"$error":"#DIV/0!"}},null,{"$f":"SUM(F11+M11+T11+U11)","v":{"$error":"#DIV/0!"}},null,null,{"$f":"SUM(V11:X11)","v":{"$error":"#DIV/0!"}}]
[null,2,{"$f":"'DATOS DEL ESTUDIANTE'!B5","v":0},{"$f":"'DATOS DEL ESTUDIANTE'!C5","v":0},{"$f":"'DATOS DEL ESTUDIANTE'!D5","v":0},null,null,null,null,null,null,null,{"$f":"AVERAGE(G12:L12)","v":{"$error":"#DIV/0!"}},null,null,null,null,null,null,{"$f":"AVERAGE(N12:S12)","v":{"$error":"#DIV/0!"}},null,{"$f":"SUM(F12+M12+T12+U12)","v":{"$error":"#DIV/0!"}},null,null,{"$f":"SUM(V12:X12)","v":{"$error":"#DIV/0!"}}]
[null,3,{"$f":"'DATOS DEL ESTUDIANTE'!B6","v":0},{"$f":"'DATOS DEL ESTUDIANTE'!C6","v":0},{"$f":"'DATOS DEL ESTUDIANTE'!D6","v":0},null,null,null,null,null,null,null,{"$error":"#DIV/0!"},null,null,null,null,null,null,{"$error":"#DIV/0!"},null,{"$error":"#DIV/0!"},null,null,{"$error":"#DIV/0!"}]
[null,4,{"$f":"'DATOS DEL ESTUDIANTE'!B7","v":0},{"$f":"'DATOS DEL ESTUDIANTE'!C7","v":0},{"$f":"'DATOS DEL ESTUDIANTE'!D7","v":0},null,null,null,null,null,null,null,{"$error":"#DIV/0!"},null,null,null,null,null,null,{"$error":"#DIV/0!"},null,{"$error":"#DIV/0!"},null,null,{"$error":"#DIV/0!"}]
[null,5,{"$f":"'DATOS DEL ESTUDIANTE'!B8","v":0},{"$f":"'DATOS DEL ESTUDIANTE'!C8","v":0},{"$f":"'DATOS DEL ESTUDIANTE'!D8","v":0},null,null,null,null,null,null,null,{"$error":"#DIV/0!"},null,null,null,null,null,null,{"$error":"#DIV/0!"},null,{"$error":"#DIV/0!"},null,null,{"$error":"#DIV/0!"}]
[null,6,{"$f":"'DATOS DEL ESTUDIANTE'!B9","v":0},{"$f":"'DATOS DEL ESTUDIANTE'!C9","v":0},{"$f":"'DATOS DEL ESTUDIANTE'!D9","v":0},null,null,null,null,null,null,null,{"$error":"#DIV/0!"},null,null,null,null,null,null,{"$error":"#DIV/0!"},null,{"$error":"#DIV/0!"},null,null,{"$error":"#DIV/0!"}]
[null,7,{"$f":"'DATOS DEL ESTUDIANTE'!B10","v":0},{"$f":"'DATOS DEL ESTUDIANTE'!C10","v":0},{"$f":"'DATOS DEL ESTUDIANTE'!D10","v":0},null,null,null,null,null,null,null,{"$error":"#DIV/0!"},null,null,null,null,null,null,{"$error":"#DIV/0!"},null,{"$error":"#DIV/0!"},null,null,{"$error":"#DIV/0!"}]
[null,8,{"$f":"'DATOS DEL ESTUDIANTE'!B11","v":0},{"$f":"'DATOS DEL ESTUDIANTE'!C11","v":0},{"$f":"'DATOS DEL ESTUDIANTE'!D11","v":0},null,null,null,null,null,null,null,{"$error":"#DIV/0!"},null,null,null,null,null,null,{"$error":"#DIV/0!"},null,{"$error":"#DIV/0!"},null,null,{"$error":"#DIV/0!"}]
[null,9,{"$f":"'DATOS DEL ESTUDIANTE'!B12","v":0},{"$f":"'DATOS DEL ESTUDIANTE'!C12","v":0},{"$f":"'DATOS DEL ESTUDIANTE'!D12","v":0},null,null,null,null,null,null,null,{"$error":"#DIV/0!"},null,null,null,null,null,null,{"$error":"#DIV/0!"},null,{"$error":"#DIV/0!"},null,null,{"$error":"#DIV/0!"}]
[null,10,{"$f":"'DATOS DEL ESTUDIANTE'!B13","v":0},{"$f":"'DATOS DEL ESTUDIANTE'!C13","v":0},{"$f":"'DATOS DEL ESTUDIANTE'!D13","v":0},null,null,null,null,null,null,null,{"$error":"#DIV/0!"},null,null,null,null,null,null,{"$error":"#DIV/0!"},null,{"$error":"#DIV/0!"},null,null,{"$error":"#DIV/0!"}]
[null,11,{"$f":"'DATOS DEL ESTUDIANTE'!B14","v":0},{"$f":"'DATOS DEL ESTUDIANTE'!C14","v":0},{"$f":"'DATOS DEL ESTUDIANTE'!D14","v":0},null,null,null,null,null,null,null,{"$error":"#DIV/0!"},null,null,null,null,null,null,{"$error":"#DIV/0!"},null,{"$error":"#DIV/0!"},null,null,{"$error":"#DIV/0!"}]
[null,12,{"$f":"'DATOS DEL ESTUDIANTE'!B15","v":0},{"$f":"'DATOS DEL ESTUDIANTE'!C15","v":0},{"$f":"'DATOS DEL ESTUDIANTE'!D15","v":0},null,null,null,null,null,null,null,{"$error":"#DIV/0!"},null,null,null,null,null,null,{"$error":"#DIV/0!"},null,{"$error":"#DIV/0!"},null,null,{"$error":"#DIV/0!"}]
[null,13,{"$f":"'DATOS DEL ESTUDIANTE'!B16","v":0},{"$f":"'DATOS DEL ESTUDIANTE'!C16","v":0},{"$f":"'DATOS DEL ESTUDIANTE'!D16","v":0},null,null,null,null,null,null,null,{"$error":"#DIV/0!"},null,null,null,null,null,null,{"$error":"#DIV/0!"},null,{"$error":"#DIV/0!"},null,null,{"$error":"#DIV/0!"}]
[null,14,{"$f":"'DATOS DEL ESTUDIANTE'!B17","v":0},{"$f":"'DATOS DEL ESTUDIANTE'!C17","v":0},{"$f":"'DATOS DEL ESTUDIANTE'!D17","v":0},null,null,null,null,null,null,null,{"$error":"#DIV/0!"},null,null,null,null,null,null,{"$error":"#DIV/0!"},null,{"$error":"#DIV/0!"},null,null,{"$error":"#DIV/0!"}]
[null,15,{"$f":"'DATOS DEL ESTUDIANTE'!B18","v":0},{"$f":"'DATOS DEL ESTUDIANTE'!C18","v":0},{"$f":"'DATOS DEL ESTUDIANTE'!D18","v":0},null,null,null,null,null,null,null,{"$error":"#DIV/0!"},null,null,null,null,null,null,{"$error":"#DIV/0!"},null,{"$error":"#DIV/0!"},null,null,{"$error":"#DIV/0!"}]
[null,16,{"$f":"'DATOS DEL ESTUDIANTE'!B19","v":0},{"$f":"'DATOS DEL ESTUDIANTE'!C19","v":0},{"$f":"'DATOS DEL ESTUDIANTE'!D19","v":0},null,null,null,null,null,null,null,{"$error":"#DIV/0!"},null,null,null,null,null,null,{"$error":"#DIV/0!"},null,{"$error":"#DIV/0!"},null,null,{"$error":"#DIV/0!"}]
[null,17,{"$f":"'DATOS DEL ESTUDIANTE'!B20","v":0},{"$f":"'DATOS DEL ESTUDIANTE'!C20","v":0},{"$f":"'DATOS DEL ESTUDIANTE'!D20","v":0},null,null,null,null,null,null,null,{"$error":"#DIV/0!"},null,null,null,null,null,null,{"$error":"#DIV/0!"},null,{"$error":"#DIV/0!"},null,null,{"$error":"#DIV/0!"}]
[null,18,{"$f":"'DATOS DEL ESTUDIANTE'!B21","v":0},{"$f":"'DATOS DEL ESTUDIANTE'!C21","v":0},{"$f":"'DATOS DEL ESTUDIANTE'!D21","v":0},null,null,null,null,null,null,null,{"$error":"#DIV/0!"},null,null,null,null,null,null,{"$error":"#DIV/0!"},null,{"$error":"#DIV/0!"},null,null,{"$error":"#DIV/0!"}]
[null,19,{"$f":"'DATOS DEL ESTUDIANTE'!B22","v":0},{"$f":"'DATOS DEL ESTUDIANTE'!C22","v":0},{"$f":"'DATOS DEL ESTUDIANTE'!D22","v":0},null,null,null,null,null,null,null,{"$error":"#DIV/0!"},null,null,null,null,null,null,{"$error":"#DIV/0!"},null,{"$error":"#DIV/0!"},null,null,{"$error":"#DIV/0!"}]
[null,20,{"$f":"'DATOS DEL ESTUDIANTE'!B23","v":0},{"$f":"'DATOS DEL ESTUDIANTE'!C23","v":0},{"$f":"'DATOS DEL ESTUDIANTE'!D23","v":0},null,null,null,null,null,null,null,{"$error":"#DIV/0!"},null,null,null,null,null,null,{"$error":"#DIV/0!"},null,{"$error":"#DIV/0!"},null,null,{"$error":"#DIV/0!"}]
[null,21,{"$f":"'DATOS DEL ESTUDIANTE'!B24","v":0},{"$f":"'DATOS DEL ESTUDIANTE'!C24","v":0},{"$f":"'DATOS DEL ESTUDIANTE'!D24","v":0},null,null,null,null,null,null,null,{"$error":"#DIV/0!"},null,null,null,null,null,null,{"$error":"#DIV/0!"},null,{"$error":"#DIV/0!"},null,null,{"$error":"#DIV/0!"}]
[null,22,{"$f":"'DATOS DEL ESTUDIANTE'!B25","v":0},{"$f":"'DATOS DEL ESTUDIANTE'!C25","v":0},{"$f":"'DATOS DEL ESTUDIANTE'!D25","v":0},null,null,null,null,null,null,null,{"$error":"#DIV/0!"},null,null,null,null,null,null,{"$error":"#DIV/0!"},null,{"$error":"#DIV/0!"},null,null,{"$error":"#DIV/0!"}]
[null,23,{"$f":"'DATOS DEL ESTUDIANTE'!B26","v":0},{"$f":"'DATOS DEL ESTUDIANTE'!C26","v":0},{"$f":"'DATOS DEL ESTUDIANTE'!D26","v":0},null,null,null,null,null,null,null,{"$error":"#DIV/0!"},null,null,null,null,null,null,{"$error":"#DIV/0!"},null,{"$error":"#DIV/0!"},null,null,{"$error":"#DIV/0!"}]
[null,24,{"$f":"'DATOS DEL ESTUDIANTE'!B27","v":0},{"$f":"'DATOS DEL ESTUDIANTE'!C27","v":0},{"$f":"'DATOS DEL ESTUDIANTE'!D27","v":0},null,null,null,null,null,null,null,{"$error":"#DIV/0!"},null,null,null,null,null,null,{"$error":"#DIV/0!"},null,{"$error":"#DIV/0!"},null,null,{"$error":"#DIV/0!"}]
[null,25,{"$f":"'DATOS DEL ESTUDIANTE'!B28","v":0},{"$f":"'DATOS DEL ESTUDIANTE'!C28","v":0},{"$f":"'DATOS DEL ESTUDIANTE'!D28","v":0},null,null,null,null,null,null,null,{"$error":"#DIV/0!"},null,null,null,null,null,null,{"$error":"#DIV/0!"},null,{"$error":"#DIV/0!"},null,null,{"$error":"#DIV/0!"}]
[null,26,{"$f":"'DATOS DEL ESTUDIANTE'!B29","v":0},{"$f":"'DATOS DEL ESTUDIANTE'!C29","v":0},{"$f":"'DATOS DEL ESTUDIANTE'!D29","v":0},null,null,null,null,null,null,null,{"$error":"#DIV/0!"},null,null,null,null,null,null,{"$error":"#DIV/0!"},null,{"$error":"#DIV/0!"},null,null,{"$error":"#DIV/0!"}]
[null,27,{"$f":"'DATOS DEL ESTUDIANTE'!B30","v":0},{"$f":"'DATOS DEL ESTUDIANTE'!C30","v":0},{"$f":"'DATOS DEL ESTUDIANTE'!D30","v":0},null,null,null,null,null,null,null,{"$error":"#DIV/0!"},null,null,null,null,null,null,{"$error":"#DIV/0!"},null,{"$error":"#DIV/0!"},null,null,{"$error":"#DIV/0!"}]
[null,28,{"$f":"'DATOS DEL ESTUDIANTE'!B31","v":0},{"$f":"'DATOS DEL ESTUDIANTE'!C31","v":0},{"$f":"'DATOS DEL ESTUDIANTE'!D31","v":0},null,null,null,null,null,null,null,{"$error":"#DIV/0!"},null,null,null,null,null,null,{"$error":"#DIV/0!"},null,{"$error":"#DIV/0!"},null,null,{"$error":"#DIV/0!"}]
[null,29,{"$f":"'DATOS DEL ESTUDIANTE'!B32","v":0},{"$f":"'DATOS DEL ESTUDIANTE'!C32","v":0},{"$f":"'DATOS DEL ESTUDIANTE'!D32","v":0},null,null,null,null,null,null,null,{"$error":"#DIV/0!"},null,null,null,null,null,null,{"$error":"#DIV/0!"},null,{"$error":"#DIV/0!"},null,null,{"$error":"#DIV/0!"}]
[null,30,{"$f":"'DATOS DEL ESTUDIANTE'!B33","v":0},{"$f":"'DATOS DEL ESTUDIANTE'!C33","v":0},{"$f":"'DATOS DEL ESTUDIANTE'!D33","v":0},null,null,null,null,null,null,null,{"$error":"#DIV/0!"},null,null,null,null,null,null,{"$error":"#DIV/0!"},null,{"$error":"#DIV/0!"},null,null,{"$error":"#DIV/0!"}]
[null,31,{"$f":"'DATOS DEL ESTUDIANTE'!B34","v":0},{"$f":"'DATOS DEL ESTUDIANTE'!C34","v":0},{"$f":"'DATOS DEL ESTUDIANTE'!D34","v":0},null,null,null,null,null,null,null,{"$error":"#DIV/0!"},null,null,null,null,null,null,{"$error":"#DIV/0!"},null,{"$error":"#DIV/0!"},null,null,{"$error":"#DIV/0!"}]
[null,32,{"$f":"'DATOS DEL ESTUDIANTE'!B35","v":0},{"$f":"'DATOS DEL ESTUDIANTE'!C35","v":0},{"$f":"'DATOS DEL ESTUDIANTE'!D35","v":0},null,null,null,null,null,null,null,{"$error":"#DIV/0!"},null,null,null,null,null,null,{"$error":"#DIV/0!"},null,{"$error":"#DIV/0!"},null,null,{"$error":"#DIV/0!"}]
[null,33,{"$f":"'DATOS DEL ESTUDIANTE'!B36","v":0},{"$f":"'DATOS DEL ESTUDIANTE'!C36","v":0},{"$f":"'DATOS DEL ESTUDIANTE'!D36","v":0},null,null,null,null,null,null,null,{"$error":"#DIV/0!"},null,null,null,null,null,null,{"$error":"#DIV/0!"},null,{"$error":"#DIV/0!"},null,null,{"$error":"#DIV/0!"}]
[null,34,{"$f":"'DATOS DEL ESTUDIANTE'!B37","v":0},{"$f":"'DATOS DEL ESTUDIANTE'!C37","v":0},{"$f":"'DATOS DEL ESTUDIANTE'!D37","v":0},null,null,null,null,null,null,null,{"$error":"#DIV/0!"},null,null,null,null,null,null,{"$error":"#DIV/0!"},null,{"$error":"#DIV/0!"},null,null,{"$error":"#DIV/0!"}]
[null,35,{"$f":"'DATOS DEL ESTUDIANTE'!B38","v":0},{"$f":"'DATOS DEL ESTUDIANTE'!C38","v":0},{"$f":"'DATOS DEL ESTUDIANTE'!D38","v":0},null,null,null,null,null,null,null,{"$error":"#DIV/0!"},null,null,null,null,null,null,{"$error":"#DIV/0!"},null,{"$error":"#DIV/0!"},null,null,{"$error":"#DIV/0!"}]
[null,36,{"$f":"'DATOS DEL ESTUDIANTE'!B39","v":0},{"$f":"'DATOS DEL ESTUDIANTE'!C39","v":0},{"$f":"'DATOS DEL ESTUDIANTE'!D39","v":0},null,null,null,null,null,null,null,{"$error":"#DIV/0!"},null,null,null,null,null,null,{"$error":"#DIV/0!"},null,{"$error":"#DIV/0!"},null,null,{"$error":"#DIV/0!"}]
[null,37,{"$f":"'DATOS DEL ESTUDIANTE'!B40","v":0},{"$f":"'DATOS DEL ESTUDIANTE'!C40","v":0},{"$f":"'DATOS DEL ESTUDIANTE'!D40","v":0},null,null,null,null,null,null,null,{"$error":"#DIV/0!"},null,null,null,null,null,null,{"$error":"#DIV/0!"},null,{"$error":"#DIV/0!"},null,null,{"$error":"#DIV/0!"}]
[null,38,{"$f":"'DATOS DEL ESTUDIANTE'!B41","v":0},{"$f":"'DATOS DEL ESTUDIANTE'!C41","v":0},{"$f":"'DATOS DEL ESTUDIANTE'!D41","v":0},null,null,null,null,null,null,null,{"$error":"#DIV/0!"},null,null,null,null,null,null,{"$error":"#DIV/0!"},null,{"$error":"#DIV/0!"},null,null,{"$error":"#DIV/0!"}]
[null,39,{"$f":"'DATOS DEL ESTUDIANTE'!B42","v":0},{"$f":"'DATOS DEL ESTUDIANTE'!C42","v":0},{"$f":"'DATOS DEL ESTUDIANTE'!D42","v":0},null,null,null,null,null,null,null,{"$error":"#DIV/0!"},null,null,null,null,null,null,{"$error":"#DIV/0!"},null,{"$error":"#DIV/0!"},null,null,{"$error":"#DIV/0!"}]
[null,40,{"$f":"'DATOS DEL ESTUDIANTE'!B43","v":0},{"$f":"'DATOS DEL ESTUDIANTE'!C43","v":0},{"$f":"'DATOS DEL ESTUDIANTE'!D43","v":0},null,null,null,null,null,null,null,{"$error":"#DIV/0!"},null,null,null,null,null,null,{"$error":"#DIV/0!"},null,{"$error":"#DIV/0!"},null,null,{"$error":"#DIV/0!"}]
[null,41,{"$f":"'DATOS DEL ESTUDIANTE'!B44","v":0},{"$f":"'DATOS DEL ESTUDIANTE'!C44","v":0},{"$f":"'DATOS DEL ESTUDIANTE'!D44","v":0},null,null,null,null,null,null,null,{"$error":"#DIV/0!"},null,null,null,null,null,null,{"$error":"#DIV/0!"},null,{"$error":"#DIV/0!"},null,null,{"$error":"#DIV/0!"}]
[null,42,{"$f":"'DATOS DEL ESTUDIANTE'!B45","v":0},{"$f":"'DATOS DEL ESTUDIANTE'!C45","v":0},{"$f":"'DATOS DEL ESTUDIANTE'!D45","v":0},null,null,null,null,null,null,null,{"$error":"#DIV/0!"},null,null,null,null,null,null,{"$error":"#DIV/0!"},null,{"$error":"#DIV/0!"},null,null,{"$error":"#DIV/0!"}]
[null,43,{"$f":"'DATOS DEL ESTUDIANTE'!B46","v":0},{"$f":"'DATOS DEL ESTUDIANTE'!C46","v":0},{"$f":"'DATOS DEL ESTUDIANTE'!D46","v":0},null,null,null,null,null,null,null,{"$error":"#DIV/0!"},null,null,null,null,null,null,{"$error":"#DIV/0!"},null,{"$error":"#DIV/0!"},null,null,{"$error":"#DIV/0!"}]
[null,44,{"$f":"'DATOS DEL ESTUDIANTE'!B47","v":0},{"$f":"'DATOS DEL ESTUDIANTE'!C47","v":0},{"$f":"'DATOS DEL ESTUDIANTE'!D47","v":0},null,null,null,null,null,null,null,{"$error":"#DIV/0!"},null,null,null,null,null,null,{"$error":"#DIV/0!"},null,{"$error":"#DIV/0!"},null,null,{"$error":"#DIV/0!"}]
[null,45,{"$f":"'DATOS DEL ESTUDIANTE'!B48","v":0},{"$f":"'DATOS DEL ESTUDIANTE'!C48","v":0},{"$f":"'DATOS DEL ESTUDIANTE'!D48","v":0},null,null,null,null,null,null,null,{"$error":"#DIV/0!"},null,null,null,null,null,null,{"$error":"#DIV/0!"},null,{"$error":"#DIV/0!"},null,null,{"$error":"#DIV/0!"}]

{"sheet":"CIENCIAS SOCIALES 3","index":22,"n_rows":55,"n_cols":25,"rows_kept":55,"cut":false,"hidden":false,"merged":[[1,1,1,3],[4,12,9,12],[4,19,9,19],[3,6,3,12],[3,13,3,19],[4,10,6,11],[8,7,9,7],[4,1,6,4],[4,5,6,5],[4,6,6,7],[4,8,6,9],[7,1,7,4],[8,1,9,1],[8,5,9,5],[8,6,9,6],[8,2,8,4],[8,20,9,20],[8,8,9,8],[8,9,9,9],[8,10,9,10],[8,11,9,11],[8,13,9,13],[8,14,9,14],[8,16,9,16],[8,17,9,17],[8,18,9,18],[8,15,9,15],[1,4,1,9],[0,0,9,0],[0,1,0,19],[0,21,2,24],[1,10,1,12],[1,13,1,19],[1,20,2,20],[2,1,2,19],[3,1,3,4],[3,21,9,21],[3,22,8,23],[3,24,9,24],[4,15,6,16],[4,17,6,18],[4,20,6,20],[4,13,6,14]]}
[null,"CIENCIAS    SOCIALES",null,null,null,null,null,null,null,null,null,null,null,null,null,null,null,null,null,null,2018]
[null,"AÑO DE ESCOLARIDAD:",null,null,{"$f":"CARATULA!G15","v":0},null,null,null,null,null,"MAESTRA (O): ",null,null,{"$f":"CARATULA!G18","v":0},null,null,null,null,null,null,"TERCER\nBIMESTRE"]
[null," REGISTRO  Y CENTRALIZADOR DEL PROCESO DE  EVALUACIÓN   "]
[null,"DIMENSIONES",null,null,null,"SER (10)","SABER (35)",null,null,null,null,null,null,"HACER (35)",null,null,null,null,null,null,"DECIDIR (10)","TOTAL     EVALUACIÓN    DEL     MAESTRO","AUTOEVALUACIÓN",null,"CALIFICACIÓN BIMESTRAL"]
[null,"CRITERIOS DE EVALUACIÓN SEGÚN PDC",null,null,null,null,null,null,null,null,null,null,"T      O     T     A       L",null,null,null,null,null,null,"T      O     T     A       L"]
[]
[]
[null,"INSTRUMENTO Y/ O ESTRATEGIAS DE EVALUACIÓN"]
[null,"N°","    FECHA DE  EVALUACIÓN\n \n\n"]
[null,null,"NOMBRES ","APELLIDO PATERNO"," \nAPELLIDO MATERNO",null,null,null,null,null,null,null,null,null,null,null,null,null,null,null,null,null,"SER\n(5)","DECIDIR\n(5)"]
[null,1,{"$f":"'DATOS DEL ESTUDIANTE'!B4","v":0},{"$f":"'DATOS DEL ESTUDIANTE'!C4","v":0},{"$f":"'DATOS DEL ESTUDIANTE'!D4","v":0},null,null,null,null,null,null,null,{"$f":"AVERAGE(G11:L11)","v":{"$error":"#DIV/0!"}},null,null,null,null,null,null,{"$f":"AVERAGE(N11:S11)","v":{"$error":"#DIV/0!"}},null,{"$f":"SUM(F11+M11+T11+U11)","v":{"$error":"#DIV/0!"}},null,null,{"$f":"SUM(V11:X11)","v":{"$error":"#DIV/0!"}}]
[null,2,{"$f":"'DATOS DEL ESTUDIANTE'!B5","v":0},{"$f":"'DATOS DEL ESTUDIANTE'!C5","v":0},{"$f":"'DATOS DEL ESTUDIANTE'!D5","v":0},null,null,null,null,null,null,null,{"$f":"AVERAGE(G12:L12)","v":{"$error":"#DIV/0!"}},null,null,null,null,null,null,{"$f":"AVERAGE(N12:S12)","v":{"$error":"#DIV/0!"}},null,{"$f":"SUM(F12+M12+T12+U12)","v":{"$error":"#DIV/0!"}},null,null,{"$f":"SUM(V12:X12)","v":{"$error":"#DIV/0!"}}]
[null,3,{"$f":"'DATOS DEL ESTUDIANTE'!B6","v":0},{"$f":"'DATOS DEL ESTUDIANTE'!C6","v":0},{"$f":"'DATOS DEL ESTUDIANTE'!D6","v":0},null,null,null,null,null,null,null,{"$error":"#DIV/0!"},null,null,null,null,null,null,{"$error":"#DIV/0!"},null,{"$error":"#DIV/0!"},null,null,{"$error":"#DIV/0!"}]
[null,4,{"$f":"'DATOS DEL ESTUDIANTE'!B7","v":0},{"$f":"'DATOS DEL ESTUDIANTE'!C7","v":0},{"$f":"'DATOS DEL ESTUDIANTE'!D7","v":0},null,null,null,null,null,null,null,{"$error":"#DIV/0!"},null,null,null,null,null,null,{"$error":"#DIV/0!"},null,{"$error":"#DIV/0!"},null,null,{"$error":"#DIV/0!"}]
[null,5,{"$f":"'DATOS DEL ESTUDIANTE'!B8","v":0},{"$f":"'DATOS DEL ESTUDIANTE'!C8","v":0},{"$f":"'DATOS DEL ESTUDIANTE'!D8","v":0},null,null,null,null,null,null,null,{"$error":"#DIV/0!"},null,null,null,null,null,null,{"$error":"#DIV/0!"},null,{"$error":"#DIV/0!"},null,null,{"$error":"#DIV/0!"}]
[null,6,{"$f":"'DATOS DEL ESTUDIANTE'!B9","v":0},{"$f":"'DATOS DEL ESTUDIANTE'!C9","v":0},{"$f":"'DATOS DEL ESTUDIANTE'!D9","v":0},null,null,null,null,null,null,null,{"$error":"#DIV/0!"},null,null,null,null,null,null,{"$error":"#DIV/0!"},null,{"$error":"#DIV/0!"},null,null,{"$error":"#DIV/0!"}]
[null,7,{"$f":"'DATOS DEL ESTUDIANTE'!B10","v":0},{"$f":"'DATOS DEL ESTUDIANTE'!C10","v":0},{"$f":"'DATOS DEL ESTUDIANTE'!D10","v":0},null,null,null,null,null,null,null,{"$error":"#DIV/0!"},null,null,null,null,null,null,{"$error":"#DIV/0!"},null,{"$error":"#DIV/0!"},null,null,{"$error":"#DIV/0!"}]
[null,8,{"$f":"'DATOS DEL ESTUDIANTE'!B11","v":0},{"$f":"'DATOS DEL ESTUDIANTE'!C11","v":0},{"$f":"'DATOS DEL ESTUDIANTE'!D11","v":0},null,null,null,null,null,null,null,{"$error":"#DIV/0!"},null,null,null,null,null,null,{"$error":"#DIV/0!"},null,{"$error":"#DIV/0!"},null,null,{"$error":"#DIV/0!"}]
[null,9,{"$f":"'DATOS DEL ESTUDIANTE'!B12","v":0},{"$f":"'DATOS DEL ESTUDIANTE'!C12","v":0},{"$f":"'DATOS DEL ESTUDIANTE'!D12","v":0},null,null,null,null,null,null,null,{"$error":"#DIV/0!"},null,null,null,null,null,null,{"$error":"#DIV/0!"},null,{"$error":"#DIV/0!"},null,null,{"$error":"#DIV/0!"}]
[null,10,{"$f":"'DATOS DEL ESTUDIANTE'!B13","v":0},{"$f":"'DATOS DEL ESTUDIANTE'!C13","v":0},{"$f":"'DATOS DEL ESTUDIANTE'!D13","v":0},null,null,null,null,null,null,null,{"$error":"#DIV/0!"},null,null,null,null,null,null,{"$error":"#DIV/0!"},null,{"$error":"#DIV/0!"},null,null,{"$error":"#DIV/0!"}]
[null,11,{"$f":"'DATOS DEL ESTUDIANTE'!B14","v":0},{"$f":"'DATOS DEL ESTUDIANTE'!C14","v":0},{"$f":"'DATOS DEL ESTUDIANTE'!D14","v":0},null,null,null,null,null,null,null,{"$error":"#DIV/0!"},null,null,null,null,null,null,{"$error":"#DIV/0!"},null,{"$error":"#DIV/0!"},null,null,{"$error":"#DIV/0!"}]
[null,12,{"$f":"'DATOS DEL ESTUDIANTE'!B15","v":0},{"$f":"'DATOS DEL ESTUDIANTE'!C15","v":0},{"$f":"'DATOS DEL ESTUDIANTE'!D15","v":0},null,null,null,null,null,null,null,{"$error":"#DIV/0!"},null,null,null,null,null,null,{"$error":"#DIV/0!"},null,{"$error":"#DIV/0!"},null,null,{"$error":"#DIV/0!"}]
[null,13,{"$f":"'DATOS DEL ESTUDIANTE'!B16","v":0},{"$f":"'DATOS DEL ESTUDIANTE'!C16","v":0},{"$f":"'DATOS DEL ESTUDIANTE'!D16","v":0},null,null,null,null,null,null,null,{"$error":"#DIV/0!"},null,null,null,null,null,null,{"$error":"#DIV/0!"},null,{"$error":"#DIV/0!"},null,null,{"$error":"#DIV/0!"}]
[null,14,{"$f":"'DATOS DEL ESTUDIANTE'!B17","v":0},{"$f":"'DATOS DEL ESTUDIANTE'!C17","v":0},{"$f":"'DATOS DEL ESTUDIANTE'!D17","v":0},null,null,null,null,null,null,null,{"$error":"#DIV/0!"},null,null,null,null,null,null,{"$error":"#DIV/0!"},null,{"$error":"#DIV/0!"},null,null,{"$error":"#DIV/0!"}]
[null,15,{"$f":"'DATOS DEL ESTUDIANTE'!B18","v":0},{"$f":"'DATOS DEL ESTUDIANTE'!C18","v":0},{"$f":"'DATOS DEL ESTUDIANTE'!D18","v":0},null,null,null,null,null,null,null,{"$error":"#DIV/0!"},null,null,null,null,null,null,{"$error":"#DIV/0!"},null,{"$error":"#DIV/0!"},null,null,{"$error":"#DIV/0!"}]
[null,16,{"$f":"'DATOS DEL ESTUDIANTE'!B19","v":0},{"$f":"'DATOS DEL ESTUDIANTE'!C19","v":0},{"$f":"'DATOS DEL ESTUDIANTE'!D19","v":0},null,null,null,null,null,null,null,{"$error":"#DIV/0!"},null,null,null,null,null,null,{"$error":"#DIV/0!"},null,{"$error":"#DIV/0!"},null,null,{"$error":"#DIV/0!"}]
[null,17,{"$f":"'DATOS DEL ESTUDIANTE'!B20","v":0},{"$f":"'DATOS DEL ESTUDIANTE'!C20","v":0},{"$f":"'DATOS DEL ESTUDIANTE'!D20","v":0},null,null,null,null,null,null,null,{"$error":"#DIV/0!"},null,null,null,null,null,null,{"$error":"#DIV/0!"},null,{"$error":"#DIV/0!"},null,null,{"$error":"#DIV/0!"}]
[null,18,{"$f":"'DATOS DEL ESTUDIANTE'!B21","v":0},{"$f":"'DATOS DEL ESTUDIANTE'!C21","v":0},{"$f":"'DATOS DEL ESTUDIANTE'!D21","v":0},null,null,null,null,null,null,null,{"$error":"#DIV/0!"},null,null,null,null,null,null,{"$error":"#DIV/0!"},null,{"$error":"#DIV/0!"},null,null,{"$error":"#DIV/0!"}]
[null,19,{"$f":"'DATOS DEL ESTUDIANTE'!B22","v":0},{"$f":"'DATOS DEL ESTUDIANTE'!C22","v":0},{"$f":"'DATOS DEL ESTUDIANTE'!D22","v":0},null,null,null,null,null,null,null,{"$error":"#DIV/0!"},null,null,null,null,null,null,{"$error":"#DIV/0!"},null,{"$error":"#DIV/0!"},null,null,{"$error":"#DIV/0!"}]
[null,20,{"$f":"'DATOS DEL ESTUDIANTE'!B23","v":0},{"$f":"'DATOS DEL ESTUDIANTE'!C23","v":0},{"$f":"'DATOS DEL ESTUDIANTE'!D23","v":0},null,null,null,null,null,null,null,{"$error":"#DIV/0!"},null,null,null,null,null,null,{"$error":"#DIV/0!"},null,{"$error":"#DIV/0!"},null,null,{"$error":"#DIV/0!"}]
[null,21,{"$f":"'DATOS DEL ESTUDIANTE'!B24","v":0},{"$f":"'DATOS DEL ESTUDIANTE'!C24","v":0},{"$f":"'DATOS DEL ESTUDIANTE'!D24","v":0},null,null,null,null,null,null,null,{"$error":"#DIV/0!"},null,null,null,null,null,null,{"$error":"#DIV/0!"},null,{"$error":"#DIV/0!"},null,null,{"$error":"#DIV/0!"}]
[null,22,{"$f":"'DATOS DEL ESTUDIANTE'!B25","v":0},{"$f":"'DATOS DEL ESTUDIANTE'!C25","v":0},{"$f":"'DATOS DEL ESTUDIANTE'!D25","v":0},null,null,null,null,null,null,null,{"$error":"#DIV/0!"},null,null,null,null,null,null,{"$error":"#DIV/0!"},null,{"$error":"#DIV/0!"},null,null,{"$error":"#DIV/0!"}]
[null,23,{"$f":"'DATOS DEL ESTUDIANTE'!B26","v":0},{"$f":"'DATOS DEL ESTUDIANTE'!C26","v":0},{"$f":"'DATOS DEL ESTUDIANTE'!D26","v":0},null,null,null,null,null,null,null,{"$error":"#DIV/0!"},null,null,null,null,null,null,{"$error":"#DIV/0!"},null,{"$error":"#DIV/0!"},null,null,{"$error":"#DIV/0!"}]
[null,24,{"$f":"'DATOS DEL ESTUDIANTE'!B27","v":0},{"$f":"'DATOS DEL ESTUDIANTE'!C27","v":0},{"$f":"'DATOS DEL ESTUDIANTE'!D27","v":0},null,null,null,null,null,null,null,{"$error":"#DIV/0!"},null,null,null,null,null,null,{"$error":"#DIV/0!"},null,{"$error":"#DIV/0!"},null,null,{"$error":"#DIV/0!"}]
[null,25,{"$f":"'DATOS DEL ESTUDIANTE'!B28","v":0},{"$f":"'DATOS DEL ESTUDIANTE'!C28","v":0},{"$f":"'DATOS DEL ESTUDIANTE'!D28","v":0},null,null,null,null,null,null,null,{"$error":"#DIV/0!"},null,null,null,null,null,null,{"$error":"#DIV/0!"},null,{"$error":"#DIV/0!"},null,null,{"$error":"#DIV/0!"}]
[null,26,{"$f":"'DATOS DEL ESTUDIANTE'!B29","v":0},{"$f":"'DATOS DEL ESTUDIANTE'!C29","v":0},{"$f":"'DATOS DEL ESTUDIANTE'!D29","v":0},null,null,null,null,null,null,null,{"$error":"#DIV/0!"},null,null,null,null,null,null,{"$error":"#DIV/0!"},null,{"$error":"#DIV/0!"},null,null,{"$error":"#DIV/0!"}]
[null,27,{"$f":"'DATOS DEL ESTUDIANTE'!B30","v":0},{"$f":"'DATOS DEL ESTUDIANTE'!C30","v":0},{"$f":"'DATOS DEL ESTUDIANTE'!D30","v":0},null,null,null,null,null,null,null,{"$error":"#DIV/0!"},null,null,null,null,null,null,{"$error":"#DIV/0!"},null,{"$error":"#DIV/0!"},null,null,{"$error":"#DIV/0!"}]
[null,28,{"$f":"'DATOS DEL ESTUDIANTE'!B31","v":0},{"$f":"'DATOS DEL ESTUDIANTE'!C31","v":0},{"$f":"'DATOS DEL ESTUDIANTE'!D31","v":0},null,null,null,null,null,null,null,{"$error":"#DIV/0!"},null,null,null,null,null,null,{"$error":"#DIV/0!"},null,{"$error":"#DIV/0!"},null,null,{"$error":"#DIV/0!"}]
[null,29,{"$f":"'DATOS DEL ESTUDIANTE'!B32","v":0},{"$f":"'DATOS DEL ESTUDIANTE'!C32","v":0},{"$f":"'DATOS DEL ESTUDIANTE'!D32","v":0},null,null,null,null,null,null,null,{"$error":"#DIV/0!"},null,null,null,null,null,null,{"$error":"#DIV/0!"},null,{"$error":"#DIV/0!"},null,null,{"$error":"#DIV/0!"}]
[null,30,{"$f":"'DATOS DEL ESTUDIANTE'!B33","v":0},{"$f":"'DATOS DEL ESTUDIANTE'!C33","v":0},{"$f":"'DATOS DEL ESTUDIANTE'!D33","v":0},null,null,null,null,null,null,null,{"$error":"#DIV/0!"},null,null,null,null,null,null,{"$error":"#DIV/0!"},null,{"$error":"#DIV/0!"},null,null,{"$error":"#DIV/0!"}]
[null,31,{"$f":"'DATOS DEL ESTUDIANTE'!B34","v":0},{"$f":"'DATOS DEL ESTUDIANTE'!C34","v":0},{"$f":"'DATOS DEL ESTUDIANTE'!D34","v":0},null,null,null,null,null,null,null,{"$error":"#DIV/0!"},null,null,null,null,null,null,{"$error":"#DIV/0!"},null,{"$error":"#DIV/0!"},null,null,{"$error":"#DIV/0!"}]
[null,32,{"$f":"'DATOS DEL ESTUDIANTE'!B35","v":0},{"$f":"'DATOS DEL ESTUDIANTE'!C35","v":0},{"$f":"'DATOS DEL ESTUDIANTE'!D35","v":0},null,null,null,null,null,null,null,{"$error":"#DIV/0!"},null,null,null,null,null,null,{"$error":"#DIV/0!"},null,{"$error":"#DIV/0!"},null,null,{"$error":"#DIV/0!"}]
[null,33,{"$f":"'DATOS DEL ESTUDIANTE'!B36","v":0},{"$f":"'DATOS DEL ESTUDIANTE'!C36","v":0},{"$f":"'DATOS DEL ESTUDIANTE'!D36","v":0},null,null,null,null,null,null,null,{"$error":"#DIV/0!"},null,null,null,null,null,null,{"$error":"#DIV/0!"},null,{"$error":"#DIV/0!"},null,null,{"$error":"#DIV/0!"}]
[null,34,{"$f":"'DATOS DEL ESTUDIANTE'!B37","v":0},{"$f":"'DATOS DEL ESTUDIANTE'!C37","v":0},{"$f":"'DATOS DEL ESTUDIANTE'!D37","v":0},null,null,null,null,null,null,null,{"$error":"#DIV/0!"},null,null,null,null,null,null,{"$error":"#DIV/0!"},null,{"$error":"#DIV/0!"},null,null,{"$error":"#DIV/0!"}]
[null,35,{"$f":"'DATOS DEL ESTUDIANTE'!B38","v":0},{"$f":"'DATOS DEL ESTUDIANTE'!C38","v":0},{"$f":"'DATOS DEL ESTUDIANTE'!D38","v":0},null,null,null,null,null,null,null,{"$error":"#DIV/0!"},null,null,null,null,null,null,{"$error":"#DIV/0!"},null,{"$error":"#DIV/0!"},null,null,{"$error":"#DIV/0!"}]
[null,36,{"$f":"'DATOS DEL ESTUDIANTE'!B39","v":0},{"$f":"'DATOS DEL ESTUDIANTE'!C39","v":0},{"$f":"'DATOS DEL ESTUDIANTE'!D39","v":0},null,null,null,null,null,null,null,{"$error":"#DIV/0!"},null,null,null,null,null,null,{"$error":"#DIV/0!"},null,{"$error":"#DIV/0!"},null,null,{"$error":"#DIV/0!"}]
[null,37,{"$f":"'DATOS DEL ESTUDIANTE'!B40","v":0},{"$f":"'DATOS DEL ESTUDIANTE'!C40","v":0},{"$f":"'DATOS DEL ESTUDIANTE'!D40","v":0},null,null,null,null,null,null,null,{"$error":"#DIV/0!"},null,null,null,null,null,null,{"$error":"#DIV/0!"},null,{"$error":"#DIV/0!"},null,null,{"$error":"#DIV/0!"}]
[null,38,{"$f":"'DATOS DEL ESTUDIANTE'!B41","v":0},{"$f":"'DATOS DEL ESTUDIANTE'!C41","v":0},{"$f":"'DATOS DEL ESTUDIANTE'!D41","v":0},null,null,null,null,null,null,null,{"$error":"#DIV/0!"},null,null,null,null,null,null,{"$error":"#DIV/0!"},null,{"$error":"#DIV/0!"},null,null,{"$error":"#DIV/0!"}]
[null,39,{"$f":"'DATOS DEL ESTUDIANTE'!B42","v":0},{"$f":"'DATOS DEL ESTUDIANTE'!C42","v":0},{"$f":"'DATOS DEL ESTUDIANTE'!D42","v":0},null,null,null,null,null,null,null,{"$error":"#DIV/0!"},null,null,null,null,null,null,{"$error":"#DIV/0!"},null,{"$error":"#DIV/0!"},null,null,{"$error":"#DIV/0!"}]
[null,40,{"$f":"'DATOS DEL ESTUDIANTE'!B43","v":0},{"$f":"'DATOS DEL ESTUDIANTE'!C43","v":0},{"$f":"'DATOS DEL ESTUDIANTE'!D43","v":0},null,null,null,null,null,null,null,{"$error":"#DIV/0!"},null,null,null,null,null,null,{"$error":"#DIV/0!"},null,{"$error":"#DIV/0!"},null,null,{"$error":"#DIV/0!"}]
[null,41,{"$f":"'DATOS DEL ESTUDIANTE'!B44","v":0},{"$f":"'DATOS DEL ESTUDIANTE'!C44","v":0},{"$f":"'DATOS DEL ESTUDIANTE'!D44","v":0},null,null,null,null,null,null,null,{"$error":"#DIV/0!"},null,null,null,null,null,null,{"$error":"#DIV/0!"},null,{"$error":"#DIV/0!"},null,null,{"$error":"#DIV/0!"}]
[null,42,{"$f":"'DATOS DEL ESTUDIANTE'!B45","v":0},{"$f":"'DATOS DEL ESTUDIANTE'!C45","v":0},{"$f":"'DATOS DEL ESTUDIANTE'!D45","v":0},null,null,null,null,null,null,null,{"$error":"#DIV/0!"},null,null,null,null,null,null,{"$error":"#DIV/0!"},null,{"$error":"#DIV/0!"},null,null,{"$error":"#DIV/0!"}]
[null,43,{"$f":"'DATOS DEL ESTUDIANTE'!B46","v":0},{"$f":"'DATOS DEL ESTUDIANTE'!C46","v":0},{"$f":"'DATOS DEL ESTUDIANTE'!D46","v":0},null,null,null,null,null,null,null,{"$error":"#DIV/0!"},null,null,null,null,null,null,{"$error":"#DIV/0!"},null,{"$error":"#DIV/0!"},null,null,{"$error":"#DIV/0!"}]
[null,44,{"$f":"'DATOS DEL ESTUDIANTE'!B47","v":0},{"$f":"'DATOS DEL ESTUDIANTE'!C47","v":0},{"$f":"'DATOS DEL ESTUDIANTE'!D47","v":0},null,null,null,null,null,null,null,{"$error":"#DIV/0!"},null,null,null,null,null,null,{"$error":"#DIV/0!"},null,{"$error":"#DIV/0!"},null,null,{"$error":"#DIV/0!"}]
[null,45,{"$f":"'DATOS DEL ESTUDIANTE'!B48","v":0},{"$f":"'DATOS DEL ESTUDIANTE'!C48","v":0},{"$f":"'DATOS DEL ESTUDIANTE'!D48","v":0},null,null,null,null,null,null,null,{"$error":"#DIV/0!"},null,null,null,null,null,null,{"$error":"#DIV/0!"},null,{"$error":"#DIV/0!"},null,null,{"$error":"#DIV/0!"}]

{"sheet":"CIENCIAS SOCIALES 4","index":23,"n_rows":55,"n_cols":25,"rows_kept":55,"cut":false,"hidden":false,"merged":[[0,25,3,25],[3,13,3,19],[1,4,1,9],[8,16,9,16],[8,17,9,17],[8,18,9,18],[8,15,9,15],[4,19,9,19],[8,2,8,4],[3,6,3,12],[8,8,9,8],[8,9,9,9],[8,10,9,10],[8,11,9,11],[4,8,6,9],[4,13,6,14],[3,21,9,21],[3,22,8,23],[3,24,9,24],[4,15,6,16],[4,17,6,18],[4,20,6,20],[0,21,2,24],[1,10,1,12],[1,13,1,19],[1,20,2,20],[2,1,2,19],[1,1,1,3],[8,1,9,1],[8,20,9,20],[8,7,9,7],[4,10,6,11],[0,0,9,0],[0,1,0,19],[3,1,3,4],[8,5,9,5],[8,6,9,6],[8,13,9,13],[8,14,9,14],[4,12,9,12],[7,1,7,4],[4,1,6,4],[4,5,6,5],[4,6,6,7]]}
[null," CIENCIAS    SOCIALES",null,null,null,null,null,null,null,null,null,null,null,null,null,null,null,null,null,null,2018]
[null,"AÑO DE ESCOLARIDAD:",null,null,{"$f":"CARATULA!G15","v":0},null,null,null,null,null,"MAESTRA (O): ",null,null,{"$f":"CARATULA!G18","v":0},null,null,null,null,null,null,"CUARTO\nBIMESTRE"]
[null," REGISTRO  Y CENTRALIZADOR DEL PROCESO DE  EVALUACIÓN   "]
[null,"DIMENSIONES",null,null,null,"SER (10)","SABER (35)",null,null,null,null,null,null,"HACER (35)",null,null,null,null,null,null,"DECIDIR (10)","TOTAL     EVALUACIÓN    DEL     MAESTRO","AUTOEVALUACIÓN",null,"CALIFICACIÓN BIMESTRAL"]
[null,"CRITERIOS DE EVALUACIÓN SEGÚN PDC",null,null,null,null,null,null,null,null,null,null,"T      O     T     A       L",null,null,null,null,null,null,"T      O     T     A       L"]
[]
[]
[null,"INSTRUMENTO Y/ O ESTRATEGIAS DE EVALUACIÓN"]
[null,"N°","    FECHA DE  EVALUACIÓN\n \n\n"]
[null,null,"NOMBRES ","APELLIDO PATERNO"," \nAPELLIDO MATERNO",null,null,null,null,null,null,null,null,null,null,null,null,null,null,null,null,null,"SER\n(5)","DECIDIR\n(5)"]
[null,1,{"$f":"'DATOS DEL ESTUDIANTE'!B4","v":0},{"$f":"'DATOS DEL ESTUDIANTE'!C4","v":0},{"$f":"'DATOS DEL ESTUDIANTE'!D4","v":0},null,null,null,null,null,null,null,{"$f":"AVERAGE(G11:L11)","v":{"$error":"#DIV/0!"}},null,null,null,null,null,null,{"$f":"AVERAGE(N11:S11)","v":{"$error":"#DIV/0!"}},null,{"$f":"SUM(F11+M11+T11+U11)","v":{"$error":"#DIV/0!"}},null,null,{"$f":"SUM(V11:X11)","v":{"$error":"#DIV/0!"}}]
[null,2,{"$f":"'DATOS DEL ESTUDIANTE'!B5","v":0},{"$f":"'DATOS DEL ESTUDIANTE'!C5","v":0},{"$f":"'DATOS DEL ESTUDIANTE'!D5","v":0},null,null,null,null,null,null,null,{"$f":"AVERAGE(G12:L12)","v":{"$error":"#DIV/0!"}},null,null,null,null,null,null,{"$f":"AVERAGE(N12:S12)","v":{"$error":"#DIV/0!"}},null,{"$f":"SUM(F12+M12+T12+U12)","v":{"$error":"#DIV/0!"}},null,null,{"$f":"SUM(V12:X12)","v":{"$error":"#DIV/0!"}}]
[null,3,{"$f":"'DATOS DEL ESTUDIANTE'!B6","v":0},{"$f":"'DATOS DEL ESTUDIANTE'!C6","v":0},{"$f":"'DATOS DEL ESTUDIANTE'!D6","v":0},null,null,null,null,null,null,null,{"$error":"#DIV/0!"},null,null,null,null,null,null,{"$error":"#DIV/0!"},null,{"$error":"#DIV/0!"},null,null,{"$error":"#DIV/0!"}]
[null,4,{"$f":"'DATOS DEL ESTUDIANTE'!B7","v":0},{"$f":"'DATOS DEL ESTUDIANTE'!C7","v":0},{"$f":"'DATOS DEL ESTUDIANTE'!D7","v":0},null,null,null,null,null,null,null,{"$error":"#DIV/0!"},null,null,null,null,null,null,{"$error":"#DIV/0!"},null,{"$error":"#DIV/0!"},null,null,{"$error":"#DIV/0!"}]
[null,5,{"$f":"'DATOS DEL ESTUDIANTE'!B8","v":0},{"$f":"'DATOS DEL ESTUDIANTE'!C8","v":0},{"$f":"'DATOS DEL ESTUDIANTE'!D8","v":0},null,null,null,null,null,null,null,{"$error":"#DIV/0!"},null,null,null,null,null,null,{"$error":"#DIV/0!"},null,{"$error":"#DIV/0!"},null,null,{"$error":"#DIV/0!"}]
[null,6,{"$f":"'DATOS DEL ESTUDIANTE'!B9","v":0},{"$f":"'DATOS DEL ESTUDIANTE'!C9","v":0},{"$f":"'DATOS DEL ESTUDIANTE'!D9","v":0},null,null,null,null,null,null,null,{"$error":"#DIV/0!"},null,null,null,null,null,null,{"$error":"#DIV/0!"},null,{"$error":"#DIV/0!"},null,null,{"$error":"#DIV/0!"}]
[null,7,{"$f":"'DATOS DEL ESTUDIANTE'!B10","v":0},{"$f":"'DATOS DEL ESTUDIANTE'!C10","v":0},{"$f":"'DATOS DEL ESTUDIANTE'!D10","v":0},null,null,null,null,null,null,null,{"$error":"#DIV/0!"},null,null,null,null,null,null,{"$error":"#DIV/0!"},null,{"$error":"#DIV/0!"},null,null,{"$error":"#DIV/0!"}]
[null,8,{"$f":"'DATOS DEL ESTUDIANTE'!B11","v":0},{"$f":"'DATOS DEL ESTUDIANTE'!C11","v":0},{"$f":"'DATOS DEL ESTUDIANTE'!D11","v":0},null,null,null,null,null,null,null,{"$error":"#DIV/0!"},null,null,null,null,null,null,{"$error":"#DIV/0!"},null,{"$error":"#DIV/0!"},null,null,{"$error":"#DIV/0!"}]
[null,9,{"$f":"'DATOS DEL ESTUDIANTE'!B12","v":0},{"$f":"'DATOS DEL ESTUDIANTE'!C12","v":0},{"$f":"'DATOS DEL ESTUDIANTE'!D12","v":0},null,null,null,null,null,null,null,{"$error":"#DIV/0!"},null,null,null,null,null,null,{"$error":"#DIV/0!"},null,{"$error":"#DIV/0!"},null,null,{"$error":"#DIV/0!"}]
[null,10,{"$f":"'DATOS DEL ESTUDIANTE'!B13","v":0},{"$f":"'DATOS DEL ESTUDIANTE'!C13","v":0},{"$f":"'DATOS DEL ESTUDIANTE'!D13","v":0},null,null,null,null,null,null,null,{"$error":"#DIV/0!"},null,null,null,null,null,null,{"$error":"#DIV/0!"},null,{"$error":"#DIV/0!"},null,null,{"$error":"#DIV/0!"}]
[null,11,{"$f":"'DATOS DEL ESTUDIANTE'!B14","v":0},{"$f":"'DATOS DEL ESTUDIANTE'!C14","v":0},{"$f":"'DATOS DEL ESTUDIANTE'!D14","v":0},null,null,null,null,null,null,null,{"$error":"#DIV/0!"},null,null,null,null,null,null,{"$error":"#DIV/0!"},null,{"$error":"#DIV/0!"},null,null,{"$error":"#DIV/0!"}]
[null,12,{"$f":"'DATOS DEL ESTUDIANTE'!B15","v":0},{"$f":"'DATOS DEL ESTUDIANTE'!C15","v":0},{"$f":"'DATOS DEL ESTUDIANTE'!D15","v":0},null,null,null,null,null,null,null,{"$error":"#DIV/0!"},null,null,null,null,null,null,{"$error":"#DIV/0!"},null,{"$error":"#DIV/0!"},null,null,{"$error":"#DIV/0!"}]
[null,13,{"$f":"'DATOS DEL ESTUDIANTE'!B16","v":0},{"$f":"'DATOS DEL ESTUDIANTE'!C16","v":0},{"$f":"'DATOS DEL ESTUDIANTE'!D16","v":0},null,null,null,null,null,null,null,{"$error":"#DIV/0!"},null,null,null,null,null,null,{"$error":"#DIV/0!"},null,{"$error":"#DIV/0!"},null,null,{"$error":"#DIV/0!"}]
[null,14,{"$f":"'DATOS DEL ESTUDIANTE'!B17","v":0},{"$f":"'DATOS DEL ESTUDIANTE'!C17","v":0},{"$f":"'DATOS DEL ESTUDIANTE'!D17","v":0},null,null,null,null,null,null,null,{"$error":"#DIV/0!"},null,null,null,null,null,null,{"$error":"#DIV/0!"},null,{"$error":"#DIV/0!"},null,null,{"$error":"#DIV/0!"}]
[null,15,{"$f":"'DATOS DEL ESTUDIANTE'!B18","v":0},{"$f":"'DATOS DEL ESTUDIANTE'!C18","v":0},{"$f":"'DATOS DEL ESTUDIANTE'!D18","v":0},null,null,null,null,null,null,null,{"$error":"#DIV/0!"},null,null,null,null,null,null,{"$error":"#DIV/0!"},null,{"$error":"#DIV/0!"},null,null,{"$error":"#DIV/0!"}]
[null,16,{"$f":"'DATOS DEL ESTUDIANTE'!B19","v":0},{"$f":"'DATOS DEL ESTUDIANTE'!C19","v":0},{"$f":"'DATOS DEL ESTUDIANTE'!D19","v":0},null,null,null,null,null,null,null,{"$error":"#DIV/0!"},null,null,null,null,null,null,{"$error":"#DIV/0!"},null,{"$error":"#DIV/0!"},null,null,{"$error":"#DIV/0!"}]
[null,17,{"$f":"'DATOS DEL ESTUDIANTE'!B20","v":0},{"$f":"'DATOS DEL ESTUDIANTE'!C20","v":0},{"$f":"'DATOS DEL ESTUDIANTE'!D20","v":0},null,null,null,null,null,null,null,{"$error":"#DIV/0!"},null,null,null,null,null,null,{"$error":"#DIV/0!"},null,{"$error":"#DIV/0!"},null,null,{"$error":"#DIV/0!"}]
[null,18,{"$f":"'DATOS DEL ESTUDIANTE'!B21","v":0},{"$f":"'DATOS DEL ESTUDIANTE'!C21","v":0},{"$f":"'DATOS DEL ESTUDIANTE'!D21","v":0},null,null,null,null,null,null,null,{"$error":"#DIV/0!"},null,null,null,null,null,null,{"$error":"#DIV/0!"},null,{"$error":"#DIV/0!"},null,null,{"$error":"#DIV/0!"}]
[null,19,{"$f":"'DATOS DEL ESTUDIANTE'!B22","v":0},{"$f":"'DATOS DEL ESTUDIANTE'!C22","v":0},{"$f":"'DATOS DEL ESTUDIANTE'!D22","v":0},null,null,null,null,null,null,null,{"$error":"#DIV/0!"},null,null,null,null,null,null,{"$error":"#DIV/0!"},null,{"$error":"#DIV/0!"},null,null,{"$error":"#DIV/0!"}]
[null,20,{"$f":"'DATOS DEL ESTUDIANTE'!B23","v":0},{"$f":"'DATOS DEL ESTUDIANTE'!C23","v":0},{"$f":"'DATOS DEL ESTUDIANTE'!D23","v":0},null,null,null,null,null,null,null,{"$error":"#DIV/0!"},null,null,null,null,null,null,{"$error":"#DIV/0!"},null,{"$error":"#DIV/0!"},null,null,{"$error":"#DIV/0!"}]
[null,21,{"$f":"'DATOS DEL ESTUDIANTE'!B24","v":0},{"$f":"'DATOS DEL ESTUDIANTE'!C24","v":0},{"$f":"'DATOS DEL ESTUDIANTE'!D24","v":0},null,null,null,null,null,null,null,{"$error":"#DIV/0!"},null,null,null,null,null,null,{"$error":"#DIV/0!"},null,{"$error":"#DIV/0!"},null,null,{"$error":"#DIV/0!"}]
[null,22,{"$f":"'DATOS DEL ESTUDIANTE'!B25","v":0},{"$f":"'DATOS DEL ESTUDIANTE'!C25","v":0},{"$f":"'DATOS DEL ESTUDIANTE'!D25","v":0},null,null,null,null,null,null,null,{"$error":"#DIV/0!"},null,null,null,null,null,null,{"$error":"#DIV/0!"},null,{"$error":"#DIV/0!"},null,null,{"$error":"#DIV/0!"}]
[null,23,{"$f":"'DATOS DEL ESTUDIANTE'!B26","v":0},{"$f":"'DATOS DEL ESTUDIANTE'!C26","v":0},{"$f":"'DATOS DEL ESTUDIANTE'!D26","v":0},null,null,null,null,null,null,null,{"$error":"#DIV/0!"},null,null,null,null,null,null,{"$error":"#DIV/0!"},null,{"$error":"#DIV/0!"},null,null,{"$error":"#DIV/0!"}]
[null,24,{"$f":"'DATOS DEL ESTUDIANTE'!B27","v":0},{"$f":"'DATOS DEL ESTUDIANTE'!C27","v":0},{"$f":"'DATOS DEL ESTUDIANTE'!D27","v":0},null,null,null,null,null,null,null,{"$error":"#DIV/0!"},null,null,null,null,null,null,{"$error":"#DIV/0!"},null,{"$error":"#DIV/0!"},null,null,{"$error":"#DIV/0!"}]
[null,25,{"$f":"'DATOS DEL ESTUDIANTE'!B28","v":0},{"$f":"'DATOS DEL ESTUDIANTE'!C28","v":0},{"$f":"'DATOS DEL ESTUDIANTE'!D28","v":0},null,null,null,null,null,null,null,{"$error":"#DIV/0!"},null,null,null,null,null,null,{"$error":"#DIV/0!"},null,{"$error":"#DIV/0!"},null,null,{"$error":"#DIV/0!"}]
[null,26,{"$f":"'DATOS DEL ESTUDIANTE'!B29","v":0},{"$f":"'DATOS DEL ESTUDIANTE'!C29","v":0},{"$f":"'DATOS DEL ESTUDIANTE'!D29","v":0},null,null,null,null,null,null,null,{"$error":"#DIV/0!"},null,null,null,null,null,null,{"$error":"#DIV/0!"},null,{"$error":"#DIV/0!"},null,null,{"$error":"#DIV/0!"}]
[null,27,{"$f":"'DATOS DEL ESTUDIANTE'!B30","v":0},{"$f":"'DATOS DEL ESTUDIANTE'!C30","v":0},{"$f":"'DATOS DEL ESTUDIANTE'!D30","v":0},null,null,null,null,null,null,null,{"$error":"#DIV/0!"},null,null,null,null,null,null,{"$error":"#DIV/0!"},null,{"$error":"#DIV/0!"},null,null,{"$error":"#DIV/0!"}]
[null,28,{"$f":"'DATOS DEL ESTUDIANTE'!B31","v":0},{"$f":"'DATOS DEL ESTUDIANTE'!C31","v":0},{"$f":"'DATOS DEL ESTUDIANTE'!D31","v":0},null,null,null,null,null,null,null,{"$error":"#DIV/0!"},null,null,null,null,null,null,{"$error":"#DIV/0!"},null,{"$error":"#DIV/0!"},null,null,{"$error":"#DIV/0!"}]
[null,29,{"$f":"'DATOS DEL ESTUDIANTE'!B32","v":0},{"$f":"'DATOS DEL ESTUDIANTE'!C32","v":0},{"$f":"'DATOS DEL ESTUDIANTE'!D32","v":0},null,null,null,null,null,null,null,{"$error":"#DIV/0!"},null,null,null,null,null,null,{"$error":"#DIV/0!"},null,{"$error":"#DIV/0!"},null,null,{"$error":"#DIV/0!"}]
[null,30,{"$f":"'DATOS DEL ESTUDIANTE'!B33","v":0},{"$f":"'DATOS DEL ESTUDIANTE'!C33","v":0},{"$f":"'DATOS DEL ESTUDIANTE'!D33","v":0},null,null,null,null,null,null,null,{"$error":"#DIV/0!"},null,null,null,null,null,null,{"$error":"#DIV/0!"},null,{"$error":"#DIV/0!"},null,null,{"$error":"#DIV/0!"}]
[null,31,{"$f":"'DATOS DEL ESTUDIANTE'!B34","v":0},{"$f":"'DATOS DEL ESTUDIANTE'!C34","v":0},{"$f":"'DATOS DEL ESTUDIANTE'!D34","v":0},null,null,null,null,null,null,null,{"$error":"#DIV/0!"},null,null,null,null,null,null,{"$error":"#DIV/0!"},null,{"$error":"#DIV/0!"},null,null,{"$error":"#DIV/0!"}]
[null,32,{"$f":"'DATOS DEL ESTUDIANTE'!B35","v":0},{"$f":"'DATOS DEL ESTUDIANTE'!C35","v":0},{"$f":"'DATOS DEL ESTUDIANTE'!D35","v":0},null,null,null,null,null,null,null,{"$error":"#DIV/0!"},null,null,null,null,null,null,{"$error":"#DIV/0!"},null,{"$error":"#DIV/0!"},null,null,{"$error":"#DIV/0!"}]
[null,33,{"$f":"'DATOS DEL ESTUDIANTE'!B36","v":0},{"$f":"'DATOS DEL ESTUDIANTE'!C36","v":0},{"$f":"'DATOS DEL ESTUDIANTE'!D36","v":0},null,null,null,null,null,null,null,{"$error":"#DIV/0!"},null,null,null,null,null,null,{"$error":"#DIV/0!"},null,{"$error":"#DIV/0!"},null,null,{"$error":"#DIV/0!"}]
[null,34,{"$f":"'DATOS DEL ESTUDIANTE'!B37","v":0},{"$f":"'DATOS DEL ESTUDIANTE'!C37","v":0},{"$f":"'DATOS DEL ESTUDIANTE'!D37","v":0},null,null,null,null,null,null,null,{"$error":"#DIV/0!"},null,null,null,null,null,null,{"$error":"#DIV/0!"},null,{"$error":"#DIV/0!"},null,null,{"$error":"#DIV/0!"}]
[null,35,{"$f":"'DATOS DEL ESTUDIANTE'!B38","v":0},{"$f":"'DATOS DEL ESTUDIANTE'!C38","v":0},{"$f":"'DATOS DEL ESTUDIANTE'!D38","v":0},null,null,null,null,null,null,null,{"$error":"#DIV/0!"},null,null,null,null,null,null,{"$error":"#DIV/0!"},null,{"$error":"#DIV/0!"},null,null,{"$error":"#DIV/0!"}]
[null,36,{"$f":"'DATOS DEL ESTUDIANTE'!B39","v":0},{"$f":"'DATOS DEL ESTUDIANTE'!C39","v":0},{"$f":"'DATOS DEL ESTUDIANTE'!D39","v":0},null,null,null,null,null,null,null,{"$error":"#DIV/0!"},null,null,null,null,null,null,{"$error":"#DIV/0!"},null,{"$error":"#DIV/0!"},null,null,{"$error":"#DIV/0!"}]
[null,37,{"$f":"'DATOS DEL ESTUDIANTE'!B40","v":0},{"$f":"'DATOS DEL ESTUDIANTE'!C40","v":0},{"$f":"'DATOS DEL ESTUDIANTE'!D40","v":0},null,null,null,null,null,null,null,{"$error":"#DIV/0!"},null,null,null,null,null,null,{"$error":"#DIV/0!"},null,{"$error":"#DIV/0!"},null,null,{"$error":"#DIV/0!"}]
[null,38,{"$f":"'DATOS DEL ESTUDIANTE'!B41","v":0},{"$f":"'DATOS DEL ESTUDIANTE'!C41","v":0},{"$f":"'DATOS DEL ESTUDIANTE'!D41","v":0},null,null,null,null,null,null,null,{"$error":"#DIV/0!"},null,null,null,null,null,null,{"$error":"#DIV/0!"},null,{"$error":"#DIV/0!"},null,null,{"$error":"#DIV/0!"}]
[null,39,{"$f":"'DATOS DEL ESTUDIANTE'!B42","v":0},{"$f":"'DATOS DEL ESTUDIANTE'!C42","v":0},{"$f":"'DATOS DEL ESTUDIANTE'!D42","v":0},null,null,null,null,null,null,null,{"$error":"#DIV/0!"},null,null,null,null,null,null,{"$error":"#DIV/0!"},null,{"$error":"#DIV/0!"},null,null,{"$error":"#DIV/0!"}]
[null,40,{"$f":"'DATOS DEL ESTUDIANTE'!B43","v":0},{"$f":"'DATOS DEL ESTUDIANTE'!C43","v":0},{"$f":"'DATOS DEL ESTUDIANTE'!D43","v":0},null,null,null,null,null,null,null,{"$error":"#DIV/0!"},null,null,null,null,null,null,{"$error":"#DIV/0!"},null,{"$error":"#DIV/0!"},null,null,{"$error":"#DIV/0!"}]
[null,41,{"$f":"'DATOS DEL ESTUDIANTE'!B44","v":0},{"$f":"'DATOS DEL ESTUDIANTE'!C44","v":0},{"$f":"'DATOS DEL ESTUDIANTE'!D44","v":0},null,null,null,null,null,null,null,{"$error":"#DIV/0!"},null,null,null,null,null,null,{"$error":"#DIV/0!"},null,{"$error":"#DIV/0!"},null,null,{"$error":"#DIV/0!"}]
[null,42,{"$f":"'DATOS DEL ESTUDIANTE'!B45","v":0},{"$f":"'DATOS DEL ESTUDIANTE'!C45","v":0},{"$f":"'DATOS DEL ESTUDIANTE'!D45","v":0},null,null,null,null,null,null,null,{"$error":"#DIV/0!"},null,null,null,null,null,null,{"$error":"#DIV/0!"},null,{"$error":"#DIV/0!"},null,null,{"$error":"#DIV/0!"}]
[null,43,{"$f":"'DATOS DEL ESTUDIANTE'!B46","v":0},{"$f":"'DATOS DEL ESTUDIANTE'!C46","v":0},{"$f":"'DATOS DEL ESTUDIANTE'!D46","v":0},null,null,null,null,null,null,null,{"$error":"#DIV/0!"},null,null,null,null,null,null,{"$error":"#DIV/0!"},null,{"$error":"#DIV/0!"},null,null,{"$error":"#DIV/0!"}]
[null,44,{"$f":"'DATOS DEL ESTUDIANTE'!B47","v":0},{"$f":"'DATOS DEL ESTUDIANTE'!C47","v":0},{"$f":"'DATOS DEL ESTUDIANTE'!D47","v":0},null,null,null,null,null,null,null,{"$error":"#DIV/0!"},null,null,null,null,null,null,{"$error":"#DIV/0!"},null,{"$error":"#DIV/0!"},null,null,{"$error":"#DIV/0!"}]
[null,45,{"$f":"'DATOS DEL ESTUDIANTE'!B48","v":0},{"$f":"'DATOS DEL ESTUDIANTE'!C48","v":0},{"$f":"'DATOS DEL ESTUDIANTE'!D48","v":0},null,null,null,null,null,null,null,{"$error":"#DIV/0!"},null,null,null,null,null,null,{"$error":"#DIV/0!"},null,{"$error":"#DIV/0!"},null,null,{"$error":"#DIV/0!"}]

{"sheet":"EDUCACION MUSICAL 1","index":24,"n_rows":55,"n_cols":25,"rows_kept":55,"cut":false,"hidden":false,"merged":[[0,25,3,25],[3,13,3,19],[1,4,1,9],[8,16,9,16],[8,17,9,17],[8,18,9,18],[8,15,9,15],[4,19,9,19],[8,2,8,4],[3,6,3,12],[8,8,9,8],[8,9,9,9],[8,10,9,10],[8,11,9,11],[4,8,6,9],[4,13,6,14],[3,21,9,21],[3,22,8,23],[3,24,9,24],[4,15,6,16],[4,17,6,18],[4,20,6,20],[0,21,2,24],[1,10,1,12],[1,13,1,19],[1,20,2,20],[2,1,2,19],[1,1,1,3],[8,1,9,1],[8,20,9,20],[8,7,9,7],[4,10,6,11],[0,0,9,0],[0,1,0,19],[3,1,3,4],[8,5,9,5],[8,6,9,6],[8,13,9,13],[8,14,9,14],[4,12,9,12],[7,1,7,4],[4,1,6,4],[4,5,6,5],[4,6,6,7]]}
[null,"EDUCACION MUSICAL",null,null,null,null,null,null,null,null,null,null,null,null,null,null,null,null,null,null,2018]
[null,"AÑO DE ESCOLARIDAD:",null,null,{"$f":"CARATULA!G15","v":0},null,null,null,null,null,"MAESTRA (O): ",null,null,{"$f":"CARATULA!G18","v":0},null,null,null,null,null,null,"PRIMER\nBIMESTRE"]
[null," REGISTRO  Y CENTRALIZADOR DEL PROCESO DE  EVALUACIÓN   "]
[null,"DIMENSIONES",null,null,null,"SER (10)","SABER (35)",null,null,null,null,null,null,"HACER (35)",null,null,null,null,null,null,"DECIDIR (10)","TOTAL     EVALUACIÓN    DEL     MAESTRO","AUTOEVALUACIÓN",null,"CALIFICACIÓN BIMESTRAL"]
[null,"CRITERIOS DE EVALUACIÓN SEGÚN PDC",null,null,null,null,null,null,null,null,null,null,"T      O     T     A       L",null,null,null,null,null,null,"T      O     T     A       L"]
[]
[]
[null,"INSTRUMENTO Y/ O ESTRATEGIAS DE EVALUACIÓN"]
[null,"N°","    FECHA DE  EVALUACIÓN\n \n\n"]
[null,null,"NOMBRES ","APELLIDO PATERNO"," \nAPELLIDO MATERNO",null,null,null,null,null,null,null,null,null,null,null,null,null,null,null,null,null,"SER\n(5)","DECIDIR\n(5)"]
[null,1,{"$f":"'DATOS DEL ESTUDIANTE'!B4","v":0},{"$f":"'DATOS DEL ESTUDIANTE'!C4","v":0},{"$f":"'DATOS DEL ESTUDIANTE'!D4","v":0},null,null,null,null,null,null,null,{"$f":"AVERAGE(G11:L11)","v":{"$error":"#DIV/0!"}},null,null,null,null,null,null,{"$f":"AVERAGE(N11:S11)","v":{"$error":"#DIV/0!"}},null,{"$f":"SUM(F11+M11+T11+U11)","v":{"$error":"#DIV/0!"}},null,null,{"$f":"SUM(V11:X11)","v":{"$error":"#DIV/0!"}}]
[null,2,{"$f":"'DATOS DEL ESTUDIANTE'!B5","v":0},{"$f":"'DATOS DEL ESTUDIANTE'!C5","v":0},{"$f":"'DATOS DEL ESTUDIANTE'!D5","v":0},null,null,null,null,null,null,null,{"$f":"AVERAGE(G12:L12)","v":{"$error":"#DIV/0!"}},null,null,null,null,null,null,{"$f":"AVERAGE(N12:S12)","v":{"$error":"#DIV/0!"}},null,{"$f":"SUM(F12+M12+T12+U12)","v":{"$error":"#DIV/0!"}},null,null,{"$f":"SUM(V12:X12)","v":{"$error":"#DIV/0!"}}]
[null,3,{"$f":"'DATOS DEL ESTUDIANTE'!B6","v":0},{"$f":"'DATOS DEL ESTUDIANTE'!C6","v":0},{"$f":"'DATOS DEL ESTUDIANTE'!D6","v":0},null,null,null,null,null,null,null,{"$error":"#DIV/0!"},null,null,null,null,null,null,{"$error":"#DIV/0!"},null,{"$error":"#DIV/0!"},null,null,{"$error":"#DIV/0!"}]
[null,4,{"$f":"'DATOS DEL ESTUDIANTE'!B7","v":0},{"$f":"'DATOS DEL ESTUDIANTE'!C7","v":0},{"$f":"'DATOS DEL ESTUDIANTE'!D7","v":0},null,null,null,null,null,null,null,{"$error":"#DIV/0!"},null,null,null,null,null,null,{"$error":"#DIV/0!"},null,{"$error":"#DIV/0!"},null,null,{"$error":"#DIV/0!"}]
[null,5,{"$f":"'DATOS DEL ESTUDIANTE'!B8","v":0},{"$f":"'DATOS DEL ESTUDIANTE'!C8","v":0},{"$f":"'DATOS DEL ESTUDIANTE'!D8","v":0},null,null,null,null,null,null,null,{"$error":"#DIV/0!"},null,null,null,null,null,null,{"$error":"#DIV/0!"},null,{"$error":"#DIV/0!"},null,null,{"$error":"#DIV/0!"}]
[null,6,{"$f":"'DATOS DEL ESTUDIANTE'!B9","v":0},{"$f":"'DATOS DEL ESTUDIANTE'!C9","v":0},{"$f":"'DATOS DEL ESTUDIANTE'!D9","v":0},null,null,null,null,null,null,null,{"$error":"#DIV/0!"},null,null,null,null,null,null,{"$error":"#DIV/0!"},null,{"$error":"#DIV/0!"},null,null,{"$error":"#DIV/0!"}]
[null,7,{"$f":"'DATOS DEL ESTUDIANTE'!B10","v":0},{"$f":"'DATOS DEL ESTUDIANTE'!C10","v":0},{"$f":"'DATOS DEL ESTUDIANTE'!D10","v":0},null,null,null,null,null,null,null,{"$error":"#DIV/0!"},null,null,null,null,null,null,{"$error":"#DIV/0!"},null,{"$error":"#DIV/0!"},null,null,{"$error":"#DIV/0!"}]
[null,8,{"$f":"'DATOS DEL ESTUDIANTE'!B11","v":0},{"$f":"'DATOS DEL ESTUDIANTE'!C11","v":0},{"$f":"'DATOS DEL ESTUDIANTE'!D11","v":0},null,null,null,null,null,null,null,{"$error":"#DIV/0!"},null,null,null,null,null,null,{"$error":"#DIV/0!"},null,{"$error":"#DIV/0!"},null,null,{"$error":"#DIV/0!"}]
[null,9,{"$f":"'DATOS DEL ESTUDIANTE'!B12","v":0},{"$f":"'DATOS DEL ESTUDIANTE'!C12","v":0},{"$f":"'DATOS DEL ESTUDIANTE'!D12","v":0},null,null,null,null,null,null,null,{"$error":"#DIV/0!"},null,null,null,null,null,null,{"$error":"#DIV/0!"},null,{"$error":"#DIV/0!"},null,null,{"$error":"#DIV/0!"}]
[null,10,{"$f":"'DATOS DEL ESTUDIANTE'!B13","v":0},{"$f":"'DATOS DEL ESTUDIANTE'!C13","v":0},{"$f":"'DATOS DEL ESTUDIANTE'!D13","v":0},null,null,null,null,null,null,null,{"$error":"#DIV/0!"},null,null,null,null,null,null,{"$error":"#DIV/0!"},null,{"$error":"#DIV/0!"},null,null,{"$error":"#DIV/0!"}]
[null,11,{"$f":"'DATOS DEL ESTUDIANTE'!B14","v":0},{"$f":"'DATOS DEL ESTUDIANTE'!C14","v":0},{"$f":"'DATOS DEL ESTUDIANTE'!D14","v":0},null,null,null,null,null,null,null,{"$error":"#DIV/0!"},null,null,null,null,null,null,{"$error":"#DIV/0!"},null,{"$error":"#DIV/0!"},null,null,{"$error":"#DIV/0!"}]
[null,12,{"$f":"'DATOS DEL ESTUDIANTE'!B15","v":0},{"$f":"'DATOS DEL ESTUDIANTE'!C15","v":0},{"$f":"'DATOS DEL ESTUDIANTE'!D15","v":0},null,null,null,null,null,null,null,{"$error":"#DIV/0!"},null,null,null,null,null,null,{"$error":"#DIV/0!"},null,{"$error":"#DIV/0!"},null,null,{"$error":"#DIV/0!"}]
[null,13,{"$f":"'DATOS DEL ESTUDIANTE'!B16","v":0},{"$f":"'DATOS DEL ESTUDIANTE'!C16","v":0},{"$f":"'DATOS DEL ESTUDIANTE'!D16","v":0},null,null,null,null,null,null,null,{"$error":"#DIV/0!"},null,null,null,null,null,null,{"$error":"#DIV/0!"},null,{"$error":"#DIV/0!"},null,null,{"$error":"#DIV/0!"}]
[null,14,{"$f":"'DATOS DEL ESTUDIANTE'!B17","v":0},{"$f":"'DATOS DEL ESTUDIANTE'!C17","v":0},{"$f":"'DATOS DEL ESTUDIANTE'!D17","v":0},null,null,null,null,null,null,null,{"$error":"#DIV/0!"},null,null,null,null,null,null,{"$error":"#DIV/0!"},null,{"$error":"#DIV/0!"},null,null,{"$error":"#DIV/0!"}]
[null,15,{"$f":"'DATOS DEL ESTUDIANTE'!B18","v":0},{"$f":"'DATOS DEL ESTUDIANTE'!C18","v":0},{"$f":"'DATOS DEL ESTUDIANTE'!D18","v":0},null,null,null,null,null,null,null,{"$error":"#DIV/0!"},null,null,null,null,null,null,{"$error":"#DIV/0!"},null,{"$error":"#DIV/0!"},null,null,{"$error":"#DIV/0!"}]
[null,16,{"$f":"'DATOS DEL ESTUDIANTE'!B19","v":0},{"$f":"'DATOS DEL ESTUDIANTE'!C19","v":0},{"$f":"'DATOS DEL ESTUDIANTE'!D19","v":0},null,null,null,null,null,null,null,{"$error":"#DIV/0!"},null,null,null,null,null,null,{"$error":"#DIV/0!"},null,{"$error":"#DIV/0!"},null,null,{"$error":"#DIV/0!"}]
[null,17,{"$f":"'DATOS DEL ESTUDIANTE'!B20","v":0},{"$f":"'DATOS DEL ESTUDIANTE'!C20","v":0},{"$f":"'DATOS DEL ESTUDIANTE'!D20","v":0},null,null,null,null,null,null,null,{"$error":"#DIV/0!"},null,null,null,null,null,null,{"$error":"#DIV/0!"},null,{"$error":"#DIV/0!"},null,null,{"$error":"#DIV/0!"}]
[null,18,{"$f":"'DATOS DEL ESTUDIANTE'!B21","v":0},{"$f":"'DATOS DEL ESTUDIANTE'!C21","v":0},{"$f":"'DATOS DEL ESTUDIANTE'!D21","v":0},null,null,null,null,null,null,null,{"$error":"#DIV/0!"},null,null,null,null,null,null,{"$error":"#DIV/0!"},null,{"$error":"#DIV/0!"},null,null,{"$error":"#DIV/0!"}]
[null,19,{"$f":"'DATOS DEL ESTUDIANTE'!B22","v":0},{"$f":"'DATOS DEL ESTUDIANTE'!C22","v":0},{"$f":"'DATOS DEL ESTUDIANTE'!D22","v":0},null,null,null,null,null,null,null,{"$error":"#DIV/0!"},null,null,null,null,null,null,{"$error":"#DIV/0!"},null,{"$error":"#DIV/0!"},null,null,{"$error":"#DIV/0!"}]
[null,20,{"$f":"'DATOS DEL ESTUDIANTE'!B23","v":0},{"$f":"'DATOS DEL ESTUDIANTE'!C23","v":0},{"$f":"'DATOS DEL ESTUDIANTE'!D23","v":0},null,null,null,null,null,null,null,{"$error":"#DIV/0!"},null,null,null,null,null,null,{"$error":"#DIV/0!"},null,{"$error":"#DIV/0!"},null,null,{"$error":"#DIV/0!"}]
[null,21,{"$f":"'DATOS DEL ESTUDIANTE'!B24","v":0},{"$f":"'DATOS DEL ESTUDIANTE'!C24","v":0},{"$f":"'DATOS DEL ESTUDIANTE'!D24","v":0},null,null,null,null,null,null,null,{"$error":"#DIV/0!"},null,null,null,null,null,null,{"$error":"#DIV/0!"},null,{"$error":"#DIV/0!"},null,null,{"$error":"#DIV/0!"}]
[null,22,{"$f":"'DATOS DEL ESTUDIANTE'!B25","v":0},{"$f":"'DATOS DEL ESTUDIANTE'!C25","v":0},{"$f":"'DATOS DEL ESTUDIANTE'!D25","v":0},null,null,null,null,null,null,null,{"$error":"#DIV/0!"},null,null,null,null,null,null,{"$error":"#DIV/0!"},null,{"$error":"#DIV/0!"},null,null,{"$error":"#DIV/0!"}]
[null,23,{"$f":"'DATOS DEL ESTUDIANTE'!B26","v":0},{"$f":"'DATOS DEL ESTUDIANTE'!C26","v":0},{"$f":"'DATOS DEL ESTUDIANTE'!D26","v":0},null,null,null,null,null,null,null,{"$error":"#DIV/0!"},null,null,null,null,null,null,{"$error":"#DIV/0!"},null,{"$error":"#DIV/0!"},null,null,{"$error":"#DIV/0!"}]
[null,24,{"$f":"'DATOS DEL ESTUDIANTE'!B27","v":0},{"$f":"'DATOS DEL ESTUDIANTE'!C27","v":0},{"$f":"'DATOS DEL ESTUDIANTE'!D27","v":0},null,null,null,null,null,null,null,{"$error":"#DIV/0!"},null,null,null,null,null,null,{"$error":"#DIV/0!"},null,{"$error":"#DIV/0!"},null,null,{"$error":"#DIV/0!"}]
[null,25,{"$f":"'DATOS DEL ESTUDIANTE'!B28","v":0},{"$f":"'DATOS DEL ESTUDIANTE'!C28","v":0},{"$f":"'DATOS DEL ESTUDIANTE'!D28","v":0},null,null,null,null,null,null,null,{"$error":"#DIV/0!"},null,null,null,null,null,null,{"$error":"#DIV/0!"},null,{"$error":"#DIV/0!"},null,null,{"$error":"#DIV/0!"}]
[null,26,{"$f":"'DATOS DEL ESTUDIANTE'!B29","v":0},{"$f":"'DATOS DEL ESTUDIANTE'!C29","v":0},{"$f":"'DATOS DEL ESTUDIANTE'!D29","v":0},null,null,null,null,null,null,null,{"$error":"#DIV/0!"},null,null,null,null,null,null,{"$error":"#DIV/0!"},null,{"$error":"#DIV/0!"},null,null,{"$error":"#DIV/0!"}]
[null,27,{"$f":"'DATOS DEL ESTUDIANTE'!B30","v":0},{"$f":"'DATOS DEL ESTUDIANTE'!C30","v":0},{"$f":"'DATOS DEL ESTUDIANTE'!D30","v":0},null,null,null,null,null,null,null,{"$error":"#DIV/0!"},null,null,null,null,null,null,{"$error":"#DIV/0!"},null,{"$error":"#DIV/0!"},null,null,{"$error":"#DIV/0!"}]
[null,28,{"$f":"'DATOS DEL ESTUDIANTE'!B31","v":0},{"$f":"'DATOS DEL ESTUDIANTE'!C31","v":0},{"$f":"'DATOS DEL ESTUDIANTE'!D31","v":0},null,null,null,null,null,null,null,{"$error":"#DIV/0!"},null,null,null,null,null,null,{"$error":"#DIV/0!"},null,{"$error":"#DIV/0!"},null,null,{"$error":"#DIV/0!"}]
[null,29,{"$f":"'DATOS DEL ESTUDIANTE'!B32","v":0},{"$f":"'DATOS DEL ESTUDIANTE'!C32","v":0},{"$f":"'DATOS DEL ESTUDIANTE'!D32","v":0},null,null,null,null,null,null,null,{"$error":"#DIV/0!"},null,null,null,null,null,null,{"$error":"#DIV/0!"},null,{"$error":"#DIV/0!"},null,null,{"$error":"#DIV/0!"}]
[null,30,{"$f":"'DATOS DEL ESTUDIANTE'!B33","v":0},{"$f":"'DATOS DEL ESTUDIANTE'!C33","v":0},{"$f":"'DATOS DEL ESTUDIANTE'!D33","v":0},null,null,null,null,null,null,null,{"$error":"#DIV/0!"},null,null,null,null,null,null,{"$error":"#DIV/0!"},null,{"$error":"#DIV/0!"},null,null,{"$error":"#DIV/0!"}]
[null,31,{"$f":"'DATOS DEL ESTUDIANTE'!B34","v":0},{"$f":"'DATOS DEL ESTUDIANTE'!C34","v":0},{"$f":"'DATOS DEL ESTUDIANTE'!D34","v":0},null,null,null,null,null,null,null,{"$error":"#DIV/0!"},null,null,null,null,null,null,{"$error":"#DIV/0!"},null,{"$error":"#DIV/0!"},null,null,{"$error":"#DIV/0!"}]
[null,32,{"$f":"'DATOS DEL ESTUDIANTE'!B35","v":0},{"$f":"'DATOS DEL ESTUDIANTE'!C35","v":0},{"$f":"'DATOS DEL ESTUDIANTE'!D35","v":0},null,null,null,null,null,null,null,{"$error":"#DIV/0!"},null,null,null,null,null,null,{"$error":"#DIV/0!"},null,{"$error":"#DIV/0!"},null,null,{"$error":"#DIV/0!"}]
[null,33,{"$f":"'DATOS DEL ESTUDIANTE'!B36","v":0},{"$f":"'DATOS DEL ESTUDIANTE'!C36","v":0},{"$f":"'DATOS DEL ESTUDIANTE'!D36","v":0},null,null,null,null,null,null,null,{"$error":"#DIV/0!"},null,null,null,null,null,null,{"$error":"#DIV/0!"},null,{"$error":"#DIV/0!"},null,null,{"$error":"#DIV/0!"}]
[null,34,{"$f":"'DATOS DEL ESTUDIANTE'!B37","v":0},{"$f":"'DATOS DEL ESTUDIANTE'!C37","v":0},{"$f":"'DATOS DEL ESTUDIANTE'!D37","v":0},null,null,null,null,null,null,null,{"$error":"#DIV/0!"},null,null,null,null,null,null,{"$error":"#DIV/0!"},null,{"$error":"#DIV/0!"},null,null,{"$error":"#DIV/0!"}]
[null,35,{"$f":"'DATOS DEL ESTUDIANTE'!B38","v":0},{"$f":"'DATOS DEL ESTUDIANTE'!C38","v":0},{"$f":"'DATOS DEL ESTUDIANTE'!D38","v":0},null,null,null,null,null,null,null,{"$error":"#DIV/0!"},null,null,null,null,null,null,{"$error":"#DIV/0!"},null,{"$error":"#DIV/0!"},null,null,{"$error":"#DIV/0!"}]
[null,36,{"$f":"'DATOS DEL ESTUDIANTE'!B39","v":0},{"$f":"'DATOS DEL ESTUDIANTE'!C39","v":0},{"$f":"'DATOS DEL ESTUDIANTE'!D39","v":0},null,null,null,null,null,null,null,{"$error":"#DIV/0!"},null,null,null,null,null,null,{"$error":"#DIV/0!"},null,{"$error":"#DIV/0!"},null,null,{"$error":"#DIV/0!"}]
[null,37,{"$f":"'DATOS DEL ESTUDIANTE'!B40","v":0},{"$f":"'DATOS DEL ESTUDIANTE'!C40","v":0},{"$f":"'DATOS DEL ESTUDIANTE'!D40","v":0},null,null,null,null,null,null,null,{"$error":"#DIV/0!"},null,null,null,null,null,null,{"$error":"#DIV/0!"},null,{"$error":"#DIV/0!"},null,null,{"$error":"#DIV/0!"}]
[null,38,{"$f":"'DATOS DEL ESTUDIANTE'!B41","v":0},{"$f":"'DATOS DEL ESTUDIANTE'!C41","v":0},{"$f":"'DATOS DEL ESTUDIANTE'!D41","v":0},null,null,null,null,null,null,null,{"$error":"#DIV/0!"},null,null,null,null,null,null,{"$error":"#DIV/0!"},null,{"$error":"#DIV/0!"},null,null,{"$error":"#DIV/0!"}]
[null,39,{"$f":"'DATOS DEL ESTUDIANTE'!B42","v":0},{"$f":"'DATOS DEL ESTUDIANTE'!C42","v":0},{"$f":"'DATOS DEL ESTUDIANTE'!D42","v":0},null,null,null,null,null,null,null,{"$error":"#DIV/0!"},null,null,null,null,null,null,{"$error":"#DIV/0!"},null,{"$error":"#DIV/0!"},null,null,{"$error":"#DIV/0!"}]
[null,40,{"$f":"'DATOS DEL ESTUDIANTE'!B43","v":0},{"$f":"'DATOS DEL ESTUDIANTE'!C43","v":0},{"$f":"'DATOS DEL ESTUDIANTE'!D43","v":0},null,null,null,null,null,null,null,{"$error":"#DIV/0!"},null,null,null,null,null,null,{"$error":"#DIV/0!"},null,{"$error":"#DIV/0!"},null,null,{"$error":"#DIV/0!"}]
[null,41,{"$f":"'DATOS DEL ESTUDIANTE'!B44","v":0},{"$f":"'DATOS DEL ESTUDIANTE'!C44","v":0},{"$f":"'DATOS DEL ESTUDIANTE'!D44","v":0},null,null,null,null,null,null,null,{"$error":"#DIV/0!"},null,null,null,null,null,null,{"$error":"#DIV/0!"},null,{"$error":"#DIV/0!"},null,null,{"$error":"#DIV/0!"}]
[null,42,{"$f":"'DATOS DEL ESTUDIANTE'!B45","v":0},{"$f":"'DATOS DEL ESTUDIANTE'!C45","v":0},{"$f":"'DATOS DEL ESTUDIANTE'!D45","v":0},null,null,null,null,null,null,null,{"$error":"#DIV/0!"},null,null,null,null,null,null,{"$error":"#DIV/0!"},null,{"$error":"#DIV/0!"},null,null,{"$error":"#DIV/0!"}]
[null,43,{"$f":"'DATOS DEL ESTUDIANTE'!B46","v":0},{"$f":"'DATOS DEL ESTUDIANTE'!C46","v":0},{"$f":"'DATOS DEL ESTUDIANTE'!D46","v":0},null,null,null,null,null,null,null,{"$error":"#DIV/0!"},null,null,null,null,null,null,{"$error":"#DIV/0!"},null,{"$error":"#DIV/0!"},null,null,{"$error":"#DIV/0!"}]
[null,44,{"$f":"'DATOS DEL ESTUDIANTE'!B47","v":0},{"$f":"'DATOS DEL ESTUDIANTE'!C47","v":0},{"$f":"'DATOS DEL ESTUDIANTE'!D47","v":0},null,null,null,null,null,null,null,{"$error":"#DIV/0!"},null,null,null,null,null,null,{"$error":"#DIV/0!"},null,{"$error":"#DIV/0!"},null,null,{"$error":"#DIV/0!"}]
[null,45,{"$f":"'DATOS DEL ESTUDIANTE'!B48","v":0},{"$f":"'DATOS DEL ESTUDIANTE'!C48","v":0},{"$f":"'DATOS DEL ESTUDIANTE'!D48","v":0},null,null,null,null,null,null,null,{"$error":"#DIV/0!"},null,null,null,null,null,null,{"$error":"#DIV/0!"},null,{"$error":"#DIV/0!"},null,null,{"$error":"#DIV/0!"}]

{"sheet":"EDUCACION MUSICAL 2","index":25,"n_rows":55,"n_cols":25,"rows_kept":55,"cut":false,"hidden":false,"merged":[[0,25,4,25],[3,13,3,19],[1,4,1,9],[8,16,9,16],[8,17,9,17],[8,18,9,18],[8,15,9,15],[4,19,9,19],[8,2,8,4],[3,6,3,12],[8,8,9,8],[8,9,9,9],[8,10,9,10],[8,11,9,11],[4,8,6,9],[4,13,6,14],[3,21,9,21],[3,22,8,23],[3,24,9,24],[4,15,6,16],[4,17,6,18],[4,20,6,20],[0,21,2,24],[1,10,1,12],[1,13,1,19],[1,20,2,20],[2,1,2,19],[1,1,1,3],[8,1,9,1],[8,20,9,20],[8,7,9,7],[4,10,6,11],[0,0,9,0],[0,1,0,19],[3,1,3,4],[8,5,9,5],[8,6,9,6],[8,13,9,13],[8,14,9,14],[4,12,9,12],[7,1,7,4],[4,1,6,4],[4,5,6,5],[4,6,6,7]]}
[null,"      EDUCACION MUSICAL",null,null,null,null,null,null,null,null,null,null,null,null,null,null,null,null,null,null,2018]
[null,"AÑO DE ESCOLARIDAD:",null,null,{"$f":"CARATULA!G15","v":0},null,null,null,null,null,"MAESTRA (O): ",null,null,{"$f":"CARATULA!G18","v":0},null,null,null,null,null,null,"SEGUNDO\nBIMESTRE"]
[null," REGISTRO  Y CENTRALIZADOR DEL PROCESO DE  EVALUACIÓN   "]
[null,"DIMENSIONES",null,null,null,"SER (10)","SABER (35)",null,null,null,null,null,null,"HACER (35)",null,null,null,null,null,null,"DECIDIR (10)","TOTAL     EVALUACIÓN    DEL     MAESTRO","AUTOEVALUACIÓN",null,"CALIFICACIÓN BIMESTRAL"]
[null,"CRITERIOS DE EVALUACIÓN SEGÚN PDC",null,null,null,null,null,null,null,null,null,null,"T      O     T     A       L",null,null,null,null,null,null,"T      O     T     A       L"]
[]
[]
[null,"INSTRUMENTO Y/ O ESTRATEGIAS DE EVALUACIÓN"]
[null,"N°","    FECHA DE  EVALUACIÓN\n \n\n"]
[null,null,"NOMBRES ","APELLIDO PATERNO"," \nAPELLIDO MATERNO",null,null,null,null,null,null,null,null,null,null,null,null,null,null,null,null,null,"SER\n(5)","DECIDIR\n(5)"]
[null,1,{"$f":"'DATOS DEL ESTUDIANTE'!B4","v":0},{"$f":"'DATOS DEL ESTUDIANTE'!C4","v":0},{"$f":"'DATOS DEL ESTUDIANTE'!D4","v":0},null,null,null,null,null,null,null,{"$f":"AVERAGE(G11:L11)","v":{"$error":"#DIV/0!"}},null,null,null,null,null,null,{"$f":"AVERAGE(N11:S11)","v":{"$error":"#DIV/0!"}},null,{"$f":"SUM(F11+M11+T11+U11)","v":{"$error":"#DIV/0!"}},null,null,{"$f":"SUM(V11:X11)","v":{"$error":"#DIV/0!"}}]
[null,2,{"$f":"'DATOS DEL ESTUDIANTE'!B5","v":0},{"$f":"'DATOS DEL ESTUDIANTE'!C5","v":0},{"$f":"'DATOS DEL ESTUDIANTE'!D5","v":0},null,null,null,null,null,null,null,{"$f":"AVERAGE(G12:L12)","v":{"$error":"#DIV/0!"}},null,null,null,null,null,null,{"$f":"AVERAGE(N12:S12)","v":{"$error":"#DIV/0!"}},null,{"$f":"SUM(F12+M12+T12+U12)","v":{"$error":"#DIV/0!"}},null,null,{"$f":"SUM(V12:X12)","v":{"$error":"#DIV/0!"}}]
[null,3,{"$f":"'DATOS DEL ESTUDIANTE'!B6","v":0},{"$f":"'DATOS DEL ESTUDIANTE'!C6","v":0},{"$f":"'DATOS DEL ESTUDIANTE'!D6","v":0},null,null,null,null,null,null,null,{"$error":"#DIV/0!"},null,null,null,null,null,null,{"$error":"#DIV/0!"},null,{"$error":"#DIV/0!"},null,null,{"$error":"#DIV/0!"}]
[null,4,{"$f":"'DATOS DEL ESTUDIANTE'!B7","v":0},{"$f":"'DATOS DEL ESTUDIANTE'!C7","v":0},{"$f":"'DATOS DEL ESTUDIANTE'!D7","v":0},null,null,null,null,null,null,null,{"$error":"#DIV/0!"},null,null,null,null,null,null,{"$error":"#DIV/0!"},null,{"$error":"#DIV/0!"},null,null,{"$error":"#DIV/0!"}]
[null,5,{"$f":"'DATOS DEL ESTUDIANTE'!B8","v":0},{"$f":"'DATOS DEL ESTUDIANTE'!C8","v":0},{"$f":"'DATOS DEL ESTUDIANTE'!D8","v":0},null,null,null,null,null,null,null,{"$error":"#DIV/0!"},null,null,null,null,null,null,{"$error":"#DIV/0!"},null,{"$error":"#DIV/0!"},null,null,{"$error":"#DIV/0!"}]
[null,6,{"$f":"'DATOS DEL ESTUDIANTE'!B9","v":0},{"$f":"'DATOS DEL ESTUDIANTE'!C9","v":0},{"$f":"'DATOS DEL ESTUDIANTE'!D9","v":0},null,null,null,null,null,null,null,{"$error":"#DIV/0!"},null,null,null,null,null,null,{"$error":"#DIV/0!"},null,{"$error":"#DIV/0!"},null,null,{"$error":"#DIV/0!"}]
[null,7,{"$f":"'DATOS DEL ESTUDIANTE'!B10","v":0},{"$f":"'DATOS DEL ESTUDIANTE'!C10","v":0},{"$f":"'DATOS DEL ESTUDIANTE'!D10","v":0},null,null,null,null,null,null,null,{"$error":"#DIV/0!"},null,null,null,null,null,null,{"$error":"#DIV/0!"},null,{"$error":"#DIV/0!"},null,null,{"$error":"#DIV/0!"}]
[null,8,{"$f":"'DATOS DEL ESTUDIANTE'!B11","v":0},{"$f":"'DATOS DEL ESTUDIANTE'!C11","v":0},{"$f":"'DATOS DEL ESTUDIANTE'!D11","v":0},null,null,null,null,null,null,null,{"$error":"#DIV/0!"},null,null,null,null,null,null,{"$error":"#DIV/0!"},null,{"$error":"#DIV/0!"},null,null,{"$error":"#DIV/0!"}]
[null,9,{"$f":"'DATOS DEL ESTUDIANTE'!B12","v":0},{"$f":"'DATOS DEL ESTUDIANTE'!C12","v":0},{"$f":"'DATOS DEL ESTUDIANTE'!D12","v":0},null,null,null,null,null,null,null,{"$error":"#DIV/0!"},null,null,null,null,null,null,{"$error":"#DIV/0!"},null,{"$error":"#DIV/0!"},null,null,{"$error":"#DIV/0!"}]
[null,10,{"$f":"'DATOS DEL ESTUDIANTE'!B13","v":0},{"$f":"'DATOS DEL ESTUDIANTE'!C13","v":0},{"$f":"'DATOS DEL ESTUDIANTE'!D13","v":0},null,null,null,null,null,null,null,{"$error":"#DIV/0!"},null,null,null,null,null,null,{"$error":"#DIV/0!"},null,{"$error":"#DIV/0!"},null,null,{"$error":"#DIV/0!"}]
[null,11,{"$f":"'DATOS DEL ESTUDIANTE'!B14","v":0},{"$f":"'DATOS DEL ESTUDIANTE'!C14","v":0},{"$f":"'DATOS DEL ESTUDIANTE'!D14","v":0},null,null,null,null,null,null,null,{"$error":"#DIV/0!"},null,null,null,null,null,null,{"$error":"#DIV/0!"},null,{"$error":"#DIV/0!"},null,null,{"$error":"#DIV/0!"}]
[null,12,{"$f":"'DATOS DEL ESTUDIANTE'!B15","v":0},{"$f":"'DATOS DEL ESTUDIANTE'!C15","v":0},{"$f":"'DATOS DEL ESTUDIANTE'!D15","v":0},null,null,null,null,null,null,null,{"$error":"#DIV/0!"},null,null,null,null,null,null,{"$error":"#DIV/0!"},null,{"$error":"#DIV/0!"},null,null,{"$error":"#DIV/0!"}]
[null,13,{"$f":"'DATOS DEL ESTUDIANTE'!B16","v":0},{"$f":"'DATOS DEL ESTUDIANTE'!C16","v":0},{"$f":"'DATOS DEL ESTUDIANTE'!D16","v":0},null,null,null,null,null,null,null,{"$error":"#DIV/0!"},null,null,null,null,null,null,{"$error":"#DIV/0!"},null,{"$error":"#DIV/0!"},null,null,{"$error":"#DIV/0!"}]
[null,14,{"$f":"'DATOS DEL ESTUDIANTE'!B17","v":0},{"$f":"'DATOS DEL ESTUDIANTE'!C17","v":0},{"$f":"'DATOS DEL ESTUDIANTE'!D17","v":0},null,null,null,null,null,null,null,{"$error":"#DIV/0!"},null,null,null,null,null,null,{"$error":"#DIV/0!"},null,{"$error":"#DIV/0!"},null,null,{"$error":"#DIV/0!"}]
[null,15,{"$f":"'DATOS DEL ESTUDIANTE'!B18","v":0},{"$f":"'DATOS DEL ESTUDIANTE'!C18","v":0},{"$f":"'DATOS DEL ESTUDIANTE'!D18","v":0},null,null,null,null,null,null,null,{"$error":"#DIV/0!"},null,null,null,null,null,null,{"$error":"#DIV/0!"},null,{"$error":"#DIV/0!"},null,null,{"$error":"#DIV/0!"}]
[null,16,{"$f":"'DATOS DEL ESTUDIANTE'!B19","v":0},{"$f":"'DATOS DEL ESTUDIANTE'!C19","v":0},{"$f":"'DATOS DEL ESTUDIANTE'!D19","v":0},null,null,null,null,null,null,null,{"$error":"#DIV/0!"},null,null,null,null,null,null,{"$error":"#DIV/0!"},null,{"$error":"#DIV/0!"},null,null,{"$error":"#DIV/0!"}]
[null,17,{"$f":"'DATOS DEL ESTUDIANTE'!B20","v":0},{"$f":"'DATOS DEL ESTUDIANTE'!C20","v":0},{"$f":"'DATOS DEL ESTUDIANTE'!D20","v":0},null,null,null,null,null,null,null,{"$error":"#DIV/0!"},null,null,null,null,null,null,{"$error":"#DIV/0!"},null,{"$error":"#DIV/0!"},null,null,{"$error":"#DIV/0!"}]
[null,18,{"$f":"'DATOS DEL ESTUDIANTE'!B21","v":0},{"$f":"'DATOS DEL ESTUDIANTE'!C21","v":0},{"$f":"'DATOS DEL ESTUDIANTE'!D21","v":0},null,null,null,null,null,null,null,{"$error":"#DIV/0!"},null,null,null,null,null,null,{"$error":"#DIV/0!"},null,{"$error":"#DIV/0!"},null,null,{"$error":"#DIV/0!"}]
[null,19,{"$f":"'DATOS DEL ESTUDIANTE'!B22","v":0},{"$f":"'DATOS DEL ESTUDIANTE'!C22","v":0},{"$f":"'DATOS DEL ESTUDIANTE'!D22","v":0},null,null,null,null,null,null,null,{"$error":"#DIV/0!"},null,null,null,null,null,null,{"$error":"#DIV/0!"},null,{"$error":"#DIV/0!"},null,null,{"$error":"#DIV/0!"}]
[null,20,{"$f":"'DATOS DEL ESTUDIANTE'!B23","v":0},{"$f":"'DATOS DEL ESTUDIANTE'!C23","v":0},{"$f":"'DATOS DEL ESTUDIANTE'!D23","v":0},null,null,null,null,null,null,null,{"$error":"#DIV/0!"},null,null,null,null,null,null,{"$error":"#DIV/0!"},null,{"$error":"#DIV/0!"},null,null,{"$error":"#DIV/0!"}]
[null,21,{"$f":"'DATOS DEL ESTUDIANTE'!B24","v":0},{"$f":"'DATOS DEL ESTUDIANTE'!C24","v":0},{"$f":"'DATOS DEL ESTUDIANTE'!D24","v":0},null,null,null,null,null,null,null,{"$error":"#DIV/0!"},null,null,null,null,null,null,{"$error":"#DIV/0!"},null,{"$error":"#DIV/0!"},null,null,{"$error":"#DIV/0!"}]
[null,22,{"$f":"'DATOS DEL ESTUDIANTE'!B25","v":0},{"$f":"'DATOS DEL ESTUDIANTE'!C25","v":0},{"$f":"'DATOS DEL ESTUDIANTE'!D25","v":0},null,null,null,null,null,null,null,{"$error":"#DIV/0!"},null,null,null,null,null,null,{"$error":"#DIV/0!"},null,{"$error":"#DIV/0!"},null,null,{"$error":"#DIV/0!"}]
[null,23,{"$f":"'DATOS DEL ESTUDIANTE'!B26","v":0},{"$f":"'DATOS DEL ESTUDIANTE'!C26","v":0},{"$f":"'DATOS DEL ESTUDIANTE'!D26","v":0},null,null,null,null,null,null,null,{"$error":"#DIV/0!"},null,null,null,null,null,null,{"$error":"#DIV/0!"},null,{"$error":"#DIV/0!"},null,null,{"$error":"#DIV/0!"}]
[null,24,{"$f":"'DATOS DEL ESTUDIANTE'!B27","v":0},{"$f":"'DATOS DEL ESTUDIANTE'!C27","v":0},{"$f":"'DATOS DEL ESTUDIANTE'!D27","v":0},null,null,null,null,null,null,null,{"$error":"#DIV/0!"},null,null,null,null,null,null,{"$error":"#DIV/0!"},null,{"$error":"#DIV/0!"},null,null,{"$error":"#DIV/0!"}]
[null,25,{"$f":"'DATOS DEL ESTUDIANTE'!B28","v":0},{"$f":"'DATOS DEL ESTUDIANTE'!C28","v":0},{"$f":"'DATOS DEL ESTUDIANTE'!D28","v":0},null,null,null,null,null,null,null,{"$error":"#DIV/0!"},null,null,null,null,null,null,{"$error":"#DIV/0!"},null,{"$error":"#DIV/0!"},null,null,{"$error":"#DIV/0!"}]
[null,26,{"$f":"'DATOS DEL ESTUDIANTE'!B29","v":0},{"$f":"'DATOS DEL ESTUDIANTE'!C29","v":0},{"$f":"'DATOS DEL ESTUDIANTE'!D29","v":0},null,null,null,null,null,null,null,{"$error":"#DIV/0!"},null,null,null,null,null,null,{"$error":"#DIV/0!"},null,{"$error":"#DIV/0!"},null,null,{"$error":"#DIV/0!"}]
[null,27,{"$f":"'DATOS DEL ESTUDIANTE'!B30","v":0},{"$f":"'DATOS DEL ESTUDIANTE'!C30","v":0},{"$f":"'DATOS DEL ESTUDIANTE'!D30","v":0},null,null,null,null,null,null,null,{"$error":"#DIV/0!"},null,null,null,null,null,null,{"$error":"#DIV/0!"},null,{"$error":"#DIV/0!"},null,null,{"$error":"#DIV/0!"}]
[null,28,{"$f":"'DATOS DEL ESTUDIANTE'!B31","v":0},{"$f":"'DATOS DEL ESTUDIANTE'!C31","v":0},{"$f":"'DATOS DEL ESTUDIANTE'!D31","v":0},null,null,null,null,null,null,null,{"$error":"#DIV/0!"},null,null,null,null,null,null,{"$error":"#DIV/0!"},null,{"$error":"#DIV/0!"},null,null,{"$error":"#DIV/0!"}]
[null,29,{"$f":"'DATOS DEL ESTUDIANTE'!B32","v":0},{"$f":"'DATOS DEL ESTUDIANTE'!C32","v":0},{"$f":"'DATOS DEL ESTUDIANTE'!D32","v":0},null,null,null,null,null,null,null,{"$error":"#DIV/0!"},null,null,null,null,null,null,{"$error":"#DIV/0!"},null,{"$error":"#DIV/0!"},null,null,{"$error":"#DIV/0!"}]
[null,30,{"$f":"'DATOS DEL ESTUDIANTE'!B33","v":0},{"$f":"'DATOS DEL ESTUDIANTE'!C33","v":0},{"$f":"'DATOS DEL ESTUDIANTE'!D33","v":0},null,null,null,null,null,null,null,{"$error":"#DIV/0!"},null,null,null,null,null,null,{"$error":"#DIV/0!"},null,{"$error":"#DIV/0!"},null,null,{"$error":"#DIV/0!"}]
[null,31,{"$f":"'DATOS DEL ESTUDIANTE'!B34","v":0},{"$f":"'DATOS DEL ESTUDIANTE'!C34","v":0},{"$f":"'DATOS DEL ESTUDIANTE'!D34","v":0},null,null,null,null,null,null,null,{"$error":"#DIV/0!"},null,null,null,null,null,null,{"$error":"#DIV/0!"},null,{"$error":"#DIV/0!"},null,null,{"$error":"#DIV/0!"}]
[null,32,{"$f":"'DATOS DEL ESTUDIANTE'!B35","v":0},{"$f":"'DATOS DEL ESTUDIANTE'!C35","v":0},{"$f":"'DATOS DEL ESTUDIANTE'!D35","v":0},null,null,null,null,null,null,null,{"$error":"#DIV/0!"},null,null,null,null,null,null,{"$error":"#DIV/0!"},null,{"$error":"#DIV/0!"},null,null,{"$error":"#DIV/0!"}]
[null,33,{"$f":"'DATOS DEL ESTUDIANTE'!B36","v":0},{"$f":"'DATOS DEL ESTUDIANTE'!C36","v":0},{"$f":"'DATOS DEL ESTUDIANTE'!D36","v":0},null,null,null,null,null,null,null,{"$error":"#DIV/0!"},null,null,null,null,null,null,{"$error":"#DIV/0!"},null,{"$error":"#DIV/0!"},null,null,{"$error":"#DIV/0!"}]
[null,34,{"$f":"'DATOS DEL ESTUDIANTE'!B37","v":0},{"$f":"'DATOS DEL ESTUDIANTE'!C37","v":0},{"$f":"'DATOS DEL ESTUDIANTE'!D37","v":0},null,null,null,null,null,null,null,{"$error":"#DIV/0!"},null,null,null,null,null,null,{"$error":"#DIV/0!"},null,{"$error":"#DIV/0!"},null,null,{"$error":"#DIV/0!"}]
[null,35,{"$f":"'DATOS DEL ESTUDIANTE'!B38","v":0},{"$f":"'DATOS DEL ESTUDIANTE'!C38","v":0},{"$f":"'DATOS DEL ESTUDIANTE'!D38","v":0},null,null,null,null,null,null,null,{"$error":"#DIV/0!"},null,null,null,null,null,null,{"$error":"#DIV/0!"},null,{"$error":"#DIV/0!"},null,null,{"$error":"#DIV/0!"}]
[null,36,{"$f":"'DATOS DEL ESTUDIANTE'!B39","v":0},{"$f":"'DATOS DEL ESTUDIANTE'!C39","v":0},{"$f":"'DATOS DEL ESTUDIANTE'!D39","v":0},null,null,null,null,null,null,null,{"$error":"#DIV/0!"},null,null,null,null,null,null,{"$error":"#DIV/0!"},null,{"$error":"#DIV/0!"},null,null,{"$error":"#DIV/0!"}]
[null,37,{"$f":"'DATOS DEL ESTUDIANTE'!B40","v":0},{"$f":"'DATOS DEL ESTUDIANTE'!C40","v":0},{"$f":"'DATOS DEL ESTUDIANTE'!D40","v":0},null,null,null,null,null,null,null,{"$error":"#DIV/0!"},null,null,null,null,null,null,{"$error":"#DIV/0!"},null,{"$error":"#DIV/0!"},null,null,{"$error":"#DIV/0!"}]
[null,38,{"$f":"'DATOS DEL ESTUDIANTE'!B41","v":0},{"$f":"'DATOS DEL ESTUDIANTE'!C41","v":0},{"$f":"'DATOS DEL ESTUDIANTE'!D41","v":0},null,null,null,null,null,null,null,{"$error":"#DIV/0!"},null,null,null,null,null,null,{"$error":"#DIV/0!"},null,{"$error":"#DIV/0!"},null,null,{"$error":"#DIV/0!"}]
[null,39,{"$f":"'DATOS DEL ESTUDIANTE'!B42","v":0},{"$f":"'DATOS DEL ESTUDIANTE'!C42","v":0},{"$f":"'DATOS DEL ESTUDIANTE'!D42","v":0},null,null,null,null,null,null,null,{"$error":"#DIV/0!"},null,null,null,null,null,null,{"$error":"#DIV/0!"},null,{"$error":"#DIV/0!"},null,null,{"$error":"#DIV/0!"}]
[null,40,{"$f":"'DATOS DEL ESTUDIANTE'!B43","v":0},{"$f":"'DATOS DEL ESTUDIANTE'!C43","v":0},{"$f":"'DATOS DEL ESTUDIANTE'!D43","v":0},null,null,null,null,null,null,null,{"$error":"#DIV/0!"},null,null,null,null,null,null,{"$error":"#DIV/0!"},null,{"$error":"#DIV/0!"},null,null,{"$error":"#DIV/0!"}]
[null,41,{"$f":"'DATOS DEL ESTUDIANTE'!B44","v":0},{"$f":"'DATOS DEL ESTUDIANTE'!C44","v":0},{"$f":"'DATOS DEL ESTUDIANTE'!D44","v":0},null,null,null,null,null,null,null,{"$error":"#DIV/0!"},null,null,null,null,null,null,{"$error":"#DIV/0!"},null,{"$error":"#DIV/0!"},null,null,{"$error":"#DIV/0!"}]
[null,42,{"$f":"'DATOS DEL ESTUDIANTE'!B45","v":0},{"$f":"'DATOS DEL ESTUDIANTE'!C45","v":0},{"$f":"'DATOS DEL ESTUDIANTE'!D45","v":0},null,null,null,null,null,null,null,{"$error":"#DIV/0!"},null,null,null,null,null,null,{"$error":"#DIV/0!"},null,{"$error":"#DIV/0!"},null,null,{"$error":"#DIV/0!"}]
[null,43,{"$f":"'DATOS DEL ESTUDIANTE'!B46","v":0},{"$f":"'DATOS DEL ESTUDIANTE'!C46","v":0},{"$f":"'DATOS DEL ESTUDIANTE'!D46","v":0},null,null,null,null,null,null,null,{"$error":"#DIV/0!"},null,null,null,null,null,null,{"$error":"#DIV/0!"},null,{"$error":"#DIV/0!"},null,null,{"$error":"#DIV/0!"}]
[null,44,{"$f":"'DATOS DEL ESTUDIANTE'!B47","v":0},{"$f":"'DATOS DEL ESTUDIANTE'!C47","v":0},{"$f":"'DATOS DEL ESTUDIANTE'!D47","v":0},null,null,null,null,null,null,null,{"$error":"#DIV/0!"},null,null,null,null,null,null,{"$error":"#DIV/0!"},null,{"$error":"#DIV/0!"},null,null,{"$error":"#DIV/0!"}]
[null,45,{"$f":"'DATOS DEL ESTUDIANTE'!B48","v":0},{"$f":"'DATOS DEL ESTUDIANTE'!C48","v":0},{"$f":"'DATOS DEL ESTUDIANTE'!D48","v":0},null,null,null,null,null,null,null,{"$error":"#DIV/0!"},null,null,null,null,null,null,{"$error":"#DIV/0!"},null,{"$error":"#DIV/0!"},null,null,{"$error":"#DIV/0!"}]

{"sheet":"EDUCACION MUSICAL 3","index":26,"n_rows":55,"n_cols":25,"rows_kept":55,"cut":false,"hidden":false,"merged":[[0,25,3,25],[3,13,3,19],[1,4,1,9],[8,16,9,16],[8,17,9,17],[8,18,9,18],[8,15,9,15],[4,19,9,19],[8,2,8,4],[3,6,3,12],[8,8,9,8],[8,9,9,9],[8,10,9,10],[8,11,9,11],[4,8,6,9],[4,13,6,14],[3,21,9,21],[3,22,8,23],[3,24,9,24],[4,15,6,16],[4,17,6,18],[4,20,6,20],[0,21,2,24],[1,10,1,12],[1,13,1,19],[1,20,2,20],[2,1,2,19],[1,1,1,3],[8,1,9,1],[8,20,9,20],[8,7,9,7],[4,10,6,11],[0,0,9,0],[0,1,0,19],[3,1,3,4],[8,5,9,5],[8,6,9,6],[8,13,9,13],[8,14,9,14],[4,12,9,12],[7,1,7,4],[4,1,6,4],[4,5,6,5],[4,6,6,7]]}
[null," EDUCACION MUSICAL",null,null,null,null,null,null,null,null,null,null,null,null,null,null,null,null,null,null,2018]
[null,"AÑO DE ESCOLARIDAD:",null,null,{"$f":"CARATULA!G15","v":0},null,null,null,null,null,"MAESTRA (O): ",null,null,{"$f":"CARATULA!G18","v":0},null,null,null,null,null,null,"TERCER\nBIMESTRE"]
[null," REGISTRO  Y CENTRALIZADOR DEL PROCESO DE  EVALUACIÓN   "]
[null,"DIMENSIONES",null,null,null,"SER (10)","SABER (35)",null,null,null,null,null,null,"HACER (35)",null,null,null,null,null,null,"DECIDIR (10)","TOTAL     EVALUACIÓN    DEL     MAESTRO","AUTOEVALUACIÓN",null,"CALIFICACIÓN BIMESTRAL"]
[null,"CRITERIOS DE EVALUACIÓN SEGÚN PDC",null,null,null,null,null,null,null,null,null,null,"T      O     T     A       L",null,null,null,null,null,null,"T      O     T     A       L"]
[]
[]
[null,"INSTRUMENTO Y/ O ESTRATEGIAS DE EVALUACIÓN"]
[null,"N°","    FECHA DE  EVALUACIÓN\n \n\n"]
[null,null,"NOMBRES ","APELLIDO PATERNO"," \nAPELLIDO MATERNO",null,null,null,null,null,null,null,null,null,null,null,null,null,null,null,null,null,"SER\n(5)","DECIDIR\n(5)"]
[null,1,{"$f":"'DATOS DEL ESTUDIANTE'!B4","v":0},{"$f":"'DATOS DEL ESTUDIANTE'!C4","v":0},{"$f":"'DATOS DEL ESTUDIANTE'!D4","v":0},null,null,null,null,null,null,null,{"$f":"AVERAGE(G11:L11)","v":{"$error":"#DIV/0!"}},null,null,null,null,null,null,{"$f":"AVERAGE(N11:S11)","v":{"$error":"#DIV/0!"}},null,{"$f":"SUM(F11+M11+T11+U11)","v":{"$error":"#DIV/0!"}},null,null,{"$f":"SUM(V11:X11)","v":{"$error":"#DIV/0!"}}]
[null,2,{"$f":"'DATOS DEL ESTUDIANTE'!B5","v":0},{"$f":"'DATOS DEL ESTUDIANTE'!C5","v":0},{"$f":"'DATOS DEL ESTUDIANTE'!D5","v":0},null,null,null,null,null,null,null,{"$f":"AVERAGE(G12:L12)","v":{"$error":"#DIV/0!"}},null,null,null,null,null,null,{"$f":"AVERAGE(N12:S12)","v":{"$error":"#DIV/0!"}},null,{"$f":"SUM(F12+M12+T12+U12)","v":{"$error":"#DIV/0!"}},null,null,{"$f":"SUM(V12:X12)","v":{"$error":"#DIV/0!"}}]
[null,3,{"$f":"'DATOS DEL ESTUDIANTE'!B6","v":0},{"$f":"'DATOS DEL ESTUDIANTE'!C6","v":0},{"$f":"'DATOS DEL ESTUDIANTE'!D6","v":0},null,null,null,null,null,null,null,{"$error":"#DIV/0!"},null,null,null,null,null,null,{"$error":"#DIV/0!"},null,{"$error":"#DIV/0!"},null,null,{"$error":"#DIV/0!"}]
[null,4,{"$f":"'DATOS DEL ESTUDIANTE'!B7","v":0},{"$f":"'DATOS DEL ESTUDIANTE'!C7","v":0},{"$f":"'DATOS DEL ESTUDIANTE'!D7","v":0},null,null,null,null,null,null,null,{"$error":"#DIV/0!"},null,null,null,null,null,null,{"$error":"#DIV/0!"},null,{"$error":"#DIV/0!"},null,null,{"$error":"#DIV/0!"}]
[null,5,{"$f":"'DATOS DEL ESTUDIANTE'!B8","v":0},{"$f":"'DATOS DEL ESTUDIANTE'!C8","v":0},{"$f":"'DATOS DEL ESTUDIANTE'!D8","v":0},null,null,null,null,null,null,null,{"$error":"#DIV/0!"},null,null,null,null,null,null,{"$error":"#DIV/0!"},null,{"$error":"#DIV/0!"},null,null,{"$error":"#DIV/0!"}]
[null,6,{"$f":"'DATOS DEL ESTUDIANTE'!B9","v":0},{"$f":"'DATOS DEL ESTUDIANTE'!C9","v":0},{"$f":"'DATOS DEL ESTUDIANTE'!D9","v":0},null,null,null,null,null,null,null,{"$error":"#DIV/0!"},null,null,null,null,null,null,{"$error":"#DIV/0!"},null,{"$error":"#DIV/0!"},null,null,{"$error":"#DIV/0!"}]
[null,7,{"$f":"'DATOS DEL ESTUDIANTE'!B10","v":0},{"$f":"'DATOS DEL ESTUDIANTE'!C10","v":0},{"$f":"'DATOS DEL ESTUDIANTE'!D10","v":0},null,null,null,null,null,null,null,{"$error":"#DIV/0!"},null,null,null,null,null,null,{"$error":"#DIV/0!"},null,{"$error":"#DIV/0!"},null,null,{"$error":"#DIV/0!"}]
[null,8,{"$f":"'DATOS DEL ESTUDIANTE'!B11","v":0},{"$f":"'DATOS DEL ESTUDIANTE'!C11","v":0},{"$f":"'DATOS DEL ESTUDIANTE'!D11","v":0},null,null,null,null,null,null,null,{"$error":"#DIV/0!"},null,null,null,null,null,null,{"$error":"#DIV/0!"},null,{"$error":"#DIV/0!"},null,null,{"$error":"#DIV/0!"}]
[null,9,{"$f":"'DATOS DEL ESTUDIANTE'!B12","v":0},{"$f":"'DATOS DEL ESTUDIANTE'!C12","v":0},{"$f":"'DATOS DEL ESTUDIANTE'!D12","v":0},null,null,null,null,null,null,null,{"$error":"#DIV/0!"},null,null,null,null,null,null,{"$error":"#DIV/0!"},null,{"$error":"#DIV/0!"},null,null,{"$error":"#DIV/0!"}]
[null,10,{"$f":"'DATOS DEL ESTUDIANTE'!B13","v":0},{"$f":"'DATOS DEL ESTUDIANTE'!C13","v":0},{"$f":"'DATOS DEL ESTUDIANTE'!D13","v":0},null,null,null,null,null,null,null,{"$error":"#DIV/0!"},null,null,null,null,null,null,{"$error":"#DIV/0!"},null,{"$error":"#DIV/0!"},null,null,{"$error":"#DIV/0!"}]
[null,11,{"$f":"'DATOS DEL ESTUDIANTE'!B14","v":0},{"$f":"'DATOS DEL ESTUDIANTE'!C14","v":0},{"$f":"'DATOS DEL ESTUDIANTE'!D14","v":0},null,null,null,null,null,null,null,{"$error":"#DIV/0!"},null,null,null,null,null,null,{"$error":"#DIV/0!"},null,{"$error":"#DIV/0!"},null,null,{"$error":"#DIV/0!"}]
[null,12,{"$f":"'DATOS DEL ESTUDIANTE'!B15","v":0},{"$f":"'DATOS DEL ESTUDIANTE'!C15","v":0},{"$f":"'DATOS DEL ESTUDIANTE'!D15","v":0},null,null,null,null,null,null,null,{"$error":"#DIV/0!"},null,null,null,null,null,null,{"$error":"#DIV/0!"},null,{"$error":"#DIV/0!"},null,null,{"$error":"#DIV/0!"}]
[null,13,{"$f":"'DATOS DEL ESTUDIANTE'!B16","v":0},{"$f":"'DATOS DEL ESTUDIANTE'!C16","v":0},{"$f":"'DATOS DEL ESTUDIANTE'!D16","v":0},null,null,null,null,null,null,null,{"$error":"#DIV/0!"},null,null,null,null,null,null,{"$error":"#DIV/0!"},null,{"$error":"#DIV/0!"},null,null,{"$error":"#DIV/0!"}]
[null,14,{"$f":"'DATOS DEL ESTUDIANTE'!B17","v":0},{"$f":"'DATOS DEL ESTUDIANTE'!C17","v":0},{"$f":"'DATOS DEL ESTUDIANTE'!D17","v":0},null,null,null,null,null,null,null,{"$error":"#DIV/0!"},null,null,null,null,null,null,{"$error":"#DIV/0!"},null,{"$error":"#DIV/0!"},null,null,{"$error":"#DIV/0!"}]
[null,15,{"$f":"'DATOS DEL ESTUDIANTE'!B18","v":0},{"$f":"'DATOS DEL ESTUDIANTE'!C18","v":0},{"$f":"'DATOS DEL ESTUDIANTE'!D18","v":0},null,null,null,null,null,null,null,{"$error":"#DIV/0!"},null,null,null,null,null,null,{"$error":"#DIV/0!"},null,{"$error":"#DIV/0!"},null,null,{"$error":"#DIV/0!"}]
[null,16,{"$f":"'DATOS DEL ESTUDIANTE'!B19","v":0},{"$f":"'DATOS DEL ESTUDIANTE'!C19","v":0},{"$f":"'DATOS DEL ESTUDIANTE'!D19","v":0},null,null,null,null,null,null,null,{"$error":"#DIV/0!"},null,null,null,null,null,null,{"$error":"#DIV/0!"},null,{"$error":"#DIV/0!"},null,null,{"$error":"#DIV/0!"}]
[null,17,{"$f":"'DATOS DEL ESTUDIANTE'!B20","v":0},{"$f":"'DATOS DEL ESTUDIANTE'!C20","v":0},{"$f":"'DATOS DEL ESTUDIANTE'!D20","v":0},null,null,null,null,null,null,null,{"$error":"#DIV/0!"},null,null,null,null,null,null,{"$error":"#DIV/0!"},null,{"$error":"#DIV/0!"},null,null,{"$error":"#DIV/0!"}]
[null,18,{"$f":"'DATOS DEL ESTUDIANTE'!B21","v":0},{"$f":"'DATOS DEL ESTUDIANTE'!C21","v":0},{"$f":"'DATOS DEL ESTUDIANTE'!D21","v":0},null,null,null,null,null,null,null,{"$error":"#DIV/0!"},null,null,null,null,null,null,{"$error":"#DIV/0!"},null,{"$error":"#DIV/0!"},null,null,{"$error":"#DIV/0!"}]
[null,19,{"$f":"'DATOS DEL ESTUDIANTE'!B22","v":0},{"$f":"'DATOS DEL ESTUDIANTE'!C22","v":0},{"$f":"'DATOS DEL ESTUDIANTE'!D22","v":0},null,null,null,null,null,null,null,{"$error":"#DIV/0!"},null,null,null,null,null,null,{"$error":"#DIV/0!"},null,{"$error":"#DIV/0!"},null,null,{"$error":"#DIV/0!"}]
[null,20,{"$f":"'DATOS DEL ESTUDIANTE'!B23","v":0},{"$f":"'DATOS DEL ESTUDIANTE'!C23","v":0},{"$f":"'DATOS DEL ESTUDIANTE'!D23","v":0},null,null,null,null,null,null,null,{"$error":"#DIV/0!"},null,null,null,null,null,null,{"$error":"#DIV/0!"},null,{"$error":"#DIV/0!"},null,null,{"$error":"#DIV/0!"}]
[null,21,{"$f":"'DATOS DEL ESTUDIANTE'!B24","v":0},{"$f":"'DATOS DEL ESTUDIANTE'!C24","v":0},{"$f":"'DATOS DEL ESTUDIANTE'!D24","v":0},null,null,null,null,null,null,null,{"$error":"#DIV/0!"},null,null,null,null,null,null,{"$error":"#DIV/0!"},null,{"$error":"#DIV/0!"},null,null,{"$error":"#DIV/0!"}]
[null,22,{"$f":"'DATOS DEL ESTUDIANTE'!B25","v":0},{"$f":"'DATOS DEL ESTUDIANTE'!C25","v":0},{"$f":"'DATOS DEL ESTUDIANTE'!D25","v":0},null,null,null,null,null,null,null,{"$error":"#DIV/0!"},null,null,null,null,null,null,{"$error":"#DIV/0!"},null,{"$error":"#DIV/0!"},null,null,{"$error":"#DIV/0!"}]
[null,23,{"$f":"'DATOS DEL ESTUDIANTE'!B26","v":0},{"$f":"'DATOS DEL ESTUDIANTE'!C26","v":0},{"$f":"'DATOS DEL ESTUDIANTE'!D26","v":0},null,null,null,null,null,null,null,{"$error":"#DIV/0!"},null,null,null,null,null,null,{"$error":"#DIV/0!"},null,{"$error":"#DIV/0!"},null,null,{"$error":"#DIV/0!"}]
[null,24,{"$f":"'DATOS DEL ESTUDIANTE'!B27","v":0},{"$f":"'DATOS DEL ESTUDIANTE'!C27","v":0},{"$f":"'DATOS DEL ESTUDIANTE'!D27","v":0},null,null,null,null,null,null,null,{"$error":"#DIV/0!"},null,null,null,null,null,null,{"$error":"#DIV/0!"},null,{"$error":"#DIV/0!"},null,null,{"$error":"#DIV/0!"}]
[null,25,{"$f":"'DATOS DEL ESTUDIANTE'!B28","v":0},{"$f":"'DATOS DEL ESTUDIANTE'!C28","v":0},{"$f":"'DATOS DEL ESTUDIANTE'!D28","v":0},null,null,null,null,null,null,null,{"$error":"#DIV/0!"},null,null,null,null,null,null,{"$error":"#DIV/0!"},null,{"$error":"#DIV/0!"},null,null,{"$error":"#DIV/0!"}]
[null,26,{"$f":"'DATOS DEL ESTUDIANTE'!B29","v":0},{"$f":"'DATOS DEL ESTUDIANTE'!C29","v":0},{"$f":"'DATOS DEL ESTUDIANTE'!D29","v":0},null,null,null,null,null,null,null,{"$error":"#DIV/0!"},null,null,null,null,null,null,{"$error":"#DIV/0!"},null,{"$error":"#DIV/0!"},null,null,{"$error":"#DIV/0!"}]
[null,27,{"$f":"'DATOS DEL ESTUDIANTE'!B30","v":0},{"$f":"'DATOS DEL ESTUDIANTE'!C30","v":0},{"$f":"'DATOS DEL ESTUDIANTE'!D30","v":0},null,null,null,null,null,null,null,{"$error":"#DIV/0!"},null,null,null,null,null,null,{"$error":"#DIV/0!"},null,{"$error":"#DIV/0!"},null,null,{"$error":"#DIV/0!"}]
[null,28,{"$f":"'DATOS DEL ESTUDIANTE'!B31","v":0},{"$f":"'DATOS DEL ESTUDIANTE'!C31","v":0},{"$f":"'DATOS DEL ESTUDIANTE'!D31","v":0},null,null,null,null,null,null,null,{"$error":"#DIV/0!"},null,null,null,null,null,null,{"$error":"#DIV/0!"},null,{"$error":"#DIV/0!"},null,null,{"$error":"#DIV/0!"}]
[null,29,{"$f":"'DATOS DEL ESTUDIANTE'!B32","v":0},{"$f":"'DATOS DEL ESTUDIANTE'!C32","v":0},{"$f":"'DATOS DEL ESTUDIANTE'!D32","v":0},null,null,null,null,null,null,null,{"$error":"#DIV/0!"},null,null,null,null,null,null,{"$error":"#DIV/0!"},null,{"$error":"#DIV/0!"},null,null,{"$error":"#DIV/0!"}]
[null,30,{"$f":"'DATOS DEL ESTUDIANTE'!B33","v":0},{"$f":"'DATOS DEL ESTUDIANTE'!C33","v":0},{"$f":"'DATOS DEL ESTUDIANTE'!D33","v":0},null,null,null,null,null,null,null,{"$error":"#DIV/0!"},null,null,null,null,null,null,{"$error":"#DIV/0!"},null,{"$error":"#DIV/0!"},null,null,{"$error":"#DIV/0!"}]
[null,31,{"$f":"'DATOS DEL ESTUDIANTE'!B34","v":0},{"$f":"'DATOS DEL ESTUDIANTE'!C34","v":0},{"$f":"'DATOS DEL ESTUDIANTE'!D34","v":0},null,null,null,null,null,null,null,{"$error":"#DIV/0!"},null,null,null,null,null,null,{"$error":"#DIV/0!"},null,{"$error":"#DIV/0!"},null,null,{"$error":"#DIV/0!"}]
[null,32,{"$f":"'DATOS DEL ESTUDIANTE'!B35","v":0},{"$f":"'DATOS DEL ESTUDIANTE'!C35","v":0},{"$f":"'DATOS DEL ESTUDIANTE'!D35","v":0},null,null,null,null,null,null,null,{"$error":"#DIV/0!"},null,null,null,null,null,null,{"$error":"#DIV/0!"},null,{"$error":"#DIV/0!"},null,null,{"$error":"#DIV/0!"}]
[null,33,{"$f":"'DATOS DEL ESTUDIANTE'!B36","v":0},{"$f":"'DATOS DEL ESTUDIANTE'!C36","v":0},{"$f":"'DATOS DEL ESTUDIANTE'!D36","v":0},null,null,null,null,null,null,null,{"$error":"#DIV/0!"},null,null,null,null,null,null,{"$error":"#DIV/0!"},null,{"$error":"#DIV/0!"},null,null,{"$error":"#DIV/0!"}]
[null,34,{"$f":"'DATOS DEL ESTUDIANTE'!B37","v":0},{"$f":"'DATOS DEL ESTUDIANTE'!C37","v":0},{"$f":"'DATOS DEL ESTUDIANTE'!D37","v":0},null,null,null,null,null,null,null,{"$error":"#DIV/0!"},null,null,null,null,null,null,{"$error":"#DIV/0!"},null,{"$error":"#DIV/0!"},null,null,{"$error":"#DIV/0!"}]
[null,35,{"$f":"'DATOS DEL ESTUDIANTE'!B38","v":0},{"$f":"'DATOS DEL ESTUDIANTE'!C38","v":0},{"$f":"'DATOS DEL ESTUDIANTE'!D38","v":0},null,null,null,null,null,null,null,{"$error":"#DIV/0!"},null,null,null,null,null,null,{"$error":"#DIV/0!"},null,{"$error":"#DIV/0!"},null,null,{"$error":"#DIV/0!"}]
[null,36,{"$f":"'DATOS DEL ESTUDIANTE'!B39","v":0},{"$f":"'DATOS DEL ESTUDIANTE'!C39","v":0},{"$f":"'DATOS DEL ESTUDIANTE'!D39","v":0},null,null,null,null,null,null,null,{"$error":"#DIV/0!"},null,null,null,null,null,null,{"$error":"#DIV/0!"},null,{"$error":"#DIV/0!"},null,null,{"$error":"#DIV/0!"}]
[null,37,{"$f":"'DATOS DEL ESTUDIANTE'!B40","v":0},{"$f":"'DATOS DEL ESTUDIANTE'!C40","v":0},{"$f":"'DATOS DEL ESTUDIANTE'!D40","v":0},null,null,null,null,null,null,null,{"$error":"#DIV/0!"},null,null,null,null,null,null,{"$error":"#DIV/0!"},null,{"$error":"#DIV/0!"},null,null,{"$error":"#DIV/0!"}]
[null,38,{"$f":"'DATOS DEL ESTUDIANTE'!B41","v":0},{"$f":"'DATOS DEL ESTUDIANTE'!C41","v":0},{"$f":"'DATOS DEL ESTUDIANTE'!D41","v":0},null,null,null,null,null,null,null,{"$error":"#DIV/0!"},null,null,null,null,null,null,{"$error":"#DIV/0!"},null,{"$error":"#DIV/0!"},null,null,{"$error":"#DIV/0!"}]
[null,39,{"$f":"'DATOS DEL ESTUDIANTE'!B42","v":0},{"$f":"'DATOS DEL ESTUDIANTE'!C42","v":0},{"$f":"'DATOS DEL ESTUDIANTE'!D42","v":0},null,null,null,null,null,null,null,{"$error":"#DIV/0!"},null,null,null,null,null,null,{"$error":"#DIV/0!"},null,{"$error":"#DIV/0!"},null,null,{"$error":"#DIV/0!"}]
[null,40,{"$f":"'DATOS DEL ESTUDIANTE'!B43","v":0},{"$f":"'DATOS DEL ESTUDIANTE'!C43","v":0},{"$f":"'DATOS DEL ESTUDIANTE'!D43","v":0},null,null,null,null,null,null,null,{"$error":"#DIV/0!"},null,null,null,null,null,null,{"$error":"#DIV/0!"},null,{"$error":"#DIV/0!"},null,null,{"$error":"#DIV/0!"}]
[null,41,{"$f":"'DATOS DEL ESTUDIANTE'!B44","v":0},{"$f":"'DATOS DEL ESTUDIANTE'!C44","v":0},{"$f":"'DATOS DEL ESTUDIANTE'!D44","v":0},null,null,null,null,null,null,null,{"$error":"#DIV/0!"},null,null,null,null,null,null,{"$error":"#DIV/0!"},null,{"$error":"#DIV/0!"},null,null,{"$error":"#DIV/0!"}]
[null,42,{"$f":"'DATOS DEL ESTUDIANTE'!B45","v":0},{"$f":"'DATOS DEL ESTUDIANTE'!C45","v":0},{"$f":"'DATOS DEL ESTUDIANTE'!D45","v":0},null,null,null,null,null,null,null,{"$error":"#DIV/0!"},null,null,null,null,null,null,{"$error":"#DIV/0!"},null,{"$error":"#DIV/0!"},null,null,{"$error":"#DIV/0!"}]
[null,43,{"$f":"'DATOS DEL ESTUDIANTE'!B46","v":0},{"$f":"'DATOS DEL ESTUDIANTE'!C46","v":0},{"$f":"'DATOS DEL ESTUDIANTE'!D46","v":0},null,null,null,null,null,null,null,{"$error":"#DIV/0!"},null,null,null,null,null,null,{"$error":"#DIV/0!"},null,{"$error":"#DIV/0!"},null,null,{"$error":"#DIV/0!"}]
[null,44,{"$f":"'DATOS DEL ESTUDIANTE'!B47","v":0},{"$f":"'DATOS DEL ESTUDIANTE'!C47","v":0},{"$f":"'DATOS DEL ESTUDIANTE'!D47","v":0},null,null,null,null,null,null,null,{"$error":"#DIV/0!"},null,null,null,null,null,null,{"$error":"#DIV/0!"},null,{"$error":"#DIV/0!"},null,null,{"$error":"#DIV/0!"}]
[null,45,{"$f":"'DATOS DEL ESTUDIANTE'!B48","v":0},{"$f":"'DATOS DEL ESTUDIANTE'!C48","v":0},{"$f":"'DATOS DEL ESTUDIANTE'!D48","v":0},null,null,null,null,null,null,null,{"$error":"#DIV/0!"},null,null,null,null,null,null,{"$error":"#DIV/0!"},null,{"$error":"#DIV/0!"},null,null,{"$error":"#DIV/0!"}]

{"sheet":"EDUCACION MUSICAL 4","index":27,"n_rows":55,"n_cols":25,"rows_kept":55,"cut":false,"hidden":false,"merged":[[0,25,3,25],[3,13,3,19],[1,4,1,9],[8,16,9,16],[8,17,9,17],[8,18,9,18],[8,15,9,15],[4,19,9,19],[8,2,8,4],[3,6,3,12],[8,8,9,8],[8,9,9,9],[8,10,9,10],[8,11,9,11],[4,8,6,9],[4,13,6,14],[3,21,9,21],[3,22,8,23],[3,24,9,24],[4,15,6,16],[4,17,6,18],[4,20,6,20],[0,21,2,24],[1,10,1,12],[1,13,1,19],[1,20,2,20],[2,1,2,19],[1,1,1,3],[8,1,9,1],[8,20,9,20],[8,7,9,7],[4,10,6,11],[0,0,9,0],[0,1,0,19],[3,1,3,4],[8,5,9,5],[8,6,9,6],[8,13,9,13],[8,14,9,14],[4,12,9,12],[7,1,7,4],[4,1,6,4],[4,5,6,5],[4,6,6,7]]}
[null,"EDUCACION MUSICAL",null,null,null,null,null,null,null,null,null,null,null,null,null,null,null,null,null,null,2018]
[null,"AÑO DE ESCOLARIDAD:",null,null,{"$f":"CARATULA!G15","v":0},null,null,null,null,null,"MAESTRA (O): ",null,null,{"$f":"CARATULA!G18","v":0},null,null,null,null,null,null,"CUARTO\nBIMESTRE"]
[null," REGISTRO  Y CENTRALIZADOR DEL PROCESO DE  EVALUACIÓN   "]
[null,"DIMENSIONES",null,null,null,"SER (10)","SABER (35)",null,null,null,null,null,null,"HACER (35)",null,null,null,null,null,null,"DECIDIR (10)","TOTAL     EVALUACIÓN    DEL     MAESTRO","AUTOEVALUACIÓN",null,"CALIFICACIÓN BIMESTRAL"]
[null,"CRITERIOS DE EVALUACIÓN SEGÚN PDC",null,null,null,null,null,null,null,null,null,null,"T      O     T     A       L",null,null,null,null,null,null,"T      O     T     A       L"]
[]
[]
[null,"INSTRUMENTO Y/ O ESTRATEGIAS DE EVALUACIÓN"]
[null,"N°","    FECHA DE  EVALUACIÓN\n \n\n"]
[null,null,"NOMBRES ","APELLIDO PATERNO"," \nAPELLIDO MATERNO",null,null,null,null,null,null,null,null,null,null,null,null,null,null,null,null,null,"SER\n(5)","DECIDIR\n(5)"]
[null,1,{"$f":"'DATOS DEL ESTUDIANTE'!B4","v":0},{"$f":"'DATOS DEL ESTUDIANTE'!C4","v":0},{"$f":"'DATOS DEL ESTUDIANTE'!D4","v":0},null,null,null,null,null,null,null,{"$f":"AVERAGE(G11:L11)","v":{"$error":"#DIV/0!"}},null,null,null,null,null,null,{"$f":"AVERAGE(N11:S11)","v":{"$error":"#DIV/0!"}},null,{"$f":"SUM(F11+M11+T11+U11)","v":{"$error":"#DIV/0!"}},null,null,{"$f":"SUM(V11:X11)","v":{"$error":"#DIV/0!"}}]
[null,2,{"$f":"'DATOS DEL ESTUDIANTE'!B5","v":0},{"$f":"'DATOS DEL ESTUDIANTE'!C5","v":0},{"$f":"'DATOS DEL ESTUDIANTE'!D5","v":0},null,null,null,null,null,null,null,{"$f":"AVERAGE(G12:L12)","v":{"$error":"#DIV/0!"}},null,null,null,null,null,null,{"$f":"AVERAGE(N12:S12)","v":{"$error":"#DIV/0!"}},null,{"$f":"SUM(F12+M12+T12+U12)","v":{"$error":"#DIV/0!"}},null,null,{"$f":"SUM(V12:X12)","v":{"$error":"#DIV/0!"}}]
[null,3,{"$f":"'DATOS DEL ESTUDIANTE'!B6","v":0},{"$f":"'DATOS DEL ESTUDIANTE'!C6","v":0},{"$f":"'DATOS DEL ESTUDIANTE'!D6","v":0},null,null,null,null,null,null,null,{"$error":"#DIV/0!"},null,null,null,null,null,null,{"$error":"#DIV/0!"},null,{"$error":"#DIV/0!"},null,null,{"$error":"#DIV/0!"}]
[null,4,{"$f":"'DATOS DEL ESTUDIANTE'!B7","v":0},{"$f":"'DATOS DEL ESTUDIANTE'!C7","v":0},{"$f":"'DATOS DEL ESTUDIANTE'!D7","v":0},null,null,null,null,null,null,null,{"$error":"#DIV/0!"},null,null,null,null,null,null,{"$error":"#DIV/0!"},null,{"$error":"#DIV/0!"},null,null,{"$error":"#DIV/0!"}]
[null,5,{"$f":"'DATOS DEL ESTUDIANTE'!B8","v":0},{"$f":"'DATOS DEL ESTUDIANTE'!C8","v":0},{"$f":"'DATOS DEL ESTUDIANTE'!D8","v":0},null,null,null,null,null,null,null,{"$error":"#DIV/0!"},null,null,null,null,null,null,{"$error":"#DIV/0!"},null,{"$error":"#DIV/0!"},null,null,{"$error":"#DIV/0!"}]
[null,6,{"$f":"'DATOS DEL ESTUDIANTE'!B9","v":0},{"$f":"'DATOS DEL ESTUDIANTE'!C9","v":0},{"$f":"'DATOS DEL ESTUDIANTE'!D9","v":0},null,null,null,null,null,null,null,{"$error":"#DIV/0!"},null,null,null,null,null,null,{"$error":"#DIV/0!"},null,{"$error":"#DIV/0!"},null,null,{"$error":"#DIV/0!"}]
[null,7,{"$f":"'DATOS DEL ESTUDIANTE'!B10","v":0},{"$f":"'DATOS DEL ESTUDIANTE'!C10","v":0},{"$f":"'DATOS DEL ESTUDIANTE'!D10","v":0},null,null,null,null,null,null,null,{"$error":"#DIV/0!"},null,null,null,null,null,null,{"$error":"#DIV/0!"},null,{"$error":"#DIV/0!"},null,null,{"$error":"#DIV/0!"}]
[null,8,{"$f":"'DATOS DEL ESTUDIANTE'!B11","v":0},{"$f":"'DATOS DEL ESTUDIANTE'!C11","v":0},{"$f":"'DATOS DEL ESTUDIANTE'!D11","v":0},null,null,null,null,null,null,null,{"$error":"#DIV/0!"},null,null,null,null,null,null,{"$error":"#DIV/0!"},null,{"$error":"#DIV/0!"},null,null,{"$error":"#DIV/0!"}]
[null,9,{"$f":"'DATOS DEL ESTUDIANTE'!B12","v":0},{"$f":"'DATOS DEL ESTUDIANTE'!C12","v":0},{"$f":"'DATOS DEL ESTUDIANTE'!D12","v":0},null,null,null,null,null,null,null,{"$error":"#DIV/0!"},null,null,null,null,null,null,{"$error":"#DIV/0!"},null,{"$error":"#DIV/0!"},null,null,{"$error":"#DIV/0!"}]
[null,10,{"$f":"'DATOS DEL ESTUDIANTE'!B13","v":0},{"$f":"'DATOS DEL ESTUDIANTE'!C13","v":0},{"$f":"'DATOS DEL ESTUDIANTE'!D13","v":0},null,null,null,null,null,null,null,{"$error":"#DIV/0!"},null,null,null,null,null,null,{"$error":"#DIV/0!"},null,{"$error":"#DIV/0!"},null,null,{"$error":"#DIV/0!"}]
[null,11,{"$f":"'DATOS DEL ESTUDIANTE'!B14","v":0},{"$f":"'DATOS DEL ESTUDIANTE'!C14","v":0},{"$f":"'DATOS DEL ESTUDIANTE'!D14","v":0},null,null,null,null,null,null,null,{"$error":"#DIV/0!"},null,null,null,null,null,null,{"$error":"#DIV/0!"},null,{"$error":"#DIV/0!"},null,null,{"$error":"#DIV/0!"}]
[null,12,{"$f":"'DATOS DEL ESTUDIANTE'!B15","v":0},{"$f":"'DATOS DEL ESTUDIANTE'!C15","v":0},{"$f":"'DATOS DEL ESTUDIANTE'!D15","v":0},null,null,null,null,null,null,null,{"$error":"#DIV/0!"},null,null,null,null,null,null,{"$error":"#DIV/0!"},null,{"$error":"#DIV/0!"},null,null,{"$error":"#DIV/0!"}]
[null,13,{"$f":"'DATOS DEL ESTUDIANTE'!B16","v":0},{"$f":"'DATOS DEL ESTUDIANTE'!C16","v":0},{"$f":"'DATOS DEL ESTUDIANTE'!D16","v":0},null,null,null,null,null,null,null,{"$error":"#DIV/0!"},null,null,null,null,null,null,{"$error":"#DIV/0!"},null,{"$error":"#DIV/0!"},null,null,{"$error":"#DIV/0!"}]
[null,14,{"$f":"'DATOS DEL ESTUDIANTE'!B17","v":0},{"$f":"'DATOS DEL ESTUDIANTE'!C17","v":0},{"$f":"'DATOS DEL ESTUDIANTE'!D17","v":0},null,null,null,null,null,null,null,{"$error":"#DIV/0!"},null,null,null,null,null,null,{"$error":"#DIV/0!"},null,{"$error":"#DIV/0!"},null,null,{"$error":"#DIV/0!"}]
[null,15,{"$f":"'DATOS DEL ESTUDIANTE'!B18","v":0},{"$f":"'DATOS DEL ESTUDIANTE'!C18","v":0},{"$f":"'DATOS DEL ESTUDIANTE'!D18","v":0},null,null,null,null,null,null,null,{"$error":"#DIV/0!"},null,null,null,null,null,null,{"$error":"#DIV/0!"},null,{"$error":"#DIV/0!"},null,null,{"$error":"#DIV/0!"}]
[null,16,{"$f":"'DATOS DEL ESTUDIANTE'!B19","v":0},{"$f":"'DATOS DEL ESTUDIANTE'!C19","v":0},{"$f":"'DATOS DEL ESTUDIANTE'!D19","v":0},null,null,null,null,null,null,null,{"$error":"#DIV/0!"},null,null,null,null,null,null,{"$error":"#DIV/0!"},null,{"$error":"#DIV/0!"},null,null,{"$error":"#DIV/0!"}]
[null,17,{"$f":"'DATOS DEL ESTUDIANTE'!B20","v":0},{"$f":"'DATOS DEL ESTUDIANTE'!C20","v":0},{"$f":"'DATOS DEL ESTUDIANTE'!D20","v":0},null,null,null,null,null,null,null,{"$error":"#DIV/0!"},null,null,null,null,null,null,{"$error":"#DIV/0!"},null,{"$error":"#DIV/0!"},null,null,{"$error":"#DIV/0!"}]
[null,18,{"$f":"'DATOS DEL ESTUDIANTE'!B21","v":0},{"$f":"'DATOS DEL ESTUDIANTE'!C21","v":0},{"$f":"'DATOS DEL ESTUDIANTE'!D21","v":0},null,null,null,null,null,null,null,{"$error":"#DIV/0!"},null,null,null,null,null,null,{"$error":"#DIV/0!"},null,{"$error":"#DIV/0!"},null,null,{"$error":"#DIV/0!"}]
[null,19,{"$f":"'DATOS DEL ESTUDIANTE'!B22","v":0},{"$f":"'DATOS DEL ESTUDIANTE'!C22","v":0},{"$f":"'DATOS DEL ESTUDIANTE'!D22","v":0},null,null,null,null,null,null,null,{"$error":"#DIV/0!"},null,null,null,null,null,null,{"$error":"#DIV/0!"},null,{"$error":"#DIV/0!"},null,null,{"$error":"#DIV/0!"}]
[null,20,{"$f":"'DATOS DEL ESTUDIANTE'!B23","v":0},{"$f":"'DATOS DEL ESTUDIANTE'!C23","v":0},{"$f":"'DATOS DEL ESTUDIANTE'!D23","v":0},null,null,null,null,null,null,null,{"$error":"#DIV/0!"},null,null,null,null,null,null,{"$error":"#DIV/0!"},null,{"$error":"#DIV/0!"},null,null,{"$error":"#DIV/0!"}]
[null,21,{"$f":"'DATOS DEL ESTUDIANTE'!B24","v":0},{"$f":"'DATOS DEL ESTUDIANTE'!C24","v":0},{"$f":"'DATOS DEL ESTUDIANTE'!D24","v":0},null,null,null,null,null,null,null,{"$error":"#DIV/0!"},null,null,null,null,null,null,{"$error":"#DIV/0!"},null,{"$error":"#DIV/0!"},null,null,{"$error":"#DIV/0!"}]
[null,22,{"$f":"'DATOS DEL ESTUDIANTE'!B25","v":0},{"$f":"'DATOS DEL ESTUDIANTE'!C25","v":0},{"$f":"'DATOS DEL ESTUDIANTE'!D25","v":0},null,null,null,null,null,null,null,{"$error":"#DIV/0!"},null,null,null,null,null,null,{"$error":"#DIV/0!"},null,{"$error":"#DIV/0!"},null,null,{"$error":"#DIV/0!"}]
[null,23,{"$f":"'DATOS DEL ESTUDIANTE'!B26","v":0},{"$f":"'DATOS DEL ESTUDIANTE'!C26","v":0},{"$f":"'DATOS DEL ESTUDIANTE'!D26","v":0},null,null,null,null,null,null,null,{"$error":"#DIV/0!"},null,null,null,null,null,null,{"$error":"#DIV/0!"},null,{"$error":"#DIV/0!"},null,null,{"$error":"#DIV/0!"}]
[null,24,{"$f":"'DATOS DEL ESTUDIANTE'!B27","v":0},{"$f":"'DATOS DEL ESTUDIANTE'!C27","v":0},{"$f":"'DATOS DEL ESTUDIANTE'!D27","v":0},null,null,null,null,null,null,null,{"$error":"#DIV/0!"},null,null,null,null,null,null,{"$error":"#DIV/0!"},null,{"$error":"#DIV/0!"},null,null,{"$error":"#DIV/0!"}]
[null,25,{"$f":"'DATOS DEL ESTUDIANTE'!B28","v":0},{"$f":"'DATOS DEL ESTUDIANTE'!C28","v":0},{"$f":"'DATOS DEL ESTUDIANTE'!D28","v":0},null,null,null,null,null,null,null,{"$error":"#DIV/0!"},null,null,null,null,null,null,{"$error":"#DIV/0!"},null,{"$error":"#DIV/0!"},null,null,{"$error":"#DIV/0!"}]
[null,26,{"$f":"'DATOS DEL ESTUDIANTE'!B29","v":0},{"$f":"'DATOS DEL ESTUDIANTE'!C29","v":0},{"$f":"'DATOS DEL ESTUDIANTE'!D29","v":0},null,null,null,null,null,null,null,{"$error":"#DIV/0!"},null,null,null,null,null,null,{"$error":"#DIV/0!"},null,{"$error":"#DIV/0!"},null,null,{"$error":"#DIV/0!"}]
[null,27,{"$f":"'DATOS DEL ESTUDIANTE'!B30","v":0},{"$f":"'DATOS DEL ESTUDIANTE'!C30","v":0},{"$f":"'DATOS DEL ESTUDIANTE'!D30","v":0},null,null,null,null,null,null,null,{"$error":"#DIV/0!"},null,null,null,null,null,null,{"$error":"#DIV/0!"},null,{"$error":"#DIV/0!"},null,null,{"$error":"#DIV/0!"}]
[null,28,{"$f":"'DATOS DEL ESTUDIANTE'!B31","v":0},{"$f":"'DATOS DEL ESTUDIANTE'!C31","v":0},{"$f":"'DATOS DEL ESTUDIANTE'!D31","v":0},null,null,null,null,null,null,null,{"$error":"#DIV/0!"},null,null,null,null,null,null,{"$error":"#DIV/0!"},null,{"$error":"#DIV/0!"},null,null,{"$error":"#DIV/0!"}]
[null,29,{"$f":"'DATOS DEL ESTUDIANTE'!B32","v":0},{"$f":"'DATOS DEL ESTUDIANTE'!C32","v":0},{"$f":"'DATOS DEL ESTUDIANTE'!D32","v":0},null,null,null,null,null,null,null,{"$error":"#DIV/0!"},null,null,null,null,null,null,{"$error":"#DIV/0!"},null,{"$error":"#DIV/0!"},null,null,{"$error":"#DIV/0!"}]
[null,30,{"$f":"'DATOS DEL ESTUDIANTE'!B33","v":0},{"$f":"'DATOS DEL ESTUDIANTE'!C33","v":0},{"$f":"'DATOS DEL ESTUDIANTE'!D33","v":0},null,null,null,null,null,null,null,{"$error":"#DIV/0!"},null,null,null,null,null,null,{"$error":"#DIV/0!"},null,{"$error":"#DIV/0!"},null,null,{"$error":"#DIV/0!"}]
[null,31,{"$f":"'DATOS DEL ESTUDIANTE'!B34","v":0},{"$f":"'DATOS DEL ESTUDIANTE'!C34","v":0},{"$f":"'DATOS DEL ESTUDIANTE'!D34","v":0},null,null,null,null,null,null,null,{"$error":"#DIV/0!"},null,null,null,null,null,null,{"$error":"#DIV/0!"},null,{"$error":"#DIV/0!"},null,null,{"$error":"#DIV/0!"}]
[null,32,{"$f":"'DATOS DEL ESTUDIANTE'!B35","v":0},{"$f":"'DATOS DEL ESTUDIANTE'!C35","v":0},{"$f":"'DATOS DEL ESTUDIANTE'!D35","v":0},null,null,null,null,null,null,null,{"$error":"#DIV/0!"},null,null,null,null,null,null,{"$error":"#DIV/0!"},null,{"$error":"#DIV/0!"},null,null,{"$error":"#DIV/0!"}]
[null,33,{"$f":"'DATOS DEL ESTUDIANTE'!B36","v":0},{"$f":"'DATOS DEL ESTUDIANTE'!C36","v":0},{"$f":"'DATOS DEL ESTUDIANTE'!D36","v":0},null,null,null,null,null,null,null,{"$error":"#DIV/0!"},null,null,null,null,null,null,{"$error":"#DIV/0!"},null,{"$error":"#DIV/0!"},null,null,{"$error":"#DIV/0!"}]
[null,34,{"$f":"'DATOS DEL ESTUDIANTE'!B37","v":0},{"$f":"'DATOS DEL ESTUDIANTE'!C37","v":0},{"$f":"'DATOS DEL ESTUDIANTE'!D37","v":0},null,null,null,null,null,null,null,{"$error":"#DIV/0!"},null,null,null,null,null,null,{"$error":"#DIV/0!"},null,{"$error":"#DIV/0!"},null,null,{"$error":"#DIV/0!"}]
[null,35,{"$f":"'DATOS DEL ESTUDIANTE'!B38","v":0},{"$f":"'DATOS DEL ESTUDIANTE'!C38","v":0},{"$f":"'DATOS DEL ESTUDIANTE'!D38","v":0},null,null,null,null,null,null,null,{"$error":"#DIV/0!"},null,null,null,null,null,null,{"$error":"#DIV/0!"},null,{"$error":"#DIV/0!"},null,null,{"$error":"#DIV/0!"}]
[null,36,{"$f":"'DATOS DEL ESTUDIANTE'!B39","v":0},{"$f":"'DATOS DEL ESTUDIANTE'!C39","v":0},{"$f":"'DATOS DEL ESTUDIANTE'!D39","v":0},null,null,null,null,null,null,null,{"$error":"#DIV/0!"},null,null,null,null,null,null,{"$error":"#DIV/0!"},null,{"$error":"#DIV/0!"},null,null,{"$error":"#DIV/0!"}]
[null,37,{"$f":"'DATOS DEL ESTUDIANTE'!B40","v":0},{"$f":"'DATOS DEL ESTUDIANTE'!C40","v":0},{"$f":"'DATOS DEL ESTUDIANTE'!D40","v":0},null,null,null,null,null,null,null,{"$error":"#DIV/0!"},null,null,null,null,null,null,{"$error":"#DIV/0!"},null,{"$error":"#DIV/0!"},null,null,{"$error":"#DIV/0!"}]
[null,38,{"$f":"'DATOS DEL ESTUDIANTE'!B41","v":0},{"$f":"'DATOS DEL ESTUDIANTE'!C41","v":0},{"$f":"'DATOS DEL ESTUDIANTE'!D41","v":0},null,null,null,null,null,null,null,{"$error":"#DIV/0!"},null,null,null,null,null,null,{"$error":"#DIV/0!"},null,{"$error":"#DIV/0!"},null,null,{"$error":"#DIV/0!"}]
[null,39,{"$f":"'DATOS DEL ESTUDIANTE'!B42","v":0},{"$f":"'DATOS DEL ESTUDIANTE'!C42","v":0},{"$f":"'DATOS DEL ESTUDIANTE'!D42","v":0},null,null,null,null,null,null,null,{"$error":"#DIV/0!"},null,null,null,null,null,null,{"$error":"#DIV/0!"},null,{"$error":"#DIV/0!"},null,null,{"$error":"#DIV/0!"}]
[null,40,{"$f":"'DATOS DEL ESTUDIANTE'!B43","v":0},{"$f":"'DATOS DEL ESTUDIANTE'!C43","v":0},{"$f":"'DATOS DEL ESTUDIANTE'!D43","v":0},null,null,null,null,null,null,null,{"$error":"#DIV/0!"},null,null,null,null,null,null,{"$error":"#DIV/0!"},null,{"$error":"#DIV/0!"},null,null,{"$error":"#DIV/0!"}]
[null,41,{"$f":"'DATOS DEL ESTUDIANTE'!B44","v":0},{"$f":"'DATOS DEL ESTUDIANTE'!C44","v":0},{"$f":"'DATOS DEL ESTUDIANTE'!D44","v":0},null,null,null,null,null,null,null,{"$error":"#DIV/0!"},null,null,null,null,null,null,{"$error":"#DIV/0!"},null,{"$error":"#DIV/0!"},null,null,{"$error":"#DIV/0!"}]
[null,42,{"$f":"'DATOS DEL ESTUDIANTE'!B45","v":0},{"$f":"'DATOS DEL ESTUDIANTE'!C45","v":0},{"$f":"'DATOS DEL ESTUDIANTE'!D45","v":0},null,null,null,null,null,null,null,{"$error":"#DIV/0!"},null,null,null,null,null,null,{"$error":"#DIV/0!"},null,{"$error":"#DIV/0!"},null,null,{"$error":"#DIV/0!"}]
[null,43,{"$f":"'DATOS DEL ESTUDIANTE'!B46","v":0},{"$f":"'DATOS DEL ESTUDIANTE'!C46","v":0},{"$f":"'DATOS DEL ESTUDIANTE'!D46","v":0},null,null,null,null,null,null,null,{"$error":"#DIV/0!"},null,null,null,null,null,null,{"$error":"#DIV/0!"},null,{"$error":"#DIV/0!"},null,null,{"$error":"#DIV/0!"}]
[null,44,{"$f":"'DATOS DEL ESTUDIANTE'!B47","v":0},{"$f":"'DATOS DEL ESTUDIANTE'!C47","v":0},{"$f":"'DATOS DEL ESTUDIANTE'!D47","v":0},null,null,null,null,null,null,null,{"$error":"#DIV/0!"},null,null,null,null,null,null,{"$error":"#DIV/0!"},null,{"$error":"#DIV/0!"},null,null,{"$error":"#DIV/0!"}]
[null,45,{"$f":"'DATOS DEL ESTUDIANTE'!B48","v":0},{"$f":"'DATOS DEL ESTUDIANTE'!C48","v":0},{"$f":"'DATOS DEL ESTUDIANTE'!D48","v":0},null,null,null,null,null,null,null,{"$error":"#DIV/0!"},null,null,null,null,null,null,{"$error":"#DIV/0!"},null,{"$error":"#DIV/0!"},null,null,{"$error":"#DIV/0!"}]

{"sheet":"EDUCACION FISICA 1","index":28,"n_rows":55,"n_cols":25,"rows_kept":55,"cut":false,"hidden":false,"merged":[[0,25,3,25],[3,13,3,19],[1,4,1,9],[8,16,9,16],[8,17,9,17],[8,18,9,18],[8,15,9,15],[4,19,9,19],[8,2,8,4],[3,6,3,12],[8,8,9,8],[8,9,9,9],[8,10,9,10],[8,11,9,11],[4,8,6,9],[4,13,6,14],[3,21,9,21],[3,22,8,23],[3,24,9,24],[4,15,6,16],[4,17,6,18],[4,20,6,20],[0,21,2,24],[1,10,1,12],[1,13,1,19],[1,20,2,20],[2,1,2,19],[1,1,1,3],[8,1,9,1],[8,20,9,20],[8,7,9,7],[4,10,6,11],[0,0,9,0],[0,1,0,19],[3,1,3,4],[8,5,9,5],[8,6,9,6],[8,13,9,13],[8,14,9,14],[4,12,9,12],[7,1,7,4],[4,1,6,4],[4,5,6,5],[4,6,6,7]]}
[null,"      EDUCACION  FISICA Y DEPORTES",null,null,null,null,null,null,null,null,null,null,null,null,null,null,null,null,null,null,2018]
[null,"AÑO DE ESCOLARIDAD:",null,null,{"$f":"CARATULA!G15","v":0},null,null,null,null,null,"MAESTRA (O): ",null,null,{"$f":"CARATULA!G18","v":0},null,null,null,null,null,null,"PRIMER\nBIMESTRE"]
[null," REGISTRO  Y CENTRALIZADOR DEL PROCESO DE  EVALUACIÓN   "]
[null,"DIMENSIONES",null,null,null,"SER (10)","SABER (35)",null,null,null,null,null,null,"HACER (35)",null,null,null,null,null,null,"DECIDIR (10)","TOTAL     EVALUACIÓN    DEL     MAESTRO","AUTOEVALUACIÓN",null,"CALIFICACIÓN BIMESTRAL"]
[null,"CRITERIOS DE EVALUACIÓN SEGÚN PDC",null,null,null,null,null,null,null,null,null,null,"T      O     T     A       L",null,null,null,null,null,null,"T      O     T     A       L"]
[]
[]
[null,"INSTRUMENTO Y/ O ESTRATEGIAS DE EVALUACIÓN"]
[null,"N°","    FECHA DE  EVALUACIÓN\n \n\n"]
[null,null,"NOMBRES ","APELLIDO PATERNO"," \nAPELLIDO MATERNO",null,null,null,null,null,null,null,null,null,null,null,null,null,null,null,null,null,"SER\n(5)","DECIDIR\n(5)"]
[null,1,{"$f":"'DATOS DEL ESTUDIANTE'!B4","v":0},{"$f":"'DATOS DEL ESTUDIANTE'!C4","v":0},{"$f":"'DATOS DEL ESTUDIANTE'!D4","v":0},null,null,null,null,null,null,null,{"$f":"AVERAGE(G11:L11)","v":{"$error":"#DIV/0!"}},null,null,null,null,null,null,{"$f":"AVERAGE(N11:S11)","v":{"$error":"#DIV/0!"}},null,{"$f":"SUM(F11+M11+T11+U11)","v":{"$error":"#DIV/0!"}},null,null,{"$f":"SUM(V11:X11)","v":{"$error":"#DIV/0!"}}]
[null,2,{"$f":"'DATOS DEL ESTUDIANTE'!B5","v":0},{"$f":"'DATOS DEL ESTUDIANTE'!C5","v":0},{"$f":"'DATOS DEL ESTUDIANTE'!D5","v":0},null,null,null,null,null,null,null,{"$f":"AVERAGE(G12:L12)","v":{"$error":"#DIV/0!"}},null,null,null,null,null,null,{"$f":"AVERAGE(N12:S12)","v":{"$error":"#DIV/0!"}},null,{"$f":"SUM(F12+M12+T12+U12)","v":{"$error":"#DIV/0!"}},null,null,{"$f":"SUM(V12:X12)","v":{"$error":"#DIV/0!"}}]
[null,3,{"$f":"'DATOS DEL ESTUDIANTE'!B6","v":0},{"$f":"'DATOS DEL ESTUDIANTE'!C6","v":0},{"$f":"'DATOS DEL ESTUDIANTE'!D6","v":0},null,null,null,null,null,null,null,{"$error":"#DIV/0!"},null,null,null,null,null,null,{"$error":"#DIV/0!"},null,{"$error":"#DIV/0!"},null,null,{"$error":"#DIV/0!"}]
[null,4,{"$f":"'DATOS DEL ESTUDIANTE'!B7","v":0},{"$f":"'DATOS DEL ESTUDIANTE'!C7","v":0},{"$f":"'DATOS DEL ESTUDIANTE'!D7","v":0},null,null,null,null,null,null,null,{"$error":"#DIV/0!"},null,null,null,null,null,null,{"$error":"#DIV/0!"},null,{"$error":"#DIV/0!"},null,null,{"$error":"#DIV/0!"}]
[null,5,{"$f":"'DATOS DEL ESTUDIANTE'!B8","v":0},{"$f":"'DATOS DEL ESTUDIANTE'!C8","v":0},{"$f":"'DATOS DEL ESTUDIANTE'!D8","v":0},null,null,null,null,null,null,null,{"$error":"#DIV/0!"},null,null,null,null,null,null,{"$error":"#DIV/0!"},null,{"$error":"#DIV/0!"},null,null,{"$error":"#DIV/0!"}]
[null,6,{"$f":"'DATOS DEL ESTUDIANTE'!B9","v":0},{"$f":"'DATOS DEL ESTUDIANTE'!C9","v":0},{"$f":"'DATOS DEL ESTUDIANTE'!D9","v":0},null,null,null,null,null,null,null,{"$error":"#DIV/0!"},null,null,null,null,null,null,{"$error":"#DIV/0!"},null,{"$error":"#DIV/0!"},null,null,{"$error":"#DIV/0!"}]
[null,7,{"$f":"'DATOS DEL ESTUDIANTE'!B10","v":0},{"$f":"'DATOS DEL ESTUDIANTE'!C10","v":0},{"$f":"'DATOS DEL ESTUDIANTE'!D10","v":0},null,null,null,null,null,null,null,{"$error":"#DIV/0!"},null,null,null,null,null,null,{"$error":"#DIV/0!"},null,{"$error":"#DIV/0!"},null,null,{"$error":"#DIV/0!"}]
[null,8,{"$f":"'DATOS DEL ESTUDIANTE'!B11","v":0},{"$f":"'DATOS DEL ESTUDIANTE'!C11","v":0},{"$f":"'DATOS DEL ESTUDIANTE'!D11","v":0},null,null,null,null,null,null,null,{"$error":"#DIV/0!"},null,null,null,null,null,null,{"$error":"#DIV/0!"},null,{"$error":"#DIV/0!"},null,null,{"$error":"#DIV/0!"}]
[null,9,{"$f":"'DATOS DEL ESTUDIANTE'!B12","v":0},{"$f":"'DATOS DEL ESTUDIANTE'!C12","v":0},{"$f":"'DATOS DEL ESTUDIANTE'!D12","v":0},null,null,null,null,null,null,null,{"$error":"#DIV/0!"},null,null,null,null,null,null,{"$error":"#DIV/0!"},null,{"$error":"#DIV/0!"},null,null,{"$error":"#DIV/0!"}]
[null,10,{"$f":"'DATOS DEL ESTUDIANTE'!B13","v":0},{"$f":"'DATOS DEL ESTUDIANTE'!C13","v":0},{"$f":"'DATOS DEL ESTUDIANTE'!D13","v":0},null,null,null,null,null,null,null,{"$error":"#DIV/0!"},null,null,null,null,null,null,{"$error":"#DIV/0!"},null,{"$error":"#DIV/0!"},null,null,{"$error":"#DIV/0!"}]
[null,11,{"$f":"'DATOS DEL ESTUDIANTE'!B14","v":0},{"$f":"'DATOS DEL ESTUDIANTE'!C14","v":0},{"$f":"'DATOS DEL ESTUDIANTE'!D14","v":0},null,null,null,null,null,null,null,{"$error":"#DIV/0!"},null,null,null,null,null,null,{"$error":"#DIV/0!"},null,{"$error":"#DIV/0!"},null,null,{"$error":"#DIV/0!"}]
[null,12,{"$f":"'DATOS DEL ESTUDIANTE'!B15","v":0},{"$f":"'DATOS DEL ESTUDIANTE'!C15","v":0},{"$f":"'DATOS DEL ESTUDIANTE'!D15","v":0},null,null,null,null,null,null,null,{"$error":"#DIV/0!"},null,null,null,null,null,null,{"$error":"#DIV/0!"},null,{"$error":"#DIV/0!"},null,null,{"$error":"#DIV/0!"}]
[null,13,{"$f":"'DATOS DEL ESTUDIANTE'!B16","v":0},{"$f":"'DATOS DEL ESTUDIANTE'!C16","v":0},{"$f":"'DATOS DEL ESTUDIANTE'!D16","v":0},null,null,null,null,null,null,null,{"$error":"#DIV/0!"},null,null,null,null,null,null,{"$error":"#DIV/0!"},null,{"$error":"#DIV/0!"},null,null,{"$error":"#DIV/0!"}]
[null,14,{"$f":"'DATOS DEL ESTUDIANTE'!B17","v":0},{"$f":"'DATOS DEL ESTUDIANTE'!C17","v":0},{"$f":"'DATOS DEL ESTUDIANTE'!D17","v":0},null,null,null,null,null,null,null,{"$error":"#DIV/0!"},null,null,null,null,null,null,{"$error":"#DIV/0!"},null,{"$error":"#DIV/0!"},null,null,{"$error":"#DIV/0!"}]
[null,15,{"$f":"'DATOS DEL ESTUDIANTE'!B18","v":0},{"$f":"'DATOS DEL ESTUDIANTE'!C18","v":0},{"$f":"'DATOS DEL ESTUDIANTE'!D18","v":0},null,null,null,null,null,null,null,{"$error":"#DIV/0!"},null,null,null,null,null,null,{"$error":"#DIV/0!"},null,{"$error":"#DIV/0!"},null,null,{"$error":"#DIV/0!"}]
[null,16,{"$f":"'DATOS DEL ESTUDIANTE'!B19","v":0},{"$f":"'DATOS DEL ESTUDIANTE'!C19","v":0},{"$f":"'DATOS DEL ESTUDIANTE'!D19","v":0},null,null,null,null,null,null,null,{"$error":"#DIV/0!"},null,null,null,null,null,null,{"$error":"#DIV/0!"},null,{"$error":"#DIV/0!"},null,null,{"$error":"#DIV/0!"}]
[null,17,{"$f":"'DATOS DEL ESTUDIANTE'!B20","v":0},{"$f":"'DATOS DEL ESTUDIANTE'!C20","v":0},{"$f":"'DATOS DEL ESTUDIANTE'!D20","v":0},null,null,null,null,null,null,null,{"$error":"#DIV/0!"},null,null,null,null,null,null,{"$error":"#DIV/0!"},null,{"$error":"#DIV/0!"},null,null,{"$error":"#DIV/0!"}]
[null,18,{"$f":"'DATOS DEL ESTUDIANTE'!B21","v":0},{"$f":"'DATOS DEL ESTUDIANTE'!C21","v":0},{"$f":"'DATOS DEL ESTUDIANTE'!D21","v":0},null,null,null,null,null,null,null,{"$error":"#DIV/0!"},null,null,null,null,null,null,{"$error":"#DIV/0!"},null,{"$error":"#DIV/0!"},null,null,{"$error":"#DIV/0!"}]
[null,19,{"$f":"'DATOS DEL ESTUDIANTE'!B22","v":0},{"$f":"'DATOS DEL ESTUDIANTE'!C22","v":0},{"$f":"'DATOS DEL ESTUDIANTE'!D22","v":0},null,null,null,null,null,null,null,{"$error":"#DIV/0!"},null,null,null,null,null,null,{"$error":"#DIV/0!"},null,{"$error":"#DIV/0!"},null,null,{"$error":"#DIV/0!"}]
[null,20,{"$f":"'DATOS DEL ESTUDIANTE'!B23","v":0},{"$f":"'DATOS DEL ESTUDIANTE'!C23","v":0},{"$f":"'DATOS DEL ESTUDIANTE'!D23","v":0},null,null,null,null,null,null,null,{"$error":"#DIV/0!"},null,null,null,null,null,null,{"$error":"#DIV/0!"},null,{"$error":"#DIV/0!"},null,null,{"$error":"#DIV/0!"}]
[null,21,{"$f":"'DATOS DEL ESTUDIANTE'!B24","v":0},{"$f":"'DATOS DEL ESTUDIANTE'!C24","v":0},{"$f":"'DATOS DEL ESTUDIANTE'!D24","v":0},null,null,null,null,null,null,null,{"$error":"#DIV/0!"},null,null,null,null,null,null,{"$error":"#DIV/0!"},null,{"$error":"#DIV/0!"},null,null,{"$error":"#DIV/0!"}]
[null,22,{"$f":"'DATOS DEL ESTUDIANTE'!B25","v":0},{"$f":"'DATOS DEL ESTUDIANTE'!C25","v":0},{"$f":"'DATOS DEL ESTUDIANTE'!D25","v":0},null,null,null,null,null,null,null,{"$error":"#DIV/0!"},null,null,null,null,null,null,{"$error":"#DIV/0!"},null,{"$error":"#DIV/0!"},null,null,{"$error":"#DIV/0!"}]
[null,23,{"$f":"'DATOS DEL ESTUDIANTE'!B26","v":0},{"$f":"'DATOS DEL ESTUDIANTE'!C26","v":0},{"$f":"'DATOS DEL ESTUDIANTE'!D26","v":0},null,null,null,null,null,null,null,{"$error":"#DIV/0!"},null,null,null,null,null,null,{"$error":"#DIV/0!"},null,{"$error":"#DIV/0!"},null,null,{"$error":"#DIV/0!"}]
[null,24,{"$f":"'DATOS DEL ESTUDIANTE'!B27","v":0},{"$f":"'DATOS DEL ESTUDIANTE'!C27","v":0},{"$f":"'DATOS DEL ESTUDIANTE'!D27","v":0},null,null,null,null,null,null,null,{"$error":"#DIV/0!"},null,null,null,null,null,null,{"$error":"#DIV/0!"},null,{"$error":"#DIV/0!"},null,null,{"$error":"#DIV/0!"}]
[null,25,{"$f":"'DATOS DEL ESTUDIANTE'!B28","v":0},{"$f":"'DATOS DEL ESTUDIANTE'!C28","v":0},{"$f":"'DATOS DEL ESTUDIANTE'!D28","v":0},null,null,null,null,null,null,null,{"$error":"#DIV/0!"},null,null,null,null,null,null,{"$error":"#DIV/0!"},null,{"$error":"#DIV/0!"},null,null,{"$error":"#DIV/0!"}]
[null,26,{"$f":"'DATOS DEL ESTUDIANTE'!B29","v":0},{"$f":"'DATOS DEL ESTUDIANTE'!C29","v":0},{"$f":"'DATOS DEL ESTUDIANTE'!D29","v":0},null,null,null,null,null,null,null,{"$error":"#DIV/0!"},null,null,null,null,null,null,{"$error":"#DIV/0!"},null,{"$error":"#DIV/0!"},null,null,{"$error":"#DIV/0!"}]
[null,27,{"$f":"'DATOS DEL ESTUDIANTE'!B30","v":0},{"$f":"'DATOS DEL ESTUDIANTE'!C30","v":0},{"$f":"'DATOS DEL ESTUDIANTE'!D30","v":0},null,null,null,null,null,null,null,{"$error":"#DIV/0!"},null,null,null,null,null,null,{"$error":"#DIV/0!"},null,{"$error":"#DIV/0!"},null,null,{"$error":"#DIV/0!"}]
[null,28,{"$f":"'DATOS DEL ESTUDIANTE'!B31","v":0},{"$f":"'DATOS DEL ESTUDIANTE'!C31","v":0},{"$f":"'DATOS DEL ESTUDIANTE'!D31","v":0},null,null,null,null,null,null,null,{"$error":"#DIV/0!"},null,null,null,null,null,null,{"$error":"#DIV/0!"},null,{"$error":"#DIV/0!"},null,null,{"$error":"#DIV/0!"}]
[null,29,{"$f":"'DATOS DEL ESTUDIANTE'!B32","v":0},{"$f":"'DATOS DEL ESTUDIANTE'!C32","v":0},{"$f":"'DATOS DEL ESTUDIANTE'!D32","v":0},null,null,null,null,null,null,null,{"$error":"#DIV/0!"},null,null,null,null,null,null,{"$error":"#DIV/0!"},null,{"$error":"#DIV/0!"},null,null,{"$error":"#DIV/0!"}]
[null,30,{"$f":"'DATOS DEL ESTUDIANTE'!B33","v":0},{"$f":"'DATOS DEL ESTUDIANTE'!C33","v":0},{"$f":"'DATOS DEL ESTUDIANTE'!D33","v":0},null,null,null,null,null,null,null,{"$error":"#DIV/0!"},null,null,null,null,null,null,{"$error":"#DIV/0!"},null,{"$error":"#DIV/0!"},null,null,{"$error":"#DIV/0!"}]
[null,31,{"$f":"'DATOS DEL ESTUDIANTE'!B34","v":0},{"$f":"'DATOS DEL ESTUDIANTE'!C34","v":0},{"$f":"'DATOS DEL ESTUDIANTE'!D34","v":0},null,null,null,null,null,null,null,{"$error":"#DIV/0!"},null,null,null,null,null,null,{"$error":"#DIV/0!"},null,{"$error":"#DIV/0!"},null,null,{"$error":"#DIV/0!"}]
[null,32,{"$f":"'DATOS DEL ESTUDIANTE'!B35","v":0},{"$f":"'DATOS DEL ESTUDIANTE'!C35","v":0},{"$f":"'DATOS DEL ESTUDIANTE'!D35","v":0},null,null,null,null,null,null,null,{"$error":"#DIV/0!"},null,null,null,null,null,null,{"$error":"#DIV/0!"},null,{"$error":"#DIV/0!"},null,null,{"$error":"#DIV/0!"}]
[null,33,{"$f":"'DATOS DEL ESTUDIANTE'!B36","v":0},{"$f":"'DATOS DEL ESTUDIANTE'!C36","v":0},{"$f":"'DATOS DEL ESTUDIANTE'!D36","v":0},null,null,null,null,null,null,null,{"$error":"#DIV/0!"},null,null,null,null,null,null,{"$error":"#DIV/0!"},null,{"$error":"#DIV/0!"},null,null,{"$error":"#DIV/0!"}]
[null,34,{"$f":"'DATOS DEL ESTUDIANTE'!B37","v":0},{"$f":"'DATOS DEL ESTUDIANTE'!C37","v":0},{"$f":"'DATOS DEL ESTUDIANTE'!D37","v":0},null,null,null,null,null,null,null,{"$error":"#DIV/0!"},null,null,null,null,null,null,{"$error":"#DIV/0!"},null,{"$error":"#DIV/0!"},null,null,{"$error":"#DIV/0!"}]
[null,35,{"$f":"'DATOS DEL ESTUDIANTE'!B38","v":0},{"$f":"'DATOS DEL ESTUDIANTE'!C38","v":0},{"$f":"'DATOS DEL ESTUDIANTE'!D38","v":0},null,null,null,null,null,null,null,{"$error":"#DIV/0!"},null,null,null,null,null,null,{"$error":"#DIV/0!"},null,{"$error":"#DIV/0!"},null,null,{"$error":"#DIV/0!"}]
[null,36,{"$f":"'DATOS DEL ESTUDIANTE'!B39","v":0},{"$f":"'DATOS DEL ESTUDIANTE'!C39","v":0},{"$f":"'DATOS DEL ESTUDIANTE'!D39","v":0},null,null,null,null,null,null,null,{"$error":"#DIV/0!"},null,null,null,null,null,null,{"$error":"#DIV/0!"},null,{"$error":"#DIV/0!"},null,null,{"$error":"#DIV/0!"}]
[null,37,{"$f":"'DATOS DEL ESTUDIANTE'!B40","v":0},{"$f":"'DATOS DEL ESTUDIANTE'!C40","v":0},{"$f":"'DATOS DEL ESTUDIANTE'!D40","v":0},null,null,null,null,null,null,null,{"$error":"#DIV/0!"},null,null,null,null,null,null,{"$error":"#DIV/0!"},null,{"$error":"#DIV/0!"},null,null,{"$error":"#DIV/0!"}]
[null,38,{"$f":"'DATOS DEL ESTUDIANTE'!B41","v":0},{"$f":"'DATOS DEL ESTUDIANTE'!C41","v":0},{"$f":"'DATOS DEL ESTUDIANTE'!D41","v":0},null,null,null,null,null,null,null,{"$error":"#DIV/0!"},null,null,null,null,null,null,{"$error":"#DIV/0!"},null,{"$error":"#DIV/0!"},null,null,{"$error":"#DIV/0!"}]
[null,39,{"$f":"'DATOS DEL ESTUDIANTE'!B42","v":0},{"$f":"'DATOS DEL ESTUDIANTE'!C42","v":0},{"$f":"'DATOS DEL ESTUDIANTE'!D42","v":0},null,null,null,null,null,null,null,{"$error":"#DIV/0!"},null,null,null,null,null,null,{"$error":"#DIV/0!"},null,{"$error":"#DIV/0!"},null,null,{"$error":"#DIV/0!"}]
[null,40,{"$f":"'DATOS DEL ESTUDIANTE'!B43","v":0},{"$f":"'DATOS DEL ESTUDIANTE'!C43","v":0},{"$f":"'DATOS DEL ESTUDIANTE'!D43","v":0},null,null,null,null,null,null,null,{"$error":"#DIV/0!"},null,null,null,null,null,null,{"$error":"#DIV/0!"},null,{"$error":"#DIV/0!"},null,null,{"$error":"#DIV/0!"}]
[null,41,{"$f":"'DATOS DEL ESTUDIANTE'!B44","v":0},{"$f":"'DATOS DEL ESTUDIANTE'!C44","v":0},{"$f":"'DATOS DEL ESTUDIANTE'!D44","v":0},null,null,null,null,null,null,null,{"$error":"#DIV/0!"},null,null,null,null,null,null,{"$error":"#DIV/0!"},null,{"$error":"#DIV/0!"},null,null,{"$error":"#DIV/0!"}]
[null,42,{"$f":"'DATOS DEL ESTUDIANTE'!B45","v":0},{"$f":"'DATOS DEL ESTUDIANTE'!C45","v":0},{"$f":"'DATOS DEL ESTUDIANTE'!D45","v":0},null,null,null,null,null,null,null,{"$error":"#DIV/0!"},null,null,null,null,null,null,{"$error":"#DIV/0!"},null,{"$error":"#DIV/0!"},null,null,{"$error":"#DIV/0!"}]
[null,43,{"$f":"'DATOS DEL ESTUDIANTE'!B46","v":0},{"$f":"'DATOS DEL ESTUDIANTE'!C46","v":0},{"$f":"'DATOS DEL ESTUDIANTE'!D46","v":0},null,null,null,null,null,null,null,{"$error":"#DIV/0!"},null,null,null,null,null,null,{"$error":"#DIV/0!"},null,{"$error":"#DIV/0!"},null,null,{"$error":"#DIV/0!"}]
[null,44,{"$f":"'DATOS DEL ESTUDIANTE'!B47","v":0},{"$f":"'DATOS DEL ESTUDIANTE'!C47","v":0},{"$f":"'DATOS DEL ESTUDIANTE'!D47","v":0},null,null,null,null,null,null,null,{"$error":"#DIV/0!"},null,null,null,null,null,null,{"$error":"#DIV/0!"},null,{"$error":"#DIV/0!"},null,null,{"$error":"#DIV/0!"}]
[null,45,{"$f":"'DATOS DEL ESTUDIANTE'!B48","v":0},{"$f":"'DATOS DEL ESTUDIANTE'!C48","v":0},{"$f":"'DATOS DEL ESTUDIANTE'!D48","v":0},null,null,null,null,null,null,null,{"$error":"#DIV/0!"},null,null,null,null,null,null,{"$error":"#DIV/0!"},null,{"$error":"#DIV/0!"},null,null,{"$error":"#DIV/0!"}]

{"sheet":"EDUCACION FISICA 2","index":29,"n_rows":55,"n_cols":25,"rows_kept":55,"cut":false,"hidden":false,"merged":[[0,25,3,25],[3,13,3,19],[1,4,1,9],[8,16,9,16],[8,17,9,17],[8,18,9,18],[8,15,9,15],[4,19,9,19],[8,2,8,4],[3,6,3,12],[8,8,9,8],[8,9,9,9],[8,10,9,10],[8,11,9,11],[4,8,6,9],[4,13,6,14],[3,21,9,21],[3,22,8,23],[3,24,9,24],[4,15,6,16],[4,17,6,18],[4,20,6,20],[0,21,2,24],[1,10,1,12],[1,13,1,19],[1,20,2,20],[2,1,2,19],[1,1,1,3],[8,1,9,1],[8,20,9,20],[8,7,9,7],[4,10,6,11],[0,0,9,0],[0,1,0,19],[3,1,3,4],[8,5,9,5],[8,6,9,6],[8,13,9,13],[8,14,9,14],[4,12,9,12],[7,1,7,4],[4,1,6,4],[4,5,6,5],[4,6,6,7]]}
[null,"       EDUCACION  FISICA Y DEPORTES",null,null,null,null,null,null,null,null,null,null,null,null,null,null,null,null,null,null,2018]
[null,"AÑO DE ESCOLARIDAD:",null,null,{"$f":"CARATULA!G15","v":0},null,null,null,null,null,"MAESTRA (O): ",null,null,{"$f":"CARATULA!G18","v":0},null,null,null,null,null,null,"SEGUNDO\nBIMESTRE"]
[null," REGISTRO  Y CENTRALIZADOR DEL PROCESO DE  EVALUACIÓN   "]
[null,"DIMENSIONES",null,null,null,"SER (10)","SABER (35)",null,null,null,null,null,null,"HACER (35)",null,null,null,null,null,null,"DECIDIR (10)","TOTAL     EVALUACIÓN    DEL     MAESTRO","AUTOEVALUACIÓN",null,"CALIFICACIÓN BIMESTRAL"]
[null,"CRITERIOS DE EVALUACIÓN SEGÚN PDC",null,null,null,null,null,null,null,null,null,null,"T      O     T     A       L",null,null,null,null,null,null,"T      O     T     A       L"]
[]
[]
[null,"INSTRUMENTO Y/ O ESTRATEGIAS DE EVALUACIÓN"]
[null,"N°","    FECHA DE  EVALUACIÓN\n \n\n"]
[null,null,"NOMBRES ","APELLIDO PATERNO"," \nAPELLIDO MATERNO",null,null,null,null,null,null,null,null,null,null,null,null,null,null,null,null,null,"SER\n(5)","DECIDIR\n(5)"]
[null,1,{"$f":"'DATOS DEL ESTUDIANTE'!B4","v":0},{"$f":"'DATOS DEL ESTUDIANTE'!C4","v":0},{"$f":"'DATOS DEL ESTUDIANTE'!D4","v":0},null,null,null,null,null,null,null,{"$f":"AVERAGE(G11:L11)","v":{"$error":"#DIV/0!"}},null,null,null,null,null,null,{"$f":"AVERAGE(N11:S11)","v":{"$error":"#DIV/0!"}},null,{"$f":"SUM(F11+M11+T11+U11)","v":{"$error":"#DIV/0!"}},null,null,{"$f":"SUM(V11:X11)","v":{"$error":"#DIV/0!"}}]
[null,2,{"$f":"'DATOS DEL ESTUDIANTE'!B5","v":0},{"$f":"'DATOS DEL ESTUDIANTE'!C5","v":0},{"$f":"'DATOS DEL ESTUDIANTE'!D5","v":0},null,null,null,null,null,null,null,{"$f":"AVERAGE(G12:L12)","v":{"$error":"#DIV/0!"}},null,null,null,null,null,null,{"$f":"AVERAGE(N12:S12)","v":{"$error":"#DIV/0!"}},null,{"$f":"SUM(F12+M12+T12+U12)","v":{"$error":"#DIV/0!"}},null,null,{"$f":"SUM(V12:X12)","v":{"$error":"#DIV/0!"}}]
[null,3,{"$f":"'DATOS DEL ESTUDIANTE'!B6","v":0},{"$f":"'DATOS DEL ESTUDIANTE'!C6","v":0},{"$f":"'DATOS DEL ESTUDIANTE'!D6","v":0},null,null,null,null,null,null,null,{"$error":"#DIV/0!"},null,null,null,null,null,null,{"$error":"#DIV/0!"},null,{"$error":"#DIV/0!"},null,null,{"$error":"#DIV/0!"}]
[null,4,{"$f":"'DATOS DEL ESTUDIANTE'!B7","v":0},{"$f":"'DATOS DEL ESTUDIANTE'!C7","v":0},{"$f":"'DATOS DEL ESTUDIANTE'!D7","v":0},null,null,null,null,null,null,null,{"$error":"#DIV/0!"},null,null,null,null,null,null,{"$error":"#DIV/0!"},null,{"$error":"#DIV/0!"},null,null,{"$error":"#DIV/0!"}]
[null,5,{"$f":"'DATOS DEL ESTUDIANTE'!B8","v":0},{"$f":"'DATOS DEL ESTUDIANTE'!C8","v":0},{"$f":"'DATOS DEL ESTUDIANTE'!D8","v":0},null,null,null,null,null,null,null,{"$error":"#DIV/0!"},null,null,null,null,null,null,{"$error":"#DIV/0!"},null,{"$error":"#DIV/0!"},null,null,{"$error":"#DIV/0!"}]
[null,6,{"$f":"'DATOS DEL ESTUDIANTE'!B9","v":0},{"$f":"'DATOS DEL ESTUDIANTE'!C9","v":0},{"$f":"'DATOS DEL ESTUDIANTE'!D9","v":0},null,null,null,null,null,null,null,{"$error":"#DIV/0!"},null,null,null,null,null,null,{"$error":"#DIV/0!"},null,{"$error":"#DIV/0!"},null,null,{"$error":"#DIV/0!"}]
[null,7,{"$f":"'DATOS DEL ESTUDIANTE'!B10","v":0},{"$f":"'DATOS DEL ESTUDIANTE'!C10","v":0},{"$f":"'DATOS DEL ESTUDIANTE'!D10","v":0},null,null,null,null,null,null,null,{"$error":"#DIV/0!"},null,null,null,null,null,null,{"$error":"#DIV/0!"},null,{"$error":"#DIV/0!"},null,null,{"$error":"#DIV/0!"}]
[null,8,{"$f":"'DATOS DEL ESTUDIANTE'!B11","v":0},{"$f":"'DATOS DEL ESTUDIANTE'!C11","v":0},{"$f":"'DATOS DEL ESTUDIANTE'!D11","v":0},null,null,null,null,null,null,null,{"$error":"#DIV/0!"},null,null,null,null,null,null,{"$error":"#DIV/0!"},null,{"$error":"#DIV/0!"},null,null,{"$error":"#DIV/0!"}]
[null,9,{"$f":"'DATOS DEL ESTUDIANTE'!B12","v":0},{"$f":"'DATOS DEL ESTUDIANTE'!C12","v":0},{"$f":"'DATOS DEL ESTUDIANTE'!D12","v":0},null,null,null,null,null,null,null,{"$error":"#DIV/0!"},null,null,null,null,null,null,{"$error":"#DIV/0!"},null,{"$error":"#DIV/0!"},null,null,{"$error":"#DIV/0!"}]
[null,10,{"$f":"'DATOS DEL ESTUDIANTE'!B13","v":0},{"$f":"'DATOS DEL ESTUDIANTE'!C13","v":0},{"$f":"'DATOS DEL ESTUDIANTE'!D13","v":0},null,null,null,null,null,null,null,{"$error":"#DIV/0!"},null,null,null,null,null,null,{"$error":"#DIV/0!"},null,{"$error":"#DIV/0!"},null,null,{"$error":"#DIV/0!"}]
[null,11,{"$f":"'DATOS DEL ESTUDIANTE'!B14","v":0},{"$f":"'DATOS DEL ESTUDIANTE'!C14","v":0},{"$f":"'DATOS DEL ESTUDIANTE'!D14","v":0},null,null,null,null,null,null,null,{"$error":"#DIV/0!"},null,null,null,null,null,null,{"$error":"#DIV/0!"},null,{"$error":"#DIV/0!"},null,null,{"$error":"#DIV/0!"}]
[null,12,{"$f":"'DATOS DEL ESTUDIANTE'!B15","v":0},{"$f":"'DATOS DEL ESTUDIANTE'!C15","v":0},{"$f":"'DATOS DEL ESTUDIANTE'!D15","v":0},null,null,null,null,null,null,null,{"$error":"#DIV/0!"},null,null,null,null,null,null,{"$error":"#DIV/0!"},null,{"$error":"#DIV/0!"},null,null,{"$error":"#DIV/0!"}]
[null,13,{"$f":"'DATOS DEL ESTUDIANTE'!B16","v":0},{"$f":"'DATOS DEL ESTUDIANTE'!C16","v":0},{"$f":"'DATOS DEL ESTUDIANTE'!D16","v":0},null,null,null,null,null,null,null,{"$error":"#DIV/0!"},null,null,null,null,null,null,{"$error":"#DIV/0!"},null,{"$error":"#DIV/0!"},null,null,{"$error":"#DIV/0!"}]
[null,14,{"$f":"'DATOS DEL ESTUDIANTE'!B17","v":0},{"$f":"'DATOS DEL ESTUDIANTE'!C17","v":0},{"$f":"'DATOS DEL ESTUDIANTE'!D17","v":0},null,null,null,null,null,null,null,{"$error":"#DIV/0!"},null,null,null,null,null,null,{"$error":"#DIV/0!"},null,{"$error":"#DIV/0!"},null,null,{"$error":"#DIV/0!"}]
[null,15,{"$f":"'DATOS DEL ESTUDIANTE'!B18","v":0},{"$f":"'DATOS DEL ESTUDIANTE'!C18","v":0},{"$f":"'DATOS DEL ESTUDIANTE'!D18","v":0},null,null,null,null,null,null,null,{"$error":"#DIV/0!"},null,null,null,null,null,null,{"$error":"#DIV/0!"},null,{"$error":"#DIV/0!"},null,null,{"$error":"#DIV/0!"}]
[null,16,{"$f":"'DATOS DEL ESTUDIANTE'!B19","v":0},{"$f":"'DATOS DEL ESTUDIANTE'!C19","v":0},{"$f":"'DATOS DEL ESTUDIANTE'!D19","v":0},null,null,null,null,null,null,null,{"$error":"#DIV/0!"},null,null,null,null,null,null,{"$error":"#DIV/0!"},null,{"$error":"#DIV/0!"},null,null,{"$error":"#DIV/0!"}]
[null,17,{"$f":"'DATOS DEL ESTUDIANTE'!B20","v":0},{"$f":"'DATOS DEL ESTUDIANTE'!C20","v":0},{"$f":"'DATOS DEL ESTUDIANTE'!D20","v":0},null,null,null,null,null,null,null,{"$error":"#DIV/0!"},null,null,null,null,null,null,{"$error":"#DIV/0!"},null,{"$error":"#DIV/0!"},null,null,{"$error":"#DIV/0!"}]
[null,18,{"$f":"'DATOS DEL ESTUDIANTE'!B21","v":0},{"$f":"'DATOS DEL ESTUDIANTE'!C21","v":0},{"$f":"'DATOS DEL ESTUDIANTE'!D21","v":0},null,null,null,null,null,null,null,{"$error":"#DIV/0!"},null,null,null,null,null,null,{"$error":"#DIV/0!"},null,{"$error":"#DIV/0!"},null,null,{"$error":"#DIV/0!"}]
[null,19,{"$f":"'DATOS DEL ESTUDIANTE'!B22","v":0},{"$f":"'DATOS DEL ESTUDIANTE'!C22","v":0},{"$f":"'DATOS DEL ESTUDIANTE'!D22","v":0},null,null,null,null,null,null,null,{"$error":"#DIV/0!"},null,null,null,null,null,null,{"$error":"#DIV/0!"},null,{"$error":"#DIV/0!"},null,null,{"$error":"#DIV/0!"}]
[null,20,{"$f":"'DATOS DEL ESTUDIANTE'!B23","v":0},{"$f":"'DATOS DEL ESTUDIANTE'!C23","v":0},{"$f":"'DATOS DEL ESTUDIANTE'!D23","v":0},null,null,null,null,null,null,null,{"$error":"#DIV/0!"},null,null,null,null,null,null,{"$error":"#DIV/0!"},null,{"$error":"#DIV/0!"},null,null,{"$error":"#DIV/0!"}]
[null,21,{"$f":"'DATOS DEL ESTUDIANTE'!B24","v":0},{"$f":"'DATOS DEL ESTUDIANTE'!C24","v":0},{"$f":"'DATOS DEL ESTUDIANTE'!D24","v":0},null,null,null,null,null,null,null,{"$error":"#DIV/0!"},null,null,null,null,null,null,{"$error":"#DIV/0!"},null,{"$error":"#DIV/0!"},null,null,{"$error":"#DIV/0!"}]
[null,22,{"$f":"'DATOS DEL ESTUDIANTE'!B25","v":0},{"$f":"'DATOS DEL ESTUDIANTE'!C25","v":0},{"$f":"'DATOS DEL ESTUDIANTE'!D25","v":0},null,null,null,null,null,null,null,{"$error":"#DIV/0!"},null,null,null,null,null,null,{"$error":"#DIV/0!"},null,{"$error":"#DIV/0!"},null,null,{"$error":"#DIV/0!"}]
[null,23,{"$f":"'DATOS DEL ESTUDIANTE'!B26","v":0},{"$f":"'DATOS DEL ESTUDIANTE'!C26","v":0},{"$f":"'DATOS DEL ESTUDIANTE'!D26","v":0},null,null,null,null,null,null,null,{"$error":"#DIV/0!"},null,null,null,null,null,null,{"$error":"#DIV/0!"},null,{"$error":"#DIV/0!"},null,null,{"$error":"#DIV/0!"}]
[null,24,{"$f":"'DATOS DEL ESTUDIANTE'!B27","v":0},{"$f":"'DATOS DEL ESTUDIANTE'!C27","v":0},{"$f":"'DATOS DEL ESTUDIANTE'!D27","v":0},null,null,null,null,null,null,null,{"$error":"#DIV/0!"},null,null,null,null,null,null,{"$error":"#DIV/0!"},null,{"$error":"#DIV/0!"},null,null,{"$error":"#DIV/0!"}]
[null,25,{"$f":"'DATOS DEL ESTUDIANTE'!B28","v":0},{"$f":"'DATOS DEL ESTUDIANTE'!C28","v":0},{"$f":"'DATOS DEL ESTUDIANTE'!D28","v":0},null,null,null,null,null,null,null,{"$error":"#DIV/0!"},null,null,null,null,null,null,{"$error":"#DIV/0!"},null,{"$error":"#DIV/0!"},null,null,{"$error":"#DIV/0!"}]
[null,26,{"$f":"'DATOS DEL ESTUDIANTE'!B29","v":0},{"$f":"'DATOS DEL ESTUDIANTE'!C29","v":0},{"$f":"'DATOS DEL ESTUDIANTE'!D29","v":0},null,null,null,null,null,null,null,{"$error":"#DIV/0!"},null,null,null,null,null,null,{"$error":"#DIV/0!"},null,{"$error":"#DIV/0!"},null,null,{"$error":"#DIV/0!"}]
[null,27,{"$f":"'DATOS DEL ESTUDIANTE'!B30","v":0},{"$f":"'DATOS DEL ESTUDIANTE'!C30","v":0},{"$f":"'DATOS DEL ESTUDIANTE'!D30","v":0},null,null,null,null,null,null,null,{"$error":"#DIV/0!"},null,null,null,null,null,null,{"$error":"#DIV/0!"},null,{"$error":"#DIV/0!"},null,null,{"$error":"#DIV/0!"}]
[null,28,{"$f":"'DATOS DEL ESTUDIANTE'!B31","v":0},{"$f":"'DATOS DEL ESTUDIANTE'!C31","v":0},{"$f":"'DATOS DEL ESTUDIANTE'!D31","v":0},null,null,null,null,null,null,null,{"$error":"#DIV/0!"},null,null,null,null,null,null,{"$error":"#DIV/0!"},null,{"$error":"#DIV/0!"},null,null,{"$error":"#DIV/0!"}]
[null,29,{"$f":"'DATOS DEL ESTUDIANTE'!B32","v":0},{"$f":"'DATOS DEL ESTUDIANTE'!C32","v":0},{"$f":"'DATOS DEL ESTUDIANTE'!D32","v":0},null,null,null,null,null,null,null,{"$error":"#DIV/0!"},null,null,null,null,null,null,{"$error":"#DIV/0!"},null,{"$error":"#DIV/0!"},null,null,{"$error":"#DIV/0!"}]
[null,30,{"$f":"'DATOS DEL ESTUDIANTE'!B33","v":0},{"$f":"'DATOS DEL ESTUDIANTE'!C33","v":0},{"$f":"'DATOS DEL ESTUDIANTE'!D33","v":0},null,null,null,null,null,null,null,{"$error":"#DIV/0!"},null,null,null,null,null,null,{"$error":"#DIV/0!"},null,{"$error":"#DIV/0!"},null,null,{"$error":"#DIV/0!"}]
[null,31,{"$f":"'DATOS DEL ESTUDIANTE'!B34","v":0},{"$f":"'DATOS DEL ESTUDIANTE'!C34","v":0},{"$f":"'DATOS DEL ESTUDIANTE'!D34","v":0},null,null,null,null,null,null,null,{"$error":"#DIV/0!"},null,null,null,null,null,null,{"$error":"#DIV/0!"},null,{"$error":"#DIV/0!"},null,null,{"$error":"#DIV/0!"}]
[null,32,{"$f":"'DATOS DEL ESTUDIANTE'!B35","v":0},{"$f":"'DATOS DEL ESTUDIANTE'!C35","v":0},{"$f":"'DATOS DEL ESTUDIANTE'!D35","v":0},null,null,null,null,null,null,null,{"$error":"#DIV/0!"},null,null,null,null,null,null,{"$error":"#DIV/0!"},null,{"$error":"#DIV/0!"},null,null,{"$error":"#DIV/0!"}]
[null,33,{"$f":"'DATOS DEL ESTUDIANTE'!B36","v":0},{"$f":"'DATOS DEL ESTUDIANTE'!C36","v":0},{"$f":"'DATOS DEL ESTUDIANTE'!D36","v":0},null,null,null,null,null,null,null,{"$error":"#DIV/0!"},null,null,null,null,null,null,{"$error":"#DIV/0!"},null,{"$error":"#DIV/0!"},null,null,{"$error":"#DIV/0!"}]
[null,34,{"$f":"'DATOS DEL ESTUDIANTE'!B37","v":0},{"$f":"'DATOS DEL ESTUDIANTE'!C37","v":0},{"$f":"'DATOS DEL ESTUDIANTE'!D37","v":0},null,null,null,null,null,null,null,{"$error":"#DIV/0!"},null,null,null,null,null,null,{"$error":"#DIV/0!"},null,{"$error":"#DIV/0!"},null,null,{"$error":"#DIV/0!"}]
[null,35,{"$f":"'DATOS DEL ESTUDIANTE'!B38","v":0},{"$f":"'DATOS DEL ESTUDIANTE'!C38","v":0},{"$f":"'DATOS DEL ESTUDIANTE'!D38","v":0},null,null,null,null,null,null,null,{"$error":"#DIV/0!"},null,null,null,null,null,null,{"$error":"#DIV/0!"},null,{"$error":"#DIV/0!"},null,null,{"$error":"#DIV/0!"}]
[null,36,{"$f":"'DATOS DEL ESTUDIANTE'!B39","v":0},{"$f":"'DATOS DEL ESTUDIANTE'!C39","v":0},{"$f":"'DATOS DEL ESTUDIANTE'!D39","v":0},null,null,null,null,null,null,null,{"$error":"#DIV/0!"},null,null,null,null,null,null,{"$error":"#DIV/0!"},null,{"$error":"#DIV/0!"},null,null,{"$error":"#DIV/0!"}]
[null,37,{"$f":"'DATOS DEL ESTUDIANTE'!B40","v":0},{"$f":"'DATOS DEL ESTUDIANTE'!C40","v":0},{"$f":"'DATOS DEL ESTUDIANTE'!D40","v":0},null,null,null,null,null,null,null,{"$error":"#DIV/0!"},null,null,null,null,null,null,{"$error":"#DIV/0!"},null,{"$error":"#DIV/0!"},null,null,{"$error":"#DIV/0!"}]
[null,38,{"$f":"'DATOS DEL ESTUDIANTE'!B41","v":0},{"$f":"'DATOS DEL ESTUDIANTE'!C41","v":0},{"$f":"'DATOS DEL ESTUDIANTE'!D41","v":0},null,null,null,null,null,null,null,{"$error":"#DIV/0!"},null,null,null,null,null,null,{"$error":"#DIV/0!"},null,{"$error":"#DIV/0!"},null,null,{"$error":"#DIV/0!"}]
[null,39,{"$f":"'DATOS DEL ESTUDIANTE'!B42","v":0},{"$f":"'DATOS DEL ESTUDIANTE'!C42","v":0},{"$f":"'DATOS DEL ESTUDIANTE'!D42","v":0},null,null,null,null,null,null,null,{"$error":"#DIV/0!"},null,null,null,null,null,null,{"$error":"#DIV/0!"},null,{"$error":"#DIV/0!"},null,null,{"$error":"#DIV/0!"}]
[null,40,{"$f":"'DATOS DEL ESTUDIANTE'!B43","v":0},{"$f":"'DATOS DEL ESTUDIANTE'!C43","v":0},{"$f":"'DATOS DEL ESTUDIANTE'!D43","v":0},null,null,null,null,null,null,null,{"$error":"#DIV/0!"},null,null,null,null,null,null,{"$error":"#DIV/0!"},null,{"$error":"#DIV/0!"},null,null,{"$error":"#DIV/0!"}]
[null,41,{"$f":"'DATOS DEL ESTUDIANTE'!B44","v":0},{"$f":"'DATOS DEL ESTUDIANTE'!C44","v":0},{"$f":"'DATOS DEL ESTUDIANTE'!D44","v":0},null,null,null,null,null,null,null,{"$error":"#DIV/0!"},null,null,null,null,null,null,{"$error":"#DIV/0!"},null,{"$error":"#DIV/0!"},null,null,{"$error":"#DIV/0!"}]
[null,42,{"$f":"'DATOS DEL ESTUDIANTE'!B45","v":0},{"$f":"'DATOS DEL ESTUDIANTE'!C45","v":0},{"$f":"'DATOS DEL ESTUDIANTE'!D45","v":0},null,null,null,null,null,null,null,{"$error":"#DIV/0!"},null,null,null,null,null,null,{"$error":"#DIV/0!"},null,{"$error":"#DIV/0!"},null,null,{"$error":"#DIV/0!"}]
[null,43,{"$f":"'DATOS DEL ESTUDIANTE'!B46","v":0},{"$f":"'DATOS DEL ESTUDIANTE'!C46","v":0},{"$f":"'DATOS DEL ESTUDIANTE'!D46","v":0},null,null,null,null,null,null,null,{"$error":"#DIV/0!"},null,null,null,null,null,null,{"$error":"#DIV/0!"},null,{"$error":"#DIV/0!"},null,null,{"$error":"#DIV/0!"}]
[null,44,{"$f":"'DATOS DEL ESTUDIANTE'!B47","v":0},{"$f":"'DATOS DEL ESTUDIANTE'!C47","v":0},{"$f":"'DATOS DEL ESTUDIANTE'!D47","v":0},null,null,null,null,null,null,null,{"$error":"#DIV/0!"},null,null,null,null,null,null,{"$error":"#DIV/0!"},null,{"$error":"#DIV/0!"},null,null,{"$error":"#DIV/0!"}]
[null,45,{"$f":"'DATOS DEL ESTUDIANTE'!B48","v":0},{"$f":"'DATOS DEL ESTUDIANTE'!C48","v":0},{"$f":"'DATOS DEL ESTUDIANTE'!D48","v":0},null,null,null,null,null,null,null,{"$error":"#DIV/0!"},null,null,null,null,null,null,{"$error":"#DIV/0!"},null,{"$error":"#DIV/0!"},null,null,{"$error":"#DIV/0!"}]

{"sheet":"EDUCACION FISICA 3","index":30,"n_rows":55,"n_cols":25,"rows_kept":55,"cut":false,"hidden":false,"merged":[[0,25,3,25],[3,13,3,19],[1,4,1,9],[8,16,9,16],[8,17,9,17],[8,18,9,18],[8,15,9,15],[4,19,9,19],[8,2,8,4],[3,6,3,12],[8,8,9,8],[8,9,9,9],[8,10,9,10],[8,11,9,11],[4,8,6,9],[4,13,6,14],[3,21,9,21],[3,22,8,23],[3,24,9,24],[4,15,6,16],[4,17,6,18],[4,20,6,20],[0,21,2,24],[1,10,1,12],[1,13,1,19],[1,20,2,20],[2,1,2,19],[1,1,1,3],[8,1,9,1],[8,20,9,20],[8,7,9,7],[4,10,6,11],[0,0,9,0],[0,1,0,19],[3,1,3,4],[8,5,9,5],[8,6,9,6],[8,13,9,13],[8,14,9,14],[4,12,9,12],[7,1,7,4],[4,1,6,4],[4,5,6,5],[4,6,6,7]]}
[null,"        EDUCACION  FISICA Y DEPORTES",null,null,null,null,null,null,null,null,null,null,null,null,null,null,null,null,null,null,2018]
[null,"AÑO DE ESCOLARIDAD:",null,null,{"$f":"CARATULA!G15","v":0},null,null,null,null,null,"MAESTRA (O): ",null,null,{"$f":"CARATULA!G18","v":0},null,null,null,null,null,null,"TERCER\nBIMESTRE"]
[null," REGISTRO  Y CENTRALIZADOR DEL PROCESO DE  EVALUACIÓN   "]
[null,"DIMENSIONES",null,null,null,"SER (10)","SABER (35)",null,null,null,null,null,null,"HACER (35)",null,null,null,null,null,null,"DECIDIR (10)","TOTAL     EVALUACIÓN    DEL     MAESTRO","AUTOEVALUACIÓN",null,"CALIFICACIÓN BIMESTRAL"]
[null,"CRITERIOS DE EVALUACIÓN SEGÚN PDC",null,null,null,null,null,null,null,null,null,null,"T      O     T     A       L",null,null,null,null,null,null,"T      O     T     A       L"]
[]
[]
[null,"INSTRUMENTO Y/ O ESTRATEGIAS DE EVALUACIÓN"]
[null,"N°","    FECHA DE  EVALUACIÓN\n \n\n"]
[null,null,"NOMBRES ","APELLIDO PATERNO"," \nAPELLIDO MATERNO",null,null,null,null,null,null,null,null,null,null,null,null,null,null,null,null,null,"SER\n(5)","DECIDIR\n(5)"]
[null,1,{"$f":"'DATOS DEL ESTUDIANTE'!B4","v":0},{"$f":"'DATOS DEL ESTUDIANTE'!C4","v":0},{"$f":"'DATOS DEL ESTUDIANTE'!D4","v":0},null,null,null,null,null,null,null,{"$f":"AVERAGE(G11:L11)","v":{"$error":"#DIV/0!"}},null,null,null,null,null,null,{"$f":"AVERAGE(N11:S11)","v":{"$error":"#DIV/0!"}},null,{"$f":"SUM(F11+M11+T11+U11)","v":{"$error":"#DIV/0!"}},null,null,{"$f":"SUM(V11:X11)","v":{"$error":"#DIV/0!"}}]
[null,2,{"$f":"'DATOS DEL ESTUDIANTE'!B5","v":0},{"$f":"'DATOS DEL ESTUDIANTE'!C5","v":0},{"$f":"'DATOS DEL ESTUDIANTE'!D5","v":0},null,null,null,null,null,null,null,{"$f":"AVERAGE(G12:L12)","v":{"$error":"#DIV/0!"}},null,null,null,null,null,null,{"$f":"AVERAGE(N12:S12)","v":{"$error":"#DIV/0!"}},null,{"$f":"SUM(F12+M12+T12+U12)","v":{"$error":"#DIV/0!"}},null,null,{"$f":"SUM(V12:X12)","v":{"$error":"#DIV/0!"}}]
[null,3,{"$f":"'DATOS DEL ESTUDIANTE'!B6","v":0},{"$f":"'DATOS DEL ESTUDIANTE'!C6","v":0},{"$f":"'DATOS DEL ESTUDIANTE'!D6","v":0},null,null,null,null,null,null,null,{"$error":"#DIV/0!"},null,null,null,null,null,null,{"$error":"#DIV/0!"},null,{"$error":"#DIV/0!"},null,null,{"$error":"#DIV/0!"}]
[null,4,{"$f":"'DATOS DEL ESTUDIANTE'!B7","v":0},{"$f":"'DATOS DEL ESTUDIANTE'!C7","v":0},{"$f":"'DATOS DEL ESTUDIANTE'!D7","v":0},null,null,null,null,null,null,null,{"$error":"#DIV/0!"},null,null,null,null,null,null,{"$error":"#DIV/0!"},null,{"$error":"#DIV/0!"},null,null,{"$error":"#DIV/0!"}]
[null,5,{"$f":"'DATOS DEL ESTUDIANTE'!B8","v":0},{"$f":"'DATOS DEL ESTUDIANTE'!C8","v":0},{"$f":"'DATOS DEL ESTUDIANTE'!D8","v":0},null,null,null,null,null,null,null,{"$error":"#DIV/0!"},null,null,null,null,null,null,{"$error":"#DIV/0!"},null,{"$error":"#DIV/0!"},null,null,{"$error":"#DIV/0!"}]
[null,6,{"$f":"'DATOS DEL ESTUDIANTE'!B9","v":0},{"$f":"'DATOS DEL ESTUDIANTE'!C9","v":0},{"$f":"'DATOS DEL ESTUDIANTE'!D9","v":0},null,null,null,null,null,null,null,{"$error":"#DIV/0!"},null,null,null,null,null,null,{"$error":"#DIV/0!"},null,{"$error":"#DIV/0!"},null,null,{"$error":"#DIV/0!"}]
[null,7,{"$f":"'DATOS DEL ESTUDIANTE'!B10","v":0},{"$f":"'DATOS DEL ESTUDIANTE'!C10","v":0},{"$f":"'DATOS DEL ESTUDIANTE'!D10","v":0},null,null,null,null,null,null,null,{"$error":"#DIV/0!"},null,null,null,null,null,null,{"$error":"#DIV/0!"},null,{"$error":"#DIV/0!"},null,null,{"$error":"#DIV/0!"}]
[null,8,{"$f":"'DATOS DEL ESTUDIANTE'!B11","v":0},{"$f":"'DATOS DEL ESTUDIANTE'!C11","v":0},{"$f":"'DATOS DEL ESTUDIANTE'!D11","v":0},null,null,null,null,null,null,null,{"$error":"#DIV/0!"},null,null,null,null,null,null,{"$error":"#DIV/0!"},null,{"$error":"#DIV/0!"},null,null,{"$error":"#DIV/0!"}]
[null,9,{"$f":"'DATOS DEL ESTUDIANTE'!B12","v":0},{"$f":"'DATOS DEL ESTUDIANTE'!C12","v":0},{"$f":"'DATOS DEL ESTUDIANTE'!D12","v":0},null,null,null,null,null,null,null,{"$error":"#DIV/0!"},null,null,null,null,null,null,{"$error":"#DIV/0!"},null,{"$error":"#DIV/0!"},null,null,{"$error":"#DIV/0!"}]
[null,10,{"$f":"'DATOS DEL ESTUDIANTE'!B13","v":0},{"$f":"'DATOS DEL ESTUDIANTE'!C13","v":0},{"$f":"'DATOS DEL ESTUDIANTE'!D13","v":0},null,null,null,null,null,null,null,{"$error":"#DIV/0!"},null,null,null,null,null,null,{"$error":"#DIV/0!"},null,{"$error":"#DIV/0!"},null,null,{"$error":"#DIV/0!"}]
[null,11,{"$f":"'DATOS DEL ESTUDIANTE'!B14","v":0},{"$f":"'DATOS DEL ESTUDIANTE'!C14","v":0},{"$f":"'DATOS DEL ESTUDIANTE'!D14","v":0},null,null,null,null,null,null,null,{"$error":"#DIV/0!"},null,null,null,null,null,null,{"$error":"#DIV/0!"},null,{"$error":"#DIV/0!"},null,null,{"$error":"#DIV/0!"}]
[null,12,{"$f":"'DATOS DEL ESTUDIANTE'!B15","v":0},{"$f":"'DATOS DEL ESTUDIANTE'!C15","v":0},{"$f":"'DATOS DEL ESTUDIANTE'!D15","v":0},null,null,null,null,null,null,null,{"$error":"#DIV/0!"},null,null,null,null,null,null,{"$error":"#DIV/0!"},null,{"$error":"#DIV/0!"},null,null,{"$error":"#DIV/0!"}]
[null,13,{"$f":"'DATOS DEL ESTUDIANTE'!B16","v":0},{"$f":"'DATOS DEL ESTUDIANTE'!C16","v":0},{"$f":"'DATOS DEL ESTUDIANTE'!D16","v":0},null,null,null,null,null,null,null,{"$error":"#DIV/0!"},null,null,null,null,null,null,{"$error":"#DIV/0!"},null,{"$error":"#DIV/0!"},null,null,{"$error":"#DIV/0!"}]
[null,14,{"$f":"'DATOS DEL ESTUDIANTE'!B17","v":0},{"$f":"'DATOS DEL ESTUDIANTE'!C17","v":0},{"$f":"'DATOS DEL ESTUDIANTE'!D17","v":0},null,null,null,null,null,null,null,{"$error":"#DIV/0!"},null,null,null,null,null,null,{"$error":"#DIV/0!"},null,{"$error":"#DIV/0!"},null,null,{"$error":"#DIV/0!"}]
[null,15,{"$f":"'DATOS DEL ESTUDIANTE'!B18","v":0},{"$f":"'DATOS DEL ESTUDIANTE'!C18","v":0},{"$f":"'DATOS DEL ESTUDIANTE'!D18","v":0},null,null,null,null,null,null,null,{"$error":"#DIV/0!"},null,null,null,null,null,null,{"$error":"#DIV/0!"},null,{"$error":"#DIV/0!"},null,null,{"$error":"#DIV/0!"}]
[null,16,{"$f":"'DATOS DEL ESTUDIANTE'!B19","v":0},{"$f":"'DATOS DEL ESTUDIANTE'!C19","v":0},{"$f":"'DATOS DEL ESTUDIANTE'!D19","v":0},null,null,null,null,null,null,null,{"$error":"#DIV/0!"},null,null,null,null,null,null,{"$error":"#DIV/0!"},null,{"$error":"#DIV/0!"},null,null,{"$error":"#DIV/0!"}]
[null,17,{"$f":"'DATOS DEL ESTUDIANTE'!B20","v":0},{"$f":"'DATOS DEL ESTUDIANTE'!C20","v":0},{"$f":"'DATOS DEL ESTUDIANTE'!D20","v":0},null,null,null,null,null,null,null,{"$error":"#DIV/0!"},null,null,null,null,null,null,{"$error":"#DIV/0!"},null,{"$error":"#DIV/0!"},null,null,{"$error":"#DIV/0!"}]
[null,18,{"$f":"'DATOS DEL ESTUDIANTE'!B21","v":0},{"$f":"'DATOS DEL ESTUDIANTE'!C21","v":0},{"$f":"'DATOS DEL ESTUDIANTE'!D21","v":0},null,null,null,null,null,null,null,{"$error":"#DIV/0!"},null,null,null,null,null,null,{"$error":"#DIV/0!"},null,{"$error":"#DIV/0!"},null,null,{"$error":"#DIV/0!"}]
[null,19,{"$f":"'DATOS DEL ESTUDIANTE'!B22","v":0},{"$f":"'DATOS DEL ESTUDIANTE'!C22","v":0},{"$f":"'DATOS DEL ESTUDIANTE'!D22","v":0},null,null,null,null,null,null,null,{"$error":"#DIV/0!"},null,null,null,null,null,null,{"$error":"#DIV/0!"},null,{"$error":"#DIV/0!"},null,null,{"$error":"#DIV/0!"}]
[null,20,{"$f":"'DATOS DEL ESTUDIANTE'!B23","v":0},{"$f":"'DATOS DEL ESTUDIANTE'!C23","v":0},{"$f":"'DATOS DEL ESTUDIANTE'!D23","v":0},null,null,null,null,null,null,null,{"$error":"#DIV/0!"},null,null,null,null,null,null,{"$error":"#DIV/0!"},null,{"$error":"#DIV/0!"},null,null,{"$error":"#DIV/0!"}]
[null,21,{"$f":"'DATOS DEL ESTUDIANTE'!B24","v":0},{"$f":"'DATOS DEL ESTUDIANTE'!C24","v":0},{"$f":"'DATOS DEL ESTUDIANTE'!D24","v":0},null,null,null,null,null,null,null,{"$error":"#DIV/0!"},null,null,null,null,null,null,{"$error":"#DIV/0!"},null,{"$error":"#DIV/0!"},null,null,{"$error":"#DIV/0!"}]
[null,22,{"$f":"'DATOS DEL ESTUDIANTE'!B25","v":0},{"$f":"'DATOS DEL ESTUDIANTE'!C25","v":0},{"$f":"'DATOS DEL ESTUDIANTE'!D25","v":0},null,null,null,null,null,null,null,{"$error":"#DIV/0!"},null,null,null,null,null,null,{"$error":"#DIV/0!"},null,{"$error":"#DIV/0!"},null,null,{"$error":"#DIV/0!"}]
[null,23,{"$f":"'DATOS DEL ESTUDIANTE'!B26","v":0},{"$f":"'DATOS DEL ESTUDIANTE'!C26","v":0},{"$f":"'DATOS DEL ESTUDIANTE'!D26","v":0},null,null,null,null,null,null,null,{"$error":"#DIV/0!"},null,null,null,null,null,null,{"$error":"#DIV/0!"},null,{"$error":"#DIV/0!"},null,null,{"$error":"#DIV/0!"}]
[null,24,{"$f":"'DATOS DEL ESTUDIANTE'!B27","v":0},{"$f":"'DATOS DEL ESTUDIANTE'!C27","v":0},{"$f":"'DATOS DEL ESTUDIANTE'!D27","v":0},null,null,null,null,null,null,null,{"$error":"#DIV/0!"},null,null,null,null,null,null,{"$error":"#DIV/0!"},null,{"$error":"#DIV/0!"},null,null,{"$error":"#DIV/0!"}]
[null,25,{"$f":"'DATOS DEL ESTUDIANTE'!B28","v":0},{"$f":"'DATOS DEL ESTUDIANTE'!C28","v":0},{"$f":"'DATOS DEL ESTUDIANTE'!D28","v":0},null,null,null,null,null,null,null,{"$error":"#DIV/0!"},null,null,null,null,null,null,{"$error":"#DIV/0!"},null,{"$error":"#DIV/0!"},null,null,{"$error":"#DIV/0!"}]
[null,26,{"$f":"'DATOS DEL ESTUDIANTE'!B29","v":0},{"$f":"'DATOS DEL ESTUDIANTE'!C29","v":0},{"$f":"'DATOS DEL ESTUDIANTE'!D29","v":0},null,null,null,null,null,null,null,{"$error":"#DIV/0!"},null,null,null,null,null,null,{"$error":"#DIV/0!"},null,{"$error":"#DIV/0!"},null,null,{"$error":"#DIV/0!"}]
[null,27,{"$f":"'DATOS DEL ESTUDIANTE'!B30","v":0},{"$f":"'DATOS DEL ESTUDIANTE'!C30","v":0},{"$f":"'DATOS DEL ESTUDIANTE'!D30","v":0},null,null,null,null,null,null,null,{"$error":"#DIV/0!"},null,null,null,null,null,null,{"$error":"#DIV/0!"},null,{"$error":"#DIV/0!"},null,null,{"$error":"#DIV/0!"}]
[null,28,{"$f":"'DATOS DEL ESTUDIANTE'!B31","v":0},{"$f":"'DATOS DEL ESTUDIANTE'!C31","v":0},{"$f":"'DATOS DEL ESTUDIANTE'!D31","v":0},null,null,null,null,null,null,null,{"$error":"#DIV/0!"},null,null,null,null,null,null,{"$error":"#DIV/0!"},null,{"$error":"#DIV/0!"},null,null,{"$error":"#DIV/0!"}]
[null,29,{"$f":"'DATOS DEL ESTUDIANTE'!B32","v":0},{"$f":"'DATOS DEL ESTUDIANTE'!C32","v":0},{"$f":"'DATOS DEL ESTUDIANTE'!D32","v":0},null,null,null,null,null,null,null,{"$error":"#DIV/0!"},null,null,null,null,null,null,{"$error":"#DIV/0!"},null,{"$error":"#DIV/0!"},null,null,{"$error":"#DIV/0!"}]
[null,30,{"$f":"'DATOS DEL ESTUDIANTE'!B33","v":0},{"$f":"'DATOS DEL ESTUDIANTE'!C33","v":0},{"$f":"'DATOS DEL ESTUDIANTE'!D33","v":0},null,null,null,null,null,null,null,{"$error":"#DIV/0!"},null,null,null,null,null,null,{"$error":"#DIV/0!"},null,{"$error":"#DIV/0!"},null,null,{"$error":"#DIV/0!"}]
[null,31,{"$f":"'DATOS DEL ESTUDIANTE'!B34","v":0},{"$f":"'DATOS DEL ESTUDIANTE'!C34","v":0},{"$f":"'DATOS DEL ESTUDIANTE'!D34","v":0},null,null,null,null,null,null,null,{"$error":"#DIV/0!"},null,null,null,null,null,null,{"$error":"#DIV/0!"},null,{"$error":"#DIV/0!"},null,null,{"$error":"#DIV/0!"}]
[null,32,{"$f":"'DATOS DEL ESTUDIANTE'!B35","v":0},{"$f":"'DATOS DEL ESTUDIANTE'!C35","v":0},{"$f":"'DATOS DEL ESTUDIANTE'!D35","v":0},null,null,null,null,null,null,null,{"$error":"#DIV/0!"},null,null,null,null,null,null,{"$error":"#DIV/0!"},null,{"$error":"#DIV/0!"},null,null,{"$error":"#DIV/0!"}]
[null,33,{"$f":"'DATOS DEL ESTUDIANTE'!B36","v":0},{"$f":"'DATOS DEL ESTUDIANTE'!C36","v":0},{"$f":"'DATOS DEL ESTUDIANTE'!D36","v":0},null,null,null,null,null,null,null,{"$error":"#DIV/0!"},null,null,null,null,null,null,{"$error":"#DIV/0!"},null,{"$error":"#DIV/0!"},null,null,{"$error":"#DIV/0!"}]
[null,34,{"$f":"'DATOS DEL ESTUDIANTE'!B37","v":0},{"$f":"'DATOS DEL ESTUDIANTE'!C37","v":0},{"$f":"'DATOS DEL ESTUDIANTE'!D37","v":0},null,null,null,null,null,null,null,{"$error":"#DIV/0!"},null,null,null,null,null,null,{"$error":"#DIV/0!"},null,{"$error":"#DIV/0!"},null,null,{"$error":"#DIV/0!"}]
[null,35,{"$f":"'DATOS DEL ESTUDIANTE'!B38","v":0},{"$f":"'DATOS DEL ESTUDIANTE'!C38","v":0},{"$f":"'DATOS DEL ESTUDIANTE'!D38","v":0},null,null,null,null,null,null,null,{"$error":"#DIV/0!"},null,null,null,null,null,null,{"$error":"#DIV/0!"},null,{"$error":"#DIV/0!"},null,null,{"$error":"#DIV/0!"}]
[null,36,{"$f":"'DATOS DEL ESTUDIANTE'!B39","v":0},{"$f":"'DATOS DEL ESTUDIANTE'!C39","v":0},{"$f":"'DATOS DEL ESTUDIANTE'!D39","v":0},null,null,null,null,null,null,null,{"$error":"#DIV/0!"},null,null,null,null,null,null,{"$error":"#DIV/0!"},null,{"$error":"#DIV/0!"},null,null,{"$error":"#DIV/0!"}]
[null,37,{"$f":"'DATOS DEL ESTUDIANTE'!B40","v":0},{"$f":"'DATOS DEL ESTUDIANTE'!C40","v":0},{"$f":"'DATOS DEL ESTUDIANTE'!D40","v":0},null,null,null,null,null,null,null,{"$error":"#DIV/0!"},null,null,null,null,null,null,{"$error":"#DIV/0!"},null,{"$error":"#DIV/0!"},null,null,{"$error":"#DIV/0!"}]
[null,38,{"$f":"'DATOS DEL ESTUDIANTE'!B41","v":0},{"$f":"'DATOS DEL ESTUDIANTE'!C41","v":0},{"$f":"'DATOS DEL ESTUDIANTE'!D41","v":0},null,null,null,null,null,null,null,{"$error":"#DIV/0!"},null,null,null,null,null,null,{"$error":"#DIV/0!"},null,{"$error":"#DIV/0!"},null,null,{"$error":"#DIV/0!"}]
[null,39,{"$f":"'DATOS DEL ESTUDIANTE'!B42","v":0},{"$f":"'DATOS DEL ESTUDIANTE'!C42","v":0},{"$f":"'DATOS DEL ESTUDIANTE'!D42","v":0},null,null,null,null,null,null,null,{"$error":"#DIV/0!"},null,null,null,null,null,null,{"$error":"#DIV/0!"},null,{"$error":"#DIV/0!"},null,null,{"$error":"#DIV/0!"}]
[null,40,{"$f":"'DATOS DEL ESTUDIANTE'!B43","v":0},{"$f":"'DATOS DEL ESTUDIANTE'!C43","v":0},{"$f":"'DATOS DEL ESTUDIANTE'!D43","v":0},null,null,null,null,null,null,null,{"$error":"#DIV/0!"},null,null,null,null,null,null,{"$error":"#DIV/0!"},null,{"$error":"#DIV/0!"},null,null,{"$error":"#DIV/0!"}]
[null,41,{"$f":"'DATOS DEL ESTUDIANTE'!B44","v":0},{"$f":"'DATOS DEL ESTUDIANTE'!C44","v":0},{"$f":"'DATOS DEL ESTUDIANTE'!D44","v":0},null,null,null,null,null,null,null,{"$error":"#DIV/0!"},null,null,null,null,null,null,{"$error":"#DIV/0!"},null,{"$error":"#DIV/0!"},null,null,{"$error":"#DIV/0!"}]
[null,42,{"$f":"'DATOS DEL ESTUDIANTE'!B45","v":0},{"$f":"'DATOS DEL ESTUDIANTE'!C45","v":0},{"$f":"'DATOS DEL ESTUDIANTE'!D45","v":0},null,null,null,null,null,null,null,{"$error":"#DIV/0!"},null,null,null,null,null,null,{"$error":"#DIV/0!"},null,{"$error":"#DIV/0!"},null,null,{"$error":"#DIV/0!"}]
[null,43,{"$f":"'DATOS DEL ESTUDIANTE'!B46","v":0},{"$f":"'DATOS DEL ESTUDIANTE'!C46","v":0},{"$f":"'DATOS DEL ESTUDIANTE'!D46","v":0},null,null,null,null,null,null,null,{"$error":"#DIV/0!"},null,null,null,null,null,null,{"$error":"#DIV/0!"},null,{"$error":"#DIV/0!"},null,null,{"$error":"#DIV/0!"}]
[null,44,{"$f":"'DATOS DEL ESTUDIANTE'!B47","v":0},{"$f":"'DATOS DEL ESTUDIANTE'!C47","v":0},{"$f":"'DATOS DEL ESTUDIANTE'!D47","v":0},null,null,null,null,null,null,null,{"$error":"#DIV/0!"},null,null,null,null,null,null,{"$error":"#DIV/0!"},null,{"$error":"#DIV/0!"},null,null,{"$error":"#DIV/0!"}]
[null,45,{"$f":"'DATOS DEL ESTUDIANTE'!B48","v":0},{"$f":"'DATOS DEL ESTUDIANTE'!C48","v":0},{"$f":"'DATOS DEL ESTUDIANTE'!D48","v":0},null,null,null,null,null,null,null,{"$error":"#DIV/0!"},null,null,null,null,null,null,{"$error":"#DIV/0!"},null,{"$error":"#DIV/0!"},null,null,{"$error":"#DIV/0!"}]

{"sheet":"EDUCACION FISICA 4","index":31,"n_rows":55,"n_cols":25,"rows_kept":55,"cut":false,"hidden":false,"merged":[[0,25,3,25],[3,13,3,19],[1,4,1,9],[8,16,9,16],[8,17,9,17],[8,18,9,18],[8,15,9,15],[4,19,9,19],[8,2,8,4],[3,6,3,12],[8,8,9,8],[8,9,9,9],[8,10,9,10],[8,11,9,11],[4,8,6,9],[4,13,6,14],[3,21,9,21],[3,22,8,23],[3,24,9,24],[4,15,6,16],[4,17,6,18],[4,20,6,20],[0,21,2,24],[1,10,1,12],[1,13,1,19],[1,20,2,20],[2,1,2,19],[1,1,1,3],[8,1,9,1],[8,20,9,20],[8,7,9,7],[4,10,6,11],[0,0,9,0],[0,1,0,19],[3,1,3,4],[8,5,9,5],[8,6,9,6],[8,13,9,13],[8,14,9,14],[4,12,9,12],[7,1,7,4],[4,1,6,4],[4,5,6,5],[4,6,6,7]]}
[null,"      EDUCACION  FISICA Y DEPORTES",null,null,null,null,null,null,null,null,null,null,null,null,null,null,null,null,null,null,2018]
[null,"AÑO DE ESCOLARIDAD:",null,null,{"$f":"CARATULA!G15","v":0},null,null,null,null,null,"MAESTRA (O): ",null,null,{"$f":"CARATULA!G18","v":0},null,null,null,null,null,null,"CUARTO\nBIMESTRE"]
[null," REGISTRO  Y CENTRALIZADOR DEL PROCESO DE  EVALUACIÓN   "]
[null,"DIMENSIONES",null,null,null,"SER (10)","SABER (35)",null,null,null,null,null,null,"HACER (35)",null,null,null,null,null,null,"DECIDIR (10)","TOTAL     EVALUACIÓN    DEL     MAESTRO","AUTOEVALUACIÓN",null,"CALIFICACIÓN BIMESTRAL"]
[null,"CRITERIOS DE EVALUACIÓN SEGÚN PDC",null,null,null,null,null,null,null,null,null,null,"T      O     T     A       L",null,null,null,null,null,null,"T      O     T     A       L"]
[]
[]
[null,"INSTRUMENTO Y/ O ESTRATEGIAS DE EVALUACIÓN"]
[null,"N°","    FECHA DE  EVALUACIÓN\n \n\n"]
[null,null,"NOMBRES ","APELLIDO PATERNO"," \nAPELLIDO MATERNO",null,null,null,null,null,null,null,null,null,null,null,null,null,null,null,null,null,"SER\n(5)","DECIDIR\n(5)"]
[null,1,{"$f":"'DATOS DEL ESTUDIANTE'!B4","v":0},{"$f":"'DATOS DEL ESTUDIANTE'!C4","v":0},{"$f":"'DATOS DEL ESTUDIANTE'!D4","v":0},null,null,null,null,null,null,null,{"$f":"AVERAGE(G11:L11)","v":{"$error":"#DIV/0!"}},null,null,null,null,null,null,{"$f":"AVERAGE(N11:S11)","v":{"$error":"#DIV/0!"}},null,{"$f":"SUM(F11+M11+T11+U11)","v":{"$error":"#DIV/0!"}},null,null,{"$f":"SUM(V11:X11)","v":{"$error":"#DIV/0!"}}]
[null,2,{"$f":"'DATOS DEL ESTUDIANTE'!B5","v":0},{"$f":"'DATOS DEL ESTUDIANTE'!C5","v":0},{"$f":"'DATOS DEL ESTUDIANTE'!D5","v":0},null,null,null,null,null,null,null,{"$f":"AVERAGE(G12:L12)","v":{"$error":"#DIV/0!"}},null,null,null,null,null,null,{"$f":"AVERAGE(N12:S12)","v":{"$error":"#DIV/0!"}},null,{"$f":"SUM(F12+M12+T12+U12)","v":{"$error":"#DIV/0!"}},null,null,{"$f":"SUM(V12:X12)","v":{"$error":"#DIV/0!"}}]
[null,3,{"$f":"'DATOS DEL ESTUDIANTE'!B6","v":0},{"$f":"'DATOS DEL ESTUDIANTE'!C6","v":0},{"$f":"'DATOS DEL ESTUDIANTE'!D6","v":0},null,null,null,null,null,null,null,{"$error":"#DIV/0!"},null,null,null,null,null,null,{"$error":"#DIV/0!"},null,{"$error":"#DIV/0!"},null,null,{"$error":"#DIV/0!"}]
[null,4,{"$f":"'DATOS DEL ESTUDIANTE'!B7","v":0},{"$f":"'DATOS DEL ESTUDIANTE'!C7","v":0},{"$f":"'DATOS DEL ESTUDIANTE'!D7","v":0},null,null,null,null,null,null,null,{"$error":"#DIV/0!"},null,null,null,null,null,null,{"$error":"#DIV/0!"},null,{"$error":"#DIV/0!"},null,null,{"$error":"#DIV/0!"}]
[null,5,{"$f":"'DATOS DEL ESTUDIANTE'!B8","v":0},{"$f":"'DATOS DEL ESTUDIANTE'!C8","v":0},{"$f":"'DATOS DEL ESTUDIANTE'!D8","v":0},null,null,null,null,null,null,null,{"$error":"#DIV/0!"},null,null,null,null,null,null,{"$error":"#DIV/0!"},null,{"$error":"#DIV/0!"},null,null,{"$error":"#DIV/0!"}]
[null,6,{"$f":"'DATOS DEL ESTUDIANTE'!B9","v":0},{"$f":"'DATOS DEL ESTUDIANTE'!C9","v":0},{"$f":"'DATOS DEL ESTUDIANTE'!D9","v":0},null,null,null,null,null,null,null,{"$error":"#DIV/0!"},null,null,null,null,null,null,{"$error":"#DIV/0!"},null,{"$error":"#DIV/0!"},null,null,{"$error":"#DIV/0!"}]
[null,7,{"$f":"'DATOS DEL ESTUDIANTE'!B10","v":0},{"$f":"'DATOS DEL ESTUDIANTE'!C10","v":0},{"$f":"'DATOS DEL ESTUDIANTE'!D10","v":0},null,null,null,null,null,null,null,{"$error":"#DIV/0!"},null,null,null,null,null,null,{"$error":"#DIV/0!"},null,{"$error":"#DIV/0!"},null,null,{"$error":"#DIV/0!"}]
[null,8,{"$f":"'DATOS DEL ESTUDIANTE'!B11","v":0},{"$f":"'DATOS DEL ESTUDIANTE'!C11","v":0},{"$f":"'DATOS DEL ESTUDIANTE'!D11","v":0},null,null,null,null,null,null,null,{"$error":"#DIV/0!"},null,null,null,null,null,null,{"$error":"#DIV/0!"},null,{"$error":"#DIV/0!"},null,null,{"$error":"#DIV/0!"}]
[null,9,{"$f":"'DATOS DEL ESTUDIANTE'!B12","v":0},{"$f":"'DATOS DEL ESTUDIANTE'!C12","v":0},{"$f":"'DATOS DEL ESTUDIANTE'!D12","v":0},null,null,null,null,null,null,null,{"$error":"#DIV/0!"},null,null,null,null,null,null,{"$error":"#DIV/0!"},null,{"$error":"#DIV/0!"},null,null,{"$error":"#DIV/0!"}]
[null,10,{"$f":"'DATOS DEL ESTUDIANTE'!B13","v":0},{"$f":"'DATOS DEL ESTUDIANTE'!C13","v":0},{"$f":"'DATOS DEL ESTUDIANTE'!D13","v":0},null,null,null,null,null,null,null,{"$error":"#DIV/0!"},null,null,null,null,null,null,{"$error":"#DIV/0!"},null,{"$error":"#DIV/0!"},null,null,{"$error":"#DIV/0!"}]
[null,11,{"$f":"'DATOS DEL ESTUDIANTE'!B14","v":0},{"$f":"'DATOS DEL ESTUDIANTE'!C14","v":0},{"$f":"'DATOS DEL ESTUDIANTE'!D14","v":0},null,null,null,null,null,null,null,{"$error":"#DIV/0!"},null,null,null,null,null,null,{"$error":"#DIV/0!"},null,{"$error":"#DIV/0!"},null,null,{"$error":"#DIV/0!"}]
[null,12,{"$f":"'DATOS DEL ESTUDIANTE'!B15","v":0},{"$f":"'DATOS DEL ESTUDIANTE'!C15","v":0},{"$f":"'DATOS DEL ESTUDIANTE'!D15","v":0},null,null,null,null,null,null,null,{"$error":"#DIV/0!"},null,null,null,null,null,null,{"$error":"#DIV/0!"},null,{"$error":"#DIV/0!"},null,null,{"$error":"#DIV/0!"}]
[null,13,{"$f":"'DATOS DEL ESTUDIANTE'!B16","v":0},{"$f":"'DATOS DEL ESTUDIANTE'!C16","v":0},{"$f":"'DATOS DEL ESTUDIANTE'!D16","v":0},null,null,null,null,null,null,null,{"$error":"#DIV/0!"},null,null,null,null,null,null,{"$error":"#DIV/0!"},null,{"$error":"#DIV/0!"},null,null,{"$error":"#DIV/0!"}]
[null,14,{"$f":"'DATOS DEL ESTUDIANTE'!B17","v":0},{"$f":"'DATOS DEL ESTUDIANTE'!C17","v":0},{"$f":"'DATOS DEL ESTUDIANTE'!D17","v":0},null,null,null,null,null,null,null,{"$error":"#DIV/0!"},null,null,null,null,null,null,{"$error":"#DIV/0!"},null,{"$error":"#DIV/0!"},null,null,{"$error":"#DIV/0!"}]
[null,15,{"$f":"'DATOS DEL ESTUDIANTE'!B18","v":0},{"$f":"'DATOS DEL ESTUDIANTE'!C18","v":0},{"$f":"'DATOS DEL ESTUDIANTE'!D18","v":0},null,null,null,null,null,null,null,{"$error":"#DIV/0!"},null,null,null,null,null,null,{"$error":"#DIV/0!"},null,{"$error":"#DIV/0!"},null,null,{"$error":"#DIV/0!"}]
[null,16,{"$f":"'DATOS DEL ESTUDIANTE'!B19","v":0},{"$f":"'DATOS DEL ESTUDIANTE'!C19","v":0},{"$f":"'DATOS DEL ESTUDIANTE'!D19","v":0},null,null,null,null,null,null,null,{"$error":"#DIV/0!"},null,null,null,null,null,null,{"$error":"#DIV/0!"},null,{"$error":"#DIV/0!"},null,null,{"$error":"#DIV/0!"}]
[null,17,{"$f":"'DATOS DEL ESTUDIANTE'!B20","v":0},{"$f":"'DATOS DEL ESTUDIANTE'!C20","v":0},{"$f":"'DATOS DEL ESTUDIANTE'!D20","v":0},null,null,null,null,null,null,null,{"$error":"#DIV/0!"},null,null,null,null,null,null,{"$error":"#DIV/0!"},null,{"$error":"#DIV/0!"},null,null,{"$error":"#DIV/0!"}]
[null,18,{"$f":"'DATOS DEL ESTUDIANTE'!B21","v":0},{"$f":"'DATOS DEL ESTUDIANTE'!C21","v":0},{"$f":"'DATOS DEL ESTUDIANTE'!D21","v":0},null,null,null,null,null,null,null,{"$error":"#DIV/0!"},null,null,null,null,null,null,{"$error":"#DIV/0!"},null,{"$error":"#DIV/0!"},null,null,{"$error":"#DIV/0!"}]
[null,19,{"$f":"'DATOS DEL ESTUDIANTE'!B22","v":0},{"$f":"'DATOS DEL ESTUDIANTE'!C22","v":0},{"$f":"'DATOS DEL ESTUDIANTE'!D22","v":0},null,null,null,null,null,null,null,{"$error":"#DIV/0!"},null,null,null,null,null,null,{"$error":"#DIV/0!"},null,{"$error":"#DIV/0!"},null,null,{"$error":"#DIV/0!"}]
[null,20,{"$f":"'DATOS DEL ESTUDIANTE'!B23","v":0},{"$f":"'DATOS DEL ESTUDIANTE'!C23","v":0},{"$f":"'DATOS DEL ESTUDIANTE'!D23","v":0},null,null,null,null,null,null,null,{"$error":"#DIV/0!"},null,null,null,null,null,null,{"$error":"#DIV/0!"},null,{"$error":"#DIV/0!"},null,null,{"$error":"#DIV/0!"}]
[null,21,{"$f":"'DATOS DEL ESTUDIANTE'!B24","v":0},{"$f":"'DATOS DEL ESTUDIANTE'!C24","v":0},{"$f":"'DATOS DEL ESTUDIANTE'!D24","v":0},null,null,null,null,null,null,null,{"$error":"#DIV/0!"},null,null,null,null,null,null,{"$error":"#DIV/0!"},null,{"$error":"#DIV/0!"},null,null,{"$error":"#DIV/0!"}]
[null,22,{"$f":"'DATOS DEL ESTUDIANTE'!B25","v":0},{"$f":"'DATOS DEL ESTUDIANTE'!C25","v":0},{"$f":"'DATOS DEL ESTUDIANTE'!D25","v":0},null,null,null,null,null,null,null,{"$error":"#DIV/0!"},null,null,null,null,null,null,{"$error":"#DIV/0!"},null,{"$error":"#DIV/0!"},null,null,{"$error":"#DIV/0!"}]
[null,23,{"$f":"'DATOS DEL ESTUDIANTE'!B26","v":0},{"$f":"'DATOS DEL ESTUDIANTE'!C26","v":0},{"$f":"'DATOS DEL ESTUDIANTE'!D26","v":0},null,null,null,null,null,null,null,{"$error":"#DIV/0!"},null,null,null,null,null,null,{"$error":"#DIV/0!"},null,{"$error":"#DIV/0!"},null,null,{"$error":"#DIV/0!"}]
[null,24,{"$f":"'DATOS DEL ESTUDIANTE'!B27","v":0},{"$f":"'DATOS DEL ESTUDIANTE'!C27","v":0},{"$f":"'DATOS DEL ESTUDIANTE'!D27","v":0},null,null,null,null,null,null,null,{"$error":"#DIV/0!"},null,null,null,null,null,null,{"$error":"#DIV/0!"},null,{"$error":"#DIV/0!"},null,null,{"$error":"#DIV/0!"}]
[null,25,{"$f":"'DATOS DEL ESTUDIANTE'!B28","v":0},{"$f":"'DATOS DEL ESTUDIANTE'!C28","v":0},{"$f":"'DATOS DEL ESTUDIANTE'!D28","v":0},null,null,null,null,null,null,null,{"$error":"#DIV/0!"},null,null,null,null,null,null,{"$error":"#DIV/0!"},null,{"$error":"#DIV/0!"},null,null,{"$error":"#DIV/0!"}]
[null,26,{"$f":"'DATOS DEL ESTUDIANTE'!B29","v":0},{"$f":"'DATOS DEL ESTUDIANTE'!C29","v":0},{"$f":"'DATOS DEL ESTUDIANTE'!D29","v":0},null,null,null,null,null,null,null,{"$error":"#DIV/0!"},null,null,null,null,null,null,{"$error":"#DIV/0!"},null,{"$error":"#DIV/0!"},null,null,{"$error":"#DIV/0!"}]
[null,27,{"$f":"'DATOS DEL ESTUDIANTE'!B30","v":0},{"$f":"'DATOS DEL ESTUDIANTE'!C30","v":0},{"$f":"'DATOS DEL ESTUDIANTE'!D30","v":0},null,null,null,null,null,null,null,{"$error":"#DIV/0!"},null,null,null,null,null,null,{"$error":"#DIV/0!"},null,{"$error":"#DIV/0!"},null,null,{"$error":"#DIV/0!"}]
[null,28,{"$f":"'DATOS DEL ESTUDIANTE'!B31","v":0},{"$f":"'DATOS DEL ESTUDIANTE'!C31","v":0},{"$f":"'DATOS DEL ESTUDIANTE'!D31","v":0},null,null,null,null,null,null,null,{"$error":"#DIV/0!"},null,null,null,null,null,null,{"$error":"#DIV/0!"},null,{"$error":"#DIV/0!"},null,null,{"$error":"#DIV/0!"}]
[null,29,{"$f":"'DATOS DEL ESTUDIANTE'!B32","v":0},{"$f":"'DATOS DEL ESTUDIANTE'!C32","v":0},{"$f":"'DATOS DEL ESTUDIANTE'!D32","v":0},null,null,null,null,null,null,null,{"$error":"#DIV/0!"},null,null,null,null,null,null,{"$error":"#DIV/0!"},null,{"$error":"#DIV/0!"},null,null,{"$error":"#DIV/0!"}]
[null,30,{"$f":"'DATOS DEL ESTUDIANTE'!B33","v":0},{"$f":"'DATOS DEL ESTUDIANTE'!C33","v":0},{"$f":"'DATOS DEL ESTUDIANTE'!D33","v":0},null,null,null,null,null,null,null,{"$error":"#DIV/0!"},null,null,null,null,null,null,{"$error":"#DIV/0!"},null,{"$error":"#DIV/0!"},null,null,{"$error":"#DIV/0!"}]
[null,31,{"$f":"'DATOS DEL ESTUDIANTE'!B34","v":0},{"$f":"'DATOS DEL ESTUDIANTE'!C34","v":0},{"$f":"'DATOS DEL ESTUDIANTE'!D34","v":0},null,null,null,null,null,null,null,{"$error":"#DIV/0!"},null,null,null,null,null,null,{"$error":"#DIV/0!"},null,{"$error":"#DIV/0!"},null,null,{"$error":"#DIV/0!"}]
[null,32,{"$f":"'DATOS DEL ESTUDIANTE'!B35","v":0},{"$f":"'DATOS DEL ESTUDIANTE'!C35","v":0},{"$f":"'DATOS DEL ESTUDIANTE'!D35","v":0},null,null,null,null,null,null,null,{"$error":"#DIV/0!"},null,null,null,null,null,null,{"$error":"#DIV/0!"},null,{"$error":"#DIV/0!"},null,null,{"$error":"#DIV/0!"}]
[null,33,{"$f":"'DATOS DEL ESTUDIANTE'!B36","v":0},{"$f":"'DATOS DEL ESTUDIANTE'!C36","v":0},{"$f":"'DATOS DEL ESTUDIANTE'!D36","v":0},null,null,null,null,null,null,null,{"$error":"#DIV/0!"},null,null,null,null,null,null,{"$error":"#DIV/0!"},null,{"$error":"#DIV/0!"},null,null,{"$error":"#DIV/0!"}]
[null,34,{"$f":"'DATOS DEL ESTUDIANTE'!B37","v":0},{"$f":"'DATOS DEL ESTUDIANTE'!C37","v":0},{"$f":"'DATOS DEL ESTUDIANTE'!D37","v":0},null,null,null,null,null,null,null,{"$error":"#DIV/0!"},null,null,null,null,null,null,{"$error":"#DIV/0!"},null,{"$error":"#DIV/0!"},null,null,{"$error":"#DIV/0!"}]
[null,35,{"$f":"'DATOS DEL ESTUDIANTE'!B38","v":0},{"$f":"'DATOS DEL ESTUDIANTE'!C38","v":0},{"$f":"'DATOS DEL ESTUDIANTE'!D38","v":0},null,null,null,null,null,null,null,{"$error":"#DIV/0!"},null,null,null,null,null,null,{"$error":"#DIV/0!"},null,{"$error":"#DIV/0!"},null,null,{"$error":"#DIV/0!"}]
[null,36,{"$f":"'DATOS DEL ESTUDIANTE'!B39","v":0},{"$f":"'DATOS DEL ESTUDIANTE'!C39","v":0},{"$f":"'DATOS DEL ESTUDIANTE'!D39","v":0},null,null,null,null,null,null,null,{"$error":"#DIV/0!"},null,null,null,null,null,null,{"$error":"#DIV/0!"},null,{"$error":"#DIV/0!"},null,null,{"$error":"#DIV/0!"}]
[null,37,{"$f":"'DATOS DEL ESTUDIANTE'!B40","v":0},{"$f":"'DATOS DEL ESTUDIANTE'!C40","v":0},{"$f":"'DATOS DEL ESTUDIANTE'!D40","v":0},null,null,null,null,null,null,null,{"$error":"#DIV/0!"},null,null,null,null,null,null,{"$error":"#DIV/0!"},null,{"$error":"#DIV/0!"},null,null,{"$error":"#DIV/0!"}]
[null,38,{"$f":"'DATOS DEL ESTUDIANTE'!B41","v":0},{"$f":"'DATOS DEL ESTUDIANTE'!C41","v":0},{"$f":"'DATOS DEL ESTUDIANTE'!D41","v":0},null,null,null,null,null,null,null,{"$error":"#DIV/0!"},null,null,null,null,null,null,{"$error":"#DIV/0!"},null,{"$error":"#DIV/0!"},null,null,{"$error":"#DIV/0!"}]
[null,39,{"$f":"'DATOS DEL ESTUDIANTE'!B42","v":0},{"$f":"'DATOS DEL ESTUDIANTE'!C42","v":0},{"$f":"'DATOS DEL ESTUDIANTE'!D42","v":0},null,null,null,null,null,null,null,{"$error":"#DIV/0!"},null,null,null,null,null,null,{"$error":"#DIV/0!"},null,{"$error":"#DIV/0!"},null,null,{"$error":"#DIV/0!"}]
[null,40,{"$f":"'DATOS DEL ESTUDIANTE'!B43","v":0},{"$f":"'DATOS DEL ESTUDIANTE'!C43","v":0},{"$f":"'DATOS DEL ESTUDIANTE'!D43","v":0},null,null,null,null,null,null,null,{"$error":"#DIV/0!"},null,null,null,null,null,null,{"$error":"#DIV/0!"},null,{"$error":"#DIV/0!"},null,null,{"$error":"#DIV/0!"}]
[null,41,{"$f":"'DATOS DEL ESTUDIANTE'!B44","v":0},{"$f":"'DATOS DEL ESTUDIANTE'!C44","v":0},{"$f":"'DATOS DEL ESTUDIANTE'!D44","v":0},null,null,null,null,null,null,null,{"$error":"#DIV/0!"},null,null,null,null,null,null,{"$error":"#DIV/0!"},null,{"$error":"#DIV/0!"},null,null,{"$error":"#DIV/0!"}]
[null,42,{"$f":"'DATOS DEL ESTUDIANTE'!B45","v":0},{"$f":"'DATOS DEL ESTUDIANTE'!C45","v":0},{"$f":"'DATOS DEL ESTUDIANTE'!D45","v":0},null,null,null,null,null,null,null,{"$error":"#DIV/0!"},null,null,null,null,null,null,{"$error":"#DIV/0!"},null,{"$error":"#DIV/0!"},null,null,{"$error":"#DIV/0!"}]
[null,43,{"$f":"'DATOS DEL ESTUDIANTE'!B46","v":0},{"$f":"'DATOS DEL ESTUDIANTE'!C46","v":0},{"$f":"'DATOS DEL ESTUDIANTE'!D46","v":0},null,null,null,null,null,null,null,{"$error":"#DIV/0!"},null,null,null,null,null,null,{"$error":"#DIV/0!"},null,{"$error":"#DIV/0!"},null,null,{"$error":"#DIV/0!"}]
[null,44,{"$f":"'DATOS DEL ESTUDIANTE'!B47","v":0},{"$f":"'DATOS DEL ESTUDIANTE'!C47","v":0},{"$f":"'DATOS DEL ESTUDIANTE'!D47","v":0},null,null,null,null,null,null,null,{"$error":"#DIV/0!"},null,null,null,null,null,null,{"$error":"#DIV/0!"},null,{"$error":"#DIV/0!"},null,null,{"$error":"#DIV/0!"}]
[null,45,{"$f":"'DATOS DEL ESTUDIANTE'!B48","v":0},{"$f":"'DATOS DEL ESTUDIANTE'!C48","v":0},{"$f":"'DATOS DEL ESTUDIANTE'!D48","v":0},null,null,null,null,null,null,null,{"$error":"#DIV/0!"},null,null,null,null,null,null,{"$error":"#DIV/0!"},null,{"$error":"#DIV/0!"},null,null,{"$error":"#DIV/0!"}]

{"sheet":"CIENCIAS NATURALES 1","index":32,"n_rows":55,"n_cols":25,"rows_kept":55,"cut":false,"hidden":false,"merged":[[0,25,3,25],[3,13,3,19],[1,4,1,9],[8,16,9,16],[8,17,9,17],[8,18,9,18],[8,15,9,15],[4,19,9,19],[8,2,8,4],[3,6,3,12],[8,8,9,8],[8,9,9,9],[8,10,9,10],[8,11,9,11],[4,8,6,9],[4,13,6,14],[3,21,9,21],[3,22,8,23],[3,24,9,24],[4,15,6,16],[4,17,6,18],[4,20,6,20],[0,21,2,24],[1,10,1,12],[1,13,1,19],[1,20,2,20],[2,1,2,19],[1,1,1,3],[8,1,9,1],[8,20,9,20],[8,7,9,7],[4,10,6,11],[0,0,9,0],[0,1,0,19],[3,1,3,4],[8,5,9,5],[8,6,9,6],[8,13,9,13],[8,14,9,14],[4,12,9,12],[7,1,7,4],[4,1,6,4],[4,5,6,5],[4,6,6,7]]}
[null," CIENCIAS  NATURALES",null,null,null,null,null,null,null,null,null,null,null,null,null,null,null,null,null,null,2018]
[null,"AÑO DE ESCOLARIDAD:",null,null,{"$f":"CARATULA!G15","v":0},null,null,null,null,null,"MAESTRA (O): ",null,null,{"$f":"CARATULA!G18","v":0},null,null,null,null,null,null,"PRIMER\nBIMESTRE"]
[null," REGISTRO  Y CENTRALIZADOR DEL PROCESO DE  EVALUACIÓN   "]
[null,"DIMENSIONES",null,null,null,"SER (10)","SABER (35)",null,null,null,null,null,null,"HACER (35)",null,null,null,null,null,null,"DECIDIR (10)","TOTAL     EVALUACIÓN    DEL     MAESTRO","AUTOEVALUACIÓN",null,"CALIFICACIÓN BIMESTRAL"]
[null,"CRITERIOS DE EVALUACIÓN SEGÚN PDC",null,null,null,null,null,null,null,null,null,null,"T      O     T     A       L",null,null,null,null,null,null,"T      O     T     A       L"]
[]
[]
[null,"INSTRUMENTO Y/ O ESTRATEGIAS DE EVALUACIÓN"]
[null,"N°","    FECHA DE  EVALUACIÓN\n \n\n"]
[null,null,"NOMBRES ","APELLIDO PATERNO"," \nAPELLIDO MATERNO",null,null,null,null,null,null,null,null,null,null,null,null,null,null,null,null,null,"SER\n(5)","DECIDIR\n(5)"]
[null,1,{"$f":"'DATOS DEL ESTUDIANTE'!B4","v":0},{"$f":"'DATOS DEL ESTUDIANTE'!C4","v":0},{"$f":"'DATOS DEL ESTUDIANTE'!D4","v":0},null,null,null,null,null,null,null,{"$f":"AVERAGE(G11:L11)","v":{"$error":"#DIV/0!"}},null,null,null,null,null,null,{"$f":"AVERAGE(N11:S11)","v":{"$error":"#DIV/0!"}},null,{"$f":"SUM(F11+M11+T11+U11)","v":{"$error":"#DIV/0!"}},null,null,{"$f":"SUM(V11:X11)","v":{"$error":"#DIV/0!"}}]
[null,2,{"$f":"'DATOS DEL ESTUDIANTE'!B5","v":0},{"$f":"'DATOS DEL ESTUDIANTE'!C5","v":0},{"$f":"'DATOS DEL ESTUDIANTE'!D5","v":0},null,null,null,null,null,null,null,{"$f":"AVERAGE(G12:L12)","v":{"$error":"#DIV/0!"}},null,null,null,null,null,null,{"$f":"AVERAGE(N12:S12)","v":{"$error":"#DIV/0!"}},null,{"$f":"SUM(F12+M12+T12+U12)","v":{"$error":"#DIV/0!"}},null,null,{"$f":"SUM(V12:X12)","v":{"$error":"#DIV/0!"}}]
[null,3,{"$f":"'DATOS DEL ESTUDIANTE'!B6","v":0},{"$f":"'DATOS DEL ESTUDIANTE'!C6","v":0},{"$f":"'DATOS DEL ESTUDIANTE'!D6","v":0},null,null,null,null,null,null,null,{"$error":"#DIV/0!"},null,null,null,null,null,null,{"$error":"#DIV/0!"},null,{"$error":"#DIV/0!"},null,null,{"$error":"#DIV/0!"}]
[null,4,{"$f":"'DATOS DEL ESTUDIANTE'!B7","v":0},{"$f":"'DATOS DEL ESTUDIANTE'!C7","v":0},{"$f":"'DATOS DEL ESTUDIANTE'!D7","v":0},null,null,null,null,null,null,null,{"$error":"#DIV/0!"},null,null,null,null,null,null,{"$error":"#DIV/0!"},null,{"$error":"#DIV/0!"},null,null,{"$error":"#DIV/0!"}]
[null,5,{"$f":"'DATOS DEL ESTUDIANTE'!B8","v":0},{"$f":"'DATOS DEL ESTUDIANTE'!C8","v":0},{"$f":"'DATOS DEL ESTUDIANTE'!D8","v":0},null,null,null,null,null,null,null,{"$error":"#DIV/0!"},null,null,null,null,null,null,{"$error":"#DIV/0!"},null,{"$error":"#DIV/0!"},null,null,{"$error":"#DIV/0!"}]
[null,6,{"$f":"'DATOS DEL ESTUDIANTE'!B9","v":0},{"$f":"'DATOS DEL ESTUDIANTE'!C9","v":0},{"$f":"'DATOS DEL ESTUDIANTE'!D9","v":0},null,null,null,null,null,null,null,{"$error":"#DIV/0!"},null,null,null,null,null,null,{"$error":"#DIV/0!"},null,{"$error":"#DIV/0!"},null,null,{"$error":"#DIV/0!"}]
[null,7,{"$f":"'DATOS DEL ESTUDIANTE'!B10","v":0},{"$f":"'DATOS DEL ESTUDIANTE'!C10","v":0},{"$f":"'DATOS DEL ESTUDIANTE'!D10","v":0},null,null,null,null,null,null,null,{"$error":"#DIV/0!"},null,null,null,null,null,null,{"$error":"#DIV/0!"},null,{"$error":"#DIV/0!"},null,null,{"$error":"#DIV/0!"}]
[null,8,{"$f":"'DATOS DEL ESTUDIANTE'!B11","v":0},{"$f":"'DATOS DEL ESTUDIANTE'!C11","v":0},{"$f":"'DATOS DEL ESTUDIANTE'!D11","v":0},null,null,null,null,null,null,null,{"$error":"#DIV/0!"},null,null,null,null,null,null,{"$error":"#DIV/0!"},null,{"$error":"#DIV/0!"},null,null,{"$error":"#DIV/0!"}]
[null,9,{"$f":"'DATOS DEL ESTUDIANTE'!B12","v":0},{"$f":"'DATOS DEL ESTUDIANTE'!C12","v":0},{"$f":"'DATOS DEL ESTUDIANTE'!D12","v":0},null,null,null,null,null,null,null,{"$error":"#DIV/0!"},null,null,null,null,null,null,{"$error":"#DIV/0!"},null,{"$error":"#DIV/0!"},null,null,{"$error":"#DIV/0!"}]
[null,10,{"$f":"'DATOS DEL ESTUDIANTE'!B13","v":0},{"$f":"'DATOS DEL ESTUDIANTE'!C13","v":0},{"$f":"'DATOS DEL ESTUDIANTE'!D13","v":0},null,null,null,null,null,null,null,{"$error":"#DIV/0!"},null,null,null,null,null,null,{"$error":"#DIV/0!"},null,{"$error":"#DIV/0!"},null,null,{"$error":"#DIV/0!"}]
[null,11,{"$f":"'DATOS DEL ESTUDIANTE'!B14","v":0},{"$f":"'DATOS DEL ESTUDIANTE'!C14","v":0},{"$f":"'DATOS DEL ESTUDIANTE'!D14","v":0},null,null,null,null,null,null,null,{"$error":"#DIV/0!"},null,null,null,null,null,null,{"$error":"#DIV/0!"},null,{"$error":"#DIV/0!"},null,null,{"$error":"#DIV/0!"}]
[null,12,{"$f":"'DATOS DEL ESTUDIANTE'!B15","v":0},{"$f":"'DATOS DEL ESTUDIANTE'!C15","v":0},{"$f":"'DATOS DEL ESTUDIANTE'!D15","v":0},null,null,null,null,null,null,null,{"$error":"#DIV/0!"},null,null,null,null,null,null,{"$error":"#DIV/0!"},null,{"$error":"#DIV/0!"},null,null,{"$error":"#DIV/0!"}]
[null,13,{"$f":"'DATOS DEL ESTUDIANTE'!B16","v":0},{"$f":"'DATOS DEL ESTUDIANTE'!C16","v":0},{"$f":"'DATOS DEL ESTUDIANTE'!D16","v":0},null,null,null,null,null,null,null,{"$error":"#DIV/0!"},null,null,null,null,null,null,{"$error":"#DIV/0!"},null,{"$error":"#DIV/0!"},null,null,{"$error":"#DIV/0!"}]
[null,14,{"$f":"'DATOS DEL ESTUDIANTE'!B17","v":0},{"$f":"'DATOS DEL ESTUDIANTE'!C17","v":0},{"$f":"'DATOS DEL ESTUDIANTE'!D17","v":0},null,null,null,null,null,null,null,{"$error":"#DIV/0!"},null,null,null,null,null,null,{"$error":"#DIV/0!"},null,{"$error":"#DIV/0!"},null,null,{"$error":"#DIV/0!"}]
[null,15,{"$f":"'DATOS DEL ESTUDIANTE'!B18","v":0},{"$f":"'DATOS DEL ESTUDIANTE'!C18","v":0},{"$f":"'DATOS DEL ESTUDIANTE'!D18","v":0},null,null,null,null,null,null,null,{"$error":"#DIV/0!"},null,null,null,null,null,null,{"$error":"#DIV/0!"},null,{"$error":"#DIV/0!"},null,null,{"$error":"#DIV/0!"}]
[null,16,{"$f":"'DATOS DEL ESTUDIANTE'!B19","v":0},{"$f":"'DATOS DEL ESTUDIANTE'!C19","v":0},{"$f":"'DATOS DEL ESTUDIANTE'!D19","v":0},null,null,null,null,null,null,null,{"$error":"#DIV/0!"},null,null,null,null,null,null,{"$error":"#DIV/0!"},null,{"$error":"#DIV/0!"},null,null,{"$error":"#DIV/0!"}]
[null,17,{"$f":"'DATOS DEL ESTUDIANTE'!B20","v":0},{"$f":"'DATOS DEL ESTUDIANTE'!C20","v":0},{"$f":"'DATOS DEL ESTUDIANTE'!D20","v":0},null,null,null,null,null,null,null,{"$error":"#DIV/0!"},null,null,null,null,null,null,{"$error":"#DIV/0!"},null,{"$error":"#DIV/0!"},null,null,{"$error":"#DIV/0!"}]
[null,18,{"$f":"'DATOS DEL ESTUDIANTE'!B21","v":0},{"$f":"'DATOS DEL ESTUDIANTE'!C21","v":0},{"$f":"'DATOS DEL ESTUDIANTE'!D21","v":0},null,null,null,null,null,null,null,{"$error":"#DIV/0!"},null,null,null,null,null,null,{"$error":"#DIV/0!"},null,{"$error":"#DIV/0!"},null,null,{"$error":"#DIV/0!"}]
[null,19,{"$f":"'DATOS DEL ESTUDIANTE'!B22","v":0},{"$f":"'DATOS DEL ESTUDIANTE'!C22","v":0},{"$f":"'DATOS DEL ESTUDIANTE'!D22","v":0},null,null,null,null,null,null,null,{"$error":"#DIV/0!"},null,null,null,null,null,null,{"$error":"#DIV/0!"},null,{"$error":"#DIV/0!"},null,null,{"$error":"#DIV/0!"}]
[null,20,{"$f":"'DATOS DEL ESTUDIANTE'!B23","v":0},{"$f":"'DATOS DEL ESTUDIANTE'!C23","v":0},{"$f":"'DATOS DEL ESTUDIANTE'!D23","v":0},null,null,null,null,null,null,null,{"$error":"#DIV/0!"},null,null,null,null,null,null,{"$error":"#DIV/0!"},null,{"$error":"#DIV/0!"},null,null,{"$error":"#DIV/0!"}]
[null,21,{"$f":"'DATOS DEL ESTUDIANTE'!B24","v":0},{"$f":"'DATOS DEL ESTUDIANTE'!C24","v":0},{"$f":"'DATOS DEL ESTUDIANTE'!D24","v":0},null,null,null,null,null,null,null,{"$error":"#DIV/0!"},null,null,null,null,null,null,{"$error":"#DIV/0!"},null,{"$error":"#DIV/0!"},null,null,{"$error":"#DIV/0!"}]
[null,22,{"$f":"'DATOS DEL ESTUDIANTE'!B25","v":0},{"$f":"'DATOS DEL ESTUDIANTE'!C25","v":0},{"$f":"'DATOS DEL ESTUDIANTE'!D25","v":0},null,null,null,null,null,null,null,{"$error":"#DIV/0!"},null,null,null,null,null,null,{"$error":"#DIV/0!"},null,{"$error":"#DIV/0!"},null,null,{"$error":"#DIV/0!"}]
[null,23,{"$f":"'DATOS DEL ESTUDIANTE'!B26","v":0},{"$f":"'DATOS DEL ESTUDIANTE'!C26","v":0},{"$f":"'DATOS DEL ESTUDIANTE'!D26","v":0},null,null,null,null,null,null,null,{"$error":"#DIV/0!"},null,null,null,null,null,null,{"$error":"#DIV/0!"},null,{"$error":"#DIV/0!"},null,null,{"$error":"#DIV/0!"}]
[null,24,{"$f":"'DATOS DEL ESTUDIANTE'!B27","v":0},{"$f":"'DATOS DEL ESTUDIANTE'!C27","v":0},{"$f":"'DATOS DEL ESTUDIANTE'!D27","v":0},null,null,null,null,null,null,null,{"$error":"#DIV/0!"},null,null,null,null,null,null,{"$error":"#DIV/0!"},null,{"$error":"#DIV/0!"},null,null,{"$error":"#DIV/0!"}]
[null,25,{"$f":"'DATOS DEL ESTUDIANTE'!B28","v":0},{"$f":"'DATOS DEL ESTUDIANTE'!C28","v":0},{"$f":"'DATOS DEL ESTUDIANTE'!D28","v":0},null,null,null,null,null,null,null,{"$error":"#DIV/0!"},null,null,null,null,null,null,{"$error":"#DIV/0!"},null,{"$error":"#DIV/0!"},null,null,{"$error":"#DIV/0!"}]
[null,26,{"$f":"'DATOS DEL ESTUDIANTE'!B29","v":0},{"$f":"'DATOS DEL ESTUDIANTE'!C29","v":0},{"$f":"'DATOS DEL ESTUDIANTE'!D29","v":0},null,null,null,null,null,null,null,{"$error":"#DIV/0!"},null,null,null,null,null,null,{"$error":"#DIV/0!"},null,{"$error":"#DIV/0!"},null,null,{"$error":"#DIV/0!"}]
[null,27,{"$f":"'DATOS DEL ESTUDIANTE'!B30","v":0},{"$f":"'DATOS DEL ESTUDIANTE'!C30","v":0},{"$f":"'DATOS DEL ESTUDIANTE'!D30","v":0},null,null,null,null,null,null,null,{"$error":"#DIV/0!"},null,null,null,null,null,null,{"$error":"#DIV/0!"},null,{"$error":"#DIV/0!"},null,null,{"$error":"#DIV/0!"}]
[null,28,{"$f":"'DATOS DEL ESTUDIANTE'!B31","v":0},{"$f":"'DATOS DEL ESTUDIANTE'!C31","v":0},{"$f":"'DATOS DEL ESTUDIANTE'!D31","v":0},null,null,null,null,null,null,null,{"$error":"#DIV/0!"},null,null,null,null,null,null,{"$error":"#DIV/0!"},null,{"$error":"#DIV/0!"},null,null,{"$error":"#DIV/0!"}]
[null,29,{"$f":"'DATOS DEL ESTUDIANTE'!B32","v":0},{"$f":"'DATOS DEL ESTUDIANTE'!C32","v":0},{"$f":"'DATOS DEL ESTUDIANTE'!D32","v":0},null,null,null,null,null,null,null,{"$error":"#DIV/0!"},null,null,null,null,null,null,{"$error":"#DIV/0!"},null,{"$error":"#DIV/0!"},null,null,{"$error":"#DIV/0!"}]
[null,30,{"$f":"'DATOS DEL ESTUDIANTE'!B33","v":0},{"$f":"'DATOS DEL ESTUDIANTE'!C33","v":0},{"$f":"'DATOS DEL ESTUDIANTE'!D33","v":0},null,null,null,null,null,null,null,{"$error":"#DIV/0!"},null,null,null,null,null,null,{"$error":"#DIV/0!"},null,{"$error":"#DIV/0!"},null,null,{"$error":"#DIV/0!"}]
[null,31,{"$f":"'DATOS DEL ESTUDIANTE'!B34","v":0},{"$f":"'DATOS DEL ESTUDIANTE'!C34","v":0},{"$f":"'DATOS DEL ESTUDIANTE'!D34","v":0},null,null,null,null,null,null,null,{"$error":"#DIV/0!"},null,null,null,null,null,null,{"$error":"#DIV/0!"},null,{"$error":"#DIV/0!"},null,null,{"$error":"#DIV/0!"}]
[null,32,{"$f":"'DATOS DEL ESTUDIANTE'!B35","v":0},{"$f":"'DATOS DEL ESTUDIANTE'!C35","v":0},{"$f":"'DATOS DEL ESTUDIANTE'!D35","v":0},null,null,null,null,null,null,null,{"$error":"#DIV/0!"},null,null,null,null,null,null,{"$error":"#DIV/0!"},null,{"$error":"#DIV/0!"},null,null,{"$error":"#DIV/0!"}]
[null,33,{"$f":"'DATOS DEL ESTUDIANTE'!B36","v":0},{"$f":"'DATOS DEL ESTUDIANTE'!C36","v":0},{"$f":"'DATOS DEL ESTUDIANTE'!D36","v":0},null,null,null,null,null,null,null,{"$error":"#DIV/0!"},null,null,null,null,null,null,{"$error":"#DIV/0!"},null,{"$error":"#DIV/0!"},null,null,{"$error":"#DIV/0!"}]
[null,34,{"$f":"'DATOS DEL ESTUDIANTE'!B37","v":0},{"$f":"'DATOS DEL ESTUDIANTE'!C37","v":0},{"$f":"'DATOS DEL ESTUDIANTE'!D37","v":0},null,null,null,null,null,null,null,{"$error":"#DIV/0!"},null,null,null,null,null,null,{"$error":"#DIV/0!"},null,{"$error":"#DIV/0!"},null,null,{"$error":"#DIV/0!"}]
[null,35,{"$f":"'DATOS DEL ESTUDIANTE'!B38","v":0},{"$f":"'DATOS DEL ESTUDIANTE'!C38","v":0},{"$f":"'DATOS DEL ESTUDIANTE'!D38","v":0},null,null,null,null,null,null,null,{"$error":"#DIV/0!"},null,null,null,null,null,null,{"$error":"#DIV/0!"},null,{"$error":"#DIV/0!"},null,null,{"$error":"#DIV/0!"}]
[null,36,{"$f":"'DATOS DEL ESTUDIANTE'!B39","v":0},{"$f":"'DATOS DEL ESTUDIANTE'!C39","v":0},{"$f":"'DATOS DEL ESTUDIANTE'!D39","v":0},null,null,null,null,null,null,null,{"$error":"#DIV/0!"},null,null,null,null,null,null,{"$error":"#DIV/0!"},null,{"$error":"#DIV/0!"},null,null,{"$error":"#DIV/0!"}]
[null,37,{"$f":"'DATOS DEL ESTUDIANTE'!B40","v":0},{"$f":"'DATOS DEL ESTUDIANTE'!C40","v":0},{"$f":"'DATOS DEL ESTUDIANTE'!D40","v":0},null,null,null,null,null,null,null,{"$error":"#DIV/0!"},null,null,null,null,null,null,{"$error":"#DIV/0!"},null,{"$error":"#DIV/0!"},null,null,{"$error":"#DIV/0!"}]
[null,38,{"$f":"'DATOS DEL ESTUDIANTE'!B41","v":0},{"$f":"'DATOS DEL ESTUDIANTE'!C41","v":0},{"$f":"'DATOS DEL ESTUDIANTE'!D41","v":0},null,null,null,null,null,null,null,{"$error":"#DIV/0!"},null,null,null,null,null,null,{"$error":"#DIV/0!"},null,{"$error":"#DIV/0!"},null,null,{"$error":"#DIV/0!"}]
[null,39,{"$f":"'DATOS DEL ESTUDIANTE'!B42","v":0},{"$f":"'DATOS DEL ESTUDIANTE'!C42","v":0},{"$f":"'DATOS DEL ESTUDIANTE'!D42","v":0},null,null,null,null,null,null,null,{"$error":"#DIV/0!"},null,null,null,null,null,null,{"$error":"#DIV/0!"},null,{"$error":"#DIV/0!"},null,null,{"$error":"#DIV/0!"}]
[null,40,{"$f":"'DATOS DEL ESTUDIANTE'!B43","v":0},{"$f":"'DATOS DEL ESTUDIANTE'!C43","v":0},{"$f":"'DATOS DEL ESTUDIANTE'!D43","v":0},null,null,null,null,null,null,null,{"$error":"#DIV/0!"},null,null,null,null,null,null,{"$error":"#DIV/0!"},null,{"$error":"#DIV/0!"},null,null,{"$error":"#DIV/0!"}]
[null,41,{"$f":"'DATOS DEL ESTUDIANTE'!B44","v":0},{"$f":"'DATOS DEL ESTUDIANTE'!C44","v":0},{"$f":"'DATOS DEL ESTUDIANTE'!D44","v":0},null,null,null,null,null,null,null,{"$error":"#DIV/0!"},null,null,null,null,null,null,{"$error":"#DIV/0!"},null,{"$error":"#DIV/0!"},null,null,{"$error":"#DIV/0!"}]
[null,42,{"$f":"'DATOS DEL ESTUDIANTE'!B45","v":0},{"$f":"'DATOS DEL ESTUDIANTE'!C45","v":0},{"$f":"'DATOS DEL ESTUDIANTE'!D45","v":0},null,null,null,null,null,null,null,{"$error":"#DIV/0!"},null,null,null,null,null,null,{"$error":"#DIV/0!"},null,{"$error":"#DIV/0!"},null,null,{"$error":"#DIV/0!"}]
[null,43,{"$f":"'DATOS DEL ESTUDIANTE'!B46","v":0},{"$f":"'DATOS DEL ESTUDIANTE'!C46","v":0},{"$f":"'DATOS DEL ESTUDIANTE'!D46","v":0},null,null,null,null,null,null,null,{"$error":"#DIV/0!"},null,null,null,null,null,null,{"$error":"#DIV/0!"},null,{"$error":"#DIV/0!"},null,null,{"$error":"#DIV/0!"}]
[null,44,{"$f":"'DATOS DEL ESTUDIANTE'!B47","v":0},{"$f":"'DATOS DEL ESTUDIANTE'!C47","v":0},{"$f":"'DATOS DEL ESTUDIANTE'!D47","v":0},null,null,null,null,null,null,null,{"$error":"#DIV/0!"},null,null,null,null,null,null,{"$error":"#DIV/0!"},null,{"$error":"#DIV/0!"},null,null,{"$error":"#DIV/0!"}]
[null,45,{"$f":"'DATOS DEL ESTUDIANTE'!B48","v":0},{"$f":"'DATOS DEL ESTUDIANTE'!C48","v":0},{"$f":"'DATOS DEL ESTUDIANTE'!D48","v":0},null,null,null,null,null,null,null,{"$error":"#DIV/0!"},null,null,null,null,null,null,{"$error":"#DIV/0!"},null,{"$error":"#DIV/0!"},null,null,{"$error":"#DIV/0!"}]

{"sheet":"CIENCIAS NATURALES 2","index":33,"n_rows":55,"n_cols":25,"rows_kept":55,"cut":false,"hidden":false,"merged":[[0,25,3,25],[3,13,3,19],[1,4,1,9],[8,16,9,16],[8,17,9,17],[8,18,9,18],[8,15,9,15],[4,19,9,19],[8,2,8,4],[3,6,3,12],[8,8,9,8],[8,9,9,9],[8,10,9,10],[8,11,9,11],[4,8,6,9],[4,13,6,14],[3,21,9,21],[3,22,8,23],[3,24,9,24],[4,15,6,16],[4,17,6,18],[4,20,6,20],[0,21,2,24],[1,10,1,12],[1,13,1,19],[1,20,2,20],[2,1,2,19],[1,1,1,3],[8,1,9,1],[8,20,9,20],[8,7,9,7],[4,10,6,11],[0,0,9,0],[0,1,0,19],[3,1,3,4],[8,5,9,5],[8,6,9,6],[8,13,9,13],[8,14,9,14],[4,12,9,12],[7,1,7,4],[4,1,6,4],[4,5,6,5],[4,6,6,7]]}
[null,"  CIENCIAS NATURALES",null,null,null,null,null,null,null,null,null,null,null,null,null,null,null,null,null,null,2018]
[null,"AÑO DE ESCOLARIDAD:",null,null,{"$f":"CARATULA!G15","v":0},null,null,null,null,null,"MAESTRA (O): ",null,null,{"$f":"CARATULA!G18","v":0},null,null,null,null,null,null,"SEGUNDO\nBIMESTRE"]
[null," REGISTRO  Y CENTRALIZADOR DEL PROCESO DE  EVALUACIÓN   "]
[null,"DIMENSIONES",null,null,null,"SER (10)","SABER (35)",null,null,null,null,null,null,"HACER (35)",null,null,null,null,null,null,"DECIDIR (10)","TOTAL     EVALUACIÓN    DEL     MAESTRO","AUTOEVALUACIÓN",null,"CALIFICACIÓN BIMESTRAL"]
[null,"CRITERIOS DE EVALUACIÓN SEGÚN PDC",null,null,null,null,null,null,null,null,null,null,"T      O     T     A       L",null,null,null,null,null,null,"T      O     T     A       L"]
[]
[]
[null,"INSTRUMENTO Y/ O ESTRATEGIAS DE EVALUACIÓN"]
[null,"N°","    FECHA DE  EVALUACIÓN\n \n\n"]
[null,null,"NOMBRES ","APELLIDO PATERNO"," \nAPELLIDO MATERNO",null,null,null,null,null,null,null,null,null,null,null,null,null,null,null,null,null,"SER\n(5)","DECIDIR\n(5)"]
[null,1,{"$f":"'DATOS DEL ESTUDIANTE'!B4","v":0},{"$f":"'DATOS DEL ESTUDIANTE'!C4","v":0},{"$f":"'DATOS DEL ESTUDIANTE'!D4","v":0},null,null,null,null,null,null,null,{"$f":"AVERAGE(G11:L11)","v":{"$error":"#DIV/0!"}},null,null,null,null,null,null,{"$f":"AVERAGE(N11:S11)","v":{"$error":"#DIV/0!"}},null,{"$f":"SUM(F11+M11+T11+U11)","v":{"$error":"#DIV/0!"}},null,null,{"$f":"SUM(V11:X11)","v":{"$error":"#DIV/0!"}}]
[null,2,{"$f":"'DATOS DEL ESTUDIANTE'!B5","v":0},{"$f":"'DATOS DEL ESTUDIANTE'!C5","v":0},{"$f":"'DATOS DEL ESTUDIANTE'!D5","v":0},null,null,null,null,null,null,null,{"$f":"AVERAGE(G12:L12)","v":{"$error":"#DIV/0!"}},null,null,null,null,null,null,{"$f":"AVERAGE(N12:S12)","v":{"$error":"#DIV/0!"}},null,{"$f":"SUM(F12+M12+T12+U12)","v":{"$error":"#DIV/0!"}},null,null,{"$f":"SUM(V12:X12)","v":{"$error":"#DIV/0!"}}]
[null,3,{"$f":"'DATOS DEL ESTUDIANTE'!B6","v":0},{"$f":"'DATOS DEL ESTUDIANTE'!C6","v":0},{"$f":"'DATOS DEL ESTUDIANTE'!D6","v":0},null,null,null,null,null,null,null,{"$error":"#DIV/0!"},null,null,null,null,null,null,{"$error":"#DIV/0!"},null,{"$error":"#DIV/0!"},null,null,{"$error":"#DIV/0!"}]
[null,4,{"$f":"'DATOS DEL ESTUDIANTE'!B7","v":0},{"$f":"'DATOS DEL ESTUDIANTE'!C7","v":0},{"$f":"'DATOS DEL ESTUDIANTE'!D7","v":0},null,null,null,null,null,null,null,{"$error":"#DIV/0!"},null,null,null,null,null,null,{"$error":"#DIV/0!"},null,{"$error":"#DIV/0!"},null,null,{"$error":"#DIV/0!"}]
[null,5,{"$f":"'DATOS DEL ESTUDIANTE'!B8","v":0},{"$f":"'DATOS DEL ESTUDIANTE'!C8","v":0},{"$f":"'DATOS DEL ESTUDIANTE'!D8","v":0},null,null,null,null,null,null,null,{"$error":"#DIV/0!"},null,null,null,null,null,null,{"$error":"#DIV/0!"},null,{"$error":"#DIV/0!"},null,null,{"$error":"#DIV/0!"}]
[null,6,{"$f":"'DATOS DEL ESTUDIANTE'!B9","v":0},{"$f":"'DATOS DEL ESTUDIANTE'!C9","v":0},{"$f":"'DATOS DEL ESTUDIANTE'!D9","v":0},null,null,null,null,null,null,null,{"$error":"#DIV/0!"},null,null,null,null,null,null,{"$error":"#DIV/0!"},null,{"$error":"#DIV/0!"},null,null,{"$error":"#DIV/0!"}]
[null,7,{"$f":"'DATOS DEL ESTUDIANTE'!B10","v":0},{"$f":"'DATOS DEL ESTUDIANTE'!C10","v":0},{"$f":"'DATOS DEL ESTUDIANTE'!D10","v":0},null,null,null,null,null,null,null,{"$error":"#DIV/0!"},null,null,null,null,null,null,{"$error":"#DIV/0!"},null,{"$error":"#DIV/0!"},null,null,{"$error":"#DIV/0!"}]
[null,8,{"$f":"'DATOS DEL ESTUDIANTE'!B11","v":0},{"$f":"'DATOS DEL ESTUDIANTE'!C11","v":0},{"$f":"'DATOS DEL ESTUDIANTE'!D11","v":0},null,null,null,null,null,null,null,{"$error":"#DIV/0!"},null,null,null,null,null,null,{"$error":"#DIV/0!"},null,{"$error":"#DIV/0!"},null,null,{"$error":"#DIV/0!"}]
[null,9,{"$f":"'DATOS DEL ESTUDIANTE'!B12","v":0},{"$f":"'DATOS DEL ESTUDIANTE'!C12","v":0},{"$f":"'DATOS DEL ESTUDIANTE'!D12","v":0},null,null,null,null,null,null,null,{"$error":"#DIV/0!"},null,null,null,null,null,null,{"$error":"#DIV/0!"},null,{"$error":"#DIV/0!"},null,null,{"$error":"#DIV/0!"}]
[null,10,{"$f":"'DATOS DEL ESTUDIANTE'!B13","v":0},{"$f":"'DATOS DEL ESTUDIANTE'!C13","v":0},{"$f":"'DATOS DEL ESTUDIANTE'!D13","v":0},null,null,null,null,null,null,null,{"$error":"#DIV/0!"},null,null,null,null,null,null,{"$error":"#DIV/0!"},null,{"$error":"#DIV/0!"},null,null,{"$error":"#DIV/0!"}]
[null,11,{"$f":"'DATOS DEL ESTUDIANTE'!B14","v":0},{"$f":"'DATOS DEL ESTUDIANTE'!C14","v":0},{"$f":"'DATOS DEL ESTUDIANTE'!D14","v":0},null,null,null,null,null,null,null,{"$error":"#DIV/0!"},null,null,null,null,null,null,{"$error":"#DIV/0!"},null,{"$error":"#DIV/0!"},null,null,{"$error":"#DIV/0!"}]
[null,12,{"$f":"'DATOS DEL ESTUDIANTE'!B15","v":0},{"$f":"'DATOS DEL ESTUDIANTE'!C15","v":0},{"$f":"'DATOS DEL ESTUDIANTE'!D15","v":0},null,null,null,null,null,null,null,{"$error":"#DIV/0!"},null,null,null,null,null,null,{"$error":"#DIV/0!"},null,{"$error":"#DIV/0!"},null,null,{"$error":"#DIV/0!"}]
[null,13,{"$f":"'DATOS DEL ESTUDIANTE'!B16","v":0},{"$f":"'DATOS DEL ESTUDIANTE'!C16","v":0},{"$f":"'DATOS DEL ESTUDIANTE'!D16","v":0},null,null,null,null,null,null,null,{"$error":"#DIV/0!"},null,null,null,null,null,null,{"$error":"#DIV/0!"},null,{"$error":"#DIV/0!"},null,null,{"$error":"#DIV/0!"}]
[null,14,{"$f":"'DATOS DEL ESTUDIANTE'!B17","v":0},{"$f":"'DATOS DEL ESTUDIANTE'!C17","v":0},{"$f":"'DATOS DEL ESTUDIANTE'!D17","v":0},null,null,null,null,null,null,null,{"$error":"#DIV/0!"},null,null,null,null,null,null,{"$error":"#DIV/0!"},null,{"$error":"#DIV/0!"},null,null,{"$error":"#DIV/0!"}]
[null,15,{"$f":"'DATOS DEL ESTUDIANTE'!B18","v":0},{"$f":"'DATOS DEL ESTUDIANTE'!C18","v":0},{"$f":"'DATOS DEL ESTUDIANTE'!D18","v":0},null,null,null,null,null,null,null,{"$error":"#DIV/0!"},null,null,null,null,null,null,{"$error":"#DIV/0!"},null,{"$error":"#DIV/0!"},null,null,{"$error":"#DIV/0!"}]
[null,16,{"$f":"'DATOS DEL ESTUDIANTE'!B19","v":0},{"$f":"'DATOS DEL ESTUDIANTE'!C19","v":0},{"$f":"'DATOS DEL ESTUDIANTE'!D19","v":0},null,null,null,null,null,null,null,{"$error":"#DIV/0!"},null,null,null,null,null,null,{"$error":"#DIV/0!"},null,{"$error":"#DIV/0!"},null,null,{"$error":"#DIV/0!"}]
[null,17,{"$f":"'DATOS DEL ESTUDIANTE'!B20","v":0},{"$f":"'DATOS DEL ESTUDIANTE'!C20","v":0},{"$f":"'DATOS DEL ESTUDIANTE'!D20","v":0},null,null,null,null,null,null,null,{"$error":"#DIV/0!"},null,null,null,null,null,null,{"$error":"#DIV/0!"},null,{"$error":"#DIV/0!"},null,null,{"$error":"#DIV/0!"}]
[null,18,{"$f":"'DATOS DEL ESTUDIANTE'!B21","v":0},{"$f":"'DATOS DEL ESTUDIANTE'!C21","v":0},{"$f":"'DATOS DEL ESTUDIANTE'!D21","v":0},null,null,null,null,null,null,null,{"$error":"#DIV/0!"},null,null,null,null,null,null,{"$error":"#DIV/0!"},null,{"$error":"#DIV/0!"},null,null,{"$error":"#DIV/0!"}]
[null,19,{"$f":"'DATOS DEL ESTUDIANTE'!B22","v":0},{"$f":"'DATOS DEL ESTUDIANTE'!C22","v":0},{"$f":"'DATOS DEL ESTUDIANTE'!D22","v":0},null,null,null,null,null,null,null,{"$error":"#DIV/0!"},null,null,null,null,null,null,{"$error":"#DIV/0!"},null,{"$error":"#DIV/0!"},null,null,{"$error":"#DIV/0!"}]
[null,20,{"$f":"'DATOS DEL ESTUDIANTE'!B23","v":0},{"$f":"'DATOS DEL ESTUDIANTE'!C23","v":0},{"$f":"'DATOS DEL ESTUDIANTE'!D23","v":0},null,null,null,null,null,null,null,{"$error":"#DIV/0!"},null,null,null,null,null,null,{"$error":"#DIV/0!"},null,{"$error":"#DIV/0!"},null,null,{"$error":"#DIV/0!"}]
[null,21,{"$f":"'DATOS DEL ESTUDIANTE'!B24","v":0},{"$f":"'DATOS DEL ESTUDIANTE'!C24","v":0},{"$f":"'DATOS DEL ESTUDIANTE'!D24","v":0},null,null,null,null,null,null,null,{"$error":"#DIV/0!"},null,null,null,null,null,null,{"$error":"#DIV/0!"},null,{"$error":"#DIV/0!"},null,null,{"$error":"#DIV/0!"}]
[null,22,{"$f":"'DATOS DEL ESTUDIANTE'!B25","v":0},{"$f":"'DATOS DEL ESTUDIANTE'!C25","v":0},{"$f":"'DATOS DEL ESTUDIANTE'!D25","v":0},null,null,null,null,null,null,null,{"$error":"#DIV/0!"},null,null,null,null,null,null,{"$error":"#DIV/0!"},null,{"$error":"#DIV/0!"},null,null,{"$error":"#DIV/0!"}]
[null,23,{"$f":"'DATOS DEL ESTUDIANTE'!B26","v":0},{"$f":"'DATOS DEL ESTUDIANTE'!C26","v":0},{"$f":"'DATOS DEL ESTUDIANTE'!D26","v":0},null,null,null,null,null,null,null,{"$error":"#DIV/0!"},null,null,null,null,null,null,{"$error":"#DIV/0!"},null,{"$error":"#DIV/0!"},null,null,{"$error":"#DIV/0!"}]
[null,24,{"$f":"'DATOS DEL ESTUDIANTE'!B27","v":0},{"$f":"'DATOS DEL ESTUDIANTE'!C27","v":0},{"$f":"'DATOS DEL ESTUDIANTE'!D27","v":0},null,null,null,null,null,null,null,{"$error":"#DIV/0!"},null,null,null,null,null,null,{"$error":"#DIV/0!"},null,{"$error":"#DIV/0!"},null,null,{"$error":"#DIV/0!"}]
[null,25,{"$f":"'DATOS DEL ESTUDIANTE'!B28","v":0},{"$f":"'DATOS DEL ESTUDIANTE'!C28","v":0},{"$f":"'DATOS DEL ESTUDIANTE'!D28","v":0},null,null,null,null,null,null,null,{"$error":"#DIV/0!"},null,null,null,null,null,null,{"$error":"#DIV/0!"},null,{"$error":"#DIV/0!"},null,null,{"$error":"#DIV/0!"}]
[null,26,{"$f":"'DATOS DEL ESTUDIANTE'!B29","v":0},{"$f":"'DATOS DEL ESTUDIANTE'!C29","v":0},{"$f":"'DATOS DEL ESTUDIANTE'!D29","v":0},null,null,null,null,null,null,null,{"$error":"#DIV/0!"},null,null,null,null,null,null,{"$error":"#DIV/0!"},null,{"$error":"#DIV/0!"},null,null,{"$error":"#DIV/0!"}]
[null,27,{"$f":"'DATOS DEL ESTUDIANTE'!B30","v":0},{"$f":"'DATOS DEL ESTUDIANTE'!C30","v":0},{"$f":"'DATOS DEL ESTUDIANTE'!D30","v":0},null,null,null,null,null,null,null,{"$error":"#DIV/0!"},null,null,null,null,null,null,{"$error":"#DIV/0!"},null,{"$error":"#DIV/0!"},null,null,{"$error":"#DIV/0!"}]
[null,28,{"$f":"'DATOS DEL ESTUDIANTE'!B31","v":0},{"$f":"'DATOS DEL ESTUDIANTE'!C31","v":0},{"$f":"'DATOS DEL ESTUDIANTE'!D31","v":0},null,null,null,null,null,null,null,{"$error":"#DIV/0!"},null,null,null,null,null,null,{"$error":"#DIV/0!"},null,{"$error":"#DIV/0!"},null,null,{"$error":"#DIV/0!"}]
[null,29,{"$f":"'DATOS DEL ESTUDIANTE'!B32","v":0},{"$f":"'DATOS DEL ESTUDIANTE'!C32","v":0},{"$f":"'DATOS DEL ESTUDIANTE'!D32","v":0},null,null,null,null,null,null,null,{"$error":"#DIV/0!"},null,null,null,null,null,null,{"$error":"#DIV/0!"},null,{"$error":"#DIV/0!"},null,null,{"$error":"#DIV/0!"}]
[null,30,{"$f":"'DATOS DEL ESTUDIANTE'!B33","v":0},{"$f":"'DATOS DEL ESTUDIANTE'!C33","v":0},{"$f":"'DATOS DEL ESTUDIANTE'!D33","v":0},null,null,null,null,null,null,null,{"$error":"#DIV/0!"},null,null,null,null,null,null,{"$error":"#DIV/0!"},null,{"$error":"#DIV/0!"},null,null,{"$error":"#DIV/0!"}]
[null,31,{"$f":"'DATOS DEL ESTUDIANTE'!B34","v":0},{"$f":"'DATOS DEL ESTUDIANTE'!C34","v":0},{"$f":"'DATOS DEL ESTUDIANTE'!D34","v":0},null,null,null,null,null,null,null,{"$error":"#DIV/0!"},null,null,null,null,null,null,{"$error":"#DIV/0!"},null,{"$error":"#DIV/0!"},null,null,{"$error":"#DIV/0!"}]
[null,32,{"$f":"'DATOS DEL ESTUDIANTE'!B35","v":0},{"$f":"'DATOS DEL ESTUDIANTE'!C35","v":0},{"$f":"'DATOS DEL ESTUDIANTE'!D35","v":0},null,null,null,null,null,null,null,{"$error":"#DIV/0!"},null,null,null,null,null,null,{"$error":"#DIV/0!"},null,{"$error":"#DIV/0!"},null,null,{"$error":"#DIV/0!"}]
[null,33,{"$f":"'DATOS DEL ESTUDIANTE'!B36","v":0},{"$f":"'DATOS DEL ESTUDIANTE'!C36","v":0},{"$f":"'DATOS DEL ESTUDIANTE'!D36","v":0},null,null,null,null,null,null,null,{"$error":"#DIV/0!"},null,null,null,null,null,null,{"$error":"#DIV/0!"},null,{"$error":"#DIV/0!"},null,null,{"$error":"#DIV/0!"}]
[null,34,{"$f":"'DATOS DEL ESTUDIANTE'!B37","v":0},{"$f":"'DATOS DEL ESTUDIANTE'!C37","v":0},{"$f":"'DATOS DEL ESTUDIANTE'!D37","v":0},null,null,null,null,null,null,null,{"$error":"#DIV/0!"},null,null,null,null,null,null,{"$error":"#DIV/0!"},null,{"$error":"#DIV/0!"},null,null,{"$error":"#DIV/0!"}]
[null,35,{"$f":"'DATOS DEL ESTUDIANTE'!B38","v":0},{"$f":"'DATOS DEL ESTUDIANTE'!C38","v":0},{"$f":"'DATOS DEL ESTUDIANTE'!D38","v":0},null,null,null,null,null,null,null,{"$error":"#DIV/0!"},null,null,null,null,null,null,{"$error":"#DIV/0!"},null,{"$error":"#DIV/0!"},null,null,{"$error":"#DIV/0!"}]
[null,36,{"$f":"'DATOS DEL ESTUDIANTE'!B39","v":0},{"$f":"'DATOS DEL ESTUDIANTE'!C39","v":0},{"$f":"'DATOS DEL ESTUDIANTE'!D39","v":0},null,null,null,null,null,null,null,{"$error":"#DIV/0!"},null,null,null,null,null,null,{"$error":"#DIV/0!"},null,{"$error":"#DIV/0!"},null,null,{"$error":"#DIV/0!"}]
[null,37,{"$f":"'DATOS DEL ESTUDIANTE'!B40","v":0},{"$f":"'DATOS DEL ESTUDIANTE'!C40","v":0},{"$f":"'DATOS DEL ESTUDIANTE'!D40","v":0},null,null,null,null,null,null,null,{"$error":"#DIV/0!"},null,null,null,null,null,null,{"$error":"#DIV/0!"},null,{"$error":"#DIV/0!"},null,null,{"$error":"#DIV/0!"}]
[null,38,{"$f":"'DATOS DEL ESTUDIANTE'!B41","v":0},{"$f":"'DATOS DEL ESTUDIANTE'!C41","v":0},{"$f":"'DATOS DEL ESTUDIANTE'!D41","v":0},null,null,null,null,null,null,null,{"$error":"#DIV/0!"},null,null,null,null,null,null,{"$error":"#DIV/0!"},null,{"$error":"#DIV/0!"},null,null,{"$error":"#DIV/0!"}]
[null,39,{"$f":"'DATOS DEL ESTUDIANTE'!B42","v":0},{"$f":"'DATOS DEL ESTUDIANTE'!C42","v":0},{"$f":"'DATOS DEL ESTUDIANTE'!D42","v":0},null,null,null,null,null,null,null,{"$error":"#DIV/0!"},null,null,null,null,null,null,{"$error":"#DIV/0!"},null,{"$error":"#DIV/0!"},null,null,{"$error":"#DIV/0!"}]
[null,40,{"$f":"'DATOS DEL ESTUDIANTE'!B43","v":0},{"$f":"'DATOS DEL ESTUDIANTE'!C43","v":0},{"$f":"'DATOS DEL ESTUDIANTE'!D43","v":0},null,null,null,null,null,null,null,{"$error":"#DIV/0!"},null,null,null,null,null,null,{"$error":"#DIV/0!"},null,{"$error":"#DIV/0!"},null,null,{"$error":"#DIV/0!"}]
[null,41,{"$f":"'DATOS DEL ESTUDIANTE'!B44","v":0},{"$f":"'DATOS DEL ESTUDIANTE'!C44","v":0},{"$f":"'DATOS DEL ESTUDIANTE'!D44","v":0},null,null,null,null,null,null,null,{"$error":"#DIV/0!"},null,null,null,null,null,null,{"$error":"#DIV/0!"},null,{"$error":"#DIV/0!"},null,null,{"$error":"#DIV/0!"}]
[null,42,{"$f":"'DATOS DEL ESTUDIANTE'!B45","v":0},{"$f":"'DATOS DEL ESTUDIANTE'!C45","v":0},{"$f":"'DATOS DEL ESTUDIANTE'!D45","v":0},null,null,null,null,null,null,null,{"$error":"#DIV/0!"},null,null,null,null,null,null,{"$error":"#DIV/0!"},null,{"$error":"#DIV/0!"},null,null,{"$error":"#DIV/0!"}]
[null,43,{"$f":"'DATOS DEL ESTUDIANTE'!B46","v":0},{"$f":"'DATOS DEL ESTUDIANTE'!C46","v":0},{"$f":"'DATOS DEL ESTUDIANTE'!D46","v":0},null,null,null,null,null,null,null,{"$error":"#DIV/0!"},null,null,null,null,null,null,{"$error":"#DIV/0!"},null,{"$error":"#DIV/0!"},null,null,{"$error":"#DIV/0!"}]
[null,44,{"$f":"'DATOS DEL ESTUDIANTE'!B47","v":0},{"$f":"'DATOS DEL ESTUDIANTE'!C47","v":0},{"$f":"'DATOS DEL ESTUDIANTE'!D47","v":0},null,null,null,null,null,null,null,{"$error":"#DIV/0!"},null,null,null,null,null,null,{"$error":"#DIV/0!"},null,{"$error":"#DIV/0!"},null,null,{"$error":"#DIV/0!"}]
[null,45,{"$f":"'DATOS DEL ESTUDIANTE'!B48","v":0},{"$f":"'DATOS DEL ESTUDIANTE'!C48","v":0},{"$f":"'DATOS DEL ESTUDIANTE'!D48","v":0},null,null,null,null,null,null,null,{"$error":"#DIV/0!"},null,null,null,null,null,null,{"$error":"#DIV/0!"},null,{"$error":"#DIV/0!"},null,null,{"$error":"#DIV/0!"}]

{"sheet":"CIENCIAS NATURALES 3","index":34,"n_rows":55,"n_cols":25,"rows_kept":55,"cut":false,"hidden":false,"merged":[[0,25,3,25],[3,13,3,19],[1,4,1,9],[8,16,9,16],[8,17,9,17],[8,18,9,18],[8,15,9,15],[4,19,9,19],[8,2,8,4],[3,6,3,12],[8,8,9,8],[8,9,9,9],[8,10,9,10],[8,11,9,11],[4,8,6,9],[4,13,6,14],[3,21,9,21],[3,22,8,23],[3,24,9,24],[4,15,6,16],[4,17,6,18],[4,20,6,20],[0,21,2,24],[1,10,1,12],[1,13,1,19],[1,20,2,20],[2,1,2,19],[1,1,1,3],[8,1,9,1],[8,20,9,20],[8,7,9,7],[4,10,6,11],[0,0,9,0],[0,1,0,19],[3,1,3,4],[8,5,9,5],[8,6,9,6],[8,13,9,13],[8,14,9,14],[4,12,9,12],[7,1,7,4],[4,1,6,4],[4,5,6,5],[4,6,6,7]]}
[null,"CIENCIAS NATURALES",null,null,null,null,null,null,null,null,null,null,null,null,null,null,null,null,null,null,2018]
[null,"AÑO DE ESCOLARIDAD:",null,null,{"$f":"CARATULA!G15","v":0},null,null,null,null,null,"MAESTRA (O): ",null,null,{"$f":"CARATULA!G18","v":0},null,null,null,null,null,null,"TERCER\nBIMESTRE"]
[null," REGISTRO  Y CENTRALIZADOR DEL PROCESO DE  EVALUACIÓN   "]
[null,"DIMENSIONES",null,null,null,"SER (10)","SABER (35)",null,null,null,null,null,null,"HACER (35)",null,null,null,null,null,null,"DECIDIR (10)","TOTAL     EVALUACIÓN    DEL     MAESTRO","AUTOEVALUACIÓN",null,"CALIFICACIÓN BIMESTRAL"]
[null,"CRITERIOS DE EVALUACIÓN SEGÚN PDC",null,null,null,null,null,null,null,null,null,null,"T      O     T     A       L",null,null,null,null,null,null,"T      O     T     A       L"]
[]
[]
[null,"INSTRUMENTO Y/ O ESTRATEGIAS DE EVALUACIÓN"]
[null,"N°","    FECHA DE  EVALUACIÓN\n \n\n"]
[null,null,"NOMBRES ","APELLIDO PATERNO"," \nAPELLIDO MATERNO",null,null,null,null,null,null,null,null,null,null,null,null,null,null,null,null,null,"SER\n(5)","DECIDIR\n(5)"]
[null,1,{"$f":"'DATOS DEL ESTUDIANTE'!B4","v":0},{"$f":"'DATOS DEL ESTUDIANTE'!C4","v":0},{"$f":"'DATOS DEL ESTUDIANTE'!D4","v":0},null,null,null,null,null,null,null,{"$f":"AVERAGE(G11:L11)","v":{"$error":"#DIV/0!"}},null,null,null,null,null,null,{"$f":"AVERAGE(N11:S11)","v":{"$error":"#DIV/0!"}},null,{"$f":"SUM(F11+M11+T11+U11)","v":{"$error":"#DIV/0!"}},null,null,{"$f":"SUM(V11:X11)","v":{"$error":"#DIV/0!"}}]
[null,2,{"$f":"'DATOS DEL ESTUDIANTE'!B5","v":0},{"$f":"'DATOS DEL ESTUDIANTE'!C5","v":0},{"$f":"'DATOS DEL ESTUDIANTE'!D5","v":0},null,null,null,null,null,null,null,{"$f":"AVERAGE(G12:L12)","v":{"$error":"#DIV/0!"}},null,null,null,null,null,null,{"$f":"AVERAGE(N12:S12)","v":{"$error":"#DIV/0!"}},null,{"$f":"SUM(F12+M12+T12+U12)","v":{"$error":"#DIV/0!"}},null,null,{"$f":"SUM(V12:X12)","v":{"$error":"#DIV/0!"}}]
[null,3,{"$f":"'DATOS DEL ESTUDIANTE'!B6","v":0},{"$f":"'DATOS DEL ESTUDIANTE'!C6","v":0},{"$f":"'DATOS DEL ESTUDIANTE'!D6","v":0},null,null,null,null,null,null,null,{"$error":"#DIV/0!"},null,null,null,null,null,null,{"$error":"#DIV/0!"},null,{"$error":"#DIV/0!"},null,null,{"$error":"#DIV/0!"}]
[null,4,{"$f":"'DATOS DEL ESTUDIANTE'!B7","v":0},{"$f":"'DATOS DEL ESTUDIANTE'!C7","v":0},{"$f":"'DATOS DEL ESTUDIANTE'!D7","v":0},null,null,null,null,null,null,null,{"$error":"#DIV/0!"},null,null,null,null,null,null,{"$error":"#DIV/0!"},null,{"$error":"#DIV/0!"},null,null,{"$error":"#DIV/0!"}]
[null,5,{"$f":"'DATOS DEL ESTUDIANTE'!B8","v":0},{"$f":"'DATOS DEL ESTUDIANTE'!C8","v":0},{"$f":"'DATOS DEL ESTUDIANTE'!D8","v":0},null,null,null,null,null,null,null,{"$error":"#DIV/0!"},null,null,null,null,null,null,{"$error":"#DIV/0!"},null,{"$error":"#DIV/0!"},null,null,{"$error":"#DIV/0!"}]
[null,6,{"$f":"'DATOS DEL ESTUDIANTE'!B9","v":0},{"$f":"'DATOS DEL ESTUDIANTE'!C9","v":0},{"$f":"'DATOS DEL ESTUDIANTE'!D9","v":0},null,null,null,null,null,null,null,{"$error":"#DIV/0!"},null,null,null,null,null,null,{"$error":"#DIV/0!"},null,{"$error":"#DIV/0!"},null,null,{"$error":"#DIV/0!"}]
[null,7,{"$f":"'DATOS DEL ESTUDIANTE'!B10","v":0},{"$f":"'DATOS DEL ESTUDIANTE'!C10","v":0},{"$f":"'DATOS DEL ESTUDIANTE'!D10","v":0},null,null,null,null,null,null,null,{"$error":"#DIV/0!"},null,null,null,null,null,null,{"$error":"#DIV/0!"},null,{"$error":"#DIV/0!"},null,null,{"$error":"#DIV/0!"}]
[null,8,{"$f":"'DATOS DEL ESTUDIANTE'!B11","v":0},{"$f":"'DATOS DEL ESTUDIANTE'!C11","v":0},{"$f":"'DATOS DEL ESTUDIANTE'!D11","v":0},null,null,null,null,null,null,null,{"$error":"#DIV/0!"},null,null,null,null,null,null,{"$error":"#DIV/0!"},null,{"$error":"#DIV/0!"},null,null,{"$error":"#DIV/0!"}]
[null,9,{"$f":"'DATOS DEL ESTUDIANTE'!B12","v":0},{"$f":"'DATOS DEL ESTUDIANTE'!C12","v":0},{"$f":"'DATOS DEL ESTUDIANTE'!D12","v":0},null,null,null,null,null,null,null,{"$error":"#DIV/0!"},null,null,null,null,null,null,{"$error":"#DIV/0!"},null,{"$error":"#DIV/0!"},null,null,{"$error":"#DIV/0!"}]
[null,10,{"$f":"'DATOS DEL ESTUDIANTE'!B13","v":0},{"$f":"'DATOS DEL ESTUDIANTE'!C13","v":0},{"$f":"'DATOS DEL ESTUDIANTE'!D13","v":0},null,null,null,null,null,null,null,{"$error":"#DIV/0!"},null,null,null,null,null,null,{"$error":"#DIV/0!"},null,{"$error":"#DIV/0!"},null,null,{"$error":"#DIV/0!"}]
[null,11,{"$f":"'DATOS DEL ESTUDIANTE'!B14","v":0},{"$f":"'DATOS DEL ESTUDIANTE'!C14","v":0},{"$f":"'DATOS DEL ESTUDIANTE'!D14","v":0},null,null,null,null,null,null,null,{"$error":"#DIV/0!"},null,null,null,null,null,null,{"$error":"#DIV/0!"},null,{"$error":"#DIV/0!"},null,null,{"$error":"#DIV/0!"}]
[null,12,{"$f":"'DATOS DEL ESTUDIANTE'!B15","v":0},{"$f":"'DATOS DEL ESTUDIANTE'!C15","v":0},{"$f":"'DATOS DEL ESTUDIANTE'!D15","v":0},null,null,null,null,null,null,null,{"$error":"#DIV/0!"},null,null,null,null,null,null,{"$error":"#DIV/0!"},null,{"$error":"#DIV/0!"},null,null,{"$error":"#DIV/0!"}]
[null,13,{"$f":"'DATOS DEL ESTUDIANTE'!B16","v":0},{"$f":"'DATOS DEL ESTUDIANTE'!C16","v":0},{"$f":"'DATOS DEL ESTUDIANTE'!D16","v":0},null,null,null,null,null,null,null,{"$error":"#DIV/0!"},null,null,null,null,null,null,{"$error":"#DIV/0!"},null,{"$error":"#DIV/0!"},null,null,{"$error":"#DIV/0!"}]
[null,14,{"$f":"'DATOS DEL ESTUDIANTE'!B17","v":0},{"$f":"'DATOS DEL ESTUDIANTE'!C17","v":0},{"$f":"'DATOS DEL ESTUDIANTE'!D17","v":0},null,null,null,null,null,null,null,{"$error":"#DIV/0!"},null,null,null,null,null,null,{"$error":"#DIV/0!"},null,{"$error":"#DIV/0!"},null,null,{"$error":"#DIV/0!"}]
[null,15,{"$f":"'DATOS DEL ESTUDIANTE'!B18","v":0},{"$f":"'DATOS DEL ESTUDIANTE'!C18","v":0},{"$f":"'DATOS DEL ESTUDIANTE'!D18","v":0},null,null,null,null,null,null,null,{"$error":"#DIV/0!"},null,null,null,null,null,null,{"$error":"#DIV/0!"},null,{"$error":"#DIV/0!"},null,null,{"$error":"#DIV/0!"}]
[null,16,{"$f":"'DATOS DEL ESTUDIANTE'!B19","v":0},{"$f":"'DATOS DEL ESTUDIANTE'!C19","v":0},{"$f":"'DATOS DEL ESTUDIANTE'!D19","v":0},null,null,null,null,null,null,null,{"$error":"#DIV/0!"},null,null,null,null,null,null,{"$error":"#DIV/0!"},null,{"$error":"#DIV/0!"},null,null,{"$error":"#DIV/0!"}]
[null,17,{"$f":"'DATOS DEL ESTUDIANTE'!B20","v":0},{"$f":"'DATOS DEL ESTUDIANTE'!C20","v":0},{"$f":"'DATOS DEL ESTUDIANTE'!D20","v":0},null,null,null,null,null,null,null,{"$error":"#DIV/0!"},null,null,null,null,null,null,{"$error":"#DIV/0!"},null,{"$error":"#DIV/0!"},null,null,{"$error":"#DIV/0!"}]
[null,18,{"$f":"'DATOS DEL ESTUDIANTE'!B21","v":0},{"$f":"'DATOS DEL ESTUDIANTE'!C21","v":0},{"$f":"'DATOS DEL ESTUDIANTE'!D21","v":0},null,null,null,null,null,null,null,{"$error":"#DIV/0!"},null,null,null,null,null,null,{"$error":"#DIV/0!"},null,{"$error":"#DIV/0!"},null,null,{"$error":"#DIV/0!"}]
[null,19,{"$f":"'DATOS DEL ESTUDIANTE'!B22","v":0},{"$f":"'DATOS DEL ESTUDIANTE'!C22","v":0},{"$f":"'DATOS DEL ESTUDIANTE'!D22","v":0},null,null,null,null,null,null,null,{"$error":"#DIV/0!"},null,null,null,null,null,null,{"$error":"#DIV/0!"},null,{"$error":"#DIV/0!"},null,null,{"$error":"#DIV/0!"}]
[null,20,{"$f":"'DATOS DEL ESTUDIANTE'!B23","v":0},{"$f":"'DATOS DEL ESTUDIANTE'!C23","v":0},{"$f":"'DATOS DEL ESTUDIANTE'!D23","v":0},null,null,null,null,null,null,null,{"$error":"#DIV/0!"},null,null,null,null,null,null,{"$error":"#DIV/0!"},null,{"$error":"#DIV/0!"},null,null,{"$error":"#DIV/0!"}]
[null,21,{"$f":"'DATOS DEL ESTUDIANTE'!B24","v":0},{"$f":"'DATOS DEL ESTUDIANTE'!C24","v":0},{"$f":"'DATOS DEL ESTUDIANTE'!D24","v":0},null,null,null,null,null,null,null,{"$error":"#DIV/0!"},null,null,null,null,null,null,{"$error":"#DIV/0!"},null,{"$error":"#DIV/0!"},null,null,{"$error":"#DIV/0!"}]
[null,22,{"$f":"'DATOS DEL ESTUDIANTE'!B25","v":0},{"$f":"'DATOS DEL ESTUDIANTE'!C25","v":0},{"$f":"'DATOS DEL ESTUDIANTE'!D25","v":0},null,null,null,null,null,null,null,{"$error":"#DIV/0!"},null,null,null,null,null,null,{"$error":"#DIV/0!"},null,{"$error":"#DIV/0!"},null,null,{"$error":"#DIV/0!"}]
[null,23,{"$f":"'DATOS DEL ESTUDIANTE'!B26","v":0},{"$f":"'DATOS DEL ESTUDIANTE'!C26","v":0},{"$f":"'DATOS DEL ESTUDIANTE'!D26","v":0},null,null,null,null,null,null,null,{"$error":"#DIV/0!"},null,null,null,null,null,null,{"$error":"#DIV/0!"},null,{"$error":"#DIV/0!"},null,null,{"$error":"#DIV/0!"}]
[null,24,{"$f":"'DATOS DEL ESTUDIANTE'!B27","v":0},{"$f":"'DATOS DEL ESTUDIANTE'!C27","v":0},{"$f":"'DATOS DEL ESTUDIANTE'!D27","v":0},null,null,null,null,null,null,null,{"$error":"#DIV/0!"},null,null,null,null,null,null,{"$error":"#DIV/0!"},null,{"$error":"#DIV/0!"},null,null,{"$error":"#DIV/0!"}]
[null,25,{"$f":"'DATOS DEL ESTUDIANTE'!B28","v":0},{"$f":"'DATOS DEL ESTUDIANTE'!C28","v":0},{"$f":"'DATOS DEL ESTUDIANTE'!D28","v":0},null,null,null,null,null,null,null,{"$error":"#DIV/0!"},null,null,null,null,null,null,{"$error":"#DIV/0!"},null,{"$error":"#DIV/0!"},null,null,{"$error":"#DIV/0!"}]
[null,26,{"$f":"'DATOS DEL ESTUDIANTE'!B29","v":0},{"$f":"'DATOS DEL ESTUDIANTE'!C29","v":0},{"$f":"'DATOS DEL ESTUDIANTE'!D29","v":0},null,null,null,null,null,null,null,{"$error":"#DIV/0!"},null,null,null,null,null,null,{"$error":"#DIV/0!"},null,{"$error":"#DIV/0!"},null,null,{"$error":"#DIV/0!"}]
[null,27,{"$f":"'DATOS DEL ESTUDIANTE'!B30","v":0},{"$f":"'DATOS DEL ESTUDIANTE'!C30","v":0},{"$f":"'DATOS DEL ESTUDIANTE'!D30","v":0},null,null,null,null,null,null,null,{"$error":"#DIV/0!"},null,null,null,null,null,null,{"$error":"#DIV/0!"},null,{"$error":"#DIV/0!"},null,null,{"$error":"#DIV/0!"}]
[null,28,{"$f":"'DATOS DEL ESTUDIANTE'!B31","v":0},{"$f":"'DATOS DEL ESTUDIANTE'!C31","v":0},{"$f":"'DATOS DEL ESTUDIANTE'!D31","v":0},null,null,null,null,null,null,null,{"$error":"#DIV/0!"},null,null,null,null,null,null,{"$error":"#DIV/0!"},null,{"$error":"#DIV/0!"},null,null,{"$error":"#DIV/0!"}]
[null,29,{"$f":"'DATOS DEL ESTUDIANTE'!B32","v":0},{"$f":"'DATOS DEL ESTUDIANTE'!C32","v":0},{"$f":"'DATOS DEL ESTUDIANTE'!D32","v":0},null,null,null,null,null,null,null,{"$error":"#DIV/0!"},null,null,null,null,null,null,{"$error":"#DIV/0!"},null,{"$error":"#DIV/0!"},null,null,{"$error":"#DIV/0!"}]
[null,30,{"$f":"'DATOS DEL ESTUDIANTE'!B33","v":0},{"$f":"'DATOS DEL ESTUDIANTE'!C33","v":0},{"$f":"'DATOS DEL ESTUDIANTE'!D33","v":0},null,null,null,null,null,null,null,{"$error":"#DIV/0!"},null,null,null,null,null,null,{"$error":"#DIV/0!"},null,{"$error":"#DIV/0!"},null,null,{"$error":"#DIV/0!"}]
[null,31,{"$f":"'DATOS DEL ESTUDIANTE'!B34","v":0},{"$f":"'DATOS DEL ESTUDIANTE'!C34","v":0},{"$f":"'DATOS DEL ESTUDIANTE'!D34","v":0},null,null,null,null,null,null,null,{"$error":"#DIV/0!"},null,null,null,null,null,null,{"$error":"#DIV/0!"},null,{"$error":"#DIV/0!"},null,null,{"$error":"#DIV/0!"}]
[null,32,{"$f":"'DATOS DEL ESTUDIANTE'!B35","v":0},{"$f":"'DATOS DEL ESTUDIANTE'!C35","v":0},{"$f":"'DATOS DEL ESTUDIANTE'!D35","v":0},null,null,null,null,null,null,null,{"$error":"#DIV/0!"},null,null,null,null,null,null,{"$error":"#DIV/0!"},null,{"$error":"#DIV/0!"},null,null,{"$error":"#DIV/0!"}]
[null,33,{"$f":"'DATOS DEL ESTUDIANTE'!B36","v":0},{"$f":"'DATOS DEL ESTUDIANTE'!C36","v":0},{"$f":"'DATOS DEL ESTUDIANTE'!D36","v":0},null,null,null,null,null,null,null,{"$error":"#DIV/0!"},null,null,null,null,null,null,{"$error":"#DIV/0!"},null,{"$error":"#DIV/0!"},null,null,{"$error":"#DIV/0!"}]
[null,34,{"$f":"'DATOS DEL ESTUDIANTE'!B37","v":0},{"$f":"'DATOS DEL ESTUDIANTE'!C37","v":0},{"$f":"'DATOS DEL ESTUDIANTE'!D37","v":0},null,null,null,null,null,null,null,{"$error":"#DIV/0!"},null,null,null,null,null,null,{"$error":"#DIV/0!"},null,{"$error":"#DIV/0!"},null,null,{"$error":"#DIV/0!"}]
[null,35,{"$f":"'DATOS DEL ESTUDIANTE'!B38","v":0},{"$f":"'DATOS DEL ESTUDIANTE'!C38","v":0},{"$f":"'DATOS DEL ESTUDIANTE'!D38","v":0},null,null,null,null,null,null,null,{"$error":"#DIV/0!"},null,null,null,null,null,null,{"$error":"#DIV/0!"},null,{"$error":"#DIV/0!"},null,null,{"$error":"#DIV/0!"}]
[null,36,{"$f":"'DATOS DEL ESTUDIANTE'!B39","v":0},{"$f":"'DATOS DEL ESTUDIANTE'!C39","v":0},{"$f":"'DATOS DEL ESTUDIANTE'!D39","v":0},null,null,null,null,null,null,null,{"$error":"#DIV/0!"},null,null,null,null,null,null,{"$error":"#DIV/0!"},null,{"$error":"#DIV/0!"},null,null,{"$error":"#DIV/0!"}]
[null,37,{"$f":"'DATOS DEL ESTUDIANTE'!B40","v":0},{"$f":"'DATOS DEL ESTUDIANTE'!C40","v":0},{"$f":"'DATOS DEL ESTUDIANTE'!D40","v":0},null,null,null,null,null,null,null,{"$error":"#DIV/0!"},null,null,null,null,null,null,{"$error":"#DIV/0!"},null,{"$error":"#DIV/0!"},null,null,{"$error":"#DIV/0!"}]
[null,38,{"$f":"'DATOS DEL ESTUDIANTE'!B41","v":0},{"$f":"'DATOS DEL ESTUDIANTE'!C41","v":0},{"$f":"'DATOS DEL ESTUDIANTE'!D41","v":0},null,null,null,null,null,null,null,{"$error":"#DIV/0!"},null,null,null,null,null,null,{"$error":"#DIV/0!"},null,{"$error":"#DIV/0!"},null,null,{"$error":"#DIV/0!"}]
[null,39,{"$f":"'DATOS DEL ESTUDIANTE'!B42","v":0},{"$f":"'DATOS DEL ESTUDIANTE'!C42","v":0},{"$f":"'DATOS DEL ESTUDIANTE'!D42","v":0},null,null,null,null,null,null,null,{"$error":"#DIV/0!"},null,null,null,null,null,null,{"$error":"#DIV/0!"},null,{"$error":"#DIV/0!"},null,null,{"$error":"#DIV/0!"}]
[null,40,{"$f":"'DATOS DEL ESTUDIANTE'!B43","v":0},{"$f":"'DATOS DEL ESTUDIANTE'!C43","v":0},{"$f":"'DATOS DEL ESTUDIANTE'!D43","v":0},null,null,null,null,null,null,null,{"$error":"#DIV/0!"},null,null,null,null,null,null,{"$error":"#DIV/0!"},null,{"$error":"#DIV/0!"},null,null,{"$error":"#DIV/0!"}]
[null,41,{"$f":"'DATOS DEL ESTUDIANTE'!B44","v":0},{"$f":"'DATOS DEL ESTUDIANTE'!C44","v":0},{"$f":"'DATOS DEL ESTUDIANTE'!D44","v":0},null,null,null,null,null,null,null,{"$error":"#DIV/0!"},null,null,null,null,null,null,{"$error":"#DIV/0!"},null,{"$error":"#DIV/0!"},null,null,{"$error":"#DIV/0!"}]
[null,42,{"$f":"'DATOS DEL ESTUDIANTE'!B45","v":0},{"$f":"'DATOS DEL ESTUDIANTE'!C45","v":0},{"$f":"'DATOS DEL ESTUDIANTE'!D45","v":0},null,null,null,null,null,null,null,{"$error":"#DIV/0!"},null,null,null,null,null,null,{"$error":"#DIV/0!"},null,{"$error":"#DIV/0!"},null,null,{"$error":"#DIV/0!"}]
[null,43,{"$f":"'DATOS DEL ESTUDIANTE'!B46","v":0},{"$f":"'DATOS DEL ESTUDIANTE'!C46","v":0},{"$f":"'DATOS DEL ESTUDIANTE'!D46","v":0},null,null,null,null,null,null,null,{"$error":"#DIV/0!"},null,null,null,null,null,null,{"$error":"#DIV/0!"},null,{"$error":"#DIV/0!"},null,null,{"$error":"#DIV/0!"}]
[null,44,{"$f":"'DATOS DEL ESTUDIANTE'!B47","v":0},{"$f":"'DATOS DEL ESTUDIANTE'!C47","v":0},{"$f":"'DATOS DEL ESTUDIANTE'!D47","v":0},null,null,null,null,null,null,null,{"$error":"#DIV/0!"},null,null,null,null,null,null,{"$error":"#DIV/0!"},null,{"$error":"#DIV/0!"},null,null,{"$error":"#DIV/0!"}]
[null,45,{"$f":"'DATOS DEL ESTUDIANTE'!B48","v":0},{"$f":"'DATOS DEL ESTUDIANTE'!C48","v":0},{"$f":"'DATOS DEL ESTUDIANTE'!D48","v":0},null,null,null,null,null,null,null,{"$error":"#DIV/0!"},null,null,null,null,null,null,{"$error":"#DIV/0!"},null,{"$error":"#DIV/0!"},null,null,{"$error":"#DIV/0!"}]

{"sheet":"CIENCIAS NATURALES 4","index":35,"n_rows":55,"n_cols":25,"rows_kept":55,"cut":false,"hidden":false,"merged":[[0,25,3,25],[3,13,3,19],[1,4,1,9],[8,16,9,16],[8,17,9,17],[8,18,9,18],[8,15,9,15],[4,19,9,19],[8,2,8,4],[3,6,3,12],[8,8,9,8],[8,9,9,9],[8,10,9,10],[8,11,9,11],[4,8,6,9],[4,13,6,14],[3,21,9,21],[3,22,8,23],[3,24,9,24],[4,15,6,16],[4,17,6,18],[4,20,6,20],[0,21,2,24],[1,10,1,12],[1,13,1,19],[1,20,2,20],[2,1,2,19],[1,1,1,3],[8,1,9,1],[8,20,9,20],[8,7,9,7],[4,10,6,11],[0,0,9,0],[0,1,0,19],[3,1,3,4],[8,5,9,5],[8,6,9,6],[8,13,9,13],[8,14,9,14],[4,12,9,12],[7,1,7,4],[4,1,6,4],[4,5,6,5],[4,6,6,7]]}
[null,"CIENCIAS NATURALES",null,null,null,null,null,null,null,null,null,null,null,null,null,null,null,null,null,null,2018]
[null,"AÑO DE ESCOLARIDAD:",null,null,{"$f":"CARATULA!G15","v":0},null,null,null,null,null,"MAESTRA (O): ",null,null,{"$f":"CARATULA!G18","v":0},null,null,null,null,null,null,"CUARTO\nBIMESTRE"]
[null," REGISTRO  Y CENTRALIZADOR DEL PROCESO DE  EVALUACIÓN   "]
[null,"DIMENSIONES",null,null,null,"SER (10)","SABER (35)",null,null,null,null,null,null,"HACER (35)",null,null,null,null,null,null,"DECIDIR (10)","TOTAL     EVALUACIÓN    DEL     MAESTRO","AUTOEVALUACIÓN",null,"CALIFICACIÓN BIMESTRAL"]
[null,"CRITERIOS DE EVALUACIÓN SEGÚN PDC",null,null,null,null,null,null,null,null,null,null,"T      O     T     A       L",null,null,null,null,null,null,"T      O     T     A       L"]
[]
[]
[null,"INSTRUMENTO Y/ O ESTRATEGIAS DE EVALUACIÓN"]
[null,"N°","    FECHA DE  EVALUACIÓN\n \n\n"]
[null,null,"NOMBRES ","APELLIDO PATERNO"," \nAPELLIDO MATERNO",null,null,null,null,null,null,null,null,null,null,null,null,null,null,null,null,null,"SER\n(5)","DECIDIR\n(5)"]
[null,1,{"$f":"'DATOS DEL ESTUDIANTE'!B4","v":0},{"$f":"'DATOS DEL ESTUDIANTE'!C4","v":0},{"$f":"'DATOS DEL ESTUDIANTE'!D4","v":0},null,null,null,null,null,null,null,{"$f":"AVERAGE(G11:L11)","v":{"$error":"#DIV/0!"}},null,null,null,null,null,null,{"$f":"AVERAGE(N11:S11)","v":{"$error":"#DIV/0!"}},null,{"$f":"SUM(F11+M11+T11+U11)","v":{"$error":"#DIV/0!"}},null,null,{"$f":"SUM(V11:X11)","v":{"$error":"#DIV/0!"}}]
[null,2,{"$f":"'DATOS DEL ESTUDIANTE'!B5","v":0},{"$f":"'DATOS DEL ESTUDIANTE'!C5","v":0},{"$f":"'DATOS DEL ESTUDIANTE'!D5","v":0},null,null,null,null,null,null,null,{"$f":"AVERAGE(G12:L12)","v":{"$error":"#DIV/0!"}},null,null,null,null,null,null,{"$f":"AVERAGE(N12:S12)","v":{"$error":"#DIV/0!"}},null,{"$f":"SUM(F12+M12+T12+U12)","v":{"$error":"#DIV/0!"}},null,null,{"$f":"SUM(V12:X12)","v":{"$error":"#DIV/0!"}}]
[null,3,{"$f":"'DATOS DEL ESTUDIANTE'!B6","v":0},{"$f":"'DATOS DEL ESTUDIANTE'!C6","v":0},{"$f":"'DATOS DEL ESTUDIANTE'!D6","v":0},null,null,null,null,null,null,null,{"$error":"#DIV/0!"},null,null,null,null,null,null,{"$error":"#DIV/0!"},null,{"$error":"#DIV/0!"},null,null,{"$error":"#DIV/0!"}]
[null,4,{"$f":"'DATOS DEL ESTUDIANTE'!B7","v":0},{"$f":"'DATOS DEL ESTUDIANTE'!C7","v":0},{"$f":"'DATOS DEL ESTUDIANTE'!D7","v":0},null,null,null,null,null,null,null,{"$error":"#DIV/0!"},null,null,null,null,null,null,{"$error":"#DIV/0!"},null,{"$error":"#DIV/0!"},null,null,{"$error":"#DIV/0!"}]
[null,5,{"$f":"'DATOS DEL ESTUDIANTE'!B8","v":0},{"$f":"'DATOS DEL ESTUDIANTE'!C8","v":0},{"$f":"'DATOS DEL ESTUDIANTE'!D8","v":0},null,null,null,null,null,null,null,{"$error":"#DIV/0!"},null,null,null,null,null,null,{"$error":"#DIV/0!"},null,{"$error":"#DIV/0!"},null,null,{"$error":"#DIV/0!"}]
[null,6,{"$f":"'DATOS DEL ESTUDIANTE'!B9","v":0},{"$f":"'DATOS DEL ESTUDIANTE'!C9","v":0},{"$f":"'DATOS DEL ESTUDIANTE'!D9","v":0},null,null,null,null,null,null,null,{"$error":"#DIV/0!"},null,null,null,null,null,null,{"$error":"#DIV/0!"},null,{"$error":"#DIV/0!"},null,null,{"$error":"#DIV/0!"}]
[null,7,{"$f":"'DATOS DEL ESTUDIANTE'!B10","v":0},{"$f":"'DATOS DEL ESTUDIANTE'!C10","v":0},{"$f":"'DATOS DEL ESTUDIANTE'!D10","v":0},null,null,null,null,null,null,null,{"$error":"#DIV/0!"},null,null,null,null,null,null,{"$error":"#DIV/0!"},null,{"$error":"#DIV/0!"},null,null,{"$error":"#DIV/0!"}]
[null,8,{"$f":"'DATOS DEL ESTUDIANTE'!B11","v":0},{"$f":"'DATOS DEL ESTUDIANTE'!C11","v":0},{"$f":"'DATOS DEL ESTUDIANTE'!D11","v":0},null,null,null,null,null,null,null,{"$error":"#DIV/0!"},null,null,null,null,null,null,{"$error":"#DIV/0!"},null,{"$error":"#DIV/0!"},null,null,{"$error":"#DIV/0!"}]
[null,9,{"$f":"'DATOS DEL ESTUDIANTE'!B12","v":0},{"$f":"'DATOS DEL ESTUDIANTE'!C12","v":0},{"$f":"'DATOS DEL ESTUDIANTE'!D12","v":0},null,null,null,null,null,null,null,{"$error":"#DIV/0!"},null,null,null,null,null,null,{"$error":"#DIV/0!"},null,{"$error":"#DIV/0!"},null,null,{"$error":"#DIV/0!"}]
[null,10,{"$f":"'DATOS DEL ESTUDIANTE'!B13","v":0},{"$f":"'DATOS DEL ESTUDIANTE'!C13","v":0},{"$f":"'DATOS DEL ESTUDIANTE'!D13","v":0},null,null,null,null,null,null,null,{"$error":"#DIV/0!"},null,null,null,null,null,null,{"$error":"#DIV/0!"},null,{"$error":"#DIV/0!"},null,null,{"$error":"#DIV/0!"}]
[null,11,{"$f":"'DATOS DEL ESTUDIANTE'!B14","v":0},{"$f":"'DATOS DEL ESTUDIANTE'!C14","v":0},{"$f":"'DATOS DEL ESTUDIANTE'!D14","v":0},null,null,null,null,null,null,null,{"$error":"#DIV/0!"},null,null,null,null,null,null,{"$error":"#DIV/0!"},null,{"$error":"#DIV/0!"},null,null,{"$error":"#DIV/0!"}]
[null,12,{"$f":"'DATOS DEL ESTUDIANTE'!B15","v":0},{"$f":"'DATOS DEL ESTUDIANTE'!C15","v":0},{"$f":"'DATOS DEL ESTUDIANTE'!D15","v":0},null,null,null,null,null,null,null,{"$error":"#DIV/0!"},null,null,null,null,null,null,{"$error":"#DIV/0!"},null,{"$error":"#DIV/0!"},null,null,{"$error":"#DIV/0!"}]
[null,13,{"$f":"'DATOS DEL ESTUDIANTE'!B16","v":0},{"$f":"'DATOS DEL ESTUDIANTE'!C16","v":0},{"$f":"'DATOS DEL ESTUDIANTE'!D16","v":0},null,null,null,null,null,null,null,{"$error":"#DIV/0!"},null,null,null,null,null,null,{"$error":"#DIV/0!"},null,{"$error":"#DIV/0!"},null,null,{"$error":"#DIV/0!"}]
[null,14,{"$f":"'DATOS DEL ESTUDIANTE'!B17","v":0},{"$f":"'DATOS DEL ESTUDIANTE'!C17","v":0},{"$f":"'DATOS DEL ESTUDIANTE'!D17","v":0},null,null,null,null,null,null,null,{"$error":"#DIV/0!"},null,null,null,null,null,null,{"$error":"#DIV/0!"},null,{"$error":"#DIV/0!"},null,null,{"$error":"#DIV/0!"}]
[null,15,{"$f":"'DATOS DEL ESTUDIANTE'!B18","v":0},{"$f":"'DATOS DEL ESTUDIANTE'!C18","v":0},{"$f":"'DATOS DEL ESTUDIANTE'!D18","v":0},null,null,null,null,null,null,null,{"$error":"#DIV/0!"},null,null,null,null,null,null,{"$error":"#DIV/0!"},null,{"$error":"#DIV/0!"},null,null,{"$error":"#DIV/0!"}]
[null,16,{"$f":"'DATOS DEL ESTUDIANTE'!B19","v":0},{"$f":"'DATOS DEL ESTUDIANTE'!C19","v":0},{"$f":"'DATOS DEL ESTUDIANTE'!D19","v":0},null,null,null,null,null,null,null,{"$error":"#DIV/0!"},null,null,null,null,null,null,{"$error":"#DIV/0!"},null,{"$error":"#DIV/0!"},null,null,{"$error":"#DIV/0!"}]
[null,17,{"$f":"'DATOS DEL ESTUDIANTE'!B20","v":0},{"$f":"'DATOS DEL ESTUDIANTE'!C20","v":0},{"$f":"'DATOS DEL ESTUDIANTE'!D20","v":0},null,null,null,null,null,null,null,{"$error":"#DIV/0!"},null,null,null,null,null,null,{"$error":"#DIV/0!"},null,{"$error":"#DIV/0!"},null,null,{"$error":"#DIV/0!"}]
[null,18,{"$f":"'DATOS DEL ESTUDIANTE'!B21","v":0},{"$f":"'DATOS DEL ESTUDIANTE'!C21","v":0},{"$f":"'DATOS DEL ESTUDIANTE'!D21","v":0},null,null,null,null,null,null,null,{"$error":"#DIV/0!"},null,null,null,null,null,null,{"$error":"#DIV/0!"},null,{"$error":"#DIV/0!"},null,null,{"$error":"#DIV/0!"}]
[null,19,{"$f":"'DATOS DEL ESTUDIANTE'!B22","v":0},{"$f":"'DATOS DEL ESTUDIANTE'!C22","v":0},{"$f":"'DATOS DEL ESTUDIANTE'!D22","v":0},null,null,null,null,null,null,null,{"$error":"#DIV/0!"},null,null,null,null,null,null,{"$error":"#DIV/0!"},null,{"$error":"#DIV/0!"},null,null,{"$error":"#DIV/0!"}]
[null,20,{"$f":"'DATOS DEL ESTUDIANTE'!B23","v":0},{"$f":"'DATOS DEL ESTUDIANTE'!C23","v":0},{"$f":"'DATOS DEL ESTUDIANTE'!D23","v":0},null,null,null,null,null,null,null,{"$error":"#DIV/0!"},null,null,null,null,null,null,{"$error":"#DIV/0!"},null,{"$error":"#DIV/0!"},null,null,{"$error":"#DIV/0!"}]
[null,21,{"$f":"'DATOS DEL ESTUDIANTE'!B24","v":0},{"$f":"'DATOS DEL ESTUDIANTE'!C24","v":0},{"$f":"'DATOS DEL ESTUDIANTE'!D24","v":0},null,null,null,null,null,null,null,{"$error":"#DIV/0!"},null,null,null,null,null,null,{"$error":"#DIV/0!"},null,{"$error":"#DIV/0!"},null,null,{"$error":"#DIV/0!"}]
[null,22,{"$f":"'DATOS DEL ESTUDIANTE'!B25","v":0},{"$f":"'DATOS DEL ESTUDIANTE'!C25","v":0},{"$f":"'DATOS DEL ESTUDIANTE'!D25","v":0},null,null,null,null,null,null,null,{"$error":"#DIV/0!"},null,null,null,null,null,null,{"$error":"#DIV/0!"},null,{"$error":"#DIV/0!"},null,null,{"$error":"#DIV/0!"}]
[null,23,{"$f":"'DATOS DEL ESTUDIANTE'!B26","v":0},{"$f":"'DATOS DEL ESTUDIANTE'!C26","v":0},{"$f":"'DATOS DEL ESTUDIANTE'!D26","v":0},null,null,null,null,null,null,null,{"$error":"#DIV/0!"},null,null,null,null,null,null,{"$error":"#DIV/0!"},null,{"$error":"#DIV/0!"},null,null,{"$error":"#DIV/0!"}]
[null,24,{"$f":"'DATOS DEL ESTUDIANTE'!B27","v":0},{"$f":"'DATOS DEL ESTUDIANTE'!C27","v":0},{"$f":"'DATOS DEL ESTUDIANTE'!D27","v":0},null,null,null,null,null,null,null,{"$error":"#DIV/0!"},null,null,null,null,null,null,{"$error":"#DIV/0!"},null,{"$error":"#DIV/0!"},null,null,{"$error":"#DIV/0!"}]
[null,25,{"$f":"'DATOS DEL ESTUDIANTE'!B28","v":0},{"$f":"'DATOS DEL ESTUDIANTE'!C28","v":0},{"$f":"'DATOS DEL ESTUDIANTE'!D28","v":0},null,null,null,null,null,null,null,{"$error":"#DIV/0!"},null,null,null,null,null,null,{"$error":"#DIV/0!"},null,{"$error":"#DIV/0!"},null,null,{"$error":"#DIV/0!"}]
[null,26,{"$f":"'DATOS DEL ESTUDIANTE'!B29","v":0},{"$f":"'DATOS DEL ESTUDIANTE'!C29","v":0},{"$f":"'DATOS DEL ESTUDIANTE'!D29","v":0},null,null,null,null,null,null,null,{"$error":"#DIV/0!"},null,null,null,null,null,null,{"$error":"#DIV/0!"},null,{"$error":"#DIV/0!"},null,null,{"$error":"#DIV/0!"}]
[null,27,{"$f":"'DATOS DEL ESTUDIANTE'!B30","v":0},{"$f":"'DATOS DEL ESTUDIANTE'!C30","v":0},{"$f":"'DATOS DEL ESTUDIANTE'!D30","v":0},null,null,null,null,null,null,null,{"$error":"#DIV/0!"},null,null,null,null,null,null,{"$error":"#DIV/0!"},null,{"$error":"#DIV/0!"},null,null,{"$error":"#DIV/0!"}]
[null,28,{"$f":"'DATOS DEL ESTUDIANTE'!B31","v":0},{"$f":"'DATOS DEL ESTUDIANTE'!C31","v":0},{"$f":"'DATOS DEL ESTUDIANTE'!D31","v":0},null,null,null,null,null,null,null,{"$error":"#DIV/0!"},null,null,null,null,null,null,{"$error":"#DIV/0!"},null,{"$error":"#DIV/0!"},null,null,{"$error":"#DIV/0!"}]
[null,29,{"$f":"'DATOS DEL ESTUDIANTE'!B32","v":0},{"$f":"'DATOS DEL ESTUDIANTE'!C32","v":0},{"$f":"'DATOS DEL ESTUDIANTE'!D32","v":0},null,null,null,null,null,null,null,{"$error":"#DIV/0!"},null,null,null,null,null,null,{"$error":"#DIV/0!"},null,{"$error":"#DIV/0!"},null,null,{"$error":"#DIV/0!"}]
[null,30,{"$f":"'DATOS DEL ESTUDIANTE'!B33","v":0},{"$f":"'DATOS DEL ESTUDIANTE'!C33","v":0},{"$f":"'DATOS DEL ESTUDIANTE'!D33","v":0},null,null,null,null,null,null,null,{"$error":"#DIV/0!"},null,null,null,null,null,null,{"$error":"#DIV/0!"},null,{"$error":"#DIV/0!"},null,null,{"$error":"#DIV/0!"}]
[null,31,{"$f":"'DATOS DEL ESTUDIANTE'!B34","v":0},{"$f":"'DATOS DEL ESTUDIANTE'!C34","v":0},{"$f":"'DATOS DEL ESTUDIANTE'!D34","v":0},null,null,null,null,null,null,null,{"$error":"#DIV/0!"},null,null,null,null,null,null,{"$error":"#DIV/0!"},null,{"$error":"#DIV/0!"},null,null,{"$error":"#DIV/0!"}]
[null,32,{"$f":"'DATOS DEL ESTUDIANTE'!B35","v":0},{"$f":"'DATOS DEL ESTUDIANTE'!C35","v":0},{"$f":"'DATOS DEL ESTUDIANTE'!D35","v":0},null,null,null,null,null,null,null,{"$error":"#DIV/0!"},null,null,null,null,null,null,{"$error":"#DIV/0!"},null,{"$error":"#DIV/0!"},null,null,{"$error":"#DIV/0!"}]
[null,33,{"$f":"'DATOS DEL ESTUDIANTE'!B36","v":0},{"$f":"'DATOS DEL ESTUDIANTE'!C36","v":0},{"$f":"'DATOS DEL ESTUDIANTE'!D36","v":0},null,null,null,null,null,null,null,{"$error":"#DIV/0!"},null,null,null,null,null,null,{"$error":"#DIV/0!"},null,{"$error":"#DIV/0!"},null,null,{"$error":"#DIV/0!"}]
[null,34,{"$f":"'DATOS DEL ESTUDIANTE'!B37","v":0},{"$f":"'DATOS DEL ESTUDIANTE'!C37","v":0},{"$f":"'DATOS DEL ESTUDIANTE'!D37","v":0},null,null,null,null,null,null,null,{"$error":"#DIV/0!"},null,null,null,null,null,null,{"$error":"#DIV/0!"},null,{"$error":"#DIV/0!"},null,null,{"$error":"#DIV/0!"}]
[null,35,{"$f":"'DATOS DEL ESTUDIANTE'!B38","v":0},{"$f":"'DATOS DEL ESTUDIANTE'!C38","v":0},{"$f":"'DATOS DEL ESTUDIANTE'!D38","v":0},null,null,null,null,null,null,null,{"$error":"#DIV/0!"},null,null,null,null,null,null,{"$error":"#DIV/0!"},null,{"$error":"#DIV/0!"},null,null,{"$error":"#DIV/0!"}]
[null,36,{"$f":"'DATOS DEL ESTUDIANTE'!B39","v":0},{"$f":"'DATOS DEL ESTUDIANTE'!C39","v":0},{"$f":"'DATOS DEL ESTUDIANTE'!D39","v":0},null,null,null,null,null,null,null,{"$error":"#DIV/0!"},null,null,null,null,null,null,{"$error":"#DIV/0!"},null,{"$error":"#DIV/0!"},null,null,{"$error":"#DIV/0!"}]
[null,37,{"$f":"'DATOS DEL ESTUDIANTE'!B40","v":0},{"$f":"'DATOS DEL ESTUDIANTE'!C40","v":0},{"$f":"'DATOS DEL ESTUDIANTE'!D40","v":0},null,null,null,null,null,null,null,{"$error":"#DIV/0!"},null,null,null,null,null,null,{"$error":"#DIV/0!"},null,{"$error":"#DIV/0!"},null,null,{"$error":"#DIV/0!"}]
[null,38,{"$f":"'DATOS DEL ESTUDIANTE'!B41","v":0},{"$f":"'DATOS DEL ESTUDIANTE'!C41","v":0},{"$f":"'DATOS DEL ESTUDIANTE'!D41","v":0},null,null,null,null,null,null,null,{"$error":"#DIV/0!"},null,null,null,null,null,null,{"$error":"#DIV/0!"},null,{"$error":"#DIV/0!"},null,null,{"$error":"#DIV/0!"}]
[null,39,{"$f":"'DATOS DEL ESTUDIANTE'!B42","v":0},{"$f":"'DATOS DEL ESTUDIANTE'!C42","v":0},{"$f":"'DATOS DEL ESTUDIANTE'!D42","v":0},null,null,null,null,null,null,null,{"$error":"#DIV/0!"},null,null,null,null,null,null,{"$error":"#DIV/0!"},null,{"$error":"#DIV/0!"},null,null,{"$error":"#DIV/0!"}]
[null,40,{"$f":"'DATOS DEL ESTUDIANTE'!B43","v":0},{"$f":"'DATOS DEL ESTUDIANTE'!C43","v":0},{"$f":"'DATOS DEL ESTUDIANTE'!D43","v":0},null,null,null,null,null,null,null,{"$error":"#DIV/0!"},null,null,null,null,null,null,{"$error":"#DIV/0!"},null,{"$error":"#DIV/0!"},null,null,{"$error":"#DIV/0!"}]
[null,41,{"$f":"'DATOS DEL ESTUDIANTE'!B44","v":0},{"$f":"'DATOS DEL ESTUDIANTE'!C44","v":0},{"$f":"'DATOS DEL ESTUDIANTE'!D44","v":0},null,null,null,null,null,null,null,{"$error":"#DIV/0!"},null,null,null,null,null,null,{"$error":"#DIV/0!"},null,{"$error":"#DIV/0!"},null,null,{"$error":"#DIV/0!"}]
[null,42,{"$f":"'DATOS DEL ESTUDIANTE'!B45","v":0},{"$f":"'DATOS DEL ESTUDIANTE'!C45","v":0},{"$f":"'DATOS DEL ESTUDIANTE'!D45","v":0},null,null,null,null,null,null,null,{"$error":"#DIV/0!"},null,null,null,null,null,null,{"$error":"#DIV/0!"},null,{"$error":"#DIV/0!"},null,null,{"$error":"#DIV/0!"}]
[null,43,{"$f":"'DATOS DEL ESTUDIANTE'!B46","v":0},{"$f":"'DATOS DEL ESTUDIANTE'!C46","v":0},{"$f":"'DATOS DEL ESTUDIANTE'!D46","v":0},null,null,null,null,null,null,null,{"$error":"#DIV/0!"},null,null,null,null,null,null,{"$error":"#DIV/0!"},null,{"$error":"#DIV/0!"},null,null,{"$error":"#DIV/0!"}]
[null,44,{"$f":"'DATOS DEL ESTUDIANTE'!B47","v":0},{"$f":"'DATOS DEL ESTUDIANTE'!C47","v":0},{"$f":"'DATOS DEL ESTUDIANTE'!D47","v":0},null,null,null,null,null,null,null,{"$error":"#DIV/0!"},null,null,null,null,null,null,{"$error":"#DIV/0!"},null,{"$error":"#DIV/0!"},null,null,{"$error":"#DIV/0!"}]
[null,45,{"$f":"'DATOS DEL ESTUDIANTE'!B48","v":0},{"$f":"'DATOS DEL ESTUDIANTE'!C48","v":0},{"$f":"'DATOS DEL ESTUDIANTE'!D48","v":0},null,null,null,null,null,null,null,{"$error":"#DIV/0!"},null,null,null,null,null,null,{"$error":"#DIV/0!"},null,{"$error":"#DIV/0!"},null,null,{"$error":"#DIV/0!"}]

{"sheet":"MATEMATICAS 1","index":36,"n_rows":55,"n_cols":25,"rows_kept":55,"cut":false,"hidden":false,"merged":[[0,25,3,25],[3,13,3,19],[1,4,1,9],[8,16,9,16],[8,17,9,17],[8,18,9,18],[8,15,9,15],[4,19,9,19],[8,2,8,4],[3,6,3,12],[8,8,9,8],[8,9,9,9],[8,10,9,10],[8,11,9,11],[4,8,6,9],[4,13,6,14],[3,21,9,21],[3,22,8,23],[3,24,9,24],[4,15,6,16],[4,17,6,18],[4,20,6,20],[0,21,2,24],[1,10,1,12],[1,13,1,19],[1,20,2,20],[2,1,2,19],[1,1,1,3],[8,1,9,1],[8,20,9,20],[8,7,9,7],[4,10,6,11],[0,0,9,0],[0,1,0,19],[3,1,3,4],[8,5,9,5],[8,6,9,6],[8,13,9,13],[8,14,9,14],[4,12,9,12],[7,1,7,4],[4,1,6,4],[4,5,6,5],[4,6,6,7]]}
[null,"  MATEMATICA",null,null,null,null,null,null,null,null,null,null,null,null,null,null,null,null,null,null,2018]
[null,"AÑO DE ESCOLARIDAD:",null,null,{"$f":"CARATULA!G15","v":0},null,null,null,null,null,"MAESTRA (O): ",null,null,{"$f":"CARATULA!G18","v":0},null,null,null,null,null,null,"PRIMER\nBIMESTRE"]
[null," REGISTRO  Y CENTRALIZADOR DEL PROCESO DE  EVALUACIÓN   "]
[null,"DIMENSIONES",null,null,null,"SER (10)","SABER (35)",null,null,null,null,null,null,"HACER (35)",null,null,null,null,null,null,"DECIDIR (10)","TOTAL     EVALUACIÓN    DEL     MAESTRO","AUTOEVALUACIÓN",null,"CALIFICACIÓN BIMESTRAL"]
[null,"CRITERIOS DE EVALUACIÓN SEGÚN PDC",null,null,null,null,null,null,null,null,null,null,"T      O     T     A       L",null,null,null,null,null,null,"T      O     T     A       L"]
[]
[]
[null,"INSTRUMENTO Y/ O ESTRATEGIAS DE EVALUACIÓN"]
[null,"N°","    FECHA DE  EVALUACIÓN\n \n\n"]
[null,null,"NOMBRES ","APELLIDO PATERNO"," \nAPELLIDO MATERNO",null,null,null,null,null,null,null,null,null,null,null,null,null,null,null,null,null,"SER\n(5)","DECIDIR\n(5)"]
[null,1,{"$f":"'DATOS DEL ESTUDIANTE'!B4","v":0},{"$f":"'DATOS DEL ESTUDIANTE'!C4","v":0},{"$f":"'DATOS DEL ESTUDIANTE'!D4","v":0},null,null,null,null,null,null,null,{"$f":"AVERAGE(G11:L11)","v":{"$error":"#DIV/0!"}},null,null,null,null,null,null,{"$f":"AVERAGE(N11:S11)","v":{"$error":"#DIV/0!"}},null,{"$f":"SUM(F11+M11+T11+U11)","v":{"$error":"#DIV/0!"}},null,null,{"$f":"SUM(V11:X11)","v":{"$error":"#DIV/0!"}}]
[null,2,{"$f":"'DATOS DEL ESTUDIANTE'!B5","v":0},{"$f":"'DATOS DEL ESTUDIANTE'!C5","v":0},{"$f":"'DATOS DEL ESTUDIANTE'!D5","v":0},null,null,null,null,null,null,null,{"$f":"AVERAGE(G12:L12)","v":{"$error":"#DIV/0!"}},null,null,null,null,null,null,{"$f":"AVERAGE(N12:S12)","v":{"$error":"#DIV/0!"}},null,{"$f":"SUM(F12+M12+T12+U12)","v":{"$error":"#DIV/0!"}},null,null,{"$f":"SUM(V12:X12)","v":{"$error":"#DIV/0!"}}]
[null,3,{"$f":"'DATOS DEL ESTUDIANTE'!B6","v":0},{"$f":"'DATOS DEL ESTUDIANTE'!C6","v":0},{"$f":"'DATOS DEL ESTUDIANTE'!D6","v":0},null,null,null,null,null,null,null,{"$error":"#DIV/0!"},null,null,null,null,null,null,{"$error":"#DIV/0!"},null,{"$error":"#DIV/0!"},null,null,{"$error":"#DIV/0!"}]
[null,4,{"$f":"'DATOS DEL ESTUDIANTE'!B7","v":0},{"$f":"'DATOS DEL ESTUDIANTE'!C7","v":0},{"$f":"'DATOS DEL ESTUDIANTE'!D7","v":0},null,null,null,null,null,null,null,{"$error":"#DIV/0!"},null,null,null,null,null,null,{"$error":"#DIV/0!"},null,{"$error":"#DIV/0!"},null,null,{"$error":"#DIV/0!"}]
[null,5,{"$f":"'DATOS DEL ESTUDIANTE'!B8","v":0},{"$f":"'DATOS DEL ESTUDIANTE'!C8","v":0},{"$f":"'DATOS DEL ESTUDIANTE'!D8","v":0},null,null,null,null,null,null,null,{"$error":"#DIV/0!"},null,null,null,null,null,null,{"$error":"#DIV/0!"},null,{"$error":"#DIV/0!"},null,null,{"$error":"#DIV/0!"}]
[null,6,{"$f":"'DATOS DEL ESTUDIANTE'!B9","v":0},{"$f":"'DATOS DEL ESTUDIANTE'!C9","v":0},{"$f":"'DATOS DEL ESTUDIANTE'!D9","v":0},null,null,null,null,null,null,null,{"$error":"#DIV/0!"},null,null,null,null,null,null,{"$error":"#DIV/0!"},null,{"$error":"#DIV/0!"},null,null,{"$error":"#DIV/0!"}]
[null,7,{"$f":"'DATOS DEL ESTUDIANTE'!B10","v":0},{"$f":"'DATOS DEL ESTUDIANTE'!C10","v":0},{"$f":"'DATOS DEL ESTUDIANTE'!D10","v":0},null,null,null,null,null,null,null,{"$error":"#DIV/0!"},null,null,null,null,null,null,{"$error":"#DIV/0!"},null,{"$error":"#DIV/0!"},null,null,{"$error":"#DIV/0!"}]
[null,8,{"$f":"'DATOS DEL ESTUDIANTE'!B11","v":0},{"$f":"'DATOS DEL ESTUDIANTE'!C11","v":0},{"$f":"'DATOS DEL ESTUDIANTE'!D11","v":0},null,null,null,null,null,null,null,{"$error":"#DIV/0!"},null,null,null,null,null,null,{"$error":"#DIV/0!"},null,{"$error":"#DIV/0!"},null,null,{"$error":"#DIV/0!"}]
[null,9,{"$f":"'DATOS DEL ESTUDIANTE'!B12","v":0},{"$f":"'DATOS DEL ESTUDIANTE'!C12","v":0},{"$f":"'DATOS DEL ESTUDIANTE'!D12","v":0},null,null,null,null,null,null,null,{"$error":"#DIV/0!"},null,null,null,null,null,null,{"$error":"#DIV/0!"},null,{"$error":"#DIV/0!"},null,null,{"$error":"#DIV/0!"}]
[null,10,{"$f":"'DATOS DEL ESTUDIANTE'!B13","v":0},{"$f":"'DATOS DEL ESTUDIANTE'!C13","v":0},{"$f":"'DATOS DEL ESTUDIANTE'!D13","v":0},null,null,null,null,null,null,null,{"$error":"#DIV/0!"},null,null,null,null,null,null,{"$error":"#DIV/0!"},null,{"$error":"#DIV/0!"},null,null,{"$error":"#DIV/0!"}]
[null,11,{"$f":"'DATOS DEL ESTUDIANTE'!B14","v":0},{"$f":"'DATOS DEL ESTUDIANTE'!C14","v":0},{"$f":"'DATOS DEL ESTUDIANTE'!D14","v":0},null,null,null,null,null,null,null,{"$error":"#DIV/0!"},null,null,null,null,null,null,{"$error":"#DIV/0!"},null,{"$error":"#DIV/0!"},null,null,{"$error":"#DIV/0!"}]
[null,12,{"$f":"'DATOS DEL ESTUDIANTE'!B15","v":0},{"$f":"'DATOS DEL ESTUDIANTE'!C15","v":0},{"$f":"'DATOS DEL ESTUDIANTE'!D15","v":0},null,null,null,null,null,null,null,{"$error":"#DIV/0!"},null,null,null,null,null,null,{"$error":"#DIV/0!"},null,{"$error":"#DIV/0!"},null,null,{"$error":"#DIV/0!"}]
[null,13,{"$f":"'DATOS DEL ESTUDIANTE'!B16","v":0},{"$f":"'DATOS DEL ESTUDIANTE'!C16","v":0},{"$f":"'DATOS DEL ESTUDIANTE'!D16","v":0},null,null,null,null,null,null,null,{"$error":"#DIV/0!"},null,null,null,null,null,null,{"$error":"#DIV/0!"},null,{"$error":"#DIV/0!"},null,null,{"$error":"#DIV/0!"}]
[null,14,{"$f":"'DATOS DEL ESTUDIANTE'!B17","v":0},{"$f":"'DATOS DEL ESTUDIANTE'!C17","v":0},{"$f":"'DATOS DEL ESTUDIANTE'!D17","v":0},null,null,null,null,null,null,null,{"$error":"#DIV/0!"},null,null,null,null,null,null,{"$error":"#DIV/0!"},null,{"$error":"#DIV/0!"},null,null,{"$error":"#DIV/0!"}]
[null,15,{"$f":"'DATOS DEL ESTUDIANTE'!B18","v":0},{"$f":"'DATOS DEL ESTUDIANTE'!C18","v":0},{"$f":"'DATOS DEL ESTUDIANTE'!D18","v":0},null,null,null,null,null,null,null,{"$error":"#DIV/0!"},null,null,null,null,null,null,{"$error":"#DIV/0!"},null,{"$error":"#DIV/0!"},null,null,{"$error":"#DIV/0!"}]
[null,16,{"$f":"'DATOS DEL ESTUDIANTE'!B19","v":0},{"$f":"'DATOS DEL ESTUDIANTE'!C19","v":0},{"$f":"'DATOS DEL ESTUDIANTE'!D19","v":0},null,null,null,null,null,null,null,{"$error":"#DIV/0!"},null,null,null,null,null,null,{"$error":"#DIV/0!"},null,{"$error":"#DIV/0!"},null,null,{"$error":"#DIV/0!"}]
[null,17,{"$f":"'DATOS DEL ESTUDIANTE'!B20","v":0},{"$f":"'DATOS DEL ESTUDIANTE'!C20","v":0},{"$f":"'DATOS DEL ESTUDIANTE'!D20","v":0},null,null,null,null,null,null,null,{"$error":"#DIV/0!"},null,null,null,null,null,null,{"$error":"#DIV/0!"},null,{"$error":"#DIV/0!"},null,null,{"$error":"#DIV/0!"}]
[null,18,{"$f":"'DATOS DEL ESTUDIANTE'!B21","v":0},{"$f":"'DATOS DEL ESTUDIANTE'!C21","v":0},{"$f":"'DATOS DEL ESTUDIANTE'!D21","v":0},null,null,null,null,null,null,null,{"$error":"#DIV/0!"},null,null,null,null,null,null,{"$error":"#DIV/0!"},null,{"$error":"#DIV/0!"},null,null,{"$error":"#DIV/0!"}]
[null,19,{"$f":"'DATOS DEL ESTUDIANTE'!B22","v":0},{"$f":"'DATOS DEL ESTUDIANTE'!C22","v":0},{"$f":"'DATOS DEL ESTUDIANTE'!D22","v":0},null,null,null,null,null,null,null,{"$error":"#DIV/0!"},null,null,null,null,null,null,{"$error":"#DIV/0!"},null,{"$error":"#DIV/0!"},null,null,{"$error":"#DIV/0!"}]
[null,20,{"$f":"'DATOS DEL ESTUDIANTE'!B23","v":0},{"$f":"'DATOS DEL ESTUDIANTE'!C23","v":0},{"$f":"'DATOS DEL ESTUDIANTE'!D23","v":0},null,null,null,null,null,null,null,{"$error":"#DIV/0!"},null,null,null,null,null,null,{"$error":"#DIV/0!"},null,{"$error":"#DIV/0!"},null,null,{"$error":"#DIV/0!"}]
[null,21,{"$f":"'DATOS DEL ESTUDIANTE'!B24","v":0},{"$f":"'DATOS DEL ESTUDIANTE'!C24","v":0},{"$f":"'DATOS DEL ESTUDIANTE'!D24","v":0},null,null,null,null,null,null,null,{"$error":"#DIV/0!"},null,null,null,null,null,null,{"$error":"#DIV/0!"},null,{"$error":"#DIV/0!"},null,null,{"$error":"#DIV/0!"}]
[null,22,{"$f":"'DATOS DEL ESTUDIANTE'!B25","v":0},{"$f":"'DATOS DEL ESTUDIANTE'!C25","v":0},{"$f":"'DATOS DEL ESTUDIANTE'!D25","v":0},null,null,null,null,null,null,null,{"$error":"#DIV/0!"},null,null,null,null,null,null,{"$error":"#DIV/0!"},null,{"$error":"#DIV/0!"},null,null,{"$error":"#DIV/0!"}]
[null,23,{"$f":"'DATOS DEL ESTUDIANTE'!B26","v":0},{"$f":"'DATOS DEL ESTUDIANTE'!C26","v":0},{"$f":"'DATOS DEL ESTUDIANTE'!D26","v":0},null,null,null,null,null,null,null,{"$error":"#DIV/0!"},null,null,null,null,null,null,{"$error":"#DIV/0!"},null,{"$error":"#DIV/0!"},null,null,{"$error":"#DIV/0!"}]
[null,24,{"$f":"'DATOS DEL ESTUDIANTE'!B27","v":0},{"$f":"'DATOS DEL ESTUDIANTE'!C27","v":0},{"$f":"'DATOS DEL ESTUDIANTE'!D27","v":0},null,null,null,null,null,null,null,{"$error":"#DIV/0!"},null,null,null,null,null,null,{"$error":"#DIV/0!"},null,{"$error":"#DIV/0!"},null,null,{"$error":"#DIV/0!"}]
[null,25,{"$f":"'DATOS DEL ESTUDIANTE'!B28","v":0},{"$f":"'DATOS DEL ESTUDIANTE'!C28","v":0},{"$f":"'DATOS DEL ESTUDIANTE'!D28","v":0},null,null,null,null,null,null,null,{"$error":"#DIV/0!"},null,null,null,null,null,null,{"$error":"#DIV/0!"},null,{"$error":"#DIV/0!"},null,null,{"$error":"#DIV/0!"}]
[null,26,{"$f":"'DATOS DEL ESTUDIANTE'!B29","v":0},{"$f":"'DATOS DEL ESTUDIANTE'!C29","v":0},{"$f":"'DATOS DEL ESTUDIANTE'!D29","v":0},null,null,null,null,null,null,null,{"$error":"#DIV/0!"},null,null,null,null,null,null,{"$error":"#DIV/0!"},null,{"$error":"#DIV/0!"},null,null,{"$error":"#DIV/0!"}]
[null,27,{"$f":"'DATOS DEL ESTUDIANTE'!B30","v":0},{"$f":"'DATOS DEL ESTUDIANTE'!C30","v":0},{"$f":"'DATOS DEL ESTUDIANTE'!D30","v":0},null,null,null,null,null,null,null,{"$error":"#DIV/0!"},null,null,null,null,null,null,{"$error":"#DIV/0!"},null,{"$error":"#DIV/0!"},null,null,{"$error":"#DIV/0!"}]
[null,28,{"$f":"'DATOS DEL ESTUDIANTE'!B31","v":0},{"$f":"'DATOS DEL ESTUDIANTE'!C31","v":0},{"$f":"'DATOS DEL ESTUDIANTE'!D31","v":0},null,null,null,null,null,null,null,{"$error":"#DIV/0!"},null,null,null,null,null,null,{"$error":"#DIV/0!"},null,{"$error":"#DIV/0!"},null,null,{"$error":"#DIV/0!"}]
[null,29,{"$f":"'DATOS DEL ESTUDIANTE'!B32","v":0},{"$f":"'DATOS DEL ESTUDIANTE'!C32","v":0},{"$f":"'DATOS DEL ESTUDIANTE'!D32","v":0},null,null,null,null,null,null,null,{"$error":"#DIV/0!"},null,null,null,null,null,null,{"$error":"#DIV/0!"},null,{"$error":"#DIV/0!"},null,null,{"$error":"#DIV/0!"}]
[null,30,{"$f":"'DATOS DEL ESTUDIANTE'!B33","v":0},{"$f":"'DATOS DEL ESTUDIANTE'!C33","v":0},{"$f":"'DATOS DEL ESTUDIANTE'!D33","v":0},null,null,null,null,null,null,null,{"$error":"#DIV/0!"},null,null,null,null,null,null,{"$error":"#DIV/0!"},null,{"$error":"#DIV/0!"},null,null,{"$error":"#DIV/0!"}]
[null,31,{"$f":"'DATOS DEL ESTUDIANTE'!B34","v":0},{"$f":"'DATOS DEL ESTUDIANTE'!C34","v":0},{"$f":"'DATOS DEL ESTUDIANTE'!D34","v":0},null,null,null,null,null,null,null,{"$error":"#DIV/0!"},null,null,null,null,null,null,{"$error":"#DIV/0!"},null,{"$error":"#DIV/0!"},null,null,{"$error":"#DIV/0!"}]
[null,32,{"$f":"'DATOS DEL ESTUDIANTE'!B35","v":0},{"$f":"'DATOS DEL ESTUDIANTE'!C35","v":0},{"$f":"'DATOS DEL ESTUDIANTE'!D35","v":0},null,null,null,null,null,null,null,{"$error":"#DIV/0!"},null,null,null,null,null,null,{"$error":"#DIV/0!"},null,{"$error":"#DIV/0!"},null,null,{"$error":"#DIV/0!"}]
[null,33,{"$f":"'DATOS DEL ESTUDIANTE'!B36","v":0},{"$f":"'DATOS DEL ESTUDIANTE'!C36","v":0},{"$f":"'DATOS DEL ESTUDIANTE'!D36","v":0},null,null,null,null,null,null,null,{"$error":"#DIV/0!"},null,null,null,null,null,null,{"$error":"#DIV/0!"},null,{"$error":"#DIV/0!"},null,null,{"$error":"#DIV/0!"}]
[null,34,{"$f":"'DATOS DEL ESTUDIANTE'!B37","v":0},{"$f":"'DATOS DEL ESTUDIANTE'!C37","v":0},{"$f":"'DATOS DEL ESTUDIANTE'!D37","v":0},null,null,null,null,null,null,null,{"$error":"#DIV/0!"},null,null,null,null,null,null,{"$error":"#DIV/0!"},null,{"$error":"#DIV/0!"},null,null,{"$error":"#DIV/0!"}]
[null,35,{"$f":"'DATOS DEL ESTUDIANTE'!B38","v":0},{"$f":"'DATOS DEL ESTUDIANTE'!C38","v":0},{"$f":"'DATOS DEL ESTUDIANTE'!D38","v":0},null,null,null,null,null,null,null,{"$error":"#DIV/0!"},null,null,null,null,null,null,{"$error":"#DIV/0!"},null,{"$error":"#DIV/0!"},null,null,{"$error":"#DIV/0!"}]
[null,36,{"$f":"'DATOS DEL ESTUDIANTE'!B39","v":0},{"$f":"'DATOS DEL ESTUDIANTE'!C39","v":0},{"$f":"'DATOS DEL ESTUDIANTE'!D39","v":0},null,null,null,null,null,null,null,{"$error":"#DIV/0!"},null,null,null,null,null,null,{"$error":"#DIV/0!"},null,{"$error":"#DIV/0!"},null,null,{"$error":"#DIV/0!"}]
[null,37,{"$f":"'DATOS DEL ESTUDIANTE'!B40","v":0},{"$f":"'DATOS DEL ESTUDIANTE'!C40","v":0},{"$f":"'DATOS DEL ESTUDIANTE'!D40","v":0},null,null,null,null,null,null,null,{"$error":"#DIV/0!"},null,null,null,null,null,null,{"$error":"#DIV/0!"},null,{"$error":"#DIV/0!"},null,null,{"$error":"#DIV/0!"}]
[null,38,{"$f":"'DATOS DEL ESTUDIANTE'!B41","v":0},{"$f":"'DATOS DEL ESTUDIANTE'!C41","v":0},{"$f":"'DATOS DEL ESTUDIANTE'!D41","v":0},null,null,null,null,null,null,null,{"$error":"#DIV/0!"},null,null,null,null,null,null,{"$error":"#DIV/0!"},null,{"$error":"#DIV/0!"},null,null,{"$error":"#DIV/0!"}]
[null,39,{"$f":"'DATOS DEL ESTUDIANTE'!B42","v":0},{"$f":"'DATOS DEL ESTUDIANTE'!C42","v":0},{"$f":"'DATOS DEL ESTUDIANTE'!D42","v":0},null,null,null,null,null,null,null,{"$error":"#DIV/0!"},null,null,null,null,null,null,{"$error":"#DIV/0!"},null,{"$error":"#DIV/0!"},null,null,{"$error":"#DIV/0!"}]
[null,40,{"$f":"'DATOS DEL ESTUDIANTE'!B43","v":0},{"$f":"'DATOS DEL ESTUDIANTE'!C43","v":0},{"$f":"'DATOS DEL ESTUDIANTE'!D43","v":0},null,null,null,null,null,null,null,{"$error":"#DIV/0!"},null,null,null,null,null,null,{"$error":"#DIV/0!"},null,{"$error":"#DIV/0!"},null,null,{"$error":"#DIV/0!"}]
[null,41,{"$f":"'DATOS DEL ESTUDIANTE'!B44","v":0},{"$f":"'DATOS DEL ESTUDIANTE'!C44","v":0},{"$f":"'DATOS DEL ESTUDIANTE'!D44","v":0},null,null,null,null,null,null,null,{"$error":"#DIV/0!"},null,null,null,null,null,null,{"$error":"#DIV/0!"},null,{"$error":"#DIV/0!"},null,null,{"$error":"#DIV/0!"}]
[null,42,{"$f":"'DATOS DEL ESTUDIANTE'!B45","v":0},{"$f":"'DATOS DEL ESTUDIANTE'!C45","v":0},{"$f":"'DATOS DEL ESTUDIANTE'!D45","v":0},null,null,null,null,null,null,null,{"$error":"#DIV/0!"},null,null,null,null,null,null,{"$error":"#DIV/0!"},null,{"$error":"#DIV/0!"},null,null,{"$error":"#DIV/0!"}]
[null,43,{"$f":"'DATOS DEL ESTUDIANTE'!B46","v":0},{"$f":"'DATOS DEL ESTUDIANTE'!C46","v":0},{"$f":"'DATOS DEL ESTUDIANTE'!D46","v":0},null,null,null,null,null,null,null,{"$error":"#DIV/0!"},null,null,null,null,null,null,{"$error":"#DIV/0!"},null,{"$error":"#DIV/0!"},null,null,{"$error":"#DIV/0!"}]
[null,44,{"$f":"'DATOS DEL ESTUDIANTE'!B47","v":0},{"$f":"'DATOS DEL ESTUDIANTE'!C47","v":0},{"$f":"'DATOS DEL ESTUDIANTE'!D47","v":0},null,null,null,null,null,null,null,{"$error":"#DIV/0!"},null,null,null,null,null,null,{"$error":"#DIV/0!"},null,{"$error":"#DIV/0!"},null,null,{"$error":"#DIV/0!"}]
[null,45,{"$f":"'DATOS DEL ESTUDIANTE'!B48","v":0},{"$f":"'DATOS DEL ESTUDIANTE'!C48","v":0},{"$f":"'DATOS DEL ESTUDIANTE'!D48","v":0},null,null,null,null,null,null,null,{"$error":"#DIV/0!"},null,null,null,null,null,null,{"$error":"#DIV/0!"},null,{"$error":"#DIV/0!"},null,null,{"$error":"#DIV/0!"}]

{"sheet":"MATEMATICAS 2","index":37,"n_rows":55,"n_cols":25,"rows_kept":55,"cut":false,"hidden":false,"merged":[[0,25,3,25],[3,13,3,19],[1,4,1,9],[8,16,9,16],[8,17,9,17],[8,18,9,18],[8,15,9,15],[4,19,9,19],[8,2,8,4],[3,6,3,12],[8,8,9,8],[8,9,9,9],[8,10,9,10],[8,11,9,11],[4,8,6,9],[4,13,6,14],[3,21,9,21],[3,22,8,23],[3,24,9,24],[4,15,6,16],[4,17,6,18],[4,20,6,20],[0,21,2,24],[1,10,1,12],[1,13,1,19],[1,20,2,20],[2,1,2,19],[1,1,1,3],[8,1,9,1],[8,20,9,20],[8,7,9,7],[4,10,6,11],[0,0,9,0],[0,1,0,19],[3,1,3,4],[8,5,9,5],[8,6,9,6],[8,13,9,13],[8,14,9,14],[4,12,9,12],[7,1,7,4],[4,1,6,4],[4,5,6,5],[4,6,6,7]]}
[null,"   MATEMATICA",null,null,null,null,null,null,null,null,null,null,null,null,null,null,null,null,null,null,2018]
[null,"AÑO DE ESCOLARIDAD:",null,null,{"$f":"CARATULA!G15","v":0},null,null,null,null,null,"MAESTRA (O): ",null,null,{"$f":"CARATULA!G18","v":0},null,null,null,null,null,null,"SEGUNDO\nBIMESTRE"]
[null," REGISTRO  Y CENTRALIZADOR DEL PROCESO DE  EVALUACIÓN   "]
[null,"DIMENSIONES",null,null,null,"SER (10)","SABER (35)",null,null,null,null,null,null,"HACER (35)",null,null,null,null,null,null,"DECIDIR (10)","TOTAL     EVALUACIÓN    DEL     MAESTRO","AUTOEVALUACIÓN",null,"CALIFICACIÓN BIMESTRAL"]
[null,"CRITERIOS DE EVALUACIÓN SEGÚN PDC",null,null,null,null,null,null,null,null,null,null,"T      O     T     A       L",null,null,null,null,null,null,"T      O     T     A       L"]
[]
[]
[null,"INSTRUMENTO Y/ O ESTRATEGIAS DE EVALUACIÓN"]
[null,"N°","    FECHA DE  EVALUACIÓN\n \n\n"]
[null,null,"NOMBRES ","APELLIDO PATERNO"," \nAPELLIDO MATERNO",null,null,null,null,null,null,null,null,null,null,null,null,null,null,null,null,null,"SER\n(5)","DECIDIR\n(5)"]
[null,1,{"$f":"'DATOS DEL ESTUDIANTE'!B4","v":0},{"$f":"'DATOS DEL ESTUDIANTE'!C4","v":0},{"$f":"'DATOS DEL ESTUDIANTE'!D4","v":0},null,null,null,null,null,null,null,{"$f":"AVERAGE(G11:L11)","v":{"$error":"#DIV/0!"}},null,null,null,null,null,null,{"$f":"AVERAGE(N11:S11)","v":{"$error":"#DIV/0!"}},null,{"$f":"SUM(F11+M11+T11+U11)","v":{"$error":"#DIV/0!"}},null,null,{"$f":"SUM(V11:X11)","v":{"$error":"#DIV/0!"}}]
[null,2,{"$f":"'DATOS DEL ESTUDIANTE'!B5","v":0},{"$f":"'DATOS DEL ESTUDIANTE'!C5","v":0},{"$f":"'DATOS DEL ESTUDIANTE'!D5","v":0},null,null,null,null,null,null,null,{"$f":"AVERAGE(G12:L12)","v":{"$error":"#DIV/0!"}},null,null,null,null,null,null,{"$f":"AVERAGE(N12:S12)","v":{"$error":"#DIV/0!"}},null,{"$f":"SUM(F12+M12+T12+U12)","v":{"$error":"#DIV/0!"}},null,null,{"$f":"SUM(V12:X12)","v":{"$error":"#DIV/0!"}}]
[null,3,{"$f":"'DATOS DEL ESTUDIANTE'!B6","v":0},{"$f":"'DATOS DEL ESTUDIANTE'!C6","v":0},{"$f":"'DATOS DEL ESTUDIANTE'!D6","v":0},null,null,null,null,null,null,null,{"$error":"#DIV/0!"},null,null,null,null,null,null,{"$error":"#DIV/0!"},null,{"$error":"#DIV/0!"},null,null,{"$error":"#DIV/0!"}]
[null,4,{"$f":"'DATOS DEL ESTUDIANTE'!B7","v":0},{"$f":"'DATOS DEL ESTUDIANTE'!C7","v":0},{"$f":"'DATOS DEL ESTUDIANTE'!D7","v":0},null,null,null,null,null,null,null,{"$error":"#DIV/0!"},null,null,null,null,null,null,{"$error":"#DIV/0!"},null,{"$error":"#DIV/0!"},null,null,{"$error":"#DIV/0!"}]
[null,5,{"$f":"'DATOS DEL ESTUDIANTE'!B8","v":0},{"$f":"'DATOS DEL ESTUDIANTE'!C8","v":0},{"$f":"'DATOS DEL ESTUDIANTE'!D8","v":0},null,null,null,null,null,null,null,{"$error":"#DIV/0!"},null,null,null,null,null,null,{"$error":"#DIV/0!"},null,{"$error":"#DIV/0!"},null,null,{"$error":"#DIV/0!"}]
[null,6,{"$f":"'DATOS DEL ESTUDIANTE'!B9","v":0},{"$f":"'DATOS DEL ESTUDIANTE'!C9","v":0},{"$f":"'DATOS DEL ESTUDIANTE'!D9","v":0},null,null,null,null,null,null,null,{"$error":"#DIV/0!"},null,null,null,null,null,null,{"$error":"#DIV/0!"},null,{"$error":"#DIV/0!"},null,null,{"$error":"#DIV/0!"}]
[null,7,{"$f":"'DATOS DEL ESTUDIANTE'!B10","v":0},{"$f":"'DATOS DEL ESTUDIANTE'!C10","v":0},{"$f":"'DATOS DEL ESTUDIANTE'!D10","v":0},null,null,null,null,null,null,null,{"$error":"#DIV/0!"},null,null,null,null,null,null,{"$error":"#DIV/0!"},null,{"$error":"#DIV/0!"},null,null,{"$error":"#DIV/0!"}]
[null,8,{"$f":"'DATOS DEL ESTUDIANTE'!B11","v":0},{"$f":"'DATOS DEL ESTUDIANTE'!C11","v":0},{"$f":"'DATOS DEL ESTUDIANTE'!D11","v":0},null,null,null,null,null,null,null,{"$error":"#DIV/0!"},null,null,null,null,null,null,{"$error":"#DIV/0!"},null,{"$error":"#DIV/0!"},null,null,{"$error":"#DIV/0!"}]
[null,9,{"$f":"'DATOS DEL ESTUDIANTE'!B12","v":0},{"$f":"'DATOS DEL ESTUDIANTE'!C12","v":0},{"$f":"'DATOS DEL ESTUDIANTE'!D12","v":0},null,null,null,null,null,null,null,{"$error":"#DIV/0!"},null,null,null,null,null,null,{"$error":"#DIV/0!"},null,{"$error":"#DIV/0!"},null,null,{"$error":"#DIV/0!"}]
[null,10,{"$f":"'DATOS DEL ESTUDIANTE'!B13","v":0},{"$f":"'DATOS DEL ESTUDIANTE'!C13","v":0},{"$f":"'DATOS DEL ESTUDIANTE'!D13","v":0},null,null,null,null,null,null,null,{"$error":"#DIV/0!"},null,null,null,null,null,null,{"$error":"#DIV/0!"},null,{"$error":"#DIV/0!"},null,null,{"$error":"#DIV/0!"}]
[null,11,{"$f":"'DATOS DEL ESTUDIANTE'!B14","v":0},{"$f":"'DATOS DEL ESTUDIANTE'!C14","v":0},{"$f":"'DATOS DEL ESTUDIANTE'!D14","v":0},null,null,null,null,null,null,null,{"$error":"#DIV/0!"},null,null,null,null,null,null,{"$error":"#DIV/0!"},null,{"$error":"#DIV/0!"},null,null,{"$error":"#DIV/0!"}]
[null,12,{"$f":"'DATOS DEL ESTUDIANTE'!B15","v":0},{"$f":"'DATOS DEL ESTUDIANTE'!C15","v":0},{"$f":"'DATOS DEL ESTUDIANTE'!D15","v":0},null,null,null,null,null,null,null,{"$error":"#DIV/0!"},null,null,null,null,null,null,{"$error":"#DIV/0!"},null,{"$error":"#DIV/0!"},null,null,{"$error":"#DIV/0!"}]
[null,13,{"$f":"'DATOS DEL ESTUDIANTE'!B16","v":0},{"$f":"'DATOS DEL ESTUDIANTE'!C16","v":0},{"$f":"'DATOS DEL ESTUDIANTE'!D16","v":0},null,null,null,null,null,null,null,{"$error":"#DIV/0!"},null,null,null,null,null,null,{"$error":"#DIV/0!"},null,{"$error":"#DIV/0!"},null,null,{"$error":"#DIV/0!"}]
[null,14,{"$f":"'DATOS DEL ESTUDIANTE'!B17","v":0},{"$f":"'DATOS DEL ESTUDIANTE'!C17","v":0},{"$f":"'DATOS DEL ESTUDIANTE'!D17","v":0},null,null,null,null,null,null,null,{"$error":"#DIV/0!"},null,null,null,null,null,null,{"$error":"#DIV/0!"},null,{"$error":"#DIV/0!"},null,null,{"$error":"#DIV/0!"}]
[null,15,{"$f":"'DATOS DEL ESTUDIANTE'!B18","v":0},{"$f":"'DATOS DEL ESTUDIANTE'!C18","v":0},{"$f":"'DATOS DEL ESTUDIANTE'!D18","v":0},null,null,null,null,null,null,null,{"$error":"#DIV/0!"},null,null,null,null,null,null,{"$error":"#DIV/0!"},null,{"$error":"#DIV/0!"},null,null,{"$error":"#DIV/0!"}]
[null,16,{"$f":"'DATOS DEL ESTUDIANTE'!B19","v":0},{"$f":"'DATOS DEL ESTUDIANTE'!C19","v":0},{"$f":"'DATOS DEL ESTUDIANTE'!D19","v":0},null,null,null,null,null,null,null,{"$error":"#DIV/0!"},null,null,null,null,null,null,{"$error":"#DIV/0!"},null,{"$error":"#DIV/0!"},null,null,{"$error":"#DIV/0!"}]
[null,17,{"$f":"'DATOS DEL ESTUDIANTE'!B20","v":0},{"$f":"'DATOS DEL ESTUDIANTE'!C20","v":0},{"$f":"'DATOS DEL ESTUDIANTE'!D20","v":0},null,null,null,null,null,null,null,{"$error":"#DIV/0!"},null,null,null,null,null,null,{"$error":"#DIV/0!"},null,{"$error":"#DIV/0!"},null,null,{"$error":"#DIV/0!"}]
[null,18,{"$f":"'DATOS DEL ESTUDIANTE'!B21","v":0},{"$f":"'DATOS DEL ESTUDIANTE'!C21","v":0},{"$f":"'DATOS DEL ESTUDIANTE'!D21","v":0},null,null,null,null,null,null,null,{"$error":"#DIV/0!"},null,null,null,null,null,null,{"$error":"#DIV/0!"},null,{"$error":"#DIV/0!"},null,null,{"$error":"#DIV/0!"}]
[null,19,{"$f":"'DATOS DEL ESTUDIANTE'!B22","v":0},{"$f":"'DATOS DEL ESTUDIANTE'!C22","v":0},{"$f":"'DATOS DEL ESTUDIANTE'!D22","v":0},null,null,null,null,null,null,null,{"$error":"#DIV/0!"},null,null,null,null,null,null,{"$error":"#DIV/0!"},null,{"$error":"#DIV/0!"},null,null,{"$error":"#DIV/0!"}]
[null,20,{"$f":"'DATOS DEL ESTUDIANTE'!B23","v":0},{"$f":"'DATOS DEL ESTUDIANTE'!C23","v":0},{"$f":"'DATOS DEL ESTUDIANTE'!D23","v":0},null,null,null,null,null,null,null,{"$error":"#DIV/0!"},null,null,null,null,null,null,{"$error":"#DIV/0!"},null,{"$error":"#DIV/0!"},null,null,{"$error":"#DIV/0!"}]
[null,21,{"$f":"'DATOS DEL ESTUDIANTE'!B24","v":0},{"$f":"'DATOS DEL ESTUDIANTE'!C24","v":0},{"$f":"'DATOS DEL ESTUDIANTE'!D24","v":0},null,null,null,null,null,null,null,{"$error":"#DIV/0!"},null,null,null,null,null,null,{"$error":"#DIV/0!"},null,{"$error":"#DIV/0!"},null,null,{"$error":"#DIV/0!"}]
[null,22,{"$f":"'DATOS DEL ESTUDIANTE'!B25","v":0},{"$f":"'DATOS DEL ESTUDIANTE'!C25","v":0},{"$f":"'DATOS DEL ESTUDIANTE'!D25","v":0},null,null,null,null,null,null,null,{"$error":"#DIV/0!"},null,null,null,null,null,null,{"$error":"#DIV/0!"},null,{"$error":"#DIV/0!"},null,null,{"$error":"#DIV/0!"}]
[null,23,{"$f":"'DATOS DEL ESTUDIANTE'!B26","v":0},{"$f":"'DATOS DEL ESTUDIANTE'!C26","v":0},{"$f":"'DATOS DEL ESTUDIANTE'!D26","v":0},null,null,null,null,null,null,null,{"$error":"#DIV/0!"},null,null,null,null,null,null,{"$error":"#DIV/0!"},null,{"$error":"#DIV/0!"},null,null,{"$error":"#DIV/0!"}]
[null,24,{"$f":"'DATOS DEL ESTUDIANTE'!B27","v":0},{"$f":"'DATOS DEL ESTUDIANTE'!C27","v":0},{"$f":"'DATOS DEL ESTUDIANTE'!D27","v":0},null,null,null,null,null,null,null,{"$error":"#DIV/0!"},null,null,null,null,null,null,{"$error":"#DIV/0!"},null,{"$error":"#DIV/0!"},null,null,{"$error":"#DIV/0!"}]
[null,25,{"$f":"'DATOS DEL ESTUDIANTE'!B28","v":0},{"$f":"'DATOS DEL ESTUDIANTE'!C28","v":0},{"$f":"'DATOS DEL ESTUDIANTE'!D28","v":0},null,null,null,null,null,null,null,{"$error":"#DIV/0!"},null,null,null,null,null,null,{"$error":"#DIV/0!"},null,{"$error":"#DIV/0!"},null,null,{"$error":"#DIV/0!"}]
[null,26,{"$f":"'DATOS DEL ESTUDIANTE'!B29","v":0},{"$f":"'DATOS DEL ESTUDIANTE'!C29","v":0},{"$f":"'DATOS DEL ESTUDIANTE'!D29","v":0},null,null,null,null,null,null,null,{"$error":"#DIV/0!"},null,null,null,null,null,null,{"$error":"#DIV/0!"},null,{"$error":"#DIV/0!"},null,null,{"$error":"#DIV/0!"}]
[null,27,{"$f":"'DATOS DEL ESTUDIANTE'!B30","v":0},{"$f":"'DATOS DEL ESTUDIANTE'!C30","v":0},{"$f":"'DATOS DEL ESTUDIANTE'!D30","v":0},null,null,null,null,null,null,null,{"$error":"#DIV/0!"},null,null,null,null,null,null,{"$error":"#DIV/0!"},null,{"$error":"#DIV/0!"},null,null,{"$error":"#DIV/0!"}]
[null,28,{"$f":"'DATOS DEL ESTUDIANTE'!B31","v":0},{"$f":"'DATOS DEL ESTUDIANTE'!C31","v":0},{"$f":"'DATOS DEL ESTUDIANTE'!D31","v":0},null,null,null,null,null,null,null,{"$error":"#DIV/0!"},null,null,null,null,null,null,{"$error":"#DIV/0!"},null,{"$error":"#DIV/0!"},null,null,{"$error":"#DIV/0!"}]
[null,29,{"$f":"'DATOS DEL ESTUDIANTE'!B32","v":0},{"$f":"'DATOS DEL ESTUDIANTE'!C32","v":0},{"$f":"'DATOS DEL ESTUDIANTE'!D32","v":0},null,null,null,null,null,null,null,{"$error":"#DIV/0!"},null,null,null,null,null,null,{"$error":"#DIV/0!"},null,{"$error":"#DIV/0!"},null,null,{"$error":"#DIV/0!"}]
[null,30,{"$f":"'DATOS DEL ESTUDIANTE'!B33","v":0},{"$f":"'DATOS DEL ESTUDIANTE'!C33","v":0},{"$f":"'DATOS DEL ESTUDIANTE'!D33","v":0},null,null,null,null,null,null,null,{"$error":"#DIV/0!"},null,null,null,null,null,null,{"$error":"#DIV/0!"},null,{"$error":"#DIV/0!"},null,null,{"$error":"#DIV/0!"}]
[null,31,{"$f":"'DATOS DEL ESTUDIANTE'!B34","v":0},{"$f":"'DATOS DEL ESTUDIANTE'!C34","v":0},{"$f":"'DATOS DEL ESTUDIANTE'!D34","v":0},null,null,null,null,null,null,null,{"$error":"#DIV/0!"},null,null,null,null,null,null,{"$error":"#DIV/0!"},null,{"$error":"#DIV/0!"},null,null,{"$error":"#DIV/0!"}]
[null,32,{"$f":"'DATOS DEL ESTUDIANTE'!B35","v":0},{"$f":"'DATOS DEL ESTUDIANTE'!C35","v":0},{"$f":"'DATOS DEL ESTUDIANTE'!D35","v":0},null,null,null,null,null,null,null,{"$error":"#DIV/0!"},null,null,null,null,null,null,{"$error":"#DIV/0!"},null,{"$error":"#DIV/0!"},null,null,{"$error":"#DIV/0!"}]
[null,33,{"$f":"'DATOS DEL ESTUDIANTE'!B36","v":0},{"$f":"'DATOS DEL ESTUDIANTE'!C36","v":0},{"$f":"'DATOS DEL ESTUDIANTE'!D36","v":0},null,null,null,null,null,null,null,{"$error":"#DIV/0!"},null,null,null,null,null,null,{"$error":"#DIV/0!"},null,{"$error":"#DIV/0!"},null,null,{"$error":"#DIV/0!"}]
[null,34,{"$f":"'DATOS DEL ESTUDIANTE'!B37","v":0},{"$f":"'DATOS DEL ESTUDIANTE'!C37","v":0},{"$f":"'DATOS DEL ESTUDIANTE'!D37","v":0},null,null,null,null,null,null,null,{"$error":"#DIV/0!"},null,null,null,null,null,null,{"$error":"#DIV/0!"},null,{"$error":"#DIV/0!"},null,null,{"$error":"#DIV/0!"}]
[null,35,{"$f":"'DATOS DEL ESTUDIANTE'!B38","v":0},{"$f":"'DATOS DEL ESTUDIANTE'!C38","v":0},{"$f":"'DATOS DEL ESTUDIANTE'!D38","v":0},null,null,null,null,null,null,null,{"$error":"#DIV/0!"},null,null,null,null,null,null,{"$error":"#DIV/0!"},null,{"$error":"#DIV/0!"},null,null,{"$error":"#DIV/0!"}]
[null,36,{"$f":"'DATOS DEL ESTUDIANTE'!B39","v":0},{"$f":"'DATOS DEL ESTUDIANTE'!C39","v":0},{"$f":"'DATOS DEL ESTUDIANTE'!D39","v":0},null,null,null,null,null,null,null,{"$error":"#DIV/0!"},null,null,null,null,null,null,{"$error":"#DIV/0!"},null,{"$error":"#DIV/0!"},null,null,{"$error":"#DIV/0!"}]
[null,37,{"$f":"'DATOS DEL ESTUDIANTE'!B40","v":0},{"$f":"'DATOS DEL ESTUDIANTE'!C40","v":0},{"$f":"'DATOS DEL ESTUDIANTE'!D40","v":0},null,null,null,null,null,null,null,{"$error":"#DIV/0!"},null,null,null,null,null,null,{"$error":"#DIV/0!"},null,{"$error":"#DIV/0!"},null,null,{"$error":"#DIV/0!"}]
[null,38,{"$f":"'DATOS DEL ESTUDIANTE'!B41","v":0},{"$f":"'DATOS DEL ESTUDIANTE'!C41","v":0},{"$f":"'DATOS DEL ESTUDIANTE'!D41","v":0},null,null,null,null,null,null,null,{"$error":"#DIV/0!"},null,null,null,null,null,null,{"$error":"#DIV/0!"},null,{"$error":"#DIV/0!"},null,null,{"$error":"#DIV/0!"}]
[null,39,{"$f":"'DATOS DEL ESTUDIANTE'!B42","v":0},{"$f":"'DATOS DEL ESTUDIANTE'!C42","v":0},{"$f":"'DATOS DEL ESTUDIANTE'!D42","v":0},null,null,null,null,null,null,null,{"$error":"#DIV/0!"},null,null,null,null,null,null,{"$error":"#DIV/0!"},null,{"$error":"#DIV/0!"},null,null,{"$error":"#DIV/0!"}]
[null,40,{"$f":"'DATOS DEL ESTUDIANTE'!B43","v":0},{"$f":"'DATOS DEL ESTUDIANTE'!C43","v":0},{"$f":"'DATOS DEL ESTUDIANTE'!D43","v":0},null,null,null,null,null,null,null,{"$error":"#DIV/0!"},null,null,null,null,null,null,{"$error":"#DIV/0!"},null,{"$error":"#DIV/0!"},null,null,{"$error":"#DIV/0!"}]
[null,41,{"$f":"'DATOS DEL ESTUDIANTE'!B44","v":0},{"$f":"'DATOS DEL ESTUDIANTE'!C44","v":0},{"$f":"'DATOS DEL ESTUDIANTE'!D44","v":0},null,null,null,null,null,null,null,{"$error":"#DIV/0!"},null,null,null,null,null,null,{"$error":"#DIV/0!"},null,{"$error":"#DIV/0!"},null,null,{"$error":"#DIV/0!"}]
[null,42,{"$f":"'DATOS DEL ESTUDIANTE'!B45","v":0},{"$f":"'DATOS DEL ESTUDIANTE'!C45","v":0},{"$f":"'DATOS DEL ESTUDIANTE'!D45","v":0},null,null,null,null,null,null,null,{"$error":"#DIV/0!"},null,null,null,null,null,null,{"$error":"#DIV/0!"},null,{"$error":"#DIV/0!"},null,null,{"$error":"#DIV/0!"}]
[null,43,{"$f":"'DATOS DEL ESTUDIANTE'!B46","v":0},{"$f":"'DATOS DEL ESTUDIANTE'!C46","v":0},{"$f":"'DATOS DEL ESTUDIANTE'!D46","v":0},null,null,null,null,null,null,null,{"$error":"#DIV/0!"},null,null,null,null,null,null,{"$error":"#DIV/0!"},null,{"$error":"#DIV/0!"},null,null,{"$error":"#DIV/0!"}]
[null,44,{"$f":"'DATOS DEL ESTUDIANTE'!B47","v":0},{"$f":"'DATOS DEL ESTUDIANTE'!C47","v":0},{"$f":"'DATOS DEL ESTUDIANTE'!D47","v":0},null,null,null,null,null,null,null,{"$error":"#DIV/0!"},null,null,null,null,null,null,{"$error":"#DIV/0!"},null,{"$error":"#DIV/0!"},null,null,{"$error":"#DIV/0!"}]
[null,45,{"$f":"'DATOS DEL ESTUDIANTE'!B48","v":0},{"$f":"'DATOS DEL ESTUDIANTE'!C48","v":0},{"$f":"'DATOS DEL ESTUDIANTE'!D48","v":0},null,null,null,null,null,null,null,{"$error":"#DIV/0!"},null,null,null,null,null,null,{"$error":"#DIV/0!"},null,{"$error":"#DIV/0!"},null,null,{"$error":"#DIV/0!"}]

{"sheet":"MATEMATICAS 3","index":38,"n_rows":55,"n_cols":25,"rows_kept":55,"cut":false,"hidden":false,"merged":[[0,25,3,25],[3,13,3,19],[1,4,1,9],[8,16,9,16],[8,17,9,17],[8,18,9,18],[8,15,9,15],[4,19,9,19],[8,2,8,4],[3,6,3,12],[8,8,9,8],[8,9,9,9],[8,10,9,10],[8,11,9,11],[4,8,6,9],[4,13,6,14],[3,21,9,21],[3,22,8,23],[3,24,9,24],[4,15,6,16],[4,17,6,18],[4,20,6,20],[0,21,2,24],[1,10,1,12],[1,13,1,19],[1,20,2,20],[2,1,2,19],[1,1,1,3],[8,1,9,1],[8,20,9,20],[8,7,9,7],[4,10,6,11],[0,0,9,0],[0,1,0,19],[3,1,3,4],[8,5,9,5],[8,6,9,6],[8,13,9,13],[8,14,9,14],[4,12,9,12],[7,1,7,4],[4,1,6,4],[4,5,6,5],[4,6,6,7]]}
[null,"MATEMATICA",null,null,null,null,null,null,null,null,null,null,null,null,null,null,null,null,null,null,2018]
[null,"AÑO DE ESCOLARIDAD:",null,null,{"$f":"CARATULA!G15","v":0},null,null,null,null,null,"MAESTRA (O): ",null,null,{"$f":"CARATULA!G18","v":0},null,null,null,null,null,null,"TERCER\nBIMESTRE"]
[null," REGISTRO  Y CENTRALIZADOR DEL PROCESO DE  EVALUACIÓN   "]
[null,"DIMENSIONES",null,null,null,"SER (10)","SABER (35)",null,null,null,null,null,null,"HACER (35)",null,null,null,null,null,null,"DECIDIR (10)","TOTAL     EVALUACIÓN    DEL     MAESTRO","AUTOEVALUACIÓN",null,"CALIFICACIÓN BIMESTRAL"]
[null,"CRITERIOS DE EVALUACIÓN SEGÚN PDC",null,null,null,null,null,null,null,null,null,null,"T      O     T     A       L",null,null,null,null,null,null,"T      O     T     A       L"]
[]
[]
[null,"INSTRUMENTO Y/ O ESTRATEGIAS DE EVALUACIÓN"]
[null,"N°","    FECHA DE  EVALUACIÓN\n \n\n"]
[null,null,"NOMBRES ","APELLIDO PATERNO"," \nAPELLIDO MATERNO",null,null,null,null,null,null,null,null,null,null,null,null,null,null,null,null,null,"SER\n(5)","DECIDIR\n(5)"]
[null,1,{"$f":"'DATOS DEL ESTUDIANTE'!B4","v":0},{"$f":"'DATOS DEL ESTUDIANTE'!C4","v":0},{"$f":"'DATOS DEL ESTUDIANTE'!D4","v":0},null,null,null,null,null,null,null,{"$f":"AVERAGE(G11:L11)","v":{"$error":"#DIV/0!"}},null,null,null,null,null,null,{"$f":"AVERAGE(N11:S11)","v":{"$error":"#DIV/0!"}},null,{"$f":"SUM(F11+M11+T11+U11)","v":{"$error":"#DIV/0!"}},null,null,{"$f":"SUM(V11:X11)","v":{"$error":"#DIV/0!"}}]
[null,2,{"$f":"'DATOS DEL ESTUDIANTE'!B5","v":0},{"$f":"'DATOS DEL ESTUDIANTE'!C5","v":0},{"$f":"'DATOS DEL ESTUDIANTE'!D5","v":0},null,null,null,null,null,null,null,{"$f":"AVERAGE(G12:L12)","v":{"$error":"#DIV/0!"}},null,null,null,null,null,null,{"$f":"AVERAGE(N12:S12)","v":{"$error":"#DIV/0!"}},null,{"$f":"SUM(F12+M12+T12+U12)","v":{"$error":"#DIV/0!"}},null,null,{"$f":"SUM(V12:X12)","v":{"$error":"#DIV/0!"}}]
[null,3,{"$f":"'DATOS DEL ESTUDIANTE'!B6","v":0},{"$f":"'DATOS DEL ESTUDIANTE'!C6","v":0},{"$f":"'DATOS DEL ESTUDIANTE'!D6","v":0},null,null,null,null,null,null,null,{"$error":"#DIV/0!"},null,null,null,null,null,null,{"$error":"#DIV/0!"},null,{"$error":"#DIV/0!"},null,null,{"$error":"#DIV/0!"}]
[null,4,{"$f":"'DATOS DEL ESTUDIANTE'!B7","v":0},{"$f":"'DATOS DEL ESTUDIANTE'!C7","v":0},{"$f":"'DATOS DEL ESTUDIANTE'!D7","v":0},null,null,null,null,null,null,null,{"$error":"#DIV/0!"},null,null,null,null,null,null,{"$error":"#DIV/0!"},null,{"$error":"#DIV/0!"},null,null,{"$error":"#DIV/0!"}]
[null,5,{"$f":"'DATOS DEL ESTUDIANTE'!B8","v":0},{"$f":"'DATOS DEL ESTUDIANTE'!C8","v":0},{"$f":"'DATOS DEL ESTUDIANTE'!D8","v":0},null,null,null,null,null,null,null,{"$error":"#DIV/0!"},null,null,null,null,null,null,{"$error":"#DIV/0!"},null,{"$error":"#DIV/0!"},null,null,{"$error":"#DIV/0!"}]
[null,6,{"$f":"'DATOS DEL ESTUDIANTE'!B9","v":0},{"$f":"'DATOS DEL ESTUDIANTE'!C9","v":0},{"$f":"'DATOS DEL ESTUDIANTE'!D9","v":0},null,null,null,null,null,null,null,{"$error":"#DIV/0!"},null,null,null,null,null,null,{"$error":"#DIV/0!"},null,{"$error":"#DIV/0!"},null,null,{"$error":"#DIV/0!"}]
[null,7,{"$f":"'DATOS DEL ESTUDIANTE'!B10","v":0},{"$f":"'DATOS DEL ESTUDIANTE'!C10","v":0},{"$f":"'DATOS DEL ESTUDIANTE'!D10","v":0},null,null,null,null,null,null,null,{"$error":"#DIV/0!"},null,null,null,null,null,null,{"$error":"#DIV/0!"},null,{"$error":"#DIV/0!"},null,null,{"$error":"#DIV/0!"}]
[null,8,{"$f":"'DATOS DEL ESTUDIANTE'!B11","v":0},{"$f":"'DATOS DEL ESTUDIANTE'!C11","v":0},{"$f":"'DATOS DEL ESTUDIANTE'!D11","v":0},null,null,null,null,null,null,null,{"$error":"#DIV/0!"},null,null,null,null,null,null,{"$error":"#DIV/0!"},null,{"$error":"#DIV/0!"},null,null,{"$error":"#DIV/0!"}]
[null,9,{"$f":"'DATOS DEL ESTUDIANTE'!B12","v":0},{"$f":"'DATOS DEL ESTUDIANTE'!C12","v":0},{"$f":"'DATOS DEL ESTUDIANTE'!D12","v":0},null,null,null,null,null,null,null,{"$error":"#DIV/0!"},null,null,null,null,null,null,{"$error":"#DIV/0!"},null,{"$error":"#DIV/0!"},null,null,{"$error":"#DIV/0!"}]
[null,10,{"$f":"'DATOS DEL ESTUDIANTE'!B13","v":0},{"$f":"'DATOS DEL ESTUDIANTE'!C13","v":0},{"$f":"'DATOS DEL ESTUDIANTE'!D13","v":0},null,null,null,null,null,null,null,{"$error":"#DIV/0!"},null,null,null,null,null,null,{"$error":"#DIV/0!"},null,{"$error":"#DIV/0!"},null,null,{"$error":"#DIV/0!"}]
[null,11,{"$f":"'DATOS DEL ESTUDIANTE'!B14","v":0},{"$f":"'DATOS DEL ESTUDIANTE'!C14","v":0},{"$f":"'DATOS DEL ESTUDIANTE'!D14","v":0},null,null,null,null,null,null,null,{"$error":"#DIV/0!"},null,null,null,null,null,null,{"$error":"#DIV/0!"},null,{"$error":"#DIV/0!"},null,null,{"$error":"#DIV/0!"}]
[null,12,{"$f":"'DATOS DEL ESTUDIANTE'!B15","v":0},{"$f":"'DATOS DEL ESTUDIANTE'!C15","v":0},{"$f":"'DATOS DEL ESTUDIANTE'!D15","v":0},null,null,null,null,null,null,null,{"$error":"#DIV/0!"},null,null,null,null,null,null,{"$error":"#DIV/0!"},null,{"$error":"#DIV/0!"},null,null,{"$error":"#DIV/0!"}]
[null,13,{"$f":"'DATOS DEL ESTUDIANTE'!B16","v":0},{"$f":"'DATOS DEL ESTUDIANTE'!C16","v":0},{"$f":"'DATOS DEL ESTUDIANTE'!D16","v":0},null,null,null,null,null,null,null,{"$error":"#DIV/0!"},null,null,null,null,null,null,{"$error":"#DIV/0!"},null,{"$error":"#DIV/0!"},null,null,{"$error":"#DIV/0!"}]
[null,14,{"$f":"'DATOS DEL ESTUDIANTE'!B17","v":0},{"$f":"'DATOS DEL ESTUDIANTE'!C17","v":0},{"$f":"'DATOS DEL ESTUDIANTE'!D17","v":0},null,null,null,null,null,null,null,{"$error":"#DIV/0!"},null,null,null,null,null,null,{"$error":"#DIV/0!"},null,{"$error":"#DIV/0!"},null,null,{"$error":"#DIV/0!"}]
[null,15,{"$f":"'DATOS DEL ESTUDIANTE'!B18","v":0},{"$f":"'DATOS DEL ESTUDIANTE'!C18","v":0},{"$f":"'DATOS DEL ESTUDIANTE'!D18","v":0},null,null,null,null,null,null,null,{"$error":"#DIV/0!"},null,null,null,null,null,null,{"$error":"#DIV/0!"},null,{"$error":"#DIV/0!"},null,null,{"$error":"#DIV/0!"}]
[null,16,{"$f":"'DATOS DEL ESTUDIANTE'!B19","v":0},{"$f":"'DATOS DEL ESTUDIANTE'!C19","v":0},{"$f":"'DATOS DEL ESTUDIANTE'!D19","v":0},null,null,null,null,null,null,null,{"$error":"#DIV/0!"},null,null,null,null,null,null,{"$error":"#DIV/0!"},null,{"$error":"#DIV/0!"},null,null,{"$error":"#DIV/0!"}]
[null,17,{"$f":"'DATOS DEL ESTUDIANTE'!B20","v":0},{"$f":"'DATOS DEL ESTUDIANTE'!C20","v":0},{"$f":"'DATOS DEL ESTUDIANTE'!D20","v":0},null,null,null,null,null,null,null,{"$error":"#DIV/0!"},null,null,null,null,null,null,{"$error":"#DIV/0!"},null,{"$error":"#DIV/0!"},null,null,{"$error":"#DIV/0!"}]
[null,18,{"$f":"'DATOS DEL ESTUDIANTE'!B21","v":0},{"$f":"'DATOS DEL ESTUDIANTE'!C21","v":0},{"$f":"'DATOS DEL ESTUDIANTE'!D21","v":0},null,null,null,null,null,null,null,{"$error":"#DIV/0!"},null,null,null,null,null,null,{"$error":"#DIV/0!"},null,{"$error":"#DIV/0!"},null,null,{"$error":"#DIV/0!"}]
[null,19,{"$f":"'DATOS DEL ESTUDIANTE'!B22","v":0},{"$f":"'DATOS DEL ESTUDIANTE'!C22","v":0},{"$f":"'DATOS DEL ESTUDIANTE'!D22","v":0},null,null,null,null,null,null,null,{"$error":"#DIV/0!"},null,null,null,null,null,null,{"$error":"#DIV/0!"},null,{"$error":"#DIV/0!"},null,null,{"$error":"#DIV/0!"}]
[null,20,{"$f":"'DATOS DEL ESTUDIANTE'!B23","v":0},{"$f":"'DATOS DEL ESTUDIANTE'!C23","v":0},{"$f":"'DATOS DEL ESTUDIANTE'!D23","v":0},null,null,null,null,null,null,null,{"$error":"#DIV/0!"},null,null,null,null,null,null,{"$error":"#DIV/0!"},null,{"$error":"#DIV/0!"},null,null,{"$error":"#DIV/0!"}]
[null,21,{"$f":"'DATOS DEL ESTUDIANTE'!B24","v":0},{"$f":"'DATOS DEL ESTUDIANTE'!C24","v":0},{"$f":"'DATOS DEL ESTUDIANTE'!D24","v":0},null,null,null,null,null,null,null,{"$error":"#DIV/0!"},null,null,null,null,null,null,{"$error":"#DIV/0!"},null,{"$error":"#DIV/0!"},null,null,{"$error":"#DIV/0!"}]
[null,22,{"$f":"'DATOS DEL ESTUDIANTE'!B25","v":0},{"$f":"'DATOS DEL ESTUDIANTE'!C25","v":0},{"$f":"'DATOS DEL ESTUDIANTE'!D25","v":0},null,null,null,null,null,null,null,{"$error":"#DIV/0!"},null,null,null,null,null,null,{"$error":"#DIV/0!"},null,{"$error":"#DIV/0!"},null,null,{"$error":"#DIV/0!"}]
[null,23,{"$f":"'DATOS DEL ESTUDIANTE'!B26","v":0},{"$f":"'DATOS DEL ESTUDIANTE'!C26","v":0},{"$f":"'DATOS DEL ESTUDIANTE'!D26","v":0},null,null,null,null,null,null,null,{"$error":"#DIV/0!"},null,null,null,null,null,null,{"$error":"#DIV/0!"},null,{"$error":"#DIV/0!"},null,null,{"$error":"#DIV/0!"}]
[null,24,{"$f":"'DATOS DEL ESTUDIANTE'!B27","v":0},{"$f":"'DATOS DEL ESTUDIANTE'!C27","v":0},{"$f":"'DATOS DEL ESTUDIANTE'!D27","v":0},null,null,null,null,null,null,null,{"$error":"#DIV/0!"},null,null,null,null,null,null,{"$error":"#DIV/0!"},null,{"$error":"#DIV/0!"},null,null,{"$error":"#DIV/0!"}]
[null,25,{"$f":"'DATOS DEL ESTUDIANTE'!B28","v":0},{"$f":"'DATOS DEL ESTUDIANTE'!C28","v":0},{"$f":"'DATOS DEL ESTUDIANTE'!D28","v":0},null,null,null,null,null,null,null,{"$error":"#DIV/0!"},null,null,null,null,null,null,{"$error":"#DIV/0!"},null,{"$error":"#DIV/0!"},null,null,{"$error":"#DIV/0!"}]
[null,26,{"$f":"'DATOS DEL ESTUDIANTE'!B29","v":0},{"$f":"'DATOS DEL ESTUDIANTE'!C29","v":0},{"$f":"'DATOS DEL ESTUDIANTE'!D29","v":0},null,null,null,null,null,null,null,{"$error":"#DIV/0!"},null,null,null,null,null,null,{"$error":"#DIV/0!"},null,{"$error":"#DIV/0!"},null,null,{"$error":"#DIV/0!"}]
[null,27,{"$f":"'DATOS DEL ESTUDIANTE'!B30","v":0},{"$f":"'DATOS DEL ESTUDIANTE'!C30","v":0},{"$f":"'DATOS DEL ESTUDIANTE'!D30","v":0},null,null,null,null,null,null,null,{"$error":"#DIV/0!"},null,null,null,null,null,null,{"$error":"#DIV/0!"},null,{"$error":"#DIV/0!"},null,null,{"$error":"#DIV/0!"}]
[null,28,{"$f":"'DATOS DEL ESTUDIANTE'!B31","v":0},{"$f":"'DATOS DEL ESTUDIANTE'!C31","v":0},{"$f":"'DATOS DEL ESTUDIANTE'!D31","v":0},null,null,null,null,null,null,null,{"$error":"#DIV/0!"},null,null,null,null,null,null,{"$error":"#DIV/0!"},null,{"$error":"#DIV/0!"},null,null,{"$error":"#DIV/0!"}]
[null,29,{"$f":"'DATOS DEL ESTUDIANTE'!B32","v":0},{"$f":"'DATOS DEL ESTUDIANTE'!C32","v":0},{"$f":"'DATOS DEL ESTUDIANTE'!D32","v":0},null,null,null,null,null,null,null,{"$error":"#DIV/0!"},null,null,null,null,null,null,{"$error":"#DIV/0!"},null,{"$error":"#DIV/0!"},null,null,{"$error":"#DIV/0!"}]
[null,30,{"$f":"'DATOS DEL ESTUDIANTE'!B33","v":0},{"$f":"'DATOS DEL ESTUDIANTE'!C33","v":0},{"$f":"'DATOS DEL ESTUDIANTE'!D33","v":0},null,null,null,null,null,null,null,{"$error":"#DIV/0!"},null,null,null,null,null,null,{"$error":"#DIV/0!"},null,{"$error":"#DIV/0!"},null,null,{"$error":"#DIV/0!"}]
[null,31,{"$f":"'DATOS DEL ESTUDIANTE'!B34","v":0},{"$f":"'DATOS DEL ESTUDIANTE'!C34","v":0},{"$f":"'DATOS DEL ESTUDIANTE'!D34","v":0},null,null,null,null,null,null,null,{"$error":"#DIV/0!"},null,null,null,null,null,null,{"$error":"#DIV/0!"},null,{"$error":"#DIV/0!"},null,null,{"$error":"#DIV/0!"}]
[null,32,{"$f":"'DATOS DEL ESTUDIANTE'!B35","v":0},{"$f":"'DATOS DEL ESTUDIANTE'!C35","v":0},{"$f":"'DATOS DEL ESTUDIANTE'!D35","v":0},null,null,null,null,null,null,null,{"$error":"#DIV/0!"},null,null,null,null,null,null,{"$error":"#DIV/0!"},null,{"$error":"#DIV/0!"},null,null,{"$error":"#DIV/0!"}]
[null,33,{"$f":"'DATOS DEL ESTUDIANTE'!B36","v":0},{"$f":"'DATOS DEL ESTUDIANTE'!C36","v":0},{"$f":"'DATOS DEL ESTUDIANTE'!D36","v":0},null,null,null,null,null,null,null,{"$error":"#DIV/0!"},null,null,null,null,null,null,{"$error":"#DIV/0!"},null,{"$error":"#DIV/0!"},null,null,{"$error":"#DIV/0!"}]
[null,34,{"$f":"'DATOS DEL ESTUDIANTE'!B37","v":0},{"$f":"'DATOS DEL ESTUDIANTE'!C37","v":0},{"$f":"'DATOS DEL ESTUDIANTE'!D37","v":0},null,null,null,null,null,null,null,{"$error":"#DIV/0!"},null,null,null,null,null,null,{"$error":"#DIV/0!"},null,{"$error":"#DIV/0!"},null,null,{"$error":"#DIV/0!"}]
[null,35,{"$f":"'DATOS DEL ESTUDIANTE'!B38","v":0},{"$f":"'DATOS DEL ESTUDIANTE'!C38","v":0},{"$f":"'DATOS DEL ESTUDIANTE'!D38","v":0},null,null,null,null,null,null,null,{"$error":"#DIV/0!"},null,null,null,null,null,null,{"$error":"#DIV/0!"},null,{"$error":"#DIV/0!"},null,null,{"$error":"#DIV/0!"}]
[null,36,{"$f":"'DATOS DEL ESTUDIANTE'!B39","v":0},{"$f":"'DATOS DEL ESTUDIANTE'!C39","v":0},{"$f":"'DATOS DEL ESTUDIANTE'!D39","v":0},null,null,null,null,null,null,null,{"$error":"#DIV/0!"},null,null,null,null,null,null,{"$error":"#DIV/0!"},null,{"$error":"#DIV/0!"},null,null,{"$error":"#DIV/0!"}]
[null,37,{"$f":"'DATOS DEL ESTUDIANTE'!B40","v":0},{"$f":"'DATOS DEL ESTUDIANTE'!C40","v":0},{"$f":"'DATOS DEL ESTUDIANTE'!D40","v":0},null,null,null,null,null,null,null,{"$error":"#DIV/0!"},null,null,null,null,null,null,{"$error":"#DIV/0!"},null,{"$error":"#DIV/0!"},null,null,{"$error":"#DIV/0!"}]
[null,38,{"$f":"'DATOS DEL ESTUDIANTE'!B41","v":0},{"$f":"'DATOS DEL ESTUDIANTE'!C41","v":0},{"$f":"'DATOS DEL ESTUDIANTE'!D41","v":0},null,null,null,null,null,null,null,{"$error":"#DIV/0!"},null,null,null,null,null,null,{"$error":"#DIV/0!"},null,{"$error":"#DIV/0!"},null,null,{"$error":"#DIV/0!"}]
[null,39,{"$f":"'DATOS DEL ESTUDIANTE'!B42","v":0},{"$f":"'DATOS DEL ESTUDIANTE'!C42","v":0},{"$f":"'DATOS DEL ESTUDIANTE'!D42","v":0},null,null,null,null,null,null,null,{"$error":"#DIV/0!"},null,null,null,null,null,null,{"$error":"#DIV/0!"},null,{"$error":"#DIV/0!"},null,null,{"$error":"#DIV/0!"}]
[null,40,{"$f":"'DATOS DEL ESTUDIANTE'!B43","v":0},{"$f":"'DATOS DEL ESTUDIANTE'!C43","v":0},{"$f":"'DATOS DEL ESTUDIANTE'!D43","v":0},null,null,null,null,null,null,null,{"$error":"#DIV/0!"},null,null,null,null,null,null,{"$error":"#DIV/0!"},null,{"$error":"#DIV/0!"},null,null,{"$error":"#DIV/0!"}]
[null,41,{"$f":"'DATOS DEL ESTUDIANTE'!B44","v":0},{"$f":"'DATOS DEL ESTUDIANTE'!C44","v":0},{"$f":"'DATOS DEL ESTUDIANTE'!D44","v":0},null,null,null,null,null,null,null,{"$error":"#DIV/0!"},null,null,null,null,null,null,{"$error":"#DIV/0!"},null,{"$error":"#DIV/0!"},null,null,{"$error":"#DIV/0!"}]
[null,42,{"$f":"'DATOS DEL ESTUDIANTE'!B45","v":0},{"$f":"'DATOS DEL ESTUDIANTE'!C45","v":0},{"$f":"'DATOS DEL ESTUDIANTE'!D45","v":0},null,null,null,null,null,null,null,{"$error":"#DIV/0!"},null,null,null,null,null,null,{"$error":"#DIV/0!"},null,{"$error":"#DIV/0!"},null,null,{"$error":"#DIV/0!"}]
[null,43,{"$f":"'DATOS DEL ESTUDIANTE'!B46","v":0},{"$f":"'DATOS DEL ESTUDIANTE'!C46","v":0},{"$f":"'DATOS DEL ESTUDIANTE'!D46","v":0},null,null,null,null,null,null,null,{"$error":"#DIV/0!"},null,null,null,null,null,null,{"$error":"#DIV/0!"},null,{"$error":"#DIV/0!"},null,null,{"$error":"#DIV/0!"}]
[null,44,{"$f":"'DATOS DEL ESTUDIANTE'!B47","v":0},{"$f":"'DATOS DEL ESTUDIANTE'!C47","v":0},{"$f":"'DATOS DEL ESTUDIANTE'!D47","v":0},null,null,null,null,null,null,null,{"$error":"#DIV/0!"},null,null,null,null,null,null,{"$error":"#DIV/0!"},null,{"$error":"#DIV/0!"},null,null,{"$error":"#DIV/0!"}]
[null,45,{"$f":"'DATOS DEL ESTUDIANTE'!B48","v":0},{"$f":"'DATOS DEL ESTUDIANTE'!C48","v":0},{"$f":"'DATOS DEL ESTUDIANTE'!D48","v":0},null,null,null,null,null,null,null,{"$error":"#DIV/0!"},null,null,null,null,null,null,{"$error":"#DIV/0!"},null,{"$error":"#DIV/0!"},null,null,{"$error":"#DIV/0!"}]

{"sheet":"MATEMATICAS 4","index":39,"n_rows":55,"n_cols":25,"rows_kept":55,"cut":false,"hidden":false,"merged":[[0,25,3,25],[3,13,3,19],[1,4,1,9],[8,16,9,16],[8,17,9,17],[8,18,9,18],[8,15,9,15],[4,19,9,19],[8,2,8,4],[3,6,3,12],[8,8,9,8],[8,9,9,9],[8,10,9,10],[8,11,9,11],[4,8,6,9],[4,13,6,14],[3,21,9,21],[3,22,8,23],[3,24,9,24],[4,15,6,16],[4,17,6,18],[4,20,6,20],[0,21,2,24],[1,10,1,12],[1,13,1,19],[1,20,2,20],[2,1,2,19],[1,1,1,3],[8,1,9,1],[8,20,9,20],[8,7,9,7],[4,10,6,11],[0,0,9,0],[0,1,0,19],[3,1,3,4],[8,5,9,5],[8,6,9,6],[8,13,9,13],[8,14,9,14],[4,12,9,12],[7,1,7,4],[4,1,6,4],[4,5,6,5],[4,6,6,7]]}
[null,"MATEMATICA",null,null,null,null,null,null,null,null,null,null,null,null,null,null,null,null,null,null,2018]
[null,"AÑO DE ESCOLARIDAD:",null,null,{"$f":"CARATULA!G15","v":0},null,null,null,null,null,"MAESTRA (O): ",null,null,{"$f":"CARATULA!G18","v":0},null,null,null,null,null,null,"CUARTO\nBIMESTRE"]
[null," REGISTRO  Y CENTRALIZADOR DEL PROCESO DE  EVALUACIÓN   "]
[null,"DIMENSIONES",null,null,null,"SER (10)","SABER (35)",null,null,null,null,null,null,"HACER (35)",null,null,null,null,null,null,"DECIDIR (10)","TOTAL     EVALUACIÓN    DEL     MAESTRO","AUTOEVALUACIÓN",null,"CALIFICACIÓN BIMESTRAL"]
[null,"CRITERIOS DE EVALUACIÓN SEGÚN PDC",null,null,null,null,null,null,null,null,null,null,"T      O     T     A       L",null,null,null,null,null,null,"T      O     T     A       L"]
[]
[]
[null,"INSTRUMENTO Y/ O ESTRATEGIAS DE EVALUACIÓN"]
[null,"N°","    FECHA DE  EVALUACIÓN\n \n\n"]
[null,null,"NOMBRES ","APELLIDO PATERNO"," \nAPELLIDO MATERNO",null,null,null,null,null,null,null,null,null,null,null,null,null,null,null,null,null,"SER\n(5)","DECIDIR\n(5)"]
[null,1,{"$f":"'DATOS DEL ESTUDIANTE'!B4","v":0},{"$f":"'DATOS DEL ESTUDIANTE'!C4","v":0},{"$f":"'DATOS DEL ESTUDIANTE'!D4","v":0},null,null,null,null,null,null,null,{"$f":"AVERAGE(G11:L11)","v":{"$error":"#DIV/0!"}},null,null,null,null,null,null,{"$f":"AVERAGE(N11:S11)","v":{"$error":"#DIV/0!"}},null,{"$f":"SUM(F11+M11+T11+U11)","v":{"$error":"#DIV/0!"}},null,null,{"$f":"SUM(V11:X11)","v":{"$error":"#DIV/0!"}}]
[null,2,{"$f":"'DATOS DEL ESTUDIANTE'!B5","v":0},{"$f":"'DATOS DEL ESTUDIANTE'!C5","v":0},{"$f":"'DATOS DEL ESTUDIANTE'!D5","v":0},null,null,null,null,null,null,null,{"$f":"AVERAGE(G12:L12)","v":{"$error":"#DIV/0!"}},null,null,null,null,null,null,{"$f":"AVERAGE(N12:S12)","v":{"$error":"#DIV/0!"}},null,{"$f":"SUM(F12+M12+T12+U12)","v":{"$error":"#DIV/0!"}},null,null,{"$f":"SUM(V12:X12)","v":{"$error":"#DIV/0!"}}]
[null,3,{"$f":"'DATOS DEL ESTUDIANTE'!B6","v":0},{"$f":"'DATOS DEL ESTUDIANTE'!C6","v":0},{"$f":"'DATOS DEL ESTUDIANTE'!D6","v":0},null,null,null,null,null,null,null,{"$error":"#DIV/0!"},null,null,null,null,null,null,{"$error":"#DIV/0!"},null,{"$error":"#DIV/0!"},null,null,{"$error":"#DIV/0!"}]
[null,4,{"$f":"'DATOS DEL ESTUDIANTE'!B7","v":0},{"$f":"'DATOS DEL ESTUDIANTE'!C7","v":0},{"$f":"'DATOS DEL ESTUDIANTE'!D7","v":0},null,null,null,null,null,null,null,{"$error":"#DIV/0!"},null,null,null,null,null,null,{"$error":"#DIV/0!"},null,{"$error":"#DIV/0!"},null,null,{"$error":"#DIV/0!"}]
[null,5,{"$f":"'DATOS DEL ESTUDIANTE'!B8","v":0},{"$f":"'DATOS DEL ESTUDIANTE'!C8","v":0},{"$f":"'DATOS DEL ESTUDIANTE'!D8","v":0},null,null,null,null,null,null,null,{"$error":"#DIV/0!"},null,null,null,null,null,null,{"$error":"#DIV/0!"},null,{"$error":"#DIV/0!"},null,null,{"$error":"#DIV/0!"}]
[null,6,{"$f":"'DATOS DEL ESTUDIANTE'!B9","v":0},{"$f":"'DATOS DEL ESTUDIANTE'!C9","v":0},{"$f":"'DATOS DEL ESTUDIANTE'!D9","v":0},null,null,null,null,null,null,null,{"$error":"#DIV/0!"},null,null,null,null,null,null,{"$error":"#DIV/0!"},null,{"$error":"#DIV/0!"},null,null,{"$error":"#DIV/0!"}]
[null,7,{"$f":"'DATOS DEL ESTUDIANTE'!B10","v":0},{"$f":"'DATOS DEL ESTUDIANTE'!C10","v":0},{"$f":"'DATOS DEL ESTUDIANTE'!D10","v":0},null,null,null,null,null,null,null,{"$error":"#DIV/0!"},null,null,null,null,null,null,{"$error":"#DIV/0!"},null,{"$error":"#DIV/0!"},null,null,{"$error":"#DIV/0!"}]
[null,8,{"$f":"'DATOS DEL ESTUDIANTE'!B11","v":0},{"$f":"'DATOS DEL ESTUDIANTE'!C11","v":0},{"$f":"'DATOS DEL ESTUDIANTE'!D11","v":0},null,null,null,null,null,null,null,{"$error":"#DIV/0!"},null,null,null,null,null,null,{"$error":"#DIV/0!"},null,{"$error":"#DIV/0!"},null,null,{"$error":"#DIV/0!"}]
[null,9,{"$f":"'DATOS DEL ESTUDIANTE'!B12","v":0},{"$f":"'DATOS DEL ESTUDIANTE'!C12","v":0},{"$f":"'DATOS DEL ESTUDIANTE'!D12","v":0},null,null,null,null,null,null,null,{"$error":"#DIV/0!"},null,null,null,null,null,null,{"$error":"#DIV/0!"},null,{"$error":"#DIV/0!"},null,null,{"$error":"#DIV/0!"}]
[null,10,{"$f":"'DATOS DEL ESTUDIANTE'!B13","v":0},{"$f":"'DATOS DEL ESTUDIANTE'!C13","v":0},{"$f":"'DATOS DEL ESTUDIANTE'!D13","v":0},null,null,null,null,null,null,null,{"$error":"#DIV/0!"},null,null,null,null,null,null,{"$error":"#DIV/0!"},null,{"$error":"#DIV/0!"},null,null,{"$error":"#DIV/0!"}]
[null,11,{"$f":"'DATOS DEL ESTUDIANTE'!B14","v":0},{"$f":"'DATOS DEL ESTUDIANTE'!C14","v":0},{"$f":"'DATOS DEL ESTUDIANTE'!D14","v":0},null,null,null,null,null,null,null,{"$error":"#DIV/0!"},null,null,null,null,null,null,{"$error":"#DIV/0!"},null,{"$error":"#DIV/0!"},null,null,{"$error":"#DIV/0!"}]
[null,12,{"$f":"'DATOS DEL ESTUDIANTE'!B15","v":0},{"$f":"'DATOS DEL ESTUDIANTE'!C15","v":0},{"$f":"'DATOS DEL ESTUDIANTE'!D15","v":0},null,null,null,null,null,null,null,{"$error":"#DIV/0!"},null,null,null,null,null,null,{"$error":"#DIV/0!"},null,{"$error":"#DIV/0!"},null,null,{"$error":"#DIV/0!"}]
[null,13,{"$f":"'DATOS DEL ESTUDIANTE'!B16","v":0},{"$f":"'DATOS DEL ESTUDIANTE'!C16","v":0},{"$f":"'DATOS DEL ESTUDIANTE'!D16","v":0},null,null,null,null,null,null,null,{"$error":"#DIV/0!"},null,null,null,null,null,null,{"$error":"#DIV/0!"},null,{"$error":"#DIV/0!"},null,null,{"$error":"#DIV/0!"}]
[null,14,{"$f":"'DATOS DEL ESTUDIANTE'!B17","v":0},{"$f":"'DATOS DEL ESTUDIANTE'!C17","v":0},{"$f":"'DATOS DEL ESTUDIANTE'!D17","v":0},null,null,null,null,null,null,null,{"$error":"#DIV/0!"},null,null,null,null,null,null,{"$error":"#DIV/0!"},null,{"$error":"#DIV/0!"},null,null,{"$error":"#DIV/0!"}]
[null,15,{"$f":"'DATOS DEL ESTUDIANTE'!B18","v":0},{"$f":"'DATOS DEL ESTUDIANTE'!C18","v":0},{"$f":"'DATOS DEL ESTUDIANTE'!D18","v":0},null,null,null,null,null,null,null,{"$error":"#DIV/0!"},null,null,null,null,null,null,{"$error":"#DIV/0!"},null,{"$error":"#DIV/0!"},null,null,{"$error":"#DIV/0!"}]
[null,16,{"$f":"'DATOS DEL ESTUDIANTE'!B19","v":0},{"$f":"'DATOS DEL ESTUDIANTE'!C19","v":0},{"$f":"'DATOS DEL ESTUDIANTE'!D19","v":0},null,null,null,null,null,null,null,{"$error":"#DIV/0!"},null,null,null,null,null,null,{"$error":"#DIV/0!"},null,{"$error":"#DIV/0!"},null,null,{"$error":"#DIV/0!"}]
[null,17,{"$f":"'DATOS DEL ESTUDIANTE'!B20","v":0},{"$f":"'DATOS DEL ESTUDIANTE'!C20","v":0},{"$f":"'DATOS DEL ESTUDIANTE'!D20","v":0},null,null,null,null,null,null,null,{"$error":"#DIV/0!"},null,null,null,null,null,null,{"$error":"#DIV/0!"},null,{"$error":"#DIV/0!"},null,null,{"$error":"#DIV/0!"}]
[null,18,{"$f":"'DATOS DEL ESTUDIANTE'!B21","v":0},{"$f":"'DATOS DEL ESTUDIANTE'!C21","v":0},{"$f":"'DATOS DEL ESTUDIANTE'!D21","v":0},null,null,null,null,null,null,null,{"$error":"#DIV/0!"},null,null,null,null,null,null,{"$error":"#DIV/0!"},null,{"$error":"#DIV/0!"},null,null,{"$error":"#DIV/0!"}]
[null,19,{"$f":"'DATOS DEL ESTUDIANTE'!B22","v":0},{"$f":"'DATOS DEL ESTUDIANTE'!C22","v":0},{"$f":"'DATOS DEL ESTUDIANTE'!D22","v":0},null,null,null,null,null,null,null,{"$error":"#DIV/0!"},null,null,null,null,null,null,{"$error":"#DIV/0!"},null,{"$error":"#DIV/0!"},null,null,{"$error":"#DIV/0!"}]
[null,20,{"$f":"'DATOS DEL ESTUDIANTE'!B23","v":0},{"$f":"'DATOS DEL ESTUDIANTE'!C23","v":0},{"$f":"'DATOS DEL ESTUDIANTE'!D23","v":0},null,null,null,null,null,null,null,{"$error":"#DIV/0!"},null,null,null,null,null,null,{"$error":"#DIV/0!"},null,{"$error":"#DIV/0!"},null,null,{"$error":"#DIV/0!"}]
[null,21,{"$f":"'DATOS DEL ESTUDIANTE'!B24","v":0},{"$f":"'DATOS DEL ESTUDIANTE'!C24","v":0},{"$f":"'DATOS DEL ESTUDIANTE'!D24","v":0},null,null,null,null,null,null,null,{"$error":"#DIV/0!"},null,null,null,null,null,null,{"$error":"#DIV/0!"},null,{"$error":"#DIV/0!"},null,null,{"$error":"#DIV/0!"}]
[null,22,{"$f":"'DATOS DEL ESTUDIANTE'!B25","v":0},{"$f":"'DATOS DEL ESTUDIANTE'!C25","v":0},{"$f":"'DATOS DEL ESTUDIANTE'!D25","v":0},null,null,null,null,null,null,null,{"$error":"#DIV/0!"},null,null,null,null,null,null,{"$error":"#DIV/0!"},null,{"$error":"#DIV/0!"},null,null,{"$error":"#DIV/0!"}]
[null,23,{"$f":"'DATOS DEL ESTUDIANTE'!B26","v":0},{"$f":"'DATOS DEL ESTUDIANTE'!C26","v":0},{"$f":"'DATOS DEL ESTUDIANTE'!D26","v":0},null,null,null,null,null,null,null,{"$error":"#DIV/0!"},null,null,null,null,null,null,{"$error":"#DIV/0!"},null,{"$error":"#DIV/0!"},null,null,{"$error":"#DIV/0!"}]
[null,24,{"$f":"'DATOS DEL ESTUDIANTE'!B27","v":0},{"$f":"'DATOS DEL ESTUDIANTE'!C27","v":0},{"$f":"'DATOS DEL ESTUDIANTE'!D27","v":0},null,null,null,null,null,null,null,{"$error":"#DIV/0!"},null,null,null,null,null,null,{"$error":"#DIV/0!"},null,{"$error":"#DIV/0!"},null,null,{"$error":"#DIV/0!"}]
[null,25,{"$f":"'DATOS DEL ESTUDIANTE'!B28","v":0},{"$f":"'DATOS DEL ESTUDIANTE'!C28","v":0},{"$f":"'DATOS DEL ESTUDIANTE'!D28","v":0},null,null,null,null,null,null,null,{"$error":"#DIV/0!"},null,null,null,null,null,null,{"$error":"#DIV/0!"},null,{"$error":"#DIV/0!"},null,null,{"$error":"#DIV/0!"}]
[null,26,{"$f":"'DATOS DEL ESTUDIANTE'!B29","v":0},{"$f":"'DATOS DEL ESTUDIANTE'!C29","v":0},{"$f":"'DATOS DEL ESTUDIANTE'!D29","v":0},null,null,null,null,null,null,null,{"$error":"#DIV/0!"},null,null,null,null,null,null,{"$error":"#DIV/0!"},null,{"$error":"#DIV/0!"},null,null,{"$error":"#DIV/0!"}]
[null,27,{"$f":"'DATOS DEL ESTUDIANTE'!B30","v":0},{"$f":"'DATOS DEL ESTUDIANTE'!C30","v":0},{"$f":"'DATOS DEL ESTUDIANTE'!D30","v":0},null,null,null,null,null,null,null,{"$error":"#DIV/0!"},null,null,null,null,null,null,{"$error":"#DIV/0!"},null,{"$error":"#DIV/0!"},null,null,{"$error":"#DIV/0!"}]
[null,28,{"$f":"'DATOS DEL ESTUDIANTE'!B31","v":0},{"$f":"'DATOS DEL ESTUDIANTE'!C31","v":0},{"$f":"'DATOS DEL ESTUDIANTE'!D31","v":0},null,null,null,null,null,null,null,{"$error":"#DIV/0!"},null,null,null,null,null,null,{"$error":"#DIV/0!"},null,{"$error":"#DIV/0!"},null,null,{"$error":"#DIV/0!"}]
[null,29,{"$f":"'DATOS DEL ESTUDIANTE'!B32","v":0},{"$f":"'DATOS DEL ESTUDIANTE'!C32","v":0},{"$f":"'DATOS DEL ESTUDIANTE'!D32","v":0},null,null,null,null,null,null,null,{"$error":"#DIV/0!"},null,null,null,null,null,null,{"$error":"#DIV/0!"},null,{"$error":"#DIV/0!"},null,null,{"$error":"#DIV/0!"}]
[null,30,{"$f":"'DATOS DEL ESTUDIANTE'!B33","v":0},{"$f":"'DATOS DEL ESTUDIANTE'!C33","v":0},{"$f":"'DATOS DEL ESTUDIANTE'!D33","v":0},null,null,null,null,null,null,null,{"$error":"#DIV/0!"},null,null,null,null,null,null,{"$error":"#DIV/0!"},null,{"$error":"#DIV/0!"},null,null,{"$error":"#DIV/0!"}]
[null,31,{"$f":"'DATOS DEL ESTUDIANTE'!B34","v":0},{"$f":"'DATOS DEL ESTUDIANTE'!C34","v":0},{"$f":"'DATOS DEL ESTUDIANTE'!D34","v":0},null,null,null,null,null,null,null,{"$error":"#DIV/0!"},null,null,null,null,null,null,{"$error":"#DIV/0!"},null,{"$error":"#DIV/0!"},null,null,{"$error":"#DIV/0!"}]
[null,32,{"$f":"'DATOS DEL ESTUDIANTE'!B35","v":0},{"$f":"'DATOS DEL ESTUDIANTE'!C35","v":0},{"$f":"'DATOS DEL ESTUDIANTE'!D35","v":0},null,null,null,null,null,null,null,{"$error":"#DIV/0!"},null,null,null,null,null,null,{"$error":"#DIV/0!"},null,{"$error":"#DIV/0!"},null,null,{"$error":"#DIV/0!"}]
[null,33,{"$f":"'DATOS DEL ESTUDIANTE'!B36","v":0},{"$f":"'DATOS DEL ESTUDIANTE'!C36","v":0},{"$f":"'DATOS DEL ESTUDIANTE'!D36","v":0},null,null,null,null,null,null,null,{"$error":"#DIV/0!"},null,null,null,null,null,null,{"$error":"#DIV/0!"},null,{"$error":"#DIV/0!"},null,null,{"$error":"#DIV/0!"}]
[null,34,{"$f":"'DATOS DEL ESTUDIANTE'!B37","v":0},{"$f":"'DATOS DEL ESTUDIANTE'!C37","v":0},{"$f":"'DATOS DEL ESTUDIANTE'!D37","v":0},null,null,null,null,null,null,null,{"$error":"#DIV/0!"},null,null,null,null,null,null,{"$error":"#DIV/0!"},null,{"$error":"#DIV/0!"},null,null,{"$error":"#DIV/0!"}]
[null,35,{"$f":"'DATOS DEL ESTUDIANTE'!B38","v":0},{"$f":"'DATOS DEL ESTUDIANTE'!C38","v":0},{"$f":"'DATOS DEL ESTUDIANTE'!D38","v":0},null,null,null,null,null,null,null,{"$error":"#DIV/0!"},null,null,null,null,null,null,{"$error":"#DIV/0!"},null,{"$error":"#DIV/0!"},null,null,{"$error":"#DIV/0!"}]
[null,36,{"$f":"'DATOS DEL ESTUDIANTE'!B39","v":0},{"$f":"'DATOS DEL ESTUDIANTE'!C39","v":0},{"$f":"'DATOS DEL ESTUDIANTE'!D39","v":0},null,null,null,null,null,null,null,{"$error":"#DIV/0!"},null,null,null,null,null,null,{"$error":"#DIV/0!"},null,{"$error":"#DIV/0!"},null,null,{"$error":"#DIV/0!"}]
[null,37,{"$f":"'DATOS DEL ESTUDIANTE'!B40","v":0},{"$f":"'DATOS DEL ESTUDIANTE'!C40","v":0},{"$f":"'DATOS DEL ESTUDIANTE'!D40","v":0},null,null,null,null,null,null,null,{"$error":"#DIV/0!"},null,null,null,null,null,null,{"$error":"#DIV/0!"},null,{"$error":"#DIV/0!"},null,null,{"$error":"#DIV/0!"}]
[null,38,{"$f":"'DATOS DEL ESTUDIANTE'!B41","v":0},{"$f":"'DATOS DEL ESTUDIANTE'!C41","v":0},{"$f":"'DATOS DEL ESTUDIANTE'!D41","v":0},null,null,null,null,null,null,null,{"$error":"#DIV/0!"},null,null,null,null,null,null,{"$error":"#DIV/0!"},null,{"$error":"#DIV/0!"},null,null,{"$error":"#DIV/0!"}]
[null,39,{"$f":"'DATOS DEL ESTUDIANTE'!B42","v":0},{"$f":"'DATOS DEL ESTUDIANTE'!C42","v":0},{"$f":"'DATOS DEL ESTUDIANTE'!D42","v":0},null,null,null,null,null,null,null,{"$error":"#DIV/0!"},null,null,null,null,null,null,{"$error":"#DIV/0!"},null,{"$error":"#DIV/0!"},null,null,{"$error":"#DIV/0!"}]
[null,40,{"$f":"'DATOS DEL ESTUDIANTE'!B43","v":0},{"$f":"'DATOS DEL ESTUDIANTE'!C43","v":0},{"$f":"'DATOS DEL ESTUDIANTE'!D43","v":0},null,null,null,null,null,null,null,{"$error":"#DIV/0!"},null,null,null,null,null,null,{"$error":"#DIV/0!"},null,{"$error":"#DIV/0!"},null,null,{"$error":"#DIV/0!"}]
[null,41,{"$f":"'DATOS DEL ESTUDIANTE'!B44","v":0},{"$f":"'DATOS DEL ESTUDIANTE'!C44","v":0},{"$f":"'DATOS DEL ESTUDIANTE'!D44","v":0},null,null,null,null,null,null,null,{"$error":"#DIV/0!"},null,null,null,null,null,null,{"$error":"#DIV/0!"},null,{"$error":"#DIV/0!"},null,null,{"$error":"#DIV/0!"}]
[null,42,{"$f":"'DATOS DEL ESTUDIANTE'!B45","v":0},{"$f":"'DATOS DEL ESTUDIANTE'!C45","v":0},{"$f":"'DATOS DEL ESTUDIANTE'!D45","v":0},null,null,null,null,null,null,null,{"$error":"#DIV/0!"},null,null,null,null,null,null,{"$error":"#DIV/0!"},null,{"$error":"#DIV/0!"},null,null,{"$error":"#DIV/0!"}]
[null,43,{"$f":"'DATOS DEL ESTUDIANTE'!B46","v":0},{"$f":"'DATOS DEL ESTUDIANTE'!C46","v":0},{"$f":"'DATOS DEL ESTUDIANTE'!D46","v":0},null,null,null,null,null,null,null,{"$error":"#DIV/0!"},null,null,null,null,null,null,{"$error":"#DIV/0!"},null,{"$error":"#DIV/0!"},null,null,{"$error":"#DIV/0!"}]
[null,44,{"$f":"'DATOS DEL ESTUDIANTE'!B47","v":0},{"$f":"'DATOS DEL ESTUDIANTE'!C47","v":0},{"$f":"'DATOS DEL ESTUDIANTE'!D47","v":0},null,null,null,null,null,null,null,{"$error":"#DIV/0!"},null,null,null,null,null,null,{"$error":"#DIV/0!"},null,{"$error":"#DIV/0!"},null,null,{"$error":"#DIV/0!"}]
[null,45,{"$f":"'DATOS DEL ESTUDIANTE'!B48","v":0},{"$f":"'DATOS DEL ESTUDIANTE'!C48","v":0},{"$f":"'DATOS DEL ESTUDIANTE'!D48","v":0},null,null,null,null,null,null,null,{"$error":"#DIV/0!"},null,null,null,null,null,null,{"$error":"#DIV/0!"},null,{"$error":"#DIV/0!"},null,null,{"$error":"#DIV/0!"}]

{"sheet":"TECNICA TECNOLOGICA 1","index":40,"n_rows":55,"n_cols":25,"rows_kept":55,"cut":false,"hidden":false,"merged":[[0,25,3,25],[3,13,3,19],[1,4,1,9],[8,16,9,16],[8,17,9,17],[8,18,9,18],[8,15,9,15],[4,19,9,19],[8,2,8,4],[3,6,3,12],[8,8,9,8],[8,9,9,9],[8,10,9,10],[8,11,9,11],[4,8,6,9],[4,13,6,14],[3,21,9,21],[3,22,8,23],[3,24,9,24],[4,15,6,16],[4,17,6,18],[4,20,6,20],[0,21,2,24],[1,10,1,12],[1,13,1,19],[1,20,2,20],[2,1,2,19],[1,1,1,3],[8,1,9,1],[8,20,9,20],[8,7,9,7],[4,10,6,11],[0,0,9,0],[0,1,0,19],[3,1,3,4],[8,5,9,5],[8,6,9,6],[8,13,9,13],[8,14,9,14],[4,12,9,12],[7,1,7,4],[4,1,6,4],[4,5,6,5],[4,6,6,7]]}
[null,"    TÉCNICA TECNOLÓGICA",null,null,null,null,null,null,null,null,null,null,null,null,null,null,null,null,null,null,2018]
[null,"AÑO DE ESCOLARIDAD:",null,null,{"$f":"CARATULA!G15","v":0},null,null,null,null,null,"MAESTRA (O): ",null,null,{"$f":"CARATULA!G18","v":0},null,null,null,null,null,null,"PRIMER\nBIMESTRE"]
[null," REGISTRO  Y CENTRALIZADOR DEL PROCESO DE  EVALUACIÓN   "]
[null,"DIMENSIONES",null,null,null,"SER (10)","SABER (35)",null,null,null,null,null,null,"HACER (35)",null,null,null,null,null,null,"DECIDIR (10)","TOTAL     EVALUACIÓN    DEL     MAESTRO","AUTOEVALUACIÓN",null,"CALIFICACIÓN BIMESTRAL"]
[null,"CRITERIOS DE EVALUACIÓN SEGÚN PDC",null,null,null,null,null,null,null,null,null,null,"T      O     T     A       L",null,null,null,null,null,null,"T      O     T     A       L"]
[]
[]
[null,"INSTRUMENTO Y/ O ESTRATEGIAS DE EVALUACIÓN"]
[null,"N°","    FECHA DE  EVALUACIÓN\n \n\n"]
[null,null,"NOMBRES ","APELLIDO PATERNO"," \nAPELLIDO MATERNO",null,null,null,null,null,null,null,null,null,null,null,null,null,null,null,null,null,"SER\n(5)","DECIDIR\n(5)"]
[null,1,{"$f":"'DATOS DEL ESTUDIANTE'!B4","v":0},{"$f":"'DATOS DEL ESTUDIANTE'!C4","v":0},{"$f":"'DATOS DEL ESTUDIANTE'!D4","v":0},null,null,null,null,null,null,null,{"$f":"AVERAGE(G11:L11)","v":{"$error":"#DIV/0!"}},null,null,null,null,null,null,{"$f":"AVERAGE(N11:S11)","v":{"$error":"#DIV/0!"}},null,{"$f":"SUM(F11+M11+T11+U11)","v":{"$error":"#DIV/0!"}},null,null,{"$f":"SUM(V11:X11)","v":{"$error":"#DIV/0!"}}]
[null,2,{"$f":"'DATOS DEL ESTUDIANTE'!B5","v":0},{"$f":"'DATOS DEL ESTUDIANTE'!C5","v":0},{"$f":"'DATOS DEL ESTUDIANTE'!D5","v":0},null,null,null,null,null,null,null,{"$f":"AVERAGE(G12:L12)","v":{"$error":"#DIV/0!"}},null,null,null,null,null,null,{"$f":"AVERAGE(N12:S12)","v":{"$error":"#DIV/0!"}},null,{"$f":"SUM(F12+M12+T12+U12)","v":{"$error":"#DIV/0!"}},null,null,{"$f":"SUM(V12:X12)","v":{"$error":"#DIV/0!"}}]
[null,3,{"$f":"'DATOS DEL ESTUDIANTE'!B6","v":0},{"$f":"'DATOS DEL ESTUDIANTE'!C6","v":0},{"$f":"'DATOS DEL ESTUDIANTE'!D6","v":0},null,null,null,null,null,null,null,{"$error":"#DIV/0!"},null,null,null,null,null,null,{"$error":"#DIV/0!"},null,{"$error":"#DIV/0!"},null,null,{"$error":"#DIV/0!"}]
[null,4,{"$f":"'DATOS DEL ESTUDIANTE'!B7","v":0},{"$f":"'DATOS DEL ESTUDIANTE'!C7","v":0},{"$f":"'DATOS DEL ESTUDIANTE'!D7","v":0},null,null,null,null,null,null,null,{"$error":"#DIV/0!"},null,null,null,null,null,null,{"$error":"#DIV/0!"},null,{"$error":"#DIV/0!"},null,null,{"$error":"#DIV/0!"}]
[null,5,{"$f":"'DATOS DEL ESTUDIANTE'!B8","v":0},{"$f":"'DATOS DEL ESTUDIANTE'!C8","v":0},{"$f":"'DATOS DEL ESTUDIANTE'!D8","v":0},null,null,null,null,null,null,null,{"$error":"#DIV/0!"},null,null,null,null,null,null,{"$error":"#DIV/0!"},null,{"$error":"#DIV/0!"},null,null,{"$error":"#DIV/0!"}]
[null,6,{"$f":"'DATOS DEL ESTUDIANTE'!B9","v":0},{"$f":"'DATOS DEL ESTUDIANTE'!C9","v":0},{"$f":"'DATOS DEL ESTUDIANTE'!D9","v":0},null,null,null,null,null,null,null,{"$error":"#DIV/0!"},null,null,null,null,null,null,{"$error":"#DIV/0!"},null,{"$error":"#DIV/0!"},null,null,{"$error":"#DIV/0!"}]
[null,7,{"$f":"'DATOS DEL ESTUDIANTE'!B10","v":0},{"$f":"'DATOS DEL ESTUDIANTE'!C10","v":0},{"$f":"'DATOS DEL ESTUDIANTE'!D10","v":0},null,null,null,null,null,null,null,{"$error":"#DIV/0!"},null,null,null,null,null,null,{"$error":"#DIV/0!"},null,{"$error":"#DIV/0!"},null,null,{"$error":"#DIV/0!"}]
[null,8,{"$f":"'DATOS DEL ESTUDIANTE'!B11","v":0},{"$f":"'DATOS DEL ESTUDIANTE'!C11","v":0},{"$f":"'DATOS DEL ESTUDIANTE'!D11","v":0},null,null,null,null,null,null,null,{"$error":"#DIV/0!"},null,null,null,null,null,null,{"$error":"#DIV/0!"},null,{"$error":"#DIV/0!"},null,null,{"$error":"#DIV/0!"}]
[null,9,{"$f":"'DATOS DEL ESTUDIANTE'!B12","v":0},{"$f":"'DATOS DEL ESTUDIANTE'!C12","v":0},{"$f":"'DATOS DEL ESTUDIANTE'!D12","v":0},null,null,null,null,null,null,null,{"$error":"#DIV/0!"},null,null,null,null,null,null,{"$error":"#DIV/0!"},null,{"$error":"#DIV/0!"},null,null,{"$error":"#DIV/0!"}]
[null,10,{"$f":"'DATOS DEL ESTUDIANTE'!B13","v":0},{"$f":"'DATOS DEL ESTUDIANTE'!C13","v":0},{"$f":"'DATOS DEL ESTUDIANTE'!D13","v":0},null,null,null,null,null,null,null,{"$error":"#DIV/0!"},null,null,null,null,null,null,{"$error":"#DIV/0!"},null,{"$error":"#DIV/0!"},null,null,{"$error":"#DIV/0!"}]
[null,11,{"$f":"'DATOS DEL ESTUDIANTE'!B14","v":0},{"$f":"'DATOS DEL ESTUDIANTE'!C14","v":0},{"$f":"'DATOS DEL ESTUDIANTE'!D14","v":0},null,null,null,null,null,null,null,{"$error":"#DIV/0!"},null,null,null,null,null,null,{"$error":"#DIV/0!"},null,{"$error":"#DIV/0!"},null,null,{"$error":"#DIV/0!"}]
[null,12,{"$f":"'DATOS DEL ESTUDIANTE'!B15","v":0},{"$f":"'DATOS DEL ESTUDIANTE'!C15","v":0},{"$f":"'DATOS DEL ESTUDIANTE'!D15","v":0},null,null,null,null,null,null,null,{"$error":"#DIV/0!"},null,null,null,null,null,null,{"$error":"#DIV/0!"},null,{"$error":"#DIV/0!"},null,null,{"$error":"#DIV/0!"}]
[null,13,{"$f":"'DATOS DEL ESTUDIANTE'!B16","v":0},{"$f":"'DATOS DEL ESTUDIANTE'!C16","v":0},{"$f":"'DATOS DEL ESTUDIANTE'!D16","v":0},null,null,null,null,null,null,null,{"$error":"#DIV/0!"},null,null,null,null,null,null,{"$error":"#DIV/0!"},null,{"$error":"#DIV/0!"},null,null,{"$error":"#DIV/0!"}]
[null,14,{"$f":"'DATOS DEL ESTUDIANTE'!B17","v":0},{"$f":"'DATOS DEL ESTUDIANTE'!C17","v":0},{"$f":"'DATOS DEL ESTUDIANTE'!D17","v":0},null,null,null,null,null,null,null,{"$error":"#DIV/0!"},null,null,null,null,null,null,{"$error":"#DIV/0!"},null,{"$error":"#DIV/0!"},null,null,{"$error":"#DIV/0!"}]
[null,15,{"$f":"'DATOS DEL ESTUDIANTE'!B18","v":0},{"$f":"'DATOS DEL ESTUDIANTE'!C18","v":0},{"$f":"'DATOS DEL ESTUDIANTE'!D18","v":0},null,null,null,null,null,null,null,{"$error":"#DIV/0!"},null,null,null,null,null,null,{"$error":"#DIV/0!"},null,{"$error":"#DIV/0!"},null,null,{"$error":"#DIV/0!"}]
[null,16,{"$f":"'DATOS DEL ESTUDIANTE'!B19","v":0},{"$f":"'DATOS DEL ESTUDIANTE'!C19","v":0},{"$f":"'DATOS DEL ESTUDIANTE'!D19","v":0},null,null,null,null,null,null,null,{"$error":"#DIV/0!"},null,null,null,null,null,null,{"$error":"#DIV/0!"},null,{"$error":"#DIV/0!"},null,null,{"$error":"#DIV/0!"}]
[null,17,{"$f":"'DATOS DEL ESTUDIANTE'!B20","v":0},{"$f":"'DATOS DEL ESTUDIANTE'!C20","v":0},{"$f":"'DATOS DEL ESTUDIANTE'!D20","v":0},null,null,null,null,null,null,null,{"$error":"#DIV/0!"},null,null,null,null,null,null,{"$error":"#DIV/0!"},null,{"$error":"#DIV/0!"},null,null,{"$error":"#DIV/0!"}]
[null,18,{"$f":"'DATOS DEL ESTUDIANTE'!B21","v":0},{"$f":"'DATOS DEL ESTUDIANTE'!C21","v":0},{"$f":"'DATOS DEL ESTUDIANTE'!D21","v":0},null,null,null,null,null,null,null,{"$error":"#DIV/0!"},null,null,null,null,null,null,{"$error":"#DIV/0!"},null,{"$error":"#DIV/0!"},null,null,{"$error":"#DIV/0!"}]
[null,19,{"$f":"'DATOS DEL ESTUDIANTE'!B22","v":0},{"$f":"'DATOS DEL ESTUDIANTE'!C22","v":0},{"$f":"'DATOS DEL ESTUDIANTE'!D22","v":0},null,null,null,null,null,null,null,{"$error":"#DIV/0!"},null,null,null,null,null,null,{"$error":"#DIV/0!"},null,{"$error":"#DIV/0!"},null,null,{"$error":"#DIV/0!"}]
[null,20,{"$f":"'DATOS DEL ESTUDIANTE'!B23","v":0},{"$f":"'DATOS DEL ESTUDIANTE'!C23","v":0},{"$f":"'DATOS DEL ESTUDIANTE'!D23","v":0},null,null,null,null,null,null,null,{"$error":"#DIV/0!"},null,null,null,null,null,null,{"$error":"#DIV/0!"},null,{"$error":"#DIV/0!"},null,null,{"$error":"#DIV/0!"}]
[null,21,{"$f":"'DATOS DEL ESTUDIANTE'!B24","v":0},{"$f":"'DATOS DEL ESTUDIANTE'!C24","v":0},{"$f":"'DATOS DEL ESTUDIANTE'!D24","v":0},null,null,null,null,null,null,null,{"$error":"#DIV/0!"},null,null,null,null,null,null,{"$error":"#DIV/0!"},null,{"$error":"#DIV/0!"},null,null,{"$error":"#DIV/0!"}]
[null,22,{"$f":"'DATOS DEL ESTUDIANTE'!B25","v":0},{"$f":"'DATOS DEL ESTUDIANTE'!C25","v":0},{"$f":"'DATOS DEL ESTUDIANTE'!D25","v":0},null,null,null,null,null,null,null,{"$error":"#DIV/0!"},null,null,null,null,null,null,{"$error":"#DIV/0!"},null,{"$error":"#DIV/0!"},null,null,{"$error":"#DIV/0!"}]
[null,23,{"$f":"'DATOS DEL ESTUDIANTE'!B26","v":0},{"$f":"'DATOS DEL ESTUDIANTE'!C26","v":0},{"$f":"'DATOS DEL ESTUDIANTE'!D26","v":0},null,null,null,null,null,null,null,{"$error":"#DIV/0!"},null,null,null,null,null,null,{"$error":"#DIV/0!"},null,{"$error":"#DIV/0!"},null,null,{"$error":"#DIV/0!"}]
[null,24,{"$f":"'DATOS DEL ESTUDIANTE'!B27","v":0},{"$f":"'DATOS DEL ESTUDIANTE'!C27","v":0},{"$f":"'DATOS DEL ESTUDIANTE'!D27","v":0},null,null,null,null,null,null,null,{"$error":"#DIV/0!"},null,null,null,null,null,null,{"$error":"#DIV/0!"},null,{"$error":"#DIV/0!"},null,null,{"$error":"#DIV/0!"}]
[null,25,{"$f":"'DATOS DEL ESTUDIANTE'!B28","v":0},{"$f":"'DATOS DEL ESTUDIANTE'!C28","v":0},{"$f":"'DATOS DEL ESTUDIANTE'!D28","v":0},null,null,null,null,null,null,null,{"$error":"#DIV/0!"},null,null,null,null,null,null,{"$error":"#DIV/0!"},null,{"$error":"#DIV/0!"},null,null,{"$error":"#DIV/0!"}]
[null,26,{"$f":"'DATOS DEL ESTUDIANTE'!B29","v":0},{"$f":"'DATOS DEL ESTUDIANTE'!C29","v":0},{"$f":"'DATOS DEL ESTUDIANTE'!D29","v":0},null,null,null,null,null,null,null,{"$error":"#DIV/0!"},null,null,null,null,null,null,{"$error":"#DIV/0!"},null,{"$error":"#DIV/0!"},null,null,{"$error":"#DIV/0!"}]
[null,27,{"$f":"'DATOS DEL ESTUDIANTE'!B30","v":0},{"$f":"'DATOS DEL ESTUDIANTE'!C30","v":0},{"$f":"'DATOS DEL ESTUDIANTE'!D30","v":0},null,null,null,null,null,null,null,{"$error":"#DIV/0!"},null,null,null,null,null,null,{"$error":"#DIV/0!"},null,{"$error":"#DIV/0!"},null,null,{"$error":"#DIV/0!"}]
[null,28,{"$f":"'DATOS DEL ESTUDIANTE'!B31","v":0},{"$f":"'DATOS DEL ESTUDIANTE'!C31","v":0},{"$f":"'DATOS DEL ESTUDIANTE'!D31","v":0},null,null,null,null,null,null,null,{"$error":"#DIV/0!"},null,null,null,null,null,null,{"$error":"#DIV/0!"},null,{"$error":"#DIV/0!"},null,null,{"$error":"#DIV/0!"}]
[null,29,{"$f":"'DATOS DEL ESTUDIANTE'!B32","v":0},{"$f":"'DATOS DEL ESTUDIANTE'!C32","v":0},{"$f":"'DATOS DEL ESTUDIANTE'!D32","v":0},null,null,null,null,null,null,null,{"$error":"#DIV/0!"},null,null,null,null,null,null,{"$error":"#DIV/0!"},null,{"$error":"#DIV/0!"},null,null,{"$error":"#DIV/0!"}]
[null,30,{"$f":"'DATOS DEL ESTUDIANTE'!B33","v":0},{"$f":"'DATOS DEL ESTUDIANTE'!C33","v":0},{"$f":"'DATOS DEL ESTUDIANTE'!D33","v":0},null,null,null,null,null,null,null,{"$error":"#DIV/0!"},null,null,null,null,null,null,{"$error":"#DIV/0!"},null,{"$error":"#DIV/0!"},null,null,{"$error":"#DIV/0!"}]
[null,31,{"$f":"'DATOS DEL ESTUDIANTE'!B34","v":0},{"$f":"'DATOS DEL ESTUDIANTE'!C34","v":0},{"$f":"'DATOS DEL ESTUDIANTE'!D34","v":0},null,null,null,null,null,null,null,{"$error":"#DIV/0!"},null,null,null,null,null,null,{"$error":"#DIV/0!"},null,{"$error":"#DIV/0!"},null,null,{"$error":"#DIV/0!"}]
[null,32,{"$f":"'DATOS DEL ESTUDIANTE'!B35","v":0},{"$f":"'DATOS DEL ESTUDIANTE'!C35","v":0},{"$f":"'DATOS DEL ESTUDIANTE'!D35","v":0},null,null,null,null,null,null,null,{"$error":"#DIV/0!"},null,null,null,null,null,null,{"$error":"#DIV/0!"},null,{"$error":"#DIV/0!"},null,null,{"$error":"#DIV/0!"}]
[null,33,{"$f":"'DATOS DEL ESTUDIANTE'!B36","v":0},{"$f":"'DATOS DEL ESTUDIANTE'!C36","v":0},{"$f":"'DATOS DEL ESTUDIANTE'!D36","v":0},null,null,null,null,null,null,null,{"$error":"#DIV/0!"},null,null,null,null,null,null,{"$error":"#DIV/0!"},null,{"$error":"#DIV/0!"},null,null,{"$error":"#DIV/0!"}]
[null,34,{"$f":"'DATOS DEL ESTUDIANTE'!B37","v":0},{"$f":"'DATOS DEL ESTUDIANTE'!C37","v":0},{"$f":"'DATOS DEL ESTUDIANTE'!D37","v":0},null,null,null,null,null,null,null,{"$error":"#DIV/0!"},null,null,null,null,null,null,{"$error":"#DIV/0!"},null,{"$error":"#DIV/0!"},null,null,{"$error":"#DIV/0!"}]
[null,35,{"$f":"'DATOS DEL ESTUDIANTE'!B38","v":0},{"$f":"'DATOS DEL ESTUDIANTE'!C38","v":0},{"$f":"'DATOS DEL ESTUDIANTE'!D38","v":0},null,null,null,null,null,null,null,{"$error":"#DIV/0!"},null,null,null,null,null,null,{"$error":"#DIV/0!"},null,{"$error":"#DIV/0!"},null,null,{"$error":"#DIV/0!"}]
[null,36,{"$f":"'DATOS DEL ESTUDIANTE'!B39","v":0},{"$f":"'DATOS DEL ESTUDIANTE'!C39","v":0},{"$f":"'DATOS DEL ESTUDIANTE'!D39","v":0},null,null,null,null,null,null,null,{"$error":"#DIV/0!"},null,null,null,null,null,null,{"$error":"#DIV/0!"},null,{"$error":"#DIV/0!"},null,null,{"$error":"#DIV/0!"}]
[null,37,{"$f":"'DATOS DEL ESTUDIANTE'!B40","v":0},{"$f":"'DATOS DEL ESTUDIANTE'!C40","v":0},{"$f":"'DATOS DEL ESTUDIANTE'!D40","v":0},null,null,null,null,null,null,null,{"$error":"#DIV/0!"},null,null,null,null,null,null,{"$error":"#DIV/0!"},null,{"$error":"#DIV/0!"},null,null,{"$error":"#DIV/0!"}]
[null,38,{"$f":"'DATOS DEL ESTUDIANTE'!B41","v":0},{"$f":"'DATOS DEL ESTUDIANTE'!C41","v":0},{"$f":"'DATOS DEL ESTUDIANTE'!D41","v":0},null,null,null,null,null,null,null,{"$error":"#DIV/0!"},null,null,null,null,null,null,{"$error":"#DIV/0!"},null,{"$error":"#DIV/0!"},null,null,{"$error":"#DIV/0!"}]
[null,39,{"$f":"'DATOS DEL ESTUDIANTE'!B42","v":0},{"$f":"'DATOS DEL ESTUDIANTE'!C42","v":0},{"$f":"'DATOS DEL ESTUDIANTE'!D42","v":0},null,null,null,null,null,null,null,{"$error":"#DIV/0!"},null,null,null,null,null,null,{"$error":"#DIV/0!"},null,{"$error":"#DIV/0!"},null,null,{"$error":"#DIV/0!"}]
[null,40,{"$f":"'DATOS DEL ESTUDIANTE'!B43","v":0},{"$f":"'DATOS DEL ESTUDIANTE'!C43","v":0},{"$f":"'DATOS DEL ESTUDIANTE'!D43","v":0},null,null,null,null,null,null,null,{"$error":"#DIV/0!"},null,null,null,null,null,null,{"$error":"#DIV/0!"},null,{"$error":"#DIV/0!"},null,null,{"$error":"#DIV/0!"}]
[null,41,{"$f":"'DATOS DEL ESTUDIANTE'!B44","v":0},{"$f":"'DATOS DEL ESTUDIANTE'!C44","v":0},{"$f":"'DATOS DEL ESTUDIANTE'!D44","v":0},null,null,null,null,null,null,null,{"$error":"#DIV/0!"},null,null,null,null,null,null,{"$error":"#DIV/0!"},null,{"$error":"#DIV/0!"},null,null,{"$error":"#DIV/0!"}]
[null,42,{"$f":"'DATOS DEL ESTUDIANTE'!B45","v":0},{"$f":"'DATOS DEL ESTUDIANTE'!C45","v":0},{"$f":"'DATOS DEL ESTUDIANTE'!D45","v":0},null,null,null,null,null,null,null,{"$error":"#DIV/0!"},null,null,null,null,null,null,{"$error":"#DIV/0!"},null,{"$error":"#DIV/0!"},null,null,{"$error":"#DIV/0!"}]
[null,43,{"$f":"'DATOS DEL ESTUDIANTE'!B46","v":0},{"$f":"'DATOS DEL ESTUDIANTE'!C46","v":0},{"$f":"'DATOS DEL ESTUDIANTE'!D46","v":0},null,null,null,null,null,null,null,{"$error":"#DIV/0!"},null,null,null,null,null,null,{"$error":"#DIV/0!"},null,{"$error":"#DIV/0!"},null,null,{"$error":"#DIV/0!"}]
[null,44,{"$f":"'DATOS DEL ESTUDIANTE'!B47","v":0},{"$f":"'DATOS DEL ESTUDIANTE'!C47","v":0},{"$f":"'DATOS DEL ESTUDIANTE'!D47","v":0},null,null,null,null,null,null,null,{"$error":"#DIV/0!"},null,null,null,null,null,null,{"$error":"#DIV/0!"},null,{"$error":"#DIV/0!"},null,null,{"$error":"#DIV/0!"}]
[null,45,{"$f":"'DATOS DEL ESTUDIANTE'!B48","v":0},{"$f":"'DATOS DEL ESTUDIANTE'!C48","v":0},{"$f":"'DATOS DEL ESTUDIANTE'!D48","v":0},null,null,null,null,null,null,null,{"$error":"#DIV/0!"},null,null,null,null,null,null,{"$error":"#DIV/0!"},null,{"$error":"#DIV/0!"},null,null,{"$error":"#DIV/0!"}]

{"sheet":"TECNICA TECNOLOGICA 2","index":41,"n_rows":54,"n_cols":25,"rows_kept":54,"cut":false,"hidden":false,"merged":[[0,25,3,25],[3,13,3,19],[1,4,1,9],[8,16,9,16],[8,17,9,17],[8,18,9,18],[8,15,9,15],[4,19,9,19],[8,2,8,4],[3,6,3,12],[8,8,9,8],[8,9,9,9],[8,10,9,10],[8,11,9,11],[4,8,6,9],[4,13,6,14],[3,21,9,21],[3,22,8,23],[3,24,9,24],[4,15,6,16],[4,17,6,18],[4,20,6,20],[0,21,2,24],[1,10,1,12],[1,13,1,19],[1,20,2,20],[2,1,2,19],[1,1,1,3],[8,1,9,1],[8,20,9,20],[8,7,9,7],[4,10,6,11],[0,0,9,0],[0,1,0,19],[3,1,3,4],[8,5,9,5],[8,6,9,6],[8,13,9,13],[8,14,9,14],[4,12,9,12],[7,1,7,4],[4,1,6,4],[4,5,6,5],[4,6,6,7]]}
[null,"      TÉCNICA TECNOLÓGICA",null,null,null,null,null,null,null,null,null,null,null,null,null,null,null,null,null,null,2018]
[null,"AÑO DE ESCOLARIDAD:",null,null,{"$f":"CARATULA!G15","v":0},null,null,null,null,null,"MAESTRA (O): ",null,null,{"$f":"CARATULA!G18","v":0},null,null,null,null,null,null,"SEGUNDO\nBIMESTRE"]
[null," REGISTRO  Y CENTRALIZADOR DEL PROCESO DE  EVALUACIÓN   "]
[null,"DIMENSIONES",null,null,null,"SER (10)","SABER (35)",null,null,null,null,null,null,"HACER (35)",null,null,null,null,null,null,"DECIDIR (10)","TOTAL     EVALUACIÓN    DEL     MAESTRO","AUTOEVALUACIÓN",null,"CALIFICACIÓN BIMESTRAL"]
[null,"CRITERIOS DE EVALUACIÓN SEGÚN PDC",null,null,null,null,null,null,null,null,null,null,"T      O     T     A       L",null,null,null,null,null,null,"T      O     T     A       L"]
[]
[]
[null,"INSTRUMENTO Y/ O ESTRATEGIAS DE EVALUACIÓN"]
[null,"N°","    FECHA DE  EVALUACIÓN\n \n\n"]
[null,null,"NOMBRES ","APELLIDO PATERNO"," \nAPELLIDO MATERNO",null,null,null,null,null,null,null,null,null,null,null,null,null,null,null,null,null,"SER\n(5)","DECIDIR\n(5)"]
[null,1,{"$f":"'DATOS DEL ESTUDIANTE'!B4","v":0},{"$f":"'DATOS DEL ESTUDIANTE'!C4","v":0},{"$f":"'DATOS DEL ESTUDIANTE'!D4","v":0},null,null,null,null,null,null,null,{"$f":"AVERAGE(G11:L11)","v":{"$error":"#DIV/0!"}},null,null,null,null,null,null,{"$f":"AVERAGE(N11:S11)","v":{"$error":"#DIV/0!"}},null,{"$f":"SUM(F11+M11+T11+U11)","v":{"$error":"#DIV/0!"}},null,null,{"$f":"SUM(V11:X11)","v":{"$error":"#DIV/0!"}}]
[null,2,{"$f":"'DATOS DEL ESTUDIANTE'!B5","v":0},{"$f":"'DATOS DEL ESTUDIANTE'!C5","v":0},{"$f":"'DATOS DEL ESTUDIANTE'!D5","v":0},null,null,null,null,null,null,null,{"$f":"AVERAGE(G12:L12)","v":{"$error":"#DIV/0!"}},null,null,null,null,null,null,{"$f":"AVERAGE(N12:S12)","v":{"$error":"#DIV/0!"}},null,{"$f":"SUM(F12+M12+T12+U12)","v":{"$error":"#DIV/0!"}},null,null,{"$f":"SUM(V12:X12)","v":{"$error":"#DIV/0!"}}]
[null,3,{"$f":"'DATOS DEL ESTUDIANTE'!B6","v":0},{"$f":"'DATOS DEL ESTUDIANTE'!C6","v":0},{"$f":"'DATOS DEL ESTUDIANTE'!D6","v":0},null,null,null,null,null,null,null,{"$error":"#DIV/0!"},null,null,null,null,null,null,{"$error":"#DIV/0!"},null,{"$error":"#DIV/0!"},null,null,{"$error":"#DIV/0!"}]
[null,4,{"$f":"'DATOS DEL ESTUDIANTE'!B7","v":0},{"$f":"'DATOS DEL ESTUDIANTE'!C7","v":0},{"$f":"'DATOS DEL ESTUDIANTE'!D7","v":0},null,null,null,null,null,null,null,{"$error":"#DIV/0!"},null,null,null,null,null,null,{"$error":"#DIV/0!"},null,{"$error":"#DIV/0!"},null,null,{"$error":"#DIV/0!"}]
[null,5,{"$f":"'DATOS DEL ESTUDIANTE'!B8","v":0},{"$f":"'DATOS DEL ESTUDIANTE'!C8","v":0},{"$f":"'DATOS DEL ESTUDIANTE'!D8","v":0},null,null,null,null,null,null,null,{"$error":"#DIV/0!"},null,null,null,null,null,null,{"$error":"#DIV/0!"},null,{"$error":"#DIV/0!"},null,null,{"$error":"#DIV/0!"}]
[null,6,{"$f":"'DATOS DEL ESTUDIANTE'!B9","v":0},{"$f":"'DATOS DEL ESTUDIANTE'!C9","v":0},{"$f":"'DATOS DEL ESTUDIANTE'!D9","v":0},null,null,null,null,null,null,null,{"$error":"#DIV/0!"},null,null,null,null,null,null,{"$error":"#DIV/0!"},null,{"$error":"#DIV/0!"},null,null,{"$error":"#DIV/0!"}]
[null,7,{"$f":"'DATOS DEL ESTUDIANTE'!B10","v":0},{"$f":"'DATOS DEL ESTUDIANTE'!C10","v":0},{"$f":"'DATOS DEL ESTUDIANTE'!D10","v":0},null,null,null,null,null,null,null,{"$error":"#DIV/0!"},null,null,null,null,null,null,{"$error":"#DIV/0!"},null,{"$error":"#DIV/0!"},null,null,{"$error":"#DIV/0!"}]
[null,8,{"$f":"'DATOS DEL ESTUDIANTE'!B11","v":0},{"$f":"'DATOS DEL ESTUDIANTE'!C11","v":0},{"$f":"'DATOS DEL ESTUDIANTE'!D11","v":0},null,null,null,null,null,null,null,{"$error":"#DIV/0!"},null,null,null,null,null,null,{"$error":"#DIV/0!"},null,{"$error":"#DIV/0!"},null,null,{"$error":"#DIV/0!"}]
[null,9,{"$f":"'DATOS DEL ESTUDIANTE'!B12","v":0},{"$f":"'DATOS DEL ESTUDIANTE'!C12","v":0},{"$f":"'DATOS DEL ESTUDIANTE'!D12","v":0},null,null,null,null,null,null,null,{"$error":"#DIV/0!"},null,null,null,null,null,null,{"$error":"#DIV/0!"},null,{"$error":"#DIV/0!"},null,null,{"$error":"#DIV/0!"}]
[null,10,{"$f":"'DATOS DEL ESTUDIANTE'!B13","v":0},{"$f":"'DATOS DEL ESTUDIANTE'!C13","v":0},{"$f":"'DATOS DEL ESTUDIANTE'!D13","v":0},null,null,null,null,null,null,null,{"$error":"#DIV/0!"},null,null,null,null,null,null,{"$error":"#DIV/0!"},null,{"$error":"#DIV/0!"},null,null,{"$error":"#DIV/0!"}]
[null,11,{"$f":"'DATOS DEL ESTUDIANTE'!B14","v":0},{"$f":"'DATOS DEL ESTUDIANTE'!C14","v":0},{"$f":"'DATOS DEL ESTUDIANTE'!D14","v":0},null,null,null,null,null,null,null,{"$error":"#DIV/0!"},null,null,null,null,null,null,{"$error":"#DIV/0!"},null,{"$error":"#DIV/0!"},null,null,{"$error":"#DIV/0!"}]
[null,12,{"$f":"'DATOS DEL ESTUDIANTE'!B15","v":0},{"$f":"'DATOS DEL ESTUDIANTE'!C15","v":0},{"$f":"'DATOS DEL ESTUDIANTE'!D15","v":0},null,null,null,null,null,null,null,{"$error":"#DIV/0!"},null,null,null,null,null,null,{"$error":"#DIV/0!"},null,{"$error":"#DIV/0!"},null,null,{"$error":"#DIV/0!"}]
[null,13,{"$f":"'DATOS DEL ESTUDIANTE'!B16","v":0},{"$f":"'DATOS DEL ESTUDIANTE'!C16","v":0},{"$f":"'DATOS DEL ESTUDIANTE'!D16","v":0},null,null,null,null,null,null,null,{"$error":"#DIV/0!"},null,null,null,null,null,null,{"$error":"#DIV/0!"},null,{"$error":"#DIV/0!"},null,null,{"$error":"#DIV/0!"}]
[null,14,{"$f":"'DATOS DEL ESTUDIANTE'!B17","v":0},{"$f":"'DATOS DEL ESTUDIANTE'!C17","v":0},{"$f":"'DATOS DEL ESTUDIANTE'!D17","v":0},null,null,null,null,null,null,null,{"$error":"#DIV/0!"},null,null,null,null,null,null,{"$error":"#DIV/0!"},null,{"$error":"#DIV/0!"},null,null,{"$error":"#DIV/0!"}]
[null,15,{"$f":"'DATOS DEL ESTUDIANTE'!B18","v":0},{"$f":"'DATOS DEL ESTUDIANTE'!C18","v":0},{"$f":"'DATOS DEL ESTUDIANTE'!D18","v":0},null,null,null,null,null,null,null,{"$error":"#DIV/0!"},null,null,null,null,null,null,{"$error":"#DIV/0!"},null,{"$error":"#DIV/0!"},null,null,{"$error":"#DIV/0!"}]
[null,16,{"$f":"'DATOS DEL ESTUDIANTE'!B19","v":0},{"$f":"'DATOS DEL ESTUDIANTE'!C19","v":0},{"$f":"'DATOS DEL ESTUDIANTE'!D19","v":0},null,null,null,null,null,null,null,{"$error":"#DIV/0!"},null,null,null,null,null,null,{"$error":"#DIV/0!"},null,{"$error":"#DIV/0!"},null,null,{"$error":"#DIV/0!"}]
[null,17,{"$f":"'DATOS DEL ESTUDIANTE'!B20","v":0},{"$f":"'DATOS DEL ESTUDIANTE'!C20","v":0},{"$f":"'DATOS DEL ESTUDIANTE'!D20","v":0},null,null,null,null,null,null,null,{"$error":"#DIV/0!"},null,null,null,null,null,null,{"$error":"#DIV/0!"},null,{"$error":"#DIV/0!"},null,null,{"$error":"#DIV/0!"}]
[null,18,{"$f":"'DATOS DEL ESTUDIANTE'!B21","v":0},{"$f":"'DATOS DEL ESTUDIANTE'!C21","v":0},{"$f":"'DATOS DEL ESTUDIANTE'!D21","v":0},null,null,null,null,null,null,null,{"$error":"#DIV/0!"},null,null,null,null,null,null,{"$error":"#DIV/0!"},null,{"$error":"#DIV/0!"},null,null,{"$error":"#DIV/0!"}]
[null,19,{"$f":"'DATOS DEL ESTUDIANTE'!B22","v":0},{"$f":"'DATOS DEL ESTUDIANTE'!C22","v":0},{"$f":"'DATOS DEL ESTUDIANTE'!D22","v":0},null,null,null,null,null,null,null,{"$error":"#DIV/0!"},null,null,null,null,null,null,{"$error":"#DIV/0!"},null,{"$error":"#DIV/0!"},null,null,{"$error":"#DIV/0!"}]
[null,20,{"$f":"'DATOS DEL ESTUDIANTE'!B23","v":0},{"$f":"'DATOS DEL ESTUDIANTE'!C23","v":0},{"$f":"'DATOS DEL ESTUDIANTE'!D23","v":0},null,null,null,null,null,null,null,{"$error":"#DIV/0!"},null,null,null,null,null,null,{"$error":"#DIV/0!"},null,{"$error":"#DIV/0!"},null,null,{"$error":"#DIV/0!"}]
[null,21,{"$f":"'DATOS DEL ESTUDIANTE'!B24","v":0},{"$f":"'DATOS DEL ESTUDIANTE'!C24","v":0},{"$f":"'DATOS DEL ESTUDIANTE'!D24","v":0},null,null,null,null,null,null,null,{"$error":"#DIV/0!"},null,null,null,null,null,null,{"$error":"#DIV/0!"},null,{"$error":"#DIV/0!"},null,null,{"$error":"#DIV/0!"}]
[null,22,{"$f":"'DATOS DEL ESTUDIANTE'!B25","v":0},{"$f":"'DATOS DEL ESTUDIANTE'!C25","v":0},{"$f":"'DATOS DEL ESTUDIANTE'!D25","v":0},null,null,null,null,null,null,null,{"$error":"#DIV/0!"},null,null,null,null,null,null,{"$error":"#DIV/0!"},null,{"$error":"#DIV/0!"},null,null,{"$error":"#DIV/0!"}]
[null,23,{"$f":"'DATOS DEL ESTUDIANTE'!B26","v":0},{"$f":"'DATOS DEL ESTUDIANTE'!C26","v":0},{"$f":"'DATOS DEL ESTUDIANTE'!D26","v":0},null,null,null,null,null,null,null,{"$error":"#DIV/0!"},null,null,null,null,null,null,{"$error":"#DIV/0!"},null,{"$error":"#DIV/0!"},null,null,{"$error":"#DIV/0!"}]
[null,24,{"$f":"'DATOS DEL ESTUDIANTE'!B27","v":0},{"$f":"'DATOS DEL ESTUDIANTE'!C27","v":0},{"$f":"'DATOS DEL ESTUDIANTE'!D27","v":0},null,null,null,null,null,null,null,{"$error":"#DIV/0!"},null,null,null,null,null,null,{"$error":"#DIV/0!"},null,{"$error":"#DIV/0!"},null,null,{"$error":"#DIV/0!"}]
[null,25,{"$f":"'DATOS DEL ESTUDIANTE'!B28","v":0},{"$f":"'DATOS DEL ESTUDIANTE'!C28","v":0},{"$f":"'DATOS DEL ESTUDIANTE'!D28","v":0},null,null,null,null,null,null,null,{"$error":"#DIV/0!"},null,null,null,null,null,null,{"$error":"#DIV/0!"},null,{"$error":"#DIV/0!"},null,null,{"$error":"#DIV/0!"}]
[null,26,{"$f":"'DATOS DEL ESTUDIANTE'!B29","v":0},{"$f":"'DATOS DEL ESTUDIANTE'!C29","v":0},{"$f":"'DATOS DEL ESTUDIANTE'!D29","v":0},null,null,null,null,null,null,null,{"$error":"#DIV/0!"},null,null,null,null,null,null,{"$error":"#DIV/0!"},null,{"$error":"#DIV/0!"},null,null,{"$error":"#DIV/0!"}]
[null,27,{"$f":"'DATOS DEL ESTUDIANTE'!B30","v":0},{"$f":"'DATOS DEL ESTUDIANTE'!C30","v":0},{"$f":"'DATOS DEL ESTUDIANTE'!D30","v":0},null,null,null,null,null,null,null,{"$error":"#DIV/0!"},null,null,null,null,null,null,{"$error":"#DIV/0!"},null,{"$error":"#DIV/0!"},null,null,{"$error":"#DIV/0!"}]
[null,28,{"$f":"'DATOS DEL ESTUDIANTE'!B31","v":0},{"$f":"'DATOS DEL ESTUDIANTE'!C31","v":0},{"$f":"'DATOS DEL ESTUDIANTE'!D31","v":0},null,null,null,null,null,null,null,{"$error":"#DIV/0!"},null,null,null,null,null,null,{"$error":"#DIV/0!"},null,{"$error":"#DIV/0!"},null,null,{"$error":"#DIV/0!"}]
[null,29,{"$f":"'DATOS DEL ESTUDIANTE'!B32","v":0},{"$f":"'DATOS DEL ESTUDIANTE'!C32","v":0},{"$f":"'DATOS DEL ESTUDIANTE'!D32","v":0},null,null,null,null,null,null,null,{"$error":"#DIV/0!"},null,null,null,null,null,null,{"$error":"#DIV/0!"},null,{"$error":"#DIV/0!"},null,null,{"$error":"#DIV/0!"}]
[null,30,{"$f":"'DATOS DEL ESTUDIANTE'!B33","v":0},{"$f":"'DATOS DEL ESTUDIANTE'!C33","v":0},{"$f":"'DATOS DEL ESTUDIANTE'!D33","v":0},null,null,null,null,null,null,null,{"$error":"#DIV/0!"},null,null,null,null,null,null,{"$error":"#DIV/0!"},null,{"$error":"#DIV/0!"},null,null,{"$error":"#DIV/0!"}]
[null,31,{"$f":"'DATOS DEL ESTUDIANTE'!B34","v":0},{"$f":"'DATOS DEL ESTUDIANTE'!C34","v":0},{"$f":"'DATOS DEL ESTUDIANTE'!D34","v":0},null,null,null,null,null,null,null,{"$error":"#DIV/0!"},null,null,null,null,null,null,{"$error":"#DIV/0!"},null,{"$error":"#DIV/0!"},null,null,{"$error":"#DIV/0!"}]
[null,32,{"$f":"'DATOS DEL ESTUDIANTE'!B35","v":0},{"$f":"'DATOS DEL ESTUDIANTE'!C35","v":0},{"$f":"'DATOS DEL ESTUDIANTE'!D35","v":0},null,null,null,null,null,null,null,{"$error":"#DIV/0!"},null,null,null,null,null,null,{"$error":"#DIV/0!"},null,{"$error":"#DIV/0!"},null,null,{"$error":"#DIV/0!"}]
[null,33,{"$f":"'DATOS DEL ESTUDIANTE'!B36","v":0},{"$f":"'DATOS DEL ESTUDIANTE'!C36","v":0},{"$f":"'DATOS DEL ESTUDIANTE'!D36","v":0},null,null,null,null,null,null,null,{"$error":"#DIV/0!"},null,null,null,null,null,null,{"$error":"#DIV/0!"},null,{"$error":"#DIV/0!"},null,null,{"$error":"#DIV/0!"}]
[null,34,{"$f":"'DATOS DEL ESTUDIANTE'!B37","v":0},{"$f":"'DATOS DEL ESTUDIANTE'!C37","v":0},{"$f":"'DATOS DEL ESTUDIANTE'!D37","v":0},null,null,null,null,null,null,null,{"$error":"#DIV/0!"},null,null,null,null,null,null,{"$error":"#DIV/0!"},null,{"$error":"#DIV/0!"},null,null,{"$error":"#DIV/0!"}]
[null,35,{"$f":"'DATOS DEL ESTUDIANTE'!B38","v":0},{"$f":"'DATOS DEL ESTUDIANTE'!C38","v":0},{"$f":"'DATOS DEL ESTUDIANTE'!D38","v":0},null,null,null,null,null,null,null,{"$error":"#DIV/0!"},null,null,null,null,null,null,{"$error":"#DIV/0!"},null,{"$error":"#DIV/0!"},null,null,{"$error":"#DIV/0!"}]
[null,36,{"$f":"'DATOS DEL ESTUDIANTE'!B39","v":0},{"$f":"'DATOS DEL ESTUDIANTE'!C39","v":0},{"$f":"'DATOS DEL ESTUDIANTE'!D39","v":0},null,null,null,null,null,null,null,{"$error":"#DIV/0!"},null,null,null,null,null,null,{"$error":"#DIV/0!"},null,{"$error":"#DIV/0!"},null,null,{"$error":"#DIV/0!"}]
[null,37,{"$f":"'DATOS DEL ESTUDIANTE'!B40","v":0},{"$f":"'DATOS DEL ESTUDIANTE'!C40","v":0},{"$f":"'DATOS DEL ESTUDIANTE'!D40","v":0},null,null,null,null,null,null,null,{"$error":"#DIV/0!"},null,null,null,null,null,null,{"$error":"#DIV/0!"},null,{"$error":"#DIV/0!"},null,null,{"$error":"#DIV/0!"}]
[null,38,{"$f":"'DATOS DEL ESTUDIANTE'!B41","v":0},{"$f":"'DATOS DEL ESTUDIANTE'!C41","v":0},{"$f":"'DATOS DEL ESTUDIANTE'!D41","v":0},null,null,null,null,null,null,null,{"$error":"#DIV/0!"},null,null,null,null,null,null,{"$error":"#DIV/0!"},null,{"$error":"#DIV/0!"},null,null,{"$error":"#DIV/0!"}]
[null,39,{"$f":"'DATOS DEL ESTUDIANTE'!B42","v":0},{"$f":"'DATOS DEL ESTUDIANTE'!C42","v":0},{"$f":"'DATOS DEL ESTUDIANTE'!D42","v":0},null,null,null,null,null,null,null,{"$error":"#DIV/0!"},null,null,null,null,null,null,{"$error":"#DIV/0!"},null,{"$error":"#DIV/0!"},null,null,{"$error":"#DIV/0!"}]
[null,40,{"$f":"'DATOS DEL ESTUDIANTE'!B43","v":0},{"$f":"'DATOS DEL ESTUDIANTE'!C43","v":0},{"$f":"'DATOS DEL ESTUDIANTE'!D43","v":0},null,null,null,null,null,null,null,{"$error":"#DIV/0!"},null,null,null,null,null,null,{"$error":"#DIV/0!"},null,{"$error":"#DIV/0!"},null,null,{"$error":"#DIV/0!"}]
[null,41,{"$f":"'DATOS DEL ESTUDIANTE'!B44","v":0},{"$f":"'DATOS DEL ESTUDIANTE'!C44","v":0},{"$f":"'DATOS DEL ESTUDIANTE'!D44","v":0},null,null,null,null,null,null,null,{"$error":"#DIV/0!"},null,null,null,null,null,null,{"$error":"#DIV/0!"},null,{"$error":"#DIV/0!"},null,null,{"$error":"#DIV/0!"}]
[null,42,{"$f":"'DATOS DEL ESTUDIANTE'!B45","v":0},{"$f":"'DATOS DEL ESTUDIANTE'!C45","v":0},{"$f":"'DATOS DEL ESTUDIANTE'!D45","v":0},null,null,null,null,null,null,null,{"$error":"#DIV/0!"},null,null,null,null,null,null,{"$error":"#DIV/0!"},null,{"$error":"#DIV/0!"},null,null,{"$error":"#DIV/0!"}]
[null,43,{"$f":"'DATOS DEL ESTUDIANTE'!B46","v":0},{"$f":"'DATOS DEL ESTUDIANTE'!C46","v":0},{"$f":"'DATOS DEL ESTUDIANTE'!D46","v":0},null,null,null,null,null,null,null,{"$error":"#DIV/0!"},null,null,null,null,null,null,{"$error":"#DIV/0!"},null,{"$error":"#DIV/0!"},null,null,{"$error":"#DIV/0!"}]
[null,44,{"$f":"'DATOS DEL ESTUDIANTE'!B47","v":0},{"$f":"'DATOS DEL ESTUDIANTE'!C47","v":0},{"$f":"'DATOS DEL ESTUDIANTE'!D47","v":0},null,null,null,null,null,null,null,{"$error":"#DIV/0!"},null,null,null,null,null,null,{"$error":"#DIV/0!"},null,{"$error":"#DIV/0!"},null,null,{"$error":"#DIV/0!"}]

{"sheet":"TECNICA TECNOLOGICA 3","index":42,"n_rows":55,"n_cols":25,"rows_kept":55,"cut":false,"hidden":false,"merged":[[0,25,3,25],[3,13,3,19],[1,4,1,9],[8,16,9,16],[8,17,9,17],[8,18,9,18],[8,15,9,15],[4,19,9,19],[8,2,8,4],[3,6,3,12],[8,8,9,8],[8,9,9,9],[8,10,9,10],[8,11,9,11],[4,8,6,9],[4,13,6,14],[3,21,9,21],[3,22,8,23],[3,24,9,24],[4,15,6,16],[4,17,6,18],[4,20,6,20],[0,21,2,24],[1,10,1,12],[1,13,1,19],[1,20,2,20],[2,1,2,19],[1,1,1,3],[8,1,9,1],[8,20,9,20],[8,7,9,7],[4,10,6,11],[0,0,9,0],[0,1,0,19],[3,1,3,4],[8,5,9,5],[8,6,9,6],[8,13,9,13],[8,14,9,14],[4,12,9,12],[7,1,7,4],[4,1,6,4],[4,5,6,5],[4,6,6,7]]}
[null,"TÉCNICA TECNOLÓGICA",null,null,null,null,null,null,null,null,null,null,null,null,null,null,null,null,null,null,2018]
[null,"AÑO DE ESCOLARIDAD:",null,null,{"$f":"CARATULA!G15","v":0},null,null,null,null,null,"MAESTRA (O): ",null,null,{"$f":"CARATULA!G18","v":0},null,null,null,null,null,null,"TERCER\nBIMESTRE"]
[null," REGISTRO  Y CENTRALIZADOR DEL PROCESO DE  EVALUACIÓN   "]
[null,"DIMENSIONES",null,null,null,"SER (10)","SABER (35)",null,null,null,null,null,null,"HACER (35)",null,null,null,null,null,null,"DECIDIR (10)","TOTAL     EVALUACIÓN    DEL     MAESTRO","AUTOEVALUACIÓN",null,"CALIFICACIÓN BIMESTRAL"]
[null,"CRITERIOS DE EVALUACIÓN SEGÚN PDC",null,null,null,null,null,null,null,null,null,null,"T      O     T     A       L",null,null,null,null,null,null,"T      O     T     A       L"]
[]
[]
[null,"INSTRUMENTO Y/ O ESTRATEGIAS DE EVALUACIÓN"]
[null,"N°","    FECHA DE  EVALUACIÓN\n \n\n"]
[null,null,"NOMBRES ","APELLIDO PATERNO"," \nAPELLIDO MATERNO",null,null,null,null,null,null,null,null,null,null,null,null,null,null,null,null,null,"SER\n(5)","DECIDIR\n(5)"]
[null,1,{"$f":"'DATOS DEL ESTUDIANTE'!B4","v":0},{"$f":"'DATOS DEL ESTUDIANTE'!C4","v":0},{"$f":"'DATOS DEL ESTUDIANTE'!D4","v":0},null,null,null,null,null,null,null,{"$f":"AVERAGE(G11:L11)","v":{"$error":"#DIV/0!"}},null,null,null,null,null,null,{"$f":"AVERAGE(N11:S11)","v":{"$error":"#DIV/0!"}},null,{"$f":"SUM(F11+M11+T11+U11)","v":{"$error":"#DIV/0!"}},null,null,{"$f":"SUM(V11:X11)","v":{"$error":"#DIV/0!"}}]
[null,2,{"$f":"'DATOS DEL ESTUDIANTE'!B5","v":0},{"$f":"'DATOS DEL ESTUDIANTE'!C5","v":0},{"$f":"'DATOS DEL ESTUDIANTE'!D5","v":0},null,null,null,null,null,null,null,{"$f":"AVERAGE(G12:L12)","v":{"$error":"#DIV/0!"}},null,null,null,null,null,null,{"$f":"AVERAGE(N12:S12)","v":{"$error":"#DIV/0!"}},null,{"$f":"SUM(F12+M12+T12+U12)","v":{"$error":"#DIV/0!"}},null,null,{"$f":"SUM(V12:X12)","v":{"$error":"#DIV/0!"}}]
[null,3,{"$f":"'DATOS DEL ESTUDIANTE'!B6","v":0},{"$f":"'DATOS DEL ESTUDIANTE'!C6","v":0},{"$f":"'DATOS DEL ESTUDIANTE'!D6","v":0},null,null,null,null,null,null,null,{"$error":"#DIV/0!"},null,null,null,null,null,null,{"$error":"#DIV/0!"},null,{"$error":"#DIV/0!"},null,null,{"$error":"#DIV/0!"}]
[null,4,{"$f":"'DATOS DEL ESTUDIANTE'!B7","v":0},{"$f":"'DATOS DEL ESTUDIANTE'!C7","v":0},{"$f":"'DATOS DEL ESTUDIANTE'!D7","v":0},null,null,null,null,null,null,null,{"$error":"#DIV/0!"},null,null,null,null,null,null,{"$error":"#DIV/0!"},null,{"$error":"#DIV/0!"},null,null,{"$error":"#DIV/0!"}]
[null,5,{"$f":"'DATOS DEL ESTUDIANTE'!B8","v":0},{"$f":"'DATOS DEL ESTUDIANTE'!C8","v":0},{"$f":"'DATOS DEL ESTUDIANTE'!D8","v":0},null,null,null,null,null,null,null,{"$error":"#DIV/0!"},null,null,null,null,null,null,{"$error":"#DIV/0!"},null,{"$error":"#DIV/0!"},null,null,{"$error":"#DIV/0!"}]
[null,6,{"$f":"'DATOS DEL ESTUDIANTE'!B9","v":0},{"$f":"'DATOS DEL ESTUDIANTE'!C9","v":0},{"$f":"'DATOS DEL ESTUDIANTE'!D9","v":0},null,null,null,null,null,null,null,{"$error":"#DIV/0!"},null,null,null,null,null,null,{"$error":"#DIV/0!"},null,{"$error":"#DIV/0!"},null,null,{"$error":"#DIV/0!"}]
[null,7,{"$f":"'DATOS DEL ESTUDIANTE'!B10","v":0},{"$f":"'DATOS DEL ESTUDIANTE'!C10","v":0},{"$f":"'DATOS DEL ESTUDIANTE'!D10","v":0},null,null,null,null,null,null,null,{"$error":"#DIV/0!"},null,null,null,null,null,null,{"$error":"#DIV/0!"},null,{"$error":"#DIV/0!"},null,null,{"$error":"#DIV/0!"}]
[null,8,{"$f":"'DATOS DEL ESTUDIANTE'!B11","v":0},{"$f":"'DATOS DEL ESTUDIANTE'!C11","v":0},{"$f":"'DATOS DEL ESTUDIANTE'!D11","v":0},null,null,null,null,null,null,null,{"$error":"#DIV/0!"},null,null,null,null,null,null,{"$error":"#DIV/0!"},null,{"$error":"#DIV/0!"},null,null,{"$error":"#DIV/0!"}]
[null,9,{"$f":"'DATOS DEL ESTUDIANTE'!B12","v":0},{"$f":"'DATOS DEL ESTUDIANTE'!C12","v":0},{"$f":"'DATOS DEL ESTUDIANTE'!D12","v":0},null,null,null,null,null,null,null,{"$error":"#DIV/0!"},null,null,null,null,null,null,{"$error":"#DIV/0!"},null,{"$error":"#DIV/0!"},null,null,{"$error":"#DIV/0!"}]
[null,10,{"$f":"'DATOS DEL ESTUDIANTE'!B13","v":0},{"$f":"'DATOS DEL ESTUDIANTE'!C13","v":0},{"$f":"'DATOS DEL ESTUDIANTE'!D13","v":0},null,null,null,null,null,null,null,{"$error":"#DIV/0!"},null,null,null,null,null,null,{"$error":"#DIV/0!"},null,{"$error":"#DIV/0!"},null,null,{"$error":"#DIV/0!"}]
[null,11,{"$f":"'DATOS DEL ESTUDIANTE'!B14","v":0},{"$f":"'DATOS DEL ESTUDIANTE'!C14","v":0},{"$f":"'DATOS DEL ESTUDIANTE'!D14","v":0},null,null,null,null,null,null,null,{"$error":"#DIV/0!"},null,null,null,null,null,null,{"$error":"#DIV/0!"},null,{"$error":"#DIV/0!"},null,null,{"$error":"#DIV/0!"}]
[null,12,{"$f":"'DATOS DEL ESTUDIANTE'!B15","v":0},{"$f":"'DATOS DEL ESTUDIANTE'!C15","v":0},{"$f":"'DATOS DEL ESTUDIANTE'!D15","v":0},null,null,null,null,null,null,null,{"$error":"#DIV/0!"},null,null,null,null,null,null,{"$error":"#DIV/0!"},null,{"$error":"#DIV/0!"},null,null,{"$error":"#DIV/0!"}]
[null,13,{"$f":"'DATOS DEL ESTUDIANTE'!B16","v":0},{"$f":"'DATOS DEL ESTUDIANTE'!C16","v":0},{"$f":"'DATOS DEL ESTUDIANTE'!D16","v":0},null,null,null,null,null,null,null,{"$error":"#DIV/0!"},null,null,null,null,null,null,{"$error":"#DIV/0!"},null,{"$error":"#DIV/0!"},null,null,{"$error":"#DIV/0!"}]
[null,14,{"$f":"'DATOS DEL ESTUDIANTE'!B17","v":0},{"$f":"'DATOS DEL ESTUDIANTE'!C17","v":0},{"$f":"'DATOS DEL ESTUDIANTE'!D17","v":0},null,null,null,null,null,null,null,{"$error":"#DIV/0!"},null,null,null,null,null,null,{"$error":"#DIV/0!"},null,{"$error":"#DIV/0!"},null,null,{"$error":"#DIV/0!"}]
[null,15,{"$f":"'DATOS DEL ESTUDIANTE'!B18","v":0},{"$f":"'DATOS DEL ESTUDIANTE'!C18","v":0},{"$f":"'DATOS DEL ESTUDIANTE'!D18","v":0},null,null,null,null,null,null,null,{"$error":"#DIV/0!"},null,null,null,null,null,null,{"$error":"#DIV/0!"},null,{"$error":"#DIV/0!"},null,null,{"$error":"#DIV/0!"}]
[null,16,{"$f":"'DATOS DEL ESTUDIANTE'!B19","v":0},{"$f":"'DATOS DEL ESTUDIANTE'!C19","v":0},{"$f":"'DATOS DEL ESTUDIANTE'!D19","v":0},null,null,null,null,null,null,null,{"$error":"#DIV/0!"},null,null,null,null,null,null,{"$error":"#DIV/0!"},null,{"$error":"#DIV/0!"},null,null,{"$error":"#DIV/0!"}]
[null,17,{"$f":"'DATOS DEL ESTUDIANTE'!B20","v":0},{"$f":"'DATOS DEL ESTUDIANTE'!C20","v":0},{"$f":"'DATOS DEL ESTUDIANTE'!D20","v":0},null,null,null,null,null,null,null,{"$error":"#DIV/0!"},null,null,null,null,null,null,{"$error":"#DIV/0!"},null,{"$error":"#DIV/0!"},null,null,{"$error":"#DIV/0!"}]
[null,18,{"$f":"'DATOS DEL ESTUDIANTE'!B21","v":0},{"$f":"'DATOS DEL ESTUDIANTE'!C21","v":0},{"$f":"'DATOS DEL ESTUDIANTE'!D21","v":0},null,null,null,null,null,null,null,{"$error":"#DIV/0!"},null,null,null,null,null,null,{"$error":"#DIV/0!"},null,{"$error":"#DIV/0!"},null,null,{"$error":"#DIV/0!"}]
[null,19,{"$f":"'DATOS DEL ESTUDIANTE'!B22","v":0},{"$f":"'DATOS DEL ESTUDIANTE'!C22","v":0},{"$f":"'DATOS DEL ESTUDIANTE'!D22","v":0},null,null,null,null,null,null,null,{"$error":"#DIV/0!"},null,null,null,null,null,null,{"$error":"#DIV/0!"},null,{"$error":"#DIV/0!"},null,null,{"$error":"#DIV/0!"}]
[null,20,{"$f":"'DATOS DEL ESTUDIANTE'!B23","v":0},{"$f":"'DATOS DEL ESTUDIANTE'!C23","v":0},{"$f":"'DATOS DEL ESTUDIANTE'!D23","v":0},null,null,null,null,null,null,null,{"$error":"#DIV/0!"},null,null,null,null,null,null,{"$error":"#DIV/0!"},null,{"$error":"#DIV/0!"},null,null,{"$error":"#DIV/0!"}]
[null,21,{"$f":"'DATOS DEL ESTUDIANTE'!B24","v":0},{"$f":"'DATOS DEL ESTUDIANTE'!C24","v":0},{"$f":"'DATOS DEL ESTUDIANTE'!D24","v":0},null,null,null,null,null,null,null,{"$error":"#DIV/0!"},null,null,null,null,null,null,{"$error":"#DIV/0!"},null,{"$error":"#DIV/0!"},null,null,{"$error":"#DIV/0!"}]
[null,22,{"$f":"'DATOS DEL ESTUDIANTE'!B25","v":0},{"$f":"'DATOS DEL ESTUDIANTE'!C25","v":0},{"$f":"'DATOS DEL ESTUDIANTE'!D25","v":0},null,null,null,null,null,null,null,{"$error":"#DIV/0!"},null,null,null,null,null,null,{"$error":"#DIV/0!"},null,{"$error":"#DIV/0!"},null,null,{"$error":"#DIV/0!"}]
[null,23,{"$f":"'DATOS DEL ESTUDIANTE'!B26","v":0},{"$f":"'DATOS DEL ESTUDIANTE'!C26","v":0},{"$f":"'DATOS DEL ESTUDIANTE'!D26","v":0},null,null,null,null,null,null,null,{"$error":"#DIV/0!"},null,null,null,null,null,null,{"$error":"#DIV/0!"},null,{"$error":"#DIV/0!"},null,null,{"$error":"#DIV/0!"}]
[null,24,{"$f":"'DATOS DEL ESTUDIANTE'!B27","v":0},{"$f":"'DATOS DEL ESTUDIANTE'!C27","v":0},{"$f":"'DATOS DEL ESTUDIANTE'!D27","v":0},null,null,null,null,null,null,null,{"$error":"#DIV/0!"},null,null,null,null,null,null,{"$error":"#DIV/0!"},null,{"$error":"#DIV/0!"},null,null,{"$error":"#DIV/0!"}]
[null,25,{"$f":"'DATOS DEL ESTUDIANTE'!B28","v":0},{"$f":"'DATOS DEL ESTUDIANTE'!C28","v":0},{"$f":"'DATOS DEL ESTUDIANTE'!D28","v":0},null,null,null,null,null,null,null,{"$error":"#DIV/0!"},null,null,null,null,null,null,{"$error":"#DIV/0!"},null,{"$error":"#DIV/0!"},null,null,{"$error":"#DIV/0!"}]
[null,26,{"$f":"'DATOS DEL ESTUDIANTE'!B29","v":0},{"$f":"'DATOS DEL ESTUDIANTE'!C29","v":0},{"$f":"'DATOS DEL ESTUDIANTE'!D29","v":0},null,null,null,null,null,null,null,{"$error":"#DIV/0!"},null,null,null,null,null,null,{"$error":"#DIV/0!"},null,{"$error":"#DIV/0!"},null,null,{"$error":"#DIV/0!"}]
[null,27,{"$f":"'DATOS DEL ESTUDIANTE'!B30","v":0},{"$f":"'DATOS DEL ESTUDIANTE'!C30","v":0},{"$f":"'DATOS DEL ESTUDIANTE'!D30","v":0},null,null,null,null,null,null,null,{"$error":"#DIV/0!"},null,null,null,null,null,null,{"$error":"#DIV/0!"},null,{"$error":"#DIV/0!"},null,null,{"$error":"#DIV/0!"}]
[null,28,{"$f":"'DATOS DEL ESTUDIANTE'!B31","v":0},{"$f":"'DATOS DEL ESTUDIANTE'!C31","v":0},{"$f":"'DATOS DEL ESTUDIANTE'!D31","v":0},null,null,null,null,null,null,null,{"$error":"#DIV/0!"},null,null,null,null,null,null,{"$error":"#DIV/0!"},null,{"$error":"#DIV/0!"},null,null,{"$error":"#DIV/0!"}]
[null,29,{"$f":"'DATOS DEL ESTUDIANTE'!B32","v":0},{"$f":"'DATOS DEL ESTUDIANTE'!C32","v":0},{"$f":"'DATOS DEL ESTUDIANTE'!D32","v":0},null,null,null,null,null,null,null,{"$error":"#DIV/0!"},null,null,null,null,null,null,{"$error":"#DIV/0!"},null,{"$error":"#DIV/0!"},null,null,{"$error":"#DIV/0!"}]
[null,30,{"$f":"'DATOS DEL ESTUDIANTE'!B33","v":0},{"$f":"'DATOS DEL ESTUDIANTE'!C33","v":0},{"$f":"'DATOS DEL ESTUDIANTE'!D33","v":0},null,null,null,null,null,null,null,{"$error":"#DIV/0!"},null,null,null,null,null,null,{"$error":"#DIV/0!"},null,{"$error":"#DIV/0!"},null,null,{"$error":"#DIV/0!"}]
[null,31,{"$f":"'DATOS DEL ESTUDIANTE'!B34","v":0},{"$f":"'DATOS DEL ESTUDIANTE'!C34","v":0},{"$f":"'DATOS DEL ESTUDIANTE'!D34","v":0},null,null,null,null,null,null,null,{"$error":"#DIV/0!"},null,null,null,null,null,null,{"$error":"#DIV/0!"},null,{"$error":"#DIV/0!"},null,null,{"$error":"#DIV/0!"}]
[null,32,{"$f":"'DATOS DEL ESTUDIANTE'!B35","v":0},{"$f":"'DATOS DEL ESTUDIANTE'!C35","v":0},{"$f":"'DATOS DEL ESTUDIANTE'!D35","v":0},null,null,null,null,null,null,null,{"$error":"#DIV/0!"},null,null,null,null,null,null,{"$error":"#DIV/0!"},null,{"$error":"#DIV/0!"},null,null,{"$error":"#DIV/0!"}]
[null,33,{"$f":"'DATOS DEL ESTUDIANTE'!B36","v":0},{"$f":"'DATOS DEL ESTUDIANTE'!C36","v":0},{"$f":"'DATOS DEL ESTUDIANTE'!D36","v":0},null,null,null,null,null,null,null,{"$error":"#DIV/0!"},null,null,null,null,null,null,{"$error":"#DIV/0!"},null,{"$error":"#DIV/0!"},null,null,{"$error":"#DIV/0!"}]
[null,34,{"$f":"'DATOS DEL ESTUDIANTE'!B37","v":0},{"$f":"'DATOS DEL ESTUDIANTE'!C37","v":0},{"$f":"'DATOS DEL ESTUDIANTE'!D37","v":0},null,null,null,null,null,null,null,{"$error":"#DIV/0!"},null,null,null,null,null,null,{"$error":"#DIV/0!"},null,{"$error":"#DIV/0!"},null,null,{"$error":"#DIV/0!"}]
[null,35,{"$f":"'DATOS DEL ESTUDIANTE'!B38","v":0},{"$f":"'DATOS DEL ESTUDIANTE'!C38","v":0},{"$f":"'DATOS DEL ESTUDIANTE'!D38","v":0},null,null,null,null,null,null,null,{"$error":"#DIV/0!"},null,null,null,null,null,null,{"$error":"#DIV/0!"},null,{"$error":"#DIV/0!"},null,null,{"$error":"#DIV/0!"}]
[null,36,{"$f":"'DATOS DEL ESTUDIANTE'!B39","v":0},{"$f":"'DATOS DEL ESTUDIANTE'!C39","v":0},{"$f":"'DATOS DEL ESTUDIANTE'!D39","v":0},null,null,null,null,null,null,null,{"$error":"#DIV/0!"},null,null,null,null,null,null,{"$error":"#DIV/0!"},null,{"$error":"#DIV/0!"},null,null,{"$error":"#DIV/0!"}]
[null,37,{"$f":"'DATOS DEL ESTUDIANTE'!B40","v":0},{"$f":"'DATOS DEL ESTUDIANTE'!C40","v":0},{"$f":"'DATOS DEL ESTUDIANTE'!D40","v":0},null,null,null,null,null,null,null,{"$error":"#DIV/0!"},null,null,null,null,null,null,{"$error":"#DIV/0!"},null,{"$error":"#DIV/0!"},null,null,{"$error":"#DIV/0!"}]
[null,38,{"$f":"'DATOS DEL ESTUDIANTE'!B41","v":0},{"$f":"'DATOS DEL ESTUDIANTE'!C41","v":0},{"$f":"'DATOS DEL ESTUDIANTE'!D41","v":0},null,null,null,null,null,null,null,{"$error":"#DIV/0!"},null,null,null,null,null,null,{"$error":"#DIV/0!"},null,{"$error":"#DIV/0!"},null,null,{"$error":"#DIV/0!"}]
[null,39,{"$f":"'DATOS DEL ESTUDIANTE'!B42","v":0},{"$f":"'DATOS DEL ESTUDIANTE'!C42","v":0},{"$f":"'DATOS DEL ESTUDIANTE'!D42","v":0},null,null,null,null,null,null,null,{"$error":"#DIV/0!"},null,null,null,null,null,null,{"$error":"#DIV/0!"},null,{"$error":"#DIV/0!"},null,null,{"$error":"#DIV/0!"}]
[null,40,{"$f":"'DATOS DEL ESTUDIANTE'!B43","v":0},{"$f":"'DATOS DEL ESTUDIANTE'!C43","v":0},{"$f":"'DATOS DEL ESTUDIANTE'!D43","v":0},null,null,null,null,null,null,null,{"$error":"#DIV/0!"},null,null,null,null,null,null,{"$error":"#DIV/0!"},null,{"$error":"#DIV/0!"},null,null,{"$error":"#DIV/0!"}]
[null,41,{"$f":"'DATOS DEL ESTUDIANTE'!B44","v":0},{"$f":"'DATOS DEL ESTUDIANTE'!C44","v":0},{"$f":"'DATOS DEL ESTUDIANTE'!D44","v":0},null,null,null,null,null,null,null,{"$error":"#DIV/0!"},null,null,null,null,null,null,{"$error":"#DIV/0!"},null,{"$error":"#DIV/0!"},null,null,{"$error":"#DIV/0!"}]
[null,42,{"$f":"'DATOS DEL ESTUDIANTE'!B45","v":0},{"$f":"'DATOS DEL ESTUDIANTE'!C45","v":0},{"$f":"'DATOS DEL ESTUDIANTE'!D45","v":0},null,null,null,null,null,null,null,{"$error":"#DIV/0!"},null,null,null,null,null,null,{"$error":"#DIV/0!"},null,{"$error":"#DIV/0!"},null,null,{"$error":"#DIV/0!"}]
[null,43,{"$f":"'DATOS DEL ESTUDIANTE'!B46","v":0},{"$f":"'DATOS DEL ESTUDIANTE'!C46","v":0},{"$f":"'DATOS DEL ESTUDIANTE'!D46","v":0},null,null,null,null,null,null,null,{"$error":"#DIV/0!"},null,null,null,null,null,null,{"$error":"#DIV/0!"},null,{"$error":"#DIV/0!"},null,null,{"$error":"#DIV/0!"}]
[null,44,{"$f":"'DATOS DEL ESTUDIANTE'!B47","v":0},{"$f":"'DATOS DEL ESTUDIANTE'!C47","v":0},{"$f":"'DATOS DEL ESTUDIANTE'!D47","v":0},null,null,null,null,null,null,null,{"$error":"#DIV/0!"},null,null,null,null,null,null,{"$error":"#DIV/0!"},null,{"$error":"#DIV/0!"},null,null,{"$error":"#DIV/0!"}]
[null,45,{"$f":"'DATOS DEL ESTUDIANTE'!B48","v":0},{"$f":"'DATOS DEL ESTUDIANTE'!C48","v":0},{"$f":"'DATOS DEL ESTUDIANTE'!D48","v":0},null,null,null,null,null,null,null,{"$error":"#DIV/0!"},null,null,null,null,null,null,{"$error":"#DIV/0!"},null,{"$error":"#DIV/0!"},null,null,{"$error":"#DIV/0!"}]

{"sheet":"TECNICA TECNOLOGICA 4","index":43,"n_rows":55,"n_cols":25,"rows_kept":55,"cut":false,"hidden":false,"merged":[[0,0,9,0],[0,1,0,19],[3,1,3,4],[8,7,9,7],[4,1,6,4],[4,5,6,5],[4,6,6,7],[4,8,6,9],[7,1,7,4],[8,1,9,1],[8,5,9,5],[8,6,9,6],[4,12,9,12],[1,1,1,3],[8,2,8,4],[3,6,3,12],[0,21,2,24],[1,10,1,12],[1,13,1,19],[1,20,2,20],[2,1,2,19],[1,4,1,9],[4,17,6,18],[4,20,6,20],[4,19,9,19],[3,21,9,21],[3,22,8,23],[3,13,3,19],[0,25,3,25],[8,20,9,20],[8,8,9,8],[8,9,9,9],[8,10,9,10],[8,11,9,11],[8,13,9,13],[8,14,9,14],[8,16,9,16],[8,17,9,17],[8,18,9,18],[8,15,9,15],[4,10,6,11],[4,13,6,14],[3,24,9,24],[4,15,6,16]]}
[null,"TÉCNICA TECNOLÓGICA",null,null,null,null,null,null,null,null,null,null,null,null,null,null,null,null,null,null,2018]
[null,"AÑO DE ESCOLARIDAD:",null,null,{"$f":"CARATULA!G15","v":0},null,null,null,null,null,"MAESTRA (O): ",null,null,{"$f":"CARATULA!G18","v":0},null,null,null,null,null,null,"CUARTO\nBIMESTRE"]
[null," REGISTRO  Y CENTRALIZADOR DEL PROCESO DE  EVALUACIÓN   "]
[null,"DIMENSIONES",null,null,null,"SER (10)","SABER (35)",null,null,null,null,null,null,"HACER (35)",null,null,null,null,null,null,"DECIDIR (10)","TOTAL     EVALUACIÓN    DEL     MAESTRO","AUTOEVALUACIÓN",null,"CALIFICACIÓN BIMESTRAL"]
[null,"CRITERIOS DE EVALUACIÓN SEGÚN PDC",null,null,null,null,null,null,null,null,null,null,"T      O     T     A       L",null,null,null,null,null,null,"T      O     T     A       L"]
[]
[]
[null,"INSTRUMENTO Y/ O ESTRATEGIAS DE EVALUACIÓN"]
[null,"N°","    FECHA DE  EVALUACIÓN\n \n\n"]
[null,null,"NOMBRES ","APELLIDO PATERNO"," \nAPELLIDO MATERNO",null,null,null,null,null,null,null,null,null,null,null,null,null,null,null,null,null,"SER\n(5)","DECIDIR\n(5)"]
[null,1,{"$f":"'DATOS DEL ESTUDIANTE'!B4","v":0},{"$f":"'DATOS DEL ESTUDIANTE'!C4","v":0},{"$f":"'DATOS DEL ESTUDIANTE'!D4","v":0},null,null,null,null,null,null,null,{"$f":"AVERAGE(G11:L11)","v":{"$error":"#DIV/0!"}},null,null,null,null,null,null,{"$f":"AVERAGE(N11:S11)","v":{"$error":"#DIV/0!"}},null,{"$f":"SUM(F11+M11+T11+U11)","v":{"$error":"#DIV/0!"}},null,null,{"$f":"SUM(V11:X11)","v":{"$error":"#DIV/0!"}}]
[null,2,{"$f":"'DATOS DEL ESTUDIANTE'!B5","v":0},{"$f":"'DATOS DEL ESTUDIANTE'!C5","v":0},{"$f":"'DATOS DEL ESTUDIANTE'!D5","v":0},null,null,null,null,null,null,null,{"$f":"AVERAGE(G12:L12)","v":{"$error":"#DIV/0!"}},null,null,null,null,null,null,{"$f":"AVERAGE(N12:S12)","v":{"$error":"#DIV/0!"}},null,{"$f":"SUM(F12+M12+T12+U12)","v":{"$error":"#DIV/0!"}},null,null,{"$f":"SUM(V12:X12)","v":{"$error":"#DIV/0!"}}]
[null,3,{"$f":"'DATOS DEL ESTUDIANTE'!B6","v":0},{"$f":"'DATOS DEL ESTUDIANTE'!C6","v":0},{"$f":"'DATOS DEL ESTUDIANTE'!D6","v":0},null,null,null,null,null,null,null,{"$error":"#DIV/0!"},null,null,null,null,null,null,{"$error":"#DIV/0!"},null,{"$error":"#DIV/0!"},null,null,{"$error":"#DIV/0!"}]
[null,4,{"$f":"'DATOS DEL ESTUDIANTE'!B7","v":0},{"$f":"'DATOS DEL ESTUDIANTE'!C7","v":0},{"$f":"'DATOS DEL ESTUDIANTE'!D7","v":0},null,null,null,null,null,null,null,{"$error":"#DIV/0!"},null,null,null,null,null,null,{"$error":"#DIV/0!"},null,{"$error":"#DIV/0!"},null,null,{"$error":"#DIV/0!"}]
[null,5,{"$f":"'DATOS DEL ESTUDIANTE'!B8","v":0},{"$f":"'DATOS DEL ESTUDIANTE'!C8","v":0},{"$f":"'DATOS DEL ESTUDIANTE'!D8","v":0},null,null,null,null,null,null,null,{"$error":"#DIV/0!"},null,null,null,null,null,null,{"$error":"#DIV/0!"},null,{"$error":"#DIV/0!"},null,null,{"$error":"#DIV/0!"}]
[null,6,{"$f":"'DATOS DEL ESTUDIANTE'!B9","v":0},{"$f":"'DATOS DEL ESTUDIANTE'!C9","v":0},{"$f":"'DATOS DEL ESTUDIANTE'!D9","v":0},null,null,null,null,null,null,null,{"$error":"#DIV/0!"},null,null,null,null,null,null,{"$error":"#DIV/0!"},null,{"$error":"#DIV/0!"},null,null,{"$error":"#DIV/0!"}]
[null,7,{"$f":"'DATOS DEL ESTUDIANTE'!B10","v":0},{"$f":"'DATOS DEL ESTUDIANTE'!C10","v":0},{"$f":"'DATOS DEL ESTUDIANTE'!D10","v":0},null,null,null,null,null,null,null,{"$error":"#DIV/0!"},null,null,null,null,null,null,{"$error":"#DIV/0!"},null,{"$error":"#DIV/0!"},null,null,{"$error":"#DIV/0!"}]
[null,8,{"$f":"'DATOS DEL ESTUDIANTE'!B11","v":0},{"$f":"'DATOS DEL ESTUDIANTE'!C11","v":0},{"$f":"'DATOS DEL ESTUDIANTE'!D11","v":0},null,null,null,null,null,null,null,{"$error":"#DIV/0!"},null,null,null,null,null,null,{"$error":"#DIV/0!"},null,{"$error":"#DIV/0!"},null,null,{"$error":"#DIV/0!"}]
[null,9,{"$f":"'DATOS DEL ESTUDIANTE'!B12","v":0},{"$f":"'DATOS DEL ESTUDIANTE'!C12","v":0},{"$f":"'DATOS DEL ESTUDIANTE'!D12","v":0},null,null,null,null,null,null,null,{"$error":"#DIV/0!"},null,null,null,null,null,null,{"$error":"#DIV/0!"},null,{"$error":"#DIV/0!"},null,null,{"$error":"#DIV/0!"}]
[null,10,{"$f":"'DATOS DEL ESTUDIANTE'!B13","v":0},{"$f":"'DATOS DEL ESTUDIANTE'!C13","v":0},{"$f":"'DATOS DEL ESTUDIANTE'!D13","v":0},null,null,null,null,null,null,null,{"$error":"#DIV/0!"},null,null,null,null,null,null,{"$error":"#DIV/0!"},null,{"$error":"#DIV/0!"},null,null,{"$error":"#DIV/0!"}]
[null,11,{"$f":"'DATOS DEL ESTUDIANTE'!B14","v":0},{"$f":"'DATOS DEL ESTUDIANTE'!C14","v":0},{"$f":"'DATOS DEL ESTUDIANTE'!D14","v":0},null,null,null,null,null,null,null,{"$error":"#DIV/0!"},null,null,null,null,null,null,{"$error":"#DIV/0!"},null,{"$error":"#DIV/0!"},null,null,{"$error":"#DIV/0!"}]
[null,12,{"$f":"'DATOS DEL ESTUDIANTE'!B15","v":0},{"$f":"'DATOS DEL ESTUDIANTE'!C15","v":0},{"$f":"'DATOS DEL ESTUDIANTE'!D15","v":0},null,null,null,null,null,null,null,{"$error":"#DIV/0!"},null,null,null,null,null,null,{"$error":"#DIV/0!"},null,{"$error":"#DIV/0!"},null,null,{"$error":"#DIV/0!"}]
[null,13,{"$f":"'DATOS DEL ESTUDIANTE'!B16","v":0},{"$f":"'DATOS DEL ESTUDIANTE'!C16","v":0},{"$f":"'DATOS DEL ESTUDIANTE'!D16","v":0},null,null,null,null,null,null,null,{"$error":"#DIV/0!"},null,null,null,null,null,null,{"$error":"#DIV/0!"},null,{"$error":"#DIV/0!"},null,null,{"$error":"#DIV/0!"}]
[null,14,{"$f":"'DATOS DEL ESTUDIANTE'!B17","v":0},{"$f":"'DATOS DEL ESTUDIANTE'!C17","v":0},{"$f":"'DATOS DEL ESTUDIANTE'!D17","v":0},null,null,null,null,null,null,null,{"$error":"#DIV/0!"},null,null,null,null,null,null,{"$error":"#DIV/0!"},null,{"$error":"#DIV/0!"},null,null,{"$error":"#DIV/0!"}]
[null,15,{"$f":"'DATOS DEL ESTUDIANTE'!B18","v":0},{"$f":"'DATOS DEL ESTUDIANTE'!C18","v":0},{"$f":"'DATOS DEL ESTUDIANTE'!D18","v":0},null,null,null,null,null,null,null,{"$error":"#DIV/0!"},null,null,null,null,null,null,{"$error":"#DIV/0!"},null,{"$error":"#DIV/0!"},null,null,{"$error":"#DIV/0!"}]
[null,16,{"$f":"'DATOS DEL ESTUDIANTE'!B19","v":0},{"$f":"'DATOS DEL ESTUDIANTE'!C19","v":0},{"$f":"'DATOS DEL ESTUDIANTE'!D19","v":0},null,null,null,null,null,null,null,{"$error":"#DIV/0!"},null,null,null,null,null,null,{"$error":"#DIV/0!"},null,{"$error":"#DIV/0!"},null,null,{"$error":"#DIV/0!"}]
[null,17,{"$f":"'DATOS DEL ESTUDIANTE'!B20","v":0},{"$f":"'DATOS DEL ESTUDIANTE'!C20","v":0},{"$f":"'DATOS DEL ESTUDIANTE'!D20","v":0},null,null,null,null,null,null,null,{"$error":"#DIV/0!"},null,null,null,null,null,null,{"$error":"#DIV/0!"},null,{"$error":"#DIV/0!"},null,null,{"$error":"#DIV/0!"}]
[null,18,{"$f":"'DATOS DEL ESTUDIANTE'!B21","v":0},{"$f":"'DATOS DEL ESTUDIANTE'!C21","v":0},{"$f":"'DATOS DEL ESTUDIANTE'!D21","v":0},null,null,null,null,null,null,null,{"$error":"#DIV/0!"},null,null,null,null,null,null,{"$error":"#DIV/0!"},null,{"$error":"#DIV/0!"},null,null,{"$error":"#DIV/0!"}]
[null,19,{"$f":"'DATOS DEL ESTUDIANTE'!B22","v":0},{"$f":"'DATOS DEL ESTUDIANTE'!C22","v":0},{"$f":"'DATOS DEL ESTUDIANTE'!D22","v":0},null,null,null,null,null,null,null,{"$error":"#DIV/0!"},null,null,null,null,null,null,{"$error":"#DIV/0!"},null,{"$error":"#DIV/0!"},null,null,{"$error":"#DIV/0!"}]
[null,20,{"$f":"'DATOS DEL ESTUDIANTE'!B23","v":0},{"$f":"'DATOS DEL ESTUDIANTE'!C23","v":0},{"$f":"'DATOS DEL ESTUDIANTE'!D23","v":0},null,null,null,null,null,null,null,{"$error":"#DIV/0!"},null,null,null,null,null,null,{"$error":"#DIV/0!"},null,{"$error":"#DIV/0!"},null,null,{"$error":"#DIV/0!"}]
[null,21,{"$f":"'DATOS DEL ESTUDIANTE'!B24","v":0},{"$f":"'DATOS DEL ESTUDIANTE'!C24","v":0},{"$f":"'DATOS DEL ESTUDIANTE'!D24","v":0},null,null,null,null,null,null,null,{"$error":"#DIV/0!"},null,null,null,null,null,null,{"$error":"#DIV/0!"},null,{"$error":"#DIV/0!"},null,null,{"$error":"#DIV/0!"}]
[null,22,{"$f":"'DATOS DEL ESTUDIANTE'!B25","v":0},{"$f":"'DATOS DEL ESTUDIANTE'!C25","v":0},{"$f":"'DATOS DEL ESTUDIANTE'!D25","v":0},null,null,null,null,null,null,null,{"$error":"#DIV/0!"},null,null,null,null,null,null,{"$error":"#DIV/0!"},null,{"$error":"#DIV/0!"},null,null,{"$error":"#DIV/0!"}]
[null,23,{"$f":"'DATOS DEL ESTUDIANTE'!B26","v":0},{"$f":"'DATOS DEL ESTUDIANTE'!C26","v":0},{"$f":"'DATOS DEL ESTUDIANTE'!D26","v":0},null,null,null,null,null,null,null,{"$error":"#DIV/0!"},null,null,null,null,null,null,{"$error":"#DIV/0!"},null,{"$error":"#DIV/0!"},null,null,{"$error":"#DIV/0!"}]
[null,24,{"$f":"'DATOS DEL ESTUDIANTE'!B27","v":0},{"$f":"'DATOS DEL ESTUDIANTE'!C27","v":0},{"$f":"'DATOS DEL ESTUDIANTE'!D27","v":0},null,null,null,null,null,null,null,{"$error":"#DIV/0!"},null,null,null,null,null,null,{"$error":"#DIV/0!"},null,{"$error":"#DIV/0!"},null,null,{"$error":"#DIV/0!"}]
[null,25,{"$f":"'DATOS DEL ESTUDIANTE'!B28","v":0},{"$f":"'DATOS DEL ESTUDIANTE'!C28","v":0},{"$f":"'DATOS DEL ESTUDIANTE'!D28","v":0},null,null,null,null,null,null,null,{"$error":"#DIV/0!"},null,null,null,null,null,null,{"$error":"#DIV/0!"},null,{"$error":"#DIV/0!"},null,null,{"$error":"#DIV/0!"}]
[null,26,{"$f":"'DATOS DEL ESTUDIANTE'!B29","v":0},{"$f":"'DATOS DEL ESTUDIANTE'!C29","v":0},{"$f":"'DATOS DEL ESTUDIANTE'!D29","v":0},null,null,null,null,null,null,null,{"$error":"#DIV/0!"},null,null,null,null,null,null,{"$error":"#DIV/0!"},null,{"$error":"#DIV/0!"},null,null,{"$error":"#DIV/0!"}]
[null,27,{"$f":"'DATOS DEL ESTUDIANTE'!B30","v":0},{"$f":"'DATOS DEL ESTUDIANTE'!C30","v":0},{"$f":"'DATOS DEL ESTUDIANTE'!D30","v":0},null,null,null,null,null,null,null,{"$error":"#DIV/0!"},null,null,null,null,null,null,{"$error":"#DIV/0!"},null,{"$error":"#DIV/0!"},null,null,{"$error":"#DIV/0!"}]
[null,28,{"$f":"'DATOS DEL ESTUDIANTE'!B31","v":0},{"$f":"'DATOS DEL ESTUDIANTE'!C31","v":0},{"$f":"'DATOS DEL ESTUDIANTE'!D31","v":0},null,null,null,null,null,null,null,{"$error":"#DIV/0!"},null,null,null,null,null,null,{"$error":"#DIV/0!"},null,{"$error":"#DIV/0!"},null,null,{"$error":"#DIV/0!"}]
[null,29,{"$f":"'DATOS DEL ESTUDIANTE'!B32","v":0},{"$f":"'DATOS DEL ESTUDIANTE'!C32","v":0},{"$f":"'DATOS DEL ESTUDIANTE'!D32","v":0},null,null,null,null,null,null,null,{"$error":"#DIV/0!"},null,null,null,null,null,null,{"$error":"#DIV/0!"},null,{"$error":"#DIV/0!"},null,null,{"$error":"#DIV/0!"}]
[null,30,{"$f":"'DATOS DEL ESTUDIANTE'!B33","v":0},{"$f":"'DATOS DEL ESTUDIANTE'!C33","v":0},{"$f":"'DATOS DEL ESTUDIANTE'!D33","v":0},null,null,null,null,null,null,null,{"$error":"#DIV/0!"},null,null,null,null,null,null,{"$error":"#DIV/0!"},null,{"$error":"#DIV/0!"},null,null,{"$error":"#DIV/0!"}]
[null,31,{"$f":"'DATOS DEL ESTUDIANTE'!B34","v":0},{"$f":"'DATOS DEL ESTUDIANTE'!C34","v":0},{"$f":"'DATOS DEL ESTUDIANTE'!D34","v":0},null,null,null,null,null,null,null,{"$error":"#DIV/0!"},null,null,null,null,null,null,{"$error":"#DIV/0!"},null,{"$error":"#DIV/0!"},null,null,{"$error":"#DIV/0!"}]
[null,32,{"$f":"'DATOS DEL ESTUDIANTE'!B35","v":0},{"$f":"'DATOS DEL ESTUDIANTE'!C35","v":0},{"$f":"'DATOS DEL ESTUDIANTE'!D35","v":0},null,null,null,null,null,null,null,{"$error":"#DIV/0!"},null,null,null,null,null,null,{"$error":"#DIV/0!"},null,{"$error":"#DIV/0!"},null,null,{"$error":"#DIV/0!"}]
[null,33,{"$f":"'DATOS DEL ESTUDIANTE'!B36","v":0},{"$f":"'DATOS DEL ESTUDIANTE'!C36","v":0},{"$f":"'DATOS DEL ESTUDIANTE'!D36","v":0},null,null,null,null,null,null,null,{"$error":"#DIV/0!"},null,null,null,null,null,null,{"$error":"#DIV/0!"},null,{"$error":"#DIV/0!"},null,null,{"$error":"#DIV/0!"}]
[null,34,{"$f":"'DATOS DEL ESTUDIANTE'!B37","v":0},{"$f":"'DATOS DEL ESTUDIANTE'!C37","v":0},{"$f":"'DATOS DEL ESTUDIANTE'!D37","v":0},null,null,null,null,null,null,null,{"$error":"#DIV/0!"},null,null,null,null,null,null,{"$error":"#DIV/0!"},null,{"$error":"#DIV/0!"},null,null,{"$error":"#DIV/0!"}]
[null,35,{"$f":"'DATOS DEL ESTUDIANTE'!B38","v":0},{"$f":"'DATOS DEL ESTUDIANTE'!C38","v":0},{"$f":"'DATOS DEL ESTUDIANTE'!D38","v":0},null,null,null,null,null,null,null,{"$error":"#DIV/0!"},null,null,null,null,null,null,{"$error":"#DIV/0!"},null,{"$error":"#DIV/0!"},null,null,{"$error":"#DIV/0!"}]
[null,36,{"$f":"'DATOS DEL ESTUDIANTE'!B39","v":0},{"$f":"'DATOS DEL ESTUDIANTE'!C39","v":0},{"$f":"'DATOS DEL ESTUDIANTE'!D39","v":0},null,null,null,null,null,null,null,{"$error":"#DIV/0!"},null,null,null,null,null,null,{"$error":"#DIV/0!"},null,{"$error":"#DIV/0!"},null,null,{"$error":"#DIV/0!"}]
[null,37,{"$f":"'DATOS DEL ESTUDIANTE'!B40","v":0},{"$f":"'DATOS DEL ESTUDIANTE'!C40","v":0},{"$f":"'DATOS DEL ESTUDIANTE'!D40","v":0},null,null,null,null,null,null,null,{"$error":"#DIV/0!"},null,null,null,null,null,null,{"$error":"#DIV/0!"},null,{"$error":"#DIV/0!"},null,null,{"$error":"#DIV/0!"}]
[null,38,{"$f":"'DATOS DEL ESTUDIANTE'!B41","v":0},{"$f":"'DATOS DEL ESTUDIANTE'!C41","v":0},{"$f":"'DATOS DEL ESTUDIANTE'!D41","v":0},null,null,null,null,null,null,null,{"$error":"#DIV/0!"},null,null,null,null,null,null,{"$error":"#DIV/0!"},null,{"$error":"#DIV/0!"},null,null,{"$error":"#DIV/0!"}]
[null,39,{"$f":"'DATOS DEL ESTUDIANTE'!B42","v":0},{"$f":"'DATOS DEL ESTUDIANTE'!C42","v":0},{"$f":"'DATOS DEL ESTUDIANTE'!D42","v":0},null,null,null,null,null,null,null,{"$error":"#DIV/0!"},null,null,null,null,null,null,{"$error":"#DIV/0!"},null,{"$error":"#DIV/0!"},null,null,{"$error":"#DIV/0!"}]
[null,40,{"$f":"'DATOS DEL ESTUDIANTE'!B43","v":0},{"$f":"'DATOS DEL ESTUDIANTE'!C43","v":0},{"$f":"'DATOS DEL ESTUDIANTE'!D43","v":0},null,null,null,null,null,null,null,{"$error":"#DIV/0!"},null,null,null,null,null,null,{"$error":"#DIV/0!"},null,{"$error":"#DIV/0!"},null,null,{"$error":"#DIV/0!"}]
[null,41,{"$f":"'DATOS DEL ESTUDIANTE'!B44","v":0},{"$f":"'DATOS DEL ESTUDIANTE'!C44","v":0},{"$f":"'DATOS DEL ESTUDIANTE'!D44","v":0},null,null,null,null,null,null,null,{"$error":"#DIV/0!"},null,null,null,null,null,null,{"$error":"#DIV/0!"},null,{"$error":"#DIV/0!"},null,null,{"$error":"#DIV/0!"}]
[null,42,{"$f":"'DATOS DEL ESTUDIANTE'!B45","v":0},{"$f":"'DATOS DEL ESTUDIANTE'!C45","v":0},{"$f":"'DATOS DEL ESTUDIANTE'!D45","v":0},null,null,null,null,null,null,null,{"$error":"#DIV/0!"},null,null,null,null,null,null,{"$error":"#DIV/0!"},null,{"$error":"#DIV/0!"},null,null,{"$error":"#DIV/0!"}]
[null,43,{"$f":"'DATOS DEL ESTUDIANTE'!B46","v":0},{"$f":"'DATOS DEL ESTUDIANTE'!C46","v":0},{"$f":"'DATOS DEL ESTUDIANTE'!D46","v":0},null,null,null,null,null,null,null,{"$error":"#DIV/0!"},null,null,null,null,null,null,{"$error":"#DIV/0!"},null,{"$error":"#DIV/0!"},null,null,{"$error":"#DIV/0!"}]
[null,44,{"$f":"'DATOS DEL ESTUDIANTE'!B47","v":0},{"$f":"'DATOS DEL ESTUDIANTE'!C47","v":0},{"$f":"'DATOS DEL ESTUDIANTE'!D47","v":0},null,null,null,null,null,null,null,{"$error":"#DIV/0!"},null,null,null,null,null,null,{"$error":"#DIV/0!"},null,{"$error":"#DIV/0!"},null,null,{"$error":"#DIV/0!"}]
[null,45,{"$f":"'DATOS DEL ESTUDIANTE'!B48","v":0},{"$f":"'DATOS DEL ESTUDIANTE'!C48","v":0},{"$f":"'DATOS DEL ESTUDIANTE'!D48","v":0},null,null,null,null,null,null,null,{"$error":"#DIV/0!"},null,null,null,null,null,null,{"$error":"#DIV/0!"},null,{"$error":"#DIV/0!"},null,null,{"$error":"#DIV/0!"}]

{"sheet":"ARTES PLASTICAS 1","index":44,"n_rows":55,"n_cols":25,"rows_kept":55,"cut":false,"hidden":false,"merged":[[1,1,1,3],[3,6,3,12],[3,13,3,19],[4,15,6,16],[8,7,9,7],[8,8,9,8],[8,16,9,16],[8,15,9,15],[8,14,9,14],[8,17,9,17],[8,18,9,18],[4,12,9,12],[8,20,9,20],[0,0,9,0],[0,1,0,19],[3,1,3,4],[4,13,6,14],[7,1,7,4],[8,1,9,1],[8,5,9,5],[8,6,9,6],[1,10,1,12],[1,13,1,19],[8,9,9,9],[8,10,9,10],[8,11,9,11],[1,4,1,9],[8,13,9,13],[0,25,3,25],[3,22,8,23],[3,24,9,24],[4,17,6,18],[4,20,6,20],[3,21,9,21],[0,21,2,24],[4,19,9,19],[1,20,2,20],[2,1,2,19],[4,1,6,4],[4,5,6,5],[4,6,6,7],[4,8,6,9],[4,10,6,11],[8,2,8,4]]}
[null,"ARTES PLÁSTICAS Y VISUALES",null,null,null,null,null,null,null,null,null,null,null,null,null,null,null,null,null,null,2018]
[null,"AÑO DE ESCOLARIDAD:",null,null,{"$f":"CARATULA!G15","v":0},null,null,null,null,null,"MAESTRA (O): ",null,null,{"$f":"CARATULA!G18","v":0},null,null,null,null,null,null,"PRIMER BIMESTRE"]
[null," REGISTRO  Y CENTRALIZADOR DEL PROCESO DE  EVALUACIÓN   "]
[null,"DIMENSIONES",null,null,null,"SER (10)","SABER (35)",null,null,null,null,null,null,"HACER (35)",null,null,null,null,null,null,"DECIDIR (10)","TOTAL     EVALUACIÓN    DEL     MAESTRO","AUTOEVALUACIÓN",null,"CALIFICACIÓN BIMESTRAL"]
[null,"CRITERIOS DE EVALUACIÓN SEGÚN PDC",null,null,null,null,null,null,null,null,null,null,"T     O     T     A      L",null,null,null,null,null,null,"T     O     T     A      L"]
[]
[]
[null,"INSTRUMENTO Y/ O ESTRATEGIAS DE EVALUACIÓN"]
[null,"N°","    FECHA DE  EVALUACIÓN\n \n\n"]
[null,null,"NOMBRES ","APELLIDO PATERNO"," \nAPELLIDO MATERNO",null,null,null,null,null,null,null,null,null,null,null,null,null,null,null,null,null,"SER\n(5)","DECIDIR\n(5)"]
[null,1,{"$f":"'DATOS DEL ESTUDIANTE'!B4","v":0},{"$f":"'DATOS DEL ESTUDIANTE'!C4","v":0},{"$f":"'DATOS DEL ESTUDIANTE'!D4","v":0},null,null,null,null,null,null,null,{"$f":"AVERAGE(G11:L11)","v":{"$error":"#DIV/0!"}},null,null,null,null,null,null,{"$f":"AVERAGE(N11:S11)","v":{"$error":"#DIV/0!"}},null,{"$f":"SUM(F11+M11+T11+U11)","v":{"$error":"#DIV/0!"}},null,null,{"$f":"SUM(V11:X11)","v":{"$error":"#DIV/0!"}}]
[null,2,{"$f":"'DATOS DEL ESTUDIANTE'!B5","v":0},{"$f":"'DATOS DEL ESTUDIANTE'!C5","v":0},{"$f":"'DATOS DEL ESTUDIANTE'!D5","v":0},null,null,null,null,null,null,null,{"$f":"AVERAGE(G12:L12)","v":{"$error":"#DIV/0!"}},null,null,null,null,null,null,{"$f":"AVERAGE(N12:S12)","v":{"$error":"#DIV/0!"}},null,{"$f":"SUM(F12+M12+T12+U12)","v":{"$error":"#DIV/0!"}},null,null,{"$f":"SUM(V12:X12)","v":{"$error":"#DIV/0!"}}]
[null,3,{"$f":"'DATOS DEL ESTUDIANTE'!B6","v":0},{"$f":"'DATOS DEL ESTUDIANTE'!C6","v":0},{"$f":"'DATOS DEL ESTUDIANTE'!D6","v":0},null,null,null,null,null,null,null,{"$error":"#DIV/0!"},null,null,null,null,null,null,{"$error":"#DIV/0!"},null,{"$error":"#DIV/0!"},null,null,{"$error":"#DIV/0!"}]
[null,4,{"$f":"'DATOS DEL ESTUDIANTE'!B7","v":0},{"$f":"'DATOS DEL ESTUDIANTE'!C7","v":0},{"$f":"'DATOS DEL ESTUDIANTE'!D7","v":0},null,null,null,null,null,null,null,{"$error":"#DIV/0!"},null,null,null,null,null,null,{"$error":"#DIV/0!"},null,{"$error":"#DIV/0!"},null,null,{"$error":"#DIV/0!"}]
[null,5,{"$f":"'DATOS DEL ESTUDIANTE'!B8","v":0},{"$f":"'DATOS DEL ESTUDIANTE'!C8","v":0},{"$f":"'DATOS DEL ESTUDIANTE'!D8","v":0},null,null,null,null,null,null,null,{"$error":"#DIV/0!"},null,null,null,null,null,null,{"$error":"#DIV/0!"},null,{"$error":"#DIV/0!"},null,null,{"$error":"#DIV/0!"}]
[null,6,{"$f":"'DATOS DEL ESTUDIANTE'!B9","v":0},{"$f":"'DATOS DEL ESTUDIANTE'!C9","v":0},{"$f":"'DATOS DEL ESTUDIANTE'!D9","v":0},null,null,null,null,null,null,null,{"$error":"#DIV/0!"},null,null,null,null,null,null,{"$error":"#DIV/0!"},null,{"$error":"#DIV/0!"},null,null,{"$error":"#DIV/0!"}]
[null,7,{"$f":"'DATOS DEL ESTUDIANTE'!B10","v":0},{"$f":"'DATOS DEL ESTUDIANTE'!C10","v":0},{"$f":"'DATOS DEL ESTUDIANTE'!D10","v":0},null,null,null,null,null,null,null,{"$error":"#DIV/0!"},null,null,null,null,null,null,{"$error":"#DIV/0!"},null,{"$error":"#DIV/0!"},null,null,{"$error":"#DIV/0!"}]
[null,8,{"$f":"'DATOS DEL ESTUDIANTE'!B11","v":0},{"$f":"'DATOS DEL ESTUDIANTE'!C11","v":0},{"$f":"'DATOS DEL ESTUDIANTE'!D11","v":0},null,null,null,null,null,null,null,{"$error":"#DIV/0!"},null,null,null,null,null,null,{"$error":"#DIV/0!"},null,{"$error":"#DIV/0!"},null,null,{"$error":"#DIV/0!"}]
[null,9,{"$f":"'DATOS DEL ESTUDIANTE'!B12","v":0},{"$f":"'DATOS DEL ESTUDIANTE'!C12","v":0},{"$f":"'DATOS DEL ESTUDIANTE'!D12","v":0},null,null,null,null,null,null,null,{"$error":"#DIV/0!"},null,null,null,null,null,null,{"$error":"#DIV/0!"},null,{"$error":"#DIV/0!"},null,null,{"$error":"#DIV/0!"}]
[null,10,{"$f":"'DATOS DEL ESTUDIANTE'!B13","v":0},{"$f":"'DATOS DEL ESTUDIANTE'!C13","v":0},{"$f":"'DATOS DEL ESTUDIANTE'!D13","v":0},null,null,null,null,null,null,null,{"$error":"#DIV/0!"},null,null,null,null,null,null,{"$error":"#DIV/0!"},null,{"$error":"#DIV/0!"},null,null,{"$error":"#DIV/0!"}]
[null,11,{"$f":"'DATOS DEL ESTUDIANTE'!B14","v":0},{"$f":"'DATOS DEL ESTUDIANTE'!C14","v":0},{"$f":"'DATOS DEL ESTUDIANTE'!D14","v":0},null,null,null,null,null,null,null,{"$error":"#DIV/0!"},null,null,null,null,null,null,{"$error":"#DIV/0!"},null,{"$error":"#DIV/0!"},null,null,{"$error":"#DIV/0!"}]
[null,12,{"$f":"'DATOS DEL ESTUDIANTE'!B15","v":0},{"$f":"'DATOS DEL ESTUDIANTE'!C15","v":0},{"$f":"'DATOS DEL ESTUDIANTE'!D15","v":0},null,null,null,null,null,null,null,{"$error":"#DIV/0!"},null,null,null,null,null,null,{"$error":"#DIV/0!"},null,{"$error":"#DIV/0!"},null,null,{"$error":"#DIV/0!"}]
[null,13,{"$f":"'DATOS DEL ESTUDIANTE'!B16","v":0},{"$f":"'DATOS DEL ESTUDIANTE'!C16","v":0},{"$f":"'DATOS DEL ESTUDIANTE'!D16","v":0},null,null,null,null,null,null,null,{"$error":"#DIV/0!"},null,null,null,null,null,null,{"$error":"#DIV/0!"},null,{"$error":"#DIV/0!"},null,null,{"$error":"#DIV/0!"}]
[null,14,{"$f":"'DATOS DEL ESTUDIANTE'!B17","v":0},{"$f":"'DATOS DEL ESTUDIANTE'!C17","v":0},{"$f":"'DATOS DEL ESTUDIANTE'!D17","v":0},null,null,null,null,null,null,null,{"$error":"#DIV/0!"},null,null,null,null,null,null,{"$error":"#DIV/0!"},null,{"$error":"#DIV/0!"},null,null,{"$error":"#DIV/0!"}]
[null,15,{"$f":"'DATOS DEL ESTUDIANTE'!B18","v":0},{"$f":"'DATOS DEL ESTUDIANTE'!C18","v":0},{"$f":"'DATOS DEL ESTUDIANTE'!D18","v":0},null,null,null,null,null,null,null,{"$error":"#DIV/0!"},null,null,null,null,null,null,{"$error":"#DIV/0!"},null,{"$error":"#DIV/0!"},null,null,{"$error":"#DIV/0!"}]
[null,16,{"$f":"'DATOS DEL ESTUDIANTE'!B19","v":0},{"$f":"'DATOS DEL ESTUDIANTE'!C19","v":0},{"$f":"'DATOS DEL ESTUDIANTE'!D19","v":0},null,null,null,null,null,null,null,{"$error":"#DIV/0!"},null,null,null,null,null,null,{"$error":"#DIV/0!"},null,{"$error":"#DIV/0!"},null,null,{"$error":"#DIV/0!"}]
[null,17,{"$f":"'DATOS DEL ESTUDIANTE'!B20","v":0},{"$f":"'DATOS DEL ESTUDIANTE'!C20","v":0},{"$f":"'DATOS DEL ESTUDIANTE'!D20","v":0},null,null,null,null,null,null,null,{"$error":"#DIV/0!"},null,null,null,null,null,null,{"$error":"#DIV/0!"},null,{"$error":"#DIV/0!"},null,null,{"$error":"#DIV/0!"}]
[null,18,{"$f":"'DATOS DEL ESTUDIANTE'!B21","v":0},{"$f":"'DATOS DEL ESTUDIANTE'!C21","v":0},{"$f":"'DATOS DEL ESTUDIANTE'!D21","v":0},null,null,null,null,null,null,null,{"$error":"#DIV/0!"},null,null,null,null,null,null,{"$error":"#DIV/0!"},null,{"$error":"#DIV/0!"},null,null,{"$error":"#DIV/0!"}]
[null,19,{"$f":"'DATOS DEL ESTUDIANTE'!B22","v":0},{"$f":"'DATOS DEL ESTUDIANTE'!C22","v":0},{"$f":"'DATOS DEL ESTUDIANTE'!D22","v":0},null,null,null,null,null,null,null,{"$error":"#DIV/0!"},null,null,null,null,null,null,{"$error":"#DIV/0!"},null,{"$error":"#DIV/0!"},null,null,{"$error":"#DIV/0!"}]
[null,20,{"$f":"'DATOS DEL ESTUDIANTE'!B23","v":0},{"$f":"'DATOS DEL ESTUDIANTE'!C23","v":0},{"$f":"'DATOS DEL ESTUDIANTE'!D23","v":0},null,null,null,null,null,null,null,{"$error":"#DIV/0!"},null,null,null,null,null,null,{"$error":"#DIV/0!"},null,{"$error":"#DIV/0!"},null,null,{"$error":"#DIV/0!"}]
[null,21,{"$f":"'DATOS DEL ESTUDIANTE'!B24","v":0},{"$f":"'DATOS DEL ESTUDIANTE'!C24","v":0},{"$f":"'DATOS DEL ESTUDIANTE'!D24","v":0},null,null,null,null,null,null,null,{"$error":"#DIV/0!"},null,null,null,null,null,null,{"$error":"#DIV/0!"},null,{"$error":"#DIV/0!"},null,null,{"$error":"#DIV/0!"}]
[null,22,{"$f":"'DATOS DEL ESTUDIANTE'!B25","v":0},{"$f":"'DATOS DEL ESTUDIANTE'!C25","v":0},{"$f":"'DATOS DEL ESTUDIANTE'!D25","v":0},null,null,null,null,null,null,null,{"$error":"#DIV/0!"},null,null,null,null,null,null,{"$error":"#DIV/0!"},null,{"$error":"#DIV/0!"},null,null,{"$error":"#DIV/0!"}]
[null,23,{"$f":"'DATOS DEL ESTUDIANTE'!B26","v":0},{"$f":"'DATOS DEL ESTUDIANTE'!C26","v":0},{"$f":"'DATOS DEL ESTUDIANTE'!D26","v":0},null,null,null,null,null,null,null,{"$error":"#DIV/0!"},null,null,null,null,null,null,{"$error":"#DIV/0!"},null,{"$error":"#DIV/0!"},null,null,{"$error":"#DIV/0!"}]
[null,24,{"$f":"'DATOS DEL ESTUDIANTE'!B27","v":0},{"$f":"'DATOS DEL ESTUDIANTE'!C27","v":0},{"$f":"'DATOS DEL ESTUDIANTE'!D27","v":0},null,null,null,null,null,null,null,{"$error":"#DIV/0!"},null,null,null,null,null,null,{"$error":"#DIV/0!"},null,{"$error":"#DIV/0!"},null,null,{"$error":"#DIV/0!"}]
[null,25,{"$f":"'DATOS DEL ESTUDIANTE'!B28","v":0},{"$f":"'DATOS DEL ESTUDIANTE'!C28","v":0},{"$f":"'DATOS DEL ESTUDIANTE'!D28","v":0},null,null,null,null,null,null,null,{"$error":"#DIV/0!"},null,null,null,null,null,null,{"$error":"#DIV/0!"},null,{"$error":"#DIV/0!"},null,null,{"$error":"#DIV/0!"}]
[null,26,{"$f":"'DATOS DEL ESTUDIANTE'!B29","v":0},{"$f":"'DATOS DEL ESTUDIANTE'!C29","v":0},{"$f":"'DATOS DEL ESTUDIANTE'!D29","v":0},null,null,null,null,null,null,null,{"$error":"#DIV/0!"},null,null,null,null,null,null,{"$error":"#DIV/0!"},null,{"$error":"#DIV/0!"},null,null,{"$error":"#DIV/0!"}]
[null,27,{"$f":"'DATOS DEL ESTUDIANTE'!B30","v":0},{"$f":"'DATOS DEL ESTUDIANTE'!C30","v":0},{"$f":"'DATOS DEL ESTUDIANTE'!D30","v":0},null,null,null,null,null,null,null,{"$error":"#DIV/0!"},null,null,null,null,null,null,{"$error":"#DIV/0!"},null,{"$error":"#DIV/0!"},null,null,{"$error":"#DIV/0!"}]
[null,28,{"$f":"'DATOS DEL ESTUDIANTE'!B31","v":0},{"$f":"'DATOS DEL ESTUDIANTE'!C31","v":0},{"$f":"'DATOS DEL ESTUDIANTE'!D31","v":0},null,null,null,null,null,null,null,{"$error":"#DIV/0!"},null,null,null,null,null,null,{"$error":"#DIV/0!"},null,{"$error":"#DIV/0!"},null,null,{"$error":"#DIV/0!"}]
[null,29,{"$f":"'DATOS DEL ESTUDIANTE'!B32","v":0},{"$f":"'DATOS DEL ESTUDIANTE'!C32","v":0},{"$f":"'DATOS DEL ESTUDIANTE'!D32","v":0},null,null,null,null,null,null,null,{"$error":"#DIV/0!"},null,null,null,null,null,null,{"$error":"#DIV/0!"},null,{"$error":"#DIV/0!"},null,null,{"$error":"#DIV/0!"}]
[null,30,{"$f":"'DATOS DEL ESTUDIANTE'!B33","v":0},{"$f":"'DATOS DEL ESTUDIANTE'!C33","v":0},{"$f":"'DATOS DEL ESTUDIANTE'!D33","v":0},null,null,null,null,null,null,null,{"$error":"#DIV/0!"},null,null,null,null,null,null,{"$error":"#DIV/0!"},null,{"$error":"#DIV/0!"},null,null,{"$error":"#DIV/0!"}]
[null,31,{"$f":"'DATOS DEL ESTUDIANTE'!B34","v":0},{"$f":"'DATOS DEL ESTUDIANTE'!C34","v":0},{"$f":"'DATOS DEL ESTUDIANTE'!D34","v":0},null,null,null,null,null,null,null,{"$error":"#DIV/0!"},null,null,null,null,null,null,{"$error":"#DIV/0!"},null,{"$error":"#DIV/0!"},null,null,{"$error":"#DIV/0!"}]
[null,32,{"$f":"'DATOS DEL ESTUDIANTE'!B35","v":0},{"$f":"'DATOS DEL ESTUDIANTE'!C35","v":0},{"$f":"'DATOS DEL ESTUDIANTE'!D35","v":0},null,null,null,null,null,null,null,{"$error":"#DIV/0!"},null,null,null,null,null,null,{"$error":"#DIV/0!"},null,{"$error":"#DIV/0!"},null,null,{"$error":"#DIV/0!"}]
[null,33,{"$f":"'DATOS DEL ESTUDIANTE'!B36","v":0},{"$f":"'DATOS DEL ESTUDIANTE'!C36","v":0},{"$f":"'DATOS DEL ESTUDIANTE'!D36","v":0},null,null,null,null,null,null,null,{"$error":"#DIV/0!"},null,null,null,null,null,null,{"$error":"#DIV/0!"},null,{"$error":"#DIV/0!"},null,null,{"$error":"#DIV/0!"}]
[null,34,{"$f":"'DATOS DEL ESTUDIANTE'!B37","v":0},{"$f":"'DATOS DEL ESTUDIANTE'!C37","v":0},{"$f":"'DATOS DEL ESTUDIANTE'!D37","v":0},null,null,null,null,null,null,null,{"$error":"#DIV/0!"},null,null,null,null,null,null,{"$error":"#DIV/0!"},null,{"$error":"#DIV/0!"},null,null,{"$error":"#DIV/0!"}]
[null,35,{"$f":"'DATOS DEL ESTUDIANTE'!B38","v":0},{"$f":"'DATOS DEL ESTUDIANTE'!C38","v":0},{"$f":"'DATOS DEL ESTUDIANTE'!D38","v":0},null,null,null,null,null,null,null,{"$error":"#DIV/0!"},null,null,null,null,null,null,{"$error":"#DIV/0!"},null,{"$error":"#DIV/0!"},null,null,{"$error":"#DIV/0!"}]
[null,36,{"$f":"'DATOS DEL ESTUDIANTE'!B39","v":0},{"$f":"'DATOS DEL ESTUDIANTE'!C39","v":0},{"$f":"'DATOS DEL ESTUDIANTE'!D39","v":0},null,null,null,null,null,null,null,{"$error":"#DIV/0!"},null,null,null,null,null,null,{"$error":"#DIV/0!"},null,{"$error":"#DIV/0!"},null,null,{"$error":"#DIV/0!"}]
[null,37,{"$f":"'DATOS DEL ESTUDIANTE'!B40","v":0},{"$f":"'DATOS DEL ESTUDIANTE'!C40","v":0},{"$f":"'DATOS DEL ESTUDIANTE'!D40","v":0},null,null,null,null,null,null,null,{"$error":"#DIV/0!"},null,null,null,null,null,null,{"$error":"#DIV/0!"},null,{"$error":"#DIV/0!"},null,null,{"$error":"#DIV/0!"}]
[null,38,{"$f":"'DATOS DEL ESTUDIANTE'!B41","v":0},{"$f":"'DATOS DEL ESTUDIANTE'!C41","v":0},{"$f":"'DATOS DEL ESTUDIANTE'!D41","v":0},null,null,null,null,null,null,null,{"$error":"#DIV/0!"},null,null,null,null,null,null,{"$error":"#DIV/0!"},null,{"$error":"#DIV/0!"},null,null,{"$error":"#DIV/0!"}]
[null,39,{"$f":"'DATOS DEL ESTUDIANTE'!B42","v":0},{"$f":"'DATOS DEL ESTUDIANTE'!C42","v":0},{"$f":"'DATOS DEL ESTUDIANTE'!D42","v":0},null,null,null,null,null,null,null,{"$error":"#DIV/0!"},null,null,null,null,null,null,{"$error":"#DIV/0!"},null,{"$error":"#DIV/0!"},null,null,{"$error":"#DIV/0!"}]
[null,40,{"$f":"'DATOS DEL ESTUDIANTE'!B43","v":0},{"$f":"'DATOS DEL ESTUDIANTE'!C43","v":0},{"$f":"'DATOS DEL ESTUDIANTE'!D43","v":0},null,null,null,null,null,null,null,{"$error":"#DIV/0!"},null,null,null,null,null,null,{"$error":"#DIV/0!"},null,{"$error":"#DIV/0!"},null,null,{"$error":"#DIV/0!"}]
[null,41,{"$f":"'DATOS DEL ESTUDIANTE'!B44","v":0},{"$f":"'DATOS DEL ESTUDIANTE'!C44","v":0},{"$f":"'DATOS DEL ESTUDIANTE'!D44","v":0},null,null,null,null,null,null,null,{"$error":"#DIV/0!"},null,null,null,null,null,null,{"$error":"#DIV/0!"},null,{"$error":"#DIV/0!"},null,null,{"$error":"#DIV/0!"}]
[null,42,{"$f":"'DATOS DEL ESTUDIANTE'!B45","v":0},{"$f":"'DATOS DEL ESTUDIANTE'!C45","v":0},{"$f":"'DATOS DEL ESTUDIANTE'!D45","v":0},null,null,null,null,null,null,null,{"$error":"#DIV/0!"},null,null,null,null,null,null,{"$error":"#DIV/0!"},null,{"$error":"#DIV/0!"},null,null,{"$error":"#DIV/0!"}]
[null,43,{"$f":"'DATOS DEL ESTUDIANTE'!B46","v":0},{"$f":"'DATOS DEL ESTUDIANTE'!C46","v":0},{"$f":"'DATOS DEL ESTUDIANTE'!D46","v":0},null,null,null,null,null,null,null,{"$error":"#DIV/0!"},null,null,null,null,null,null,{"$error":"#DIV/0!"},null,{"$error":"#DIV/0!"},null,null,{"$error":"#DIV/0!"}]
[null,44,{"$f":"'DATOS DEL ESTUDIANTE'!B47","v":0},{"$f":"'DATOS DEL ESTUDIANTE'!C47","v":0},{"$f":"'DATOS DEL ESTUDIANTE'!D47","v":0},null,null,null,null,null,null,null,{"$error":"#DIV/0!"},null,null,null,null,null,null,{"$error":"#DIV/0!"},null,{"$error":"#DIV/0!"},null,null,{"$error":"#DIV/0!"}]
[null,45,{"$f":"'DATOS DEL ESTUDIANTE'!B48","v":0},{"$f":"'DATOS DEL ESTUDIANTE'!C48","v":0},{"$f":"'DATOS DEL ESTUDIANTE'!D48","v":0},null,null,null,null,null,null,null,{"$error":"#DIV/0!"},null,null,null,null,null,null,{"$error":"#DIV/0!"},null,{"$error":"#DIV/0!"},null,null,{"$error":"#DIV/0!"}]

{"sheet":"ARTES PLASTICAS 2","index":45,"n_rows":55,"n_cols":25,"rows_kept":55,"cut":false,"hidden":false,"merged":[[1,1,1,3],[3,6,3,12],[3,13,3,19],[4,15,6,16],[8,7,9,7],[8,8,9,8],[8,16,9,16],[8,15,9,15],[8,14,9,14],[8,17,9,17],[8,18,9,18],[4,12,9,12],[8,20,9,20],[0,0,9,0],[0,1,0,19],[3,1,3,4],[4,13,6,14],[7,1,7,4],[8,1,9,1],[8,5,9,5],[8,6,9,6],[1,10,1,12],[1,13,1,19],[8,9,9,9],[8,10,9,10],[8,11,9,11],[1,4,1,9],[8,13,9,13],[0,25,3,25],[3,22,8,23],[3,24,9,24],[4,17,6,18],[4,20,6,20],[3,21,9,21],[0,21,2,24],[4,19,9,19],[1,20,2,20],[2,1,2,19],[4,1,6,4],[4,5,6,5],[4,6,6,7],[4,8,6,9],[4,10,6,11],[8,2,8,4]]}
[null,"ARTES PLÁSTICAS Y VISUALES",null,null,null,null,null,null,null,null,null,null,null,null,null,null,null,null,null,null,2018]
[null,"AÑO DE ESCOLARIDAD:",null,null,{"$f":"CARATULA!G15","v":0},null,null,null,null,null,"MAESTRA (O): ",null,null,{"$f":"CARATULA!G18","v":0},null,null,null,null,null,null,"SEGUNDO BIMESTRE"]
[null," REGISTRO  Y CENTRALIZADOR DEL PROCESO DE  EVALUACIÓN   "]
[null,"DIMENSIONES",null,null,null,"SER (10)","SABER (35)",null,null,null,null,null,null,"HACER (35)",null,null,null,null,null,null,"DECIDIR (10)","TOTAL     EVALUACIÓN    DEL     MAESTRO","AUTOEVALUACIÓN",null,"CALIFICACIÓN BIMESTRAL"]
[null,"CRITERIOS DE EVALUACIÓN SEGÚN PDC",null,null,null,null,null,null,null,null,null,null,"T      O     T     A       L",null,null,null,null,null,null,"T      O     T     A       L"]
[]
[]
[null,"INSTRUMENTO Y/ O ESTRATEGIAS DE EVALUACIÓN"]
[null,"N°","    FECHA DE  EVALUACIÓN\n \n\n"]
[null,null,"NOMBRES ","APELLIDO PATERNO"," \nAPELLIDO MATERNO",null,null,null,null,null,null,null,null,null,null,null,null,null,null,null,null,null,"SER\n(5)","DECIDIR\n(5)"]
[null,1,{"$f":"'DATOS DEL ESTUDIANTE'!B4","v":0},{"$f":"'DATOS DEL ESTUDIANTE'!C4","v":0},{"$f":"'DATOS DEL ESTUDIANTE'!D4","v":0},null,null,null,null,null,null,null,{"$f":"AVERAGE(G11:L11)","v":{"$error":"#DIV/0!"}},null,null,null,null,null,null,{"$f":"AVERAGE(N11:S11)","v":{"$error":"#DIV/0!"}},null,{"$f":"SUM(F11+M11+T11+U11)","v":{"$error":"#DIV/0!"}},null,null,{"$f":"SUM(V11:X11)","v":{"$error":"#DIV/0!"}}]
[null,2,{"$f":"'DATOS DEL ESTUDIANTE'!B5","v":0},{"$f":"'DATOS DEL ESTUDIANTE'!C5","v":0},{"$f":"'DATOS DEL ESTUDIANTE'!D5","v":0},null,null,null,null,null,null,null,{"$f":"AVERAGE(G12:L12)","v":{"$error":"#DIV/0!"}},null,null,null,null,null,null,{"$f":"AVERAGE(N12:S12)","v":{"$error":"#DIV/0!"}},null,{"$f":"SUM(F12+M12+T12+U12)","v":{"$error":"#DIV/0!"}},null,null,{"$f":"SUM(V12:X12)","v":{"$error":"#DIV/0!"}}]
[null,3,{"$f":"'DATOS DEL ESTUDIANTE'!B6","v":0},{"$f":"'DATOS DEL ESTUDIANTE'!C6","v":0},{"$f":"'DATOS DEL ESTUDIANTE'!D6","v":0},null,null,null,null,null,null,null,{"$error":"#DIV/0!"},null,null,null,null,null,null,{"$error":"#DIV/0!"},null,{"$error":"#DIV/0!"},null,null,{"$error":"#DIV/0!"}]
[null,4,{"$f":"'DATOS DEL ESTUDIANTE'!B7","v":0},{"$f":"'DATOS DEL ESTUDIANTE'!C7","v":0},{"$f":"'DATOS DEL ESTUDIANTE'!D7","v":0},null,null,null,null,null,null,null,{"$error":"#DIV/0!"},null,null,null,null,null,null,{"$error":"#DIV/0!"},null,{"$error":"#DIV/0!"},null,null,{"$error":"#DIV/0!"}]
[null,5,{"$f":"'DATOS DEL ESTUDIANTE'!B8","v":0},{"$f":"'DATOS DEL ESTUDIANTE'!C8","v":0},{"$f":"'DATOS DEL ESTUDIANTE'!D8","v":0},null,null,null,null,null,null,null,{"$error":"#DIV/0!"},null,null,null,null,null,null,{"$error":"#DIV/0!"},null,{"$error":"#DIV/0!"},null,null,{"$error":"#DIV/0!"}]
[null,6,{"$f":"'DATOS DEL ESTUDIANTE'!B9","v":0},{"$f":"'DATOS DEL ESTUDIANTE'!C9","v":0},{"$f":"'DATOS DEL ESTUDIANTE'!D9","v":0},null,null,null,null,null,null,null,{"$error":"#DIV/0!"},null,null,null,null,null,null,{"$error":"#DIV/0!"},null,{"$error":"#DIV/0!"},null,null,{"$error":"#DIV/0!"}]
[null,7,{"$f":"'DATOS DEL ESTUDIANTE'!B10","v":0},{"$f":"'DATOS DEL ESTUDIANTE'!C10","v":0},{"$f":"'DATOS DEL ESTUDIANTE'!D10","v":0},null,null,null,null,null,null,null,{"$error":"#DIV/0!"},null,null,null,null,null,null,{"$error":"#DIV/0!"},null,{"$error":"#DIV/0!"},null,null,{"$error":"#DIV/0!"}]
[null,8,{"$f":"'DATOS DEL ESTUDIANTE'!B11","v":0},{"$f":"'DATOS DEL ESTUDIANTE'!C11","v":0},{"$f":"'DATOS DEL ESTUDIANTE'!D11","v":0},null,null,null,null,null,null,null,{"$error":"#DIV/0!"},null,null,null,null,null,null,{"$error":"#DIV/0!"},null,{"$error":"#DIV/0!"},null,null,{"$error":"#DIV/0!"}]
[null,9,{"$f":"'DATOS DEL ESTUDIANTE'!B12","v":0},{"$f":"'DATOS DEL ESTUDIANTE'!C12","v":0},{"$f":"'DATOS DEL ESTUDIANTE'!D12","v":0},null,null,null,null,null,null,null,{"$error":"#DIV/0!"},null,null,null,null,null,null,{"$error":"#DIV/0!"},null,{"$error":"#DIV/0!"},null,null,{"$error":"#DIV/0!"}]
[null,10,{"$f":"'DATOS DEL ESTUDIANTE'!B13","v":0},{"$f":"'DATOS DEL ESTUDIANTE'!C13","v":0},{"$f":"'DATOS DEL ESTUDIANTE'!D13","v":0},null,null,null,null,null,null,null,{"$error":"#DIV/0!"},null,null,null,null,null,null,{"$error":"#DIV/0!"},null,{"$error":"#DIV/0!"},null,null,{"$error":"#DIV/0!"}]
[null,11,{"$f":"'DATOS DEL ESTUDIANTE'!B14","v":0},{"$f":"'DATOS DEL ESTUDIANTE'!C14","v":0},{"$f":"'DATOS DEL ESTUDIANTE'!D14","v":0},null,null,null,null,null,null,null,{"$error":"#DIV/0!"},null,null,null,null,null,null,{"$error":"#DIV/0!"},null,{"$error":"#DIV/0!"},null,null,{"$error":"#DIV/0!"}]
[null,12,{"$f":"'DATOS DEL ESTUDIANTE'!B15","v":0},{"$f":"'DATOS DEL ESTUDIANTE'!C15","v":0},{"$f":"'DATOS DEL ESTUDIANTE'!D15","v":0},null,null,null,null,null,null,null,{"$error":"#DIV/0!"},null,null,null,null,null,null,{"$error":"#DIV/0!"},null,{"$error":"#DIV/0!"},null,null,{"$error":"#DIV/0!"}]
[null,13,{"$f":"'DATOS DEL ESTUDIANTE'!B16","v":0},{"$f":"'DATOS DEL ESTUDIANTE'!C16","v":0},{"$f":"'DATOS DEL ESTUDIANTE'!D16","v":0},null,null,null,null,null,null,null,{"$error":"#DIV/0!"},null,null,null,null,null,null,{"$error":"#DIV/0!"},null,{"$error":"#DIV/0!"},null,null,{"$error":"#DIV/0!"}]
[null,14,{"$f":"'DATOS DEL ESTUDIANTE'!B17","v":0},{"$f":"'DATOS DEL ESTUDIANTE'!C17","v":0},{"$f":"'DATOS DEL ESTUDIANTE'!D17","v":0},null,null,null,null,null,null,null,{"$error":"#DIV/0!"},null,null,null,null,null,null,{"$error":"#DIV/0!"},null,{"$error":"#DIV/0!"},null,null,{"$error":"#DIV/0!"}]
[null,15,{"$f":"'DATOS DEL ESTUDIANTE'!B18","v":0},{"$f":"'DATOS DEL ESTUDIANTE'!C18","v":0},{"$f":"'DATOS DEL ESTUDIANTE'!D18","v":0},null,null,null,null,null,null,null,{"$error":"#DIV/0!"},null,null,null,null,null,null,{"$error":"#DIV/0!"},null,{"$error":"#DIV/0!"},null,null,{"$error":"#DIV/0!"}]
[null,16,{"$f":"'DATOS DEL ESTUDIANTE'!B19","v":0},{"$f":"'DATOS DEL ESTUDIANTE'!C19","v":0},{"$f":"'DATOS DEL ESTUDIANTE'!D19","v":0},null,null,null,null,null,null,null,{"$error":"#DIV/0!"},null,null,null,null,null,null,{"$error":"#DIV/0!"},null,{"$error":"#DIV/0!"},null,null,{"$error":"#DIV/0!"}]
[null,17,{"$f":"'DATOS DEL ESTUDIANTE'!B20","v":0},{"$f":"'DATOS DEL ESTUDIANTE'!C20","v":0},{"$f":"'DATOS DEL ESTUDIANTE'!D20","v":0},null,null,null,null,null,null,null,{"$error":"#DIV/0!"},null,null,null,null,null,null,{"$error":"#DIV/0!"},null,{"$error":"#DIV/0!"},null,null,{"$error":"#DIV/0!"}]
[null,18,{"$f":"'DATOS DEL ESTUDIANTE'!B21","v":0},{"$f":"'DATOS DEL ESTUDIANTE'!C21","v":0},{"$f":"'DATOS DEL ESTUDIANTE'!D21","v":0},null,null,null,null,null,null,null,{"$error":"#DIV/0!"},null,null,null,null,null,null,{"$error":"#DIV/0!"},null,{"$error":"#DIV/0!"},null,null,{"$error":"#DIV/0!"}]
[null,19,{"$f":"'DATOS DEL ESTUDIANTE'!B22","v":0},{"$f":"'DATOS DEL ESTUDIANTE'!C22","v":0},{"$f":"'DATOS DEL ESTUDIANTE'!D22","v":0},null,null,null,null,null,null,null,{"$error":"#DIV/0!"},null,null,null,null,null,null,{"$error":"#DIV/0!"},null,{"$error":"#DIV/0!"},null,null,{"$error":"#DIV/0!"}]
[null,20,{"$f":"'DATOS DEL ESTUDIANTE'!B23","v":0},{"$f":"'DATOS DEL ESTUDIANTE'!C23","v":0},{"$f":"'DATOS DEL ESTUDIANTE'!D23","v":0},null,null,null,null,null,null,null,{"$error":"#DIV/0!"},null,null,null,null,null,null,{"$error":"#DIV/0!"},null,{"$error":"#DIV/0!"},null,null,{"$error":"#DIV/0!"}]
[null,21,{"$f":"'DATOS DEL ESTUDIANTE'!B24","v":0},{"$f":"'DATOS DEL ESTUDIANTE'!C24","v":0},{"$f":"'DATOS DEL ESTUDIANTE'!D24","v":0},null,null,null,null,null,null,null,{"$error":"#DIV/0!"},null,null,null,null,null,null,{"$error":"#DIV/0!"},null,{"$error":"#DIV/0!"},null,null,{"$error":"#DIV/0!"}]
[null,22,{"$f":"'DATOS DEL ESTUDIANTE'!B25","v":0},{"$f":"'DATOS DEL ESTUDIANTE'!C25","v":0},{"$f":"'DATOS DEL ESTUDIANTE'!D25","v":0},null,null,null,null,null,null,null,{"$error":"#DIV/0!"},null,null,null,null,null,null,{"$error":"#DIV/0!"},null,{"$error":"#DIV/0!"},null,null,{"$error":"#DIV/0!"}]
[null,23,{"$f":"'DATOS DEL ESTUDIANTE'!B26","v":0},{"$f":"'DATOS DEL ESTUDIANTE'!C26","v":0},{"$f":"'DATOS DEL ESTUDIANTE'!D26","v":0},null,null,null,null,null,null,null,{"$error":"#DIV/0!"},null,null,null,null,null,null,{"$error":"#DIV/0!"},null,{"$error":"#DIV/0!"},null,null,{"$error":"#DIV/0!"}]
[null,24,{"$f":"'DATOS DEL ESTUDIANTE'!B27","v":0},{"$f":"'DATOS DEL ESTUDIANTE'!C27","v":0},{"$f":"'DATOS DEL ESTUDIANTE'!D27","v":0},null,null,null,null,null,null,null,{"$error":"#DIV/0!"},null,null,null,null,null,null,{"$error":"#DIV/0!"},null,{"$error":"#DIV/0!"},null,null,{"$error":"#DIV/0!"}]
[null,25,{"$f":"'DATOS DEL ESTUDIANTE'!B28","v":0},{"$f":"'DATOS DEL ESTUDIANTE'!C28","v":0},{"$f":"'DATOS DEL ESTUDIANTE'!D28","v":0},null,null,null,null,null,null,null,{"$error":"#DIV/0!"},null,null,null,null,null,null,{"$error":"#DIV/0!"},null,{"$error":"#DIV/0!"},null,null,{"$error":"#DIV/0!"}]
[null,26,{"$f":"'DATOS DEL ESTUDIANTE'!B29","v":0},{"$f":"'DATOS DEL ESTUDIANTE'!C29","v":0},{"$f":"'DATOS DEL ESTUDIANTE'!D29","v":0},null,null,null,null,null,null,null,{"$error":"#DIV/0!"},null,null,null,null,null,null,{"$error":"#DIV/0!"},null,{"$error":"#DIV/0!"},null,null,{"$error":"#DIV/0!"}]
[null,27,{"$f":"'DATOS DEL ESTUDIANTE'!B30","v":0},{"$f":"'DATOS DEL ESTUDIANTE'!C30","v":0},{"$f":"'DATOS DEL ESTUDIANTE'!D30","v":0},null,null,null,null,null,null,null,{"$error":"#DIV/0!"},null,null,null,null,null,null,{"$error":"#DIV/0!"},null,{"$error":"#DIV/0!"},null,null,{"$error":"#DIV/0!"}]
[null,28,{"$f":"'DATOS DEL ESTUDIANTE'!B31","v":0},{"$f":"'DATOS DEL ESTUDIANTE'!C31","v":0},{"$f":"'DATOS DEL ESTUDIANTE'!D31","v":0},null,null,null,null,null,null,null,{"$error":"#DIV/0!"},null,null,null,null,null,null,{"$error":"#DIV/0!"},null,{"$error":"#DIV/0!"},null,null,{"$error":"#DIV/0!"}]
[null,29,{"$f":"'DATOS DEL ESTUDIANTE'!B32","v":0},{"$f":"'DATOS DEL ESTUDIANTE'!C32","v":0},{"$f":"'DATOS DEL ESTUDIANTE'!D32","v":0},null,null,null,null,null,null,null,{"$error":"#DIV/0!"},null,null,null,null,null,null,{"$error":"#DIV/0!"},null,{"$error":"#DIV/0!"},null,null,{"$error":"#DIV/0!"}]
[null,30,{"$f":"'DATOS DEL ESTUDIANTE'!B33","v":0},{"$f":"'DATOS DEL ESTUDIANTE'!C33","v":0},{"$f":"'DATOS DEL ESTUDIANTE'!D33","v":0},null,null,null,null,null,null,null,{"$error":"#DIV/0!"},null,null,null,null,null,null,{"$error":"#DIV/0!"},null,{"$error":"#DIV/0!"},null,null,{"$error":"#DIV/0!"}]
[null,31,{"$f":"'DATOS DEL ESTUDIANTE'!B34","v":0},{"$f":"'DATOS DEL ESTUDIANTE'!C34","v":0},{"$f":"'DATOS DEL ESTUDIANTE'!D34","v":0},null,null,null,null,null,null,null,{"$error":"#DIV/0!"},null,null,null,null,null,null,{"$error":"#DIV/0!"},null,{"$error":"#DIV/0!"},null,null,{"$error":"#DIV/0!"}]
[null,32,{"$f":"'DATOS DEL ESTUDIANTE'!B35","v":0},{"$f":"'DATOS DEL ESTUDIANTE'!C35","v":0},{"$f":"'DATOS DEL ESTUDIANTE'!D35","v":0},null,null,null,null,null,null,null,{"$error":"#DIV/0!"},null,null,null,null,null,null,{"$error":"#DIV/0!"},null,{"$error":"#DIV/0!"},null,null,{"$error":"#DIV/0!"}]
[null,33,{"$f":"'DATOS DEL ESTUDIANTE'!B36","v":0},{"$f":"'DATOS DEL ESTUDIANTE'!C36","v":0},{"$f":"'DATOS DEL ESTUDIANTE'!D36","v":0},null,null,null,null,null,null,null,{"$error":"#DIV/0!"},null,null,null,null,null,null,{"$error":"#DIV/0!"},null,{"$error":"#DIV/0!"},null,null,{"$error":"#DIV/0!"}]
[null,34,{"$f":"'DATOS DEL ESTUDIANTE'!B37","v":0},{"$f":"'DATOS DEL ESTUDIANTE'!C37","v":0},{"$f":"'DATOS DEL ESTUDIANTE'!D37","v":0},null,null,null,null,null,null,null,{"$error":"#DIV/0!"},null,null,null,null,null,null,{"$error":"#DIV/0!"},null,{"$error":"#DIV/0!"},null,null,{"$error":"#DIV/0!"}]
[null,35,{"$f":"'DATOS DEL ESTUDIANTE'!B38","v":0},{"$f":"'DATOS DEL ESTUDIANTE'!C38","v":0},{"$f":"'DATOS DEL ESTUDIANTE'!D38","v":0},null,null,null,null,null,null,null,{"$error":"#DIV/0!"},null,null,null,null,null,null,{"$error":"#DIV/0!"},null,{"$error":"#DIV/0!"},null,null,{"$error":"#DIV/0!"}]
[null,36,{"$f":"'DATOS DEL ESTUDIANTE'!B39","v":0},{"$f":"'DATOS DEL ESTUDIANTE'!C39","v":0},{"$f":"'DATOS DEL ESTUDIANTE'!D39","v":0},null,null,null,null,null,null,null,{"$error":"#DIV/0!"},null,null,null,null,null,null,{"$error":"#DIV/0!"},null,{"$error":"#DIV/0!"},null,null,{"$error":"#DIV/0!"}]
[null,37,{"$f":"'DATOS DEL ESTUDIANTE'!B40","v":0},{"$f":"'DATOS DEL ESTUDIANTE'!C40","v":0},{"$f":"'DATOS DEL ESTUDIANTE'!D40","v":0},null,null,null,null,null,null,null,{"$error":"#DIV/0!"},null,null,null,null,null,null,{"$error":"#DIV/0!"},null,{"$error":"#DIV/0!"},null,null,{"$error":"#DIV/0!"}]
[null,38,{"$f":"'DATOS DEL ESTUDIANTE'!B41","v":0},{"$f":"'DATOS DEL ESTUDIANTE'!C41","v":0},{"$f":"'DATOS DEL ESTUDIANTE'!D41","v":0},null,null,null,null,null,null,null,{"$error":"#DIV/0!"},null,null,null,null,null,null,{"$error":"#DIV/0!"},null,{"$error":"#DIV/0!"},null,null,{"$error":"#DIV/0!"}]
[null,39,{"$f":"'DATOS DEL ESTUDIANTE'!B42","v":0},{"$f":"'DATOS DEL ESTUDIANTE'!C42","v":0},{"$f":"'DATOS DEL ESTUDIANTE'!D42","v":0},null,null,null,null,null,null,null,{"$error":"#DIV/0!"},null,null,null,null,null,null,{"$error":"#DIV/0!"},null,{"$error":"#DIV/0!"},null,null,{"$error":"#DIV/0!"}]
[null,40,{"$f":"'DATOS DEL ESTUDIANTE'!B43","v":0},{"$f":"'DATOS DEL ESTUDIANTE'!C43","v":0},{"$f":"'DATOS DEL ESTUDIANTE'!D43","v":0},null,null,null,null,null,null,null,{"$error":"#DIV/0!"},null,null,null,null,null,null,{"$error":"#DIV/0!"},null,{"$error":"#DIV/0!"},null,null,{"$error":"#DIV/0!"}]
[null,41,{"$f":"'DATOS DEL ESTUDIANTE'!B44","v":0},{"$f":"'DATOS DEL ESTUDIANTE'!C44","v":0},{"$f":"'DATOS DEL ESTUDIANTE'!D44","v":0},null,null,null,null,null,null,null,{"$error":"#DIV/0!"},null,null,null,null,null,null,{"$error":"#DIV/0!"},null,{"$error":"#DIV/0!"},null,null,{"$error":"#DIV/0!"}]
[null,42,{"$f":"'DATOS DEL ESTUDIANTE'!B45","v":0},{"$f":"'DATOS DEL ESTUDIANTE'!C45","v":0},{"$f":"'DATOS DEL ESTUDIANTE'!D45","v":0},null,null,null,null,null,null,null,{"$error":"#DIV/0!"},null,null,null,null,null,null,{"$error":"#DIV/0!"},null,{"$error":"#DIV/0!"},null,null,{"$error":"#DIV/0!"}]
[null,43,{"$f":"'DATOS DEL ESTUDIANTE'!B46","v":0},{"$f":"'DATOS DEL ESTUDIANTE'!C46","v":0},{"$f":"'DATOS DEL ESTUDIANTE'!D46","v":0},null,null,null,null,null,null,null,{"$error":"#DIV/0!"},null,null,null,null,null,null,{"$error":"#DIV/0!"},null,{"$error":"#DIV/0!"},null,null,{"$error":"#DIV/0!"}]
[null,44,{"$f":"'DATOS DEL ESTUDIANTE'!B47","v":0},{"$f":"'DATOS DEL ESTUDIANTE'!C47","v":0},{"$f":"'DATOS DEL ESTUDIANTE'!D47","v":0},null,null,null,null,null,null,null,{"$error":"#DIV/0!"},null,null,null,null,null,null,{"$error":"#DIV/0!"},null,{"$error":"#DIV/0!"},null,null,{"$error":"#DIV/0!"}]
[null,45,{"$f":"'DATOS DEL ESTUDIANTE'!B48","v":0},{"$f":"'DATOS DEL ESTUDIANTE'!C48","v":0},{"$f":"'DATOS DEL ESTUDIANTE'!D48","v":0},null,null,null,null,null,null,null,{"$error":"#DIV/0!"},null,null,null,null,null,null,{"$error":"#DIV/0!"},null,{"$error":"#DIV/0!"},null,null,{"$error":"#DIV/0!"}]

{"sheet":"ARTES PLASTICAS3","index":46,"n_rows":55,"n_cols":25,"rows_kept":55,"cut":false,"hidden":false,"merged":[[8,17,9,17],[8,18,9,18],[8,15,9,15],[0,0,9,0],[0,1,0,19],[3,1,3,4],[8,7,9,7],[4,1,6,4],[4,5,6,5],[4,6,6,7],[4,8,6,9],[7,1,7,4],[8,1,9,1],[8,5,9,5],[8,6,9,6],[3,6,3,12],[1,5,1,9],[1,10,1,12],[1,13,1,19],[1,20,2,20],[2,1,2,19],[1,1,1,3],[8,13,9,13],[4,12,9,12],[4,10,6,11],[4,13,6,14],[0,21,2,24],[3,13,3,19],[3,21,9,21],[3,22,8,23],[3,24,9,24],[4,15,6,16],[4,17,6,18],[4,20,6,20],[4,19,9,19],[8,20,9,20],[8,14,9,14],[8,16,9,16],[8,2,8,4],[8,8,9,8],[8,9,9,9],[8,10,9,10],[8,11,9,11]]}
[null,"ARTES PLÁSTICAS Y VISUALES"]
[null,"AÑO DE ESCOLARIDAD:",null,null,null,null,null,null,null,null,"MAESTRA (O): ",null,null,null,null,null,null,null,null,null,"CUARTO\nBIMESTRE"]
[null," REGISTRO  Y CENTRALIZADOR DEL PROCESO DE  EVALUACIÓN   "]
[null,"DIMENSIONES",null,null,null,"SER (10)","SABER (35)",null,null,null,null,null,null,"HACER (35)",null,null,null,null,null,null,"DECIDIR (10)","TOTAL     EVALUACIÓN    DEL     MAESTRO","AUTOEVALUACIÓN",null,"CALIFICACIÓN BIMESTRAL"]
[null,"CRITERIOS DE EVALUACIÓN SEGÚN PDC",null,null,null,null,"MMMMMM",null,null,null,null,null,"T      O     T     A       L",null,null,null,null,null,null,"T      O     T     A       L"]
[]
[]
[null,"INSTRUMENTO Y/ O ESTRATEGIAS DE EVALUACIÓN"]
[null,"N°","    FECHA DE  EVALUACIÓN\n \n\n"]
[null,null,"NOMBRES ","APELLIDO PATERNO"," \nAPELLIDO MATERNO",null,null,null,null,null,null,null,null,null,null,null,null,null,null,null,null,null,"SER\n(5)","DECIDIR\n(5)"]
[null,1,{"$f":"'DATOS DEL ESTUDIANTE'!B4","v":0},{"$f":"'DATOS DEL ESTUDIANTE'!C4","v":0},{"$f":"'DATOS DEL ESTUDIANTE'!D4","v":0},null,null,null,null,null,null,null,{"$f":"AVERAGE(G11:L11)","v":{"$error":"#DIV/0!"}},null,null,null,null,null,null,{"$f":"AVERAGE(N11:S11)","v":{"$error":"#DIV/0!"}},null,{"$f":"F11+M11+T11+U11","v":{"$error":"#DIV/0!"}},null,null,{"$f":"SUM(V11:X11)","v":{"$error":"#DIV/0!"}}]
[null,2,{"$f":"'DATOS DEL ESTUDIANTE'!B5","v":0},{"$f":"'DATOS DEL ESTUDIANTE'!C5","v":0},{"$f":"'DATOS DEL ESTUDIANTE'!D5","v":0},null,null,null,null,null,null,null,{"$f":"AVERAGE(G12:L12)","v":{"$error":"#DIV/0!"}},null,null,null,null,null,null,{"$f":"AVERAGE(N12:S12)","v":{"$error":"#DIV/0!"}},null,{"$f":"F12+M12+T12+U12","v":{"$error":"#DIV/0!"}},null,null,{"$f":"SUM(V12:X12)","v":{"$error":"#DIV/0!"}}]
[null,3,{"$f":"'DATOS DEL ESTUDIANTE'!B6","v":0},{"$f":"'DATOS DEL ESTUDIANTE'!C6","v":0},{"$f":"'DATOS DEL ESTUDIANTE'!D6","v":0},null,null,null,null,null,null,null,{"$error":"#DIV/0!"},null,null,null,null,null,null,{"$error":"#DIV/0!"},null,{"$error":"#DIV/0!"},null,null,{"$error":"#DIV/0!"}]
[null,4,{"$f":"'DATOS DEL ESTUDIANTE'!B7","v":0},{"$f":"'DATOS DEL ESTUDIANTE'!C7","v":0},{"$f":"'DATOS DEL ESTUDIANTE'!D7","v":0},null,null,null,null,null,null,null,{"$error":"#DIV/0!"},null,null,null,null,null,null,{"$error":"#DIV/0!"},null,{"$error":"#DIV/0!"},null,null,{"$error":"#DIV/0!"}]
[null,5,{"$f":"'DATOS DEL ESTUDIANTE'!B8","v":0},{"$f":"'DATOS DEL ESTUDIANTE'!C8","v":0},{"$f":"'DATOS DEL ESTUDIANTE'!D8","v":0},null,null,null,null,null,null,null,{"$error":"#DIV/0!"},null,null,null,null,null,null,{"$error":"#DIV/0!"},null,{"$error":"#DIV/0!"},null,null,{"$error":"#DIV/0!"}]
[null,6,{"$f":"'DATOS DEL ESTUDIANTE'!B9","v":0},{"$f":"'DATOS DEL ESTUDIANTE'!C9","v":0},{"$f":"'DATOS DEL ESTUDIANTE'!D9","v":0},null,null,null,null,null,null,null,{"$error":"#DIV/0!"},null,null,null,null,null,null,{"$error":"#DIV/0!"},null,{"$error":"#DIV/0!"},null,null,{"$error":"#DIV/0!"}]
[null,7,{"$f":"'DATOS DEL ESTUDIANTE'!B10","v":0},{"$f":"'DATOS DEL ESTUDIANTE'!C10","v":0},{"$f":"'DATOS DEL ESTUDIANTE'!D10","v":0},null,null,null,null,null,null,null,{"$error":"#DIV/0!"},null,null,null,null,null,null,{"$error":"#DIV/0!"},null,{"$error":"#DIV/0!"},null,null,{"$error":"#DIV/0!"}]
[null,8,{"$f":"'DATOS DEL ESTUDIANTE'!B11","v":0},{"$f":"'DATOS DEL ESTUDIANTE'!C11","v":0},{"$f":"'DATOS DEL ESTUDIANTE'!D11","v":0},null,null,null,null,null,null,null,{"$error":"#DIV/0!"},null,null,null,null,null,null,{"$error":"#DIV/0!"},null,{"$error":"#DIV/0!"},null,null,{"$error":"#DIV/0!"}]
[null,9,{"$f":"'DATOS DEL ESTUDIANTE'!B12","v":0},{"$f":"'DATOS DEL ESTUDIANTE'!C12","v":0},{"$f":"'DATOS DEL ESTUDIANTE'!D12","v":0},null,null,null,null,null,null,null,{"$error":"#DIV/0!"},null,null,null,null,null,null,{"$error":"#DIV/0!"},null,{"$error":"#DIV/0!"},null,null,{"$error":"#DIV/0!"}]
[null,10,{"$f":"'DATOS DEL ESTUDIANTE'!B13","v":0},{"$f":"'DATOS DEL ESTUDIANTE'!C13","v":0},{"$f":"'DATOS DEL ESTUDIANTE'!D13","v":0},null,null,null,null,null,null,null,{"$error":"#DIV/0!"},null,null,null,null,null,null,{"$error":"#DIV/0!"},null,{"$error":"#DIV/0!"},null,null,{"$error":"#DIV/0!"}]
[null,11,{"$f":"'DATOS DEL ESTUDIANTE'!B14","v":0},{"$f":"'DATOS DEL ESTUDIANTE'!C14","v":0},{"$f":"'DATOS DEL ESTUDIANTE'!D14","v":0},null,null,null,null,null,null,null,{"$error":"#DIV/0!"},null,null,null,null,null,null,{"$error":"#DIV/0!"},null,{"$error":"#DIV/0!"},null,null,{"$error":"#DIV/0!"}]
[null,12,{"$f":"'DATOS DEL ESTUDIANTE'!B15","v":0},{"$f":"'DATOS DEL ESTUDIANTE'!C15","v":0},{"$f":"'DATOS DEL ESTUDIANTE'!D15","v":0},null,null,null,null,null,null,null,{"$error":"#DIV/0!"},null,null,null,null,null,null,{"$error":"#DIV/0!"},null,{"$error":"#DIV/0!"},null,null,{"$error":"#DIV/0!"}]
[null,13,{"$f":"'DATOS DEL ESTUDIANTE'!B16","v":0},{"$f":"'DATOS DEL ESTUDIANTE'!C16","v":0},{"$f":"'DATOS DEL ESTUDIANTE'!D16","v":0},null,null,null,null,null,null,null,{"$error":"#DIV/0!"},null,null,null,null,null,null,{"$error":"#DIV/0!"},null,{"$error":"#DIV/0!"},null,null,{"$error":"#DIV/0!"}]
[null,14,{"$f":"'DATOS DEL ESTUDIANTE'!B17","v":0},{"$f":"'DATOS DEL ESTUDIANTE'!C17","v":0},{"$f":"'DATOS DEL ESTUDIANTE'!D17","v":0},null,null,null,null,null,null,null,{"$error":"#DIV/0!"},null,null,null,null,null,null,{"$error":"#DIV/0!"},null,{"$error":"#DIV/0!"},null,null,{"$error":"#DIV/0!"}]
[null,15,{"$f":"'DATOS DEL ESTUDIANTE'!B18","v":0},{"$f":"'DATOS DEL ESTUDIANTE'!C18","v":0},{"$f":"'DATOS DEL ESTUDIANTE'!D18","v":0},null,null,null,null,null,null,null,{"$error":"#DIV/0!"},null,null,null,null,null,null,{"$error":"#DIV/0!"},null,{"$error":"#DIV/0!"},null,null,{"$error":"#DIV/0!"}]
[null,16,{"$f":"'DATOS DEL ESTUDIANTE'!B19","v":0},{"$f":"'DATOS DEL ESTUDIANTE'!C19","v":0},{"$f":"'DATOS DEL ESTUDIANTE'!D19","v":0},null,null,null,null,null,null,null,{"$error":"#DIV/0!"},null,null,null,null,null,null,{"$error":"#DIV/0!"},null,{"$error":"#DIV/0!"},null,null,{"$error":"#DIV/0!"}]
[null,17,{"$f":"'DATOS DEL ESTUDIANTE'!B20","v":0},{"$f":"'DATOS DEL ESTUDIANTE'!C20","v":0},{"$f":"'DATOS DEL ESTUDIANTE'!D20","v":0},null,null,null,null,null,null,null,{"$error":"#DIV/0!"},null,null,null,null,null,null,{"$error":"#DIV/0!"},null,{"$error":"#DIV/0!"},null,null,{"$error":"#DIV/0!"}]
[null,18,{"$f":"'DATOS DEL ESTUDIANTE'!B21","v":0},{"$f":"'DATOS DEL ESTUDIANTE'!C21","v":0},{"$f":"'DATOS DEL ESTUDIANTE'!D21","v":0},null,null,null,null,null,null,null,{"$error":"#DIV/0!"},null,null,null,null,null,null,{"$error":"#DIV/0!"},null,{"$error":"#DIV/0!"},null,null,{"$error":"#DIV/0!"}]
[null,19,{"$f":"'DATOS DEL ESTUDIANTE'!B22","v":0},{"$f":"'DATOS DEL ESTUDIANTE'!C22","v":0},{"$f":"'DATOS DEL ESTUDIANTE'!D22","v":0},null,null,null,null,null,null,null,{"$error":"#DIV/0!"},null,null,null,null,null,null,{"$error":"#DIV/0!"},null,{"$error":"#DIV/0!"},null,null,{"$error":"#DIV/0!"}]
[null,20,{"$f":"'DATOS DEL ESTUDIANTE'!B23","v":0},{"$f":"'DATOS DEL ESTUDIANTE'!C23","v":0},{"$f":"'DATOS DEL ESTUDIANTE'!D23","v":0},null,null,null,null,null,null,null,{"$error":"#DIV/0!"},null,null,null,null,null,null,{"$error":"#DIV/0!"},null,{"$error":"#DIV/0!"},null,null,{"$error":"#DIV/0!"}]
[null,21,{"$f":"'DATOS DEL ESTUDIANTE'!B24","v":0},{"$f":"'DATOS DEL ESTUDIANTE'!C24","v":0},{"$f":"'DATOS DEL ESTUDIANTE'!D24","v":0},null,null,null,null,null,null,null,{"$error":"#DIV/0!"},null,null,null,null,null,null,{"$error":"#DIV/0!"},null,{"$error":"#DIV/0!"},null,null,{"$error":"#DIV/0!"}]
[null,22,{"$f":"'DATOS DEL ESTUDIANTE'!B25","v":0},{"$f":"'DATOS DEL ESTUDIANTE'!C25","v":0},{"$f":"'DATOS DEL ESTUDIANTE'!D25","v":0},null,null,null,null,null,null,null,{"$error":"#DIV/0!"},null,null,null,null,null,null,{"$error":"#DIV/0!"},null,{"$error":"#DIV/0!"},null,null,{"$error":"#DIV/0!"}]
[null,23,{"$f":"'DATOS DEL ESTUDIANTE'!B26","v":0},{"$f":"'DATOS DEL ESTUDIANTE'!C26","v":0},{"$f":"'DATOS DEL ESTUDIANTE'!D26","v":0},null,null,null,null,null,null,null,{"$error":"#DIV/0!"},null,null,null,null,null,null,{"$error":"#DIV/0!"},null,{"$error":"#DIV/0!"},null,null,{"$error":"#DIV/0!"}]
[null,24,{"$f":"'DATOS DEL ESTUDIANTE'!B27","v":0},{"$f":"'DATOS DEL ESTUDIANTE'!C27","v":0},{"$f":"'DATOS DEL ESTUDIANTE'!D27","v":0},null,null,null,null,null,null,null,{"$error":"#DIV/0!"},null,null,null,null,null,null,{"$error":"#DIV/0!"},null,{"$error":"#DIV/0!"},null,null,{"$error":"#DIV/0!"}]
[null,25,{"$f":"'DATOS DEL ESTUDIANTE'!B28","v":0},{"$f":"'DATOS DEL ESTUDIANTE'!C28","v":0},{"$f":"'DATOS DEL ESTUDIANTE'!D28","v":0},null,null,null,null,null,null,null,{"$error":"#DIV/0!"},null,null,null,null,null,null,{"$error":"#DIV/0!"},null,{"$error":"#DIV/0!"},null,null,{"$error":"#DIV/0!"}]
[null,26,{"$f":"'DATOS DEL ESTUDIANTE'!B29","v":0},{"$f":"'DATOS DEL ESTUDIANTE'!C29","v":0},{"$f":"'DATOS DEL ESTUDIANTE'!D29","v":0},null,null,null,null,null,null,null,{"$error":"#DIV/0!"},null,null,null,null,null,null,{"$error":"#DIV/0!"},null,{"$error":"#DIV/0!"},null,null,{"$error":"#DIV/0!"}]
[null,27,{"$f":"'DATOS DEL ESTUDIANTE'!B30","v":0},{"$f":"'DATOS DEL ESTUDIANTE'!C30","v":0},{"$f":"'DATOS DEL ESTUDIANTE'!D30","v":0},null,null,null,null,null,null,null,{"$error":"#DIV/0!"},null,null,null,null,null,null,{"$error":"#DIV/0!"},null,{"$error":"#DIV/0!"},null,null,{"$error":"#DIV/0!"}]
[null,28,{"$f":"'DATOS DEL ESTUDIANTE'!B31","v":0},{"$f":"'DATOS DEL ESTUDIANTE'!C31","v":0},{"$f":"'DATOS DEL ESTUDIANTE'!D31","v":0},null,null,null,null,null,null,null,{"$error":"#DIV/0!"},null,null,null,null,null,null,{"$error":"#DIV/0!"},null,{"$error":"#DIV/0!"},null,null,{"$error":"#DIV/0!"}]
[null,29,{"$f":"'DATOS DEL ESTUDIANTE'!B32","v":0},{"$f":"'DATOS DEL ESTUDIANTE'!C32","v":0},{"$f":"'DATOS DEL ESTUDIANTE'!D32","v":0},null,null,null,null,null,null,null,{"$error":"#DIV/0!"},null,null,null,null,null,null,{"$error":"#DIV/0!"},null,{"$error":"#DIV/0!"},null,null,{"$error":"#DIV/0!"}]
[null,30,{"$f":"'DATOS DEL ESTUDIANTE'!B33","v":0},{"$f":"'DATOS DEL ESTUDIANTE'!C33","v":0},{"$f":"'DATOS DEL ESTUDIANTE'!D33","v":0},null,null,null,null,null,null,null,{"$error":"#DIV/0!"},null,null,null,null,null,null,{"$error":"#DIV/0!"},null,{"$error":"#DIV/0!"},null,null,{"$error":"#DIV/0!"}]
[null,31,{"$f":"'DATOS DEL ESTUDIANTE'!B34","v":0},{"$f":"'DATOS DEL ESTUDIANTE'!C34","v":0},{"$f":"'DATOS DEL ESTUDIANTE'!D34","v":0},null,null,null,null,null,null,null,{"$error":"#DIV/0!"},null,null,null,null,null,null,{"$error":"#DIV/0!"},null,{"$error":"#DIV/0!"},null,null,{"$error":"#DIV/0!"}]
[null,32,{"$f":"'DATOS DEL ESTUDIANTE'!B35","v":0},{"$f":"'DATOS DEL ESTUDIANTE'!C35","v":0},{"$f":"'DATOS DEL ESTUDIANTE'!D35","v":0},null,null,null,null,null,null,null,{"$error":"#DIV/0!"},null,null,null,null,null,null,{"$error":"#DIV/0!"},null,{"$error":"#DIV/0!"},null,null,{"$error":"#DIV/0!"}]
[null,33,{"$f":"'DATOS DEL ESTUDIANTE'!B36","v":0},{"$f":"'DATOS DEL ESTUDIANTE'!C36","v":0},{"$f":"'DATOS DEL ESTUDIANTE'!D36","v":0},null,null,null,null,null,null,null,{"$error":"#DIV/0!"},null,null,null,null,null,null,{"$error":"#DIV/0!"},null,{"$error":"#DIV/0!"},null,null,{"$error":"#DIV/0!"}]
[null,34,{"$f":"'DATOS DEL ESTUDIANTE'!B37","v":0},{"$f":"'DATOS DEL ESTUDIANTE'!C37","v":0},{"$f":"'DATOS DEL ESTUDIANTE'!D37","v":0},null,null,null,null,null,null,null,{"$error":"#DIV/0!"},null,null,null,null,null,null,{"$error":"#DIV/0!"},null,{"$error":"#DIV/0!"},null,null,{"$error":"#DIV/0!"}]
[null,35,{"$f":"'DATOS DEL ESTUDIANTE'!B38","v":0},{"$f":"'DATOS DEL ESTUDIANTE'!C38","v":0},{"$f":"'DATOS DEL ESTUDIANTE'!D38","v":0},null,null,null,null,null,null,null,{"$error":"#DIV/0!"},null,null,null,null,null,null,{"$error":"#DIV/0!"},null,{"$error":"#DIV/0!"},null,null,{"$error":"#DIV/0!"}]
[null,36,{"$f":"'DATOS DEL ESTUDIANTE'!B39","v":0},{"$f":"'DATOS DEL ESTUDIANTE'!C39","v":0},{"$f":"'DATOS DEL ESTUDIANTE'!D39","v":0},null,null,null,null,null,null,null,{"$error":"#DIV/0!"},null,null,null,null,null,null,{"$error":"#DIV/0!"},null,{"$error":"#DIV/0!"},null,null,{"$error":"#DIV/0!"}]
[null,37,{"$f":"'DATOS DEL ESTUDIANTE'!B40","v":0},{"$f":"'DATOS DEL ESTUDIANTE'!C40","v":0},{"$f":"'DATOS DEL ESTUDIANTE'!D40","v":0},null,null,null,null,null,null,null,{"$error":"#DIV/0!"},null,null,null,null,null,null,{"$error":"#DIV/0!"},null,{"$error":"#DIV/0!"},null,null,{"$error":"#DIV/0!"}]
[null,38,{"$f":"'DATOS DEL ESTUDIANTE'!B41","v":0},{"$f":"'DATOS DEL ESTUDIANTE'!C41","v":0},{"$f":"'DATOS DEL ESTUDIANTE'!D41","v":0},null,null,null,null,null,null,null,{"$error":"#DIV/0!"},null,null,null,null,null,null,{"$error":"#DIV/0!"},null,{"$error":"#DIV/0!"},null,null,{"$error":"#DIV/0!"}]
[null,39,{"$f":"'DATOS DEL ESTUDIANTE'!B42","v":0},{"$f":"'DATOS DEL ESTUDIANTE'!C42","v":0},{"$f":"'DATOS DEL ESTUDIANTE'!D42","v":0},null,null,null,null,null,null,null,{"$error":"#DIV/0!"},null,null,null,null,null,null,{"$error":"#DIV/0!"},null,{"$error":"#DIV/0!"},null,null,{"$error":"#DIV/0!"}]
[null,40,{"$f":"'DATOS DEL ESTUDIANTE'!B43","v":0},{"$f":"'DATOS DEL ESTUDIANTE'!C43","v":0},{"$f":"'DATOS DEL ESTUDIANTE'!D43","v":0},null,null,null,null,null,null,null,{"$error":"#DIV/0!"},null,null,null,null,null,null,{"$error":"#DIV/0!"},null,{"$error":"#DIV/0!"},null,null,{"$error":"#DIV/0!"}]
[null,41,{"$f":"'DATOS DEL ESTUDIANTE'!B44","v":0},{"$f":"'DATOS DEL ESTUDIANTE'!C44","v":0},{"$f":"'DATOS DEL ESTUDIANTE'!D44","v":0},null,null,null,null,null,null,null,{"$error":"#DIV/0!"},null,null,null,null,null,null,{"$error":"#DIV/0!"},null,{"$error":"#DIV/0!"},null,null,{"$error":"#DIV/0!"}]
[null,42,{"$f":"'DATOS DEL ESTUDIANTE'!B45","v":0},{"$f":"'DATOS DEL ESTUDIANTE'!C45","v":0},{"$f":"'DATOS DEL ESTUDIANTE'!D45","v":0},null,null,null,null,null,null,null,{"$error":"#DIV/0!"},null,null,null,null,null,null,{"$error":"#DIV/0!"},null,{"$error":"#DIV/0!"},null,null,{"$error":"#DIV/0!"}]
[null,43,{"$f":"'DATOS DEL ESTUDIANTE'!B46","v":0},{"$f":"'DATOS DEL ESTUDIANTE'!C46","v":0},{"$f":"'DATOS DEL ESTUDIANTE'!D46","v":0},null,null,null,null,null,null,null,{"$error":"#DIV/0!"},null,null,null,null,null,null,{"$error":"#DIV/0!"},null,{"$error":"#DIV/0!"},null,null,{"$error":"#DIV/0!"}]
[null,44,{"$f":"'DATOS DEL ESTUDIANTE'!B47","v":0},{"$f":"'DATOS DEL ESTUDIANTE'!C47","v":0},{"$f":"'DATOS DEL ESTUDIANTE'!D47","v":0},null,null,null,null,null,null,null,{"$error":"#DIV/0!"},null,null,null,null,null,null,{"$error":"#DIV/0!"},null,{"$error":"#DIV/0!"},null,null,{"$error":"#DIV/0!"}]
[null,45,{"$f":"'DATOS DEL ESTUDIANTE'!B48","v":0},{"$f":"'DATOS DEL ESTUDIANTE'!C48","v":0},{"$f":"'DATOS DEL ESTUDIANTE'!D48","v":0},null,null,null,null,null,null,null,{"$error":"#DIV/0!"},null,null,null,null,null,null,{"$error":"#DIV/0!"},null,{"$error":"#DIV/0!"},null,null,{"$error":"#DIV/0!"}]

{"sheet":"ARTES PLASTICAS 4","index":47,"n_rows":55,"n_cols":25,"rows_kept":55,"cut":false,"hidden":false,"merged":[[1,1,1,3],[3,6,3,12],[3,13,3,19],[4,15,6,16],[8,7,9,7],[8,8,9,8],[8,16,9,16],[8,15,9,15],[8,14,9,14],[8,17,9,17],[8,18,9,18],[4,12,9,12],[8,20,9,20],[0,0,9,0],[0,1,0,19],[3,1,3,4],[4,13,6,14],[7,1,7,4],[8,1,9,1],[8,5,9,5],[8,6,9,6],[1,10,1,12],[1,13,1,19],[8,9,9,9],[8,10,9,10],[8,11,9,11],[1,4,1,9],[8,13,9,13],[0,25,3,25],[3,22,8,23],[3,24,9,24],[4,17,6,18],[4,20,6,20],[3,21,9,21],[0,21,2,24],[4,19,9,19],[1,20,2,20],[2,1,2,19],[4,1,6,4],[4,5,6,5],[4,6,6,7],[4,8,6,9],[4,10,6,11],[8,2,8,4]]}
[null,"ARTES PLÁSTICAS Y VISUALES",null,null,null,null,null,null,null,null,null,null,null,null,null,null,null,null,null,null,2018]
[null,"AÑO DE ESCOLARIDAD:",null,null,{"$f":"CARATULA!G15","v":0},null,null,null,null,null,"MAESTRA (O): ",null,null,{"$f":"CARATULA!G18","v":0},null,null,null,null,null,null,"CUARTO\nBIMESTRE"]
[null," REGISTRO  Y CENTRALIZADOR DEL PROCESO DE  EVALUACIÓN   "]
[null,"DIMENSIONES",null,null,null,"SER (10)","SABER (35)",null,null,null,null,null,null,"HACER (35)",null,null,null,null,null,null,"DECIDIR (10)","TOTAL     EVALUACIÓN    DEL     MAESTRO","AUTOEVALUACIÓN",null,"CALIFICACIÓN BIMESTRAL"]
[null,"CRITERIOS DE EVALUACIÓN SEGÚN PDC",null,null,null,null,null,null,null,null,null,null,"T      O     T     A       L",null,null,null,null,null,null,"T      O     T     A       L"]
[]
[]
[null,"INSTRUMENTO Y/ O ESTRATEGIAS DE EVALUACIÓN"]
[null,"N°","    FECHA DE  EVALUACIÓN\n \n\n"]
[null,null,"NOMBRES ","APELLIDO PATERNO"," \nAPELLIDO MATERNO",null,null,null,null,null,null,null,null,null,null,null,null,null,null,null,null,null,"SER\n(5)","DECIDIR\n(5)"]
[null,1,{"$f":"'DATOS DEL ESTUDIANTE'!B4","v":0},{"$f":"'DATOS DEL ESTUDIANTE'!C4","v":0},{"$f":"'DATOS DEL ESTUDIANTE'!D4","v":0},null,null,null,null,null,null,null,{"$f":"AVERAGE(G11:L11)","v":{"$error":"#DIV/0!"}},null,null,null,null,null,null,{"$f":"AVERAGE(N11:S11)","v":{"$error":"#DIV/0!"}},null,{"$f":"SUM(F11+M11+T11+U11)","v":{"$error":"#DIV/0!"}},null,null,{"$f":"SUM(V11:X11)","v":{"$error":"#DIV/0!"}}]
[null,2,{"$f":"'DATOS DEL ESTUDIANTE'!B5","v":0},{"$f":"'DATOS DEL ESTUDIANTE'!C5","v":0},{"$f":"'DATOS DEL ESTUDIANTE'!D5","v":0},null,null,null,null,null,null,null,{"$f":"AVERAGE(G12:L12)","v":{"$error":"#DIV/0!"}},null,null,null,null,null,null,{"$f":"AVERAGE(N12:S12)","v":{"$error":"#DIV/0!"}},null,{"$f":"SUM(F12+M12+T12+U12)","v":{"$error":"#DIV/0!"}},null,null,{"$f":"SUM(V12:X12)","v":{"$error":"#DIV/0!"}}]
[null,3,{"$f":"'DATOS DEL ESTUDIANTE'!B6","v":0},{"$f":"'DATOS DEL ESTUDIANTE'!C6","v":0},{"$f":"'DATOS DEL ESTUDIANTE'!D6","v":0},null,null,null,null,null,null,null,{"$error":"#DIV/0!"},null,null,null,null,null,null,{"$error":"#DIV/0!"},null,{"$error":"#DIV/0!"},null,null,{"$error":"#DIV/0!"}]
[null,4,{"$f":"'DATOS DEL ESTUDIANTE'!B7","v":0},{"$f":"'DATOS DEL ESTUDIANTE'!C7","v":0},{"$f":"'DATOS DEL ESTUDIANTE'!D7","v":0},null,null,null,null,null,null,null,{"$error":"#DIV/0!"},null,null,null,null,null,null,{"$error":"#DIV/0!"},null,{"$error":"#DIV/0!"},null,null,{"$error":"#DIV/0!"}]
[null,5,{"$f":"'DATOS DEL ESTUDIANTE'!B8","v":0},{"$f":"'DATOS DEL ESTUDIANTE'!C8","v":0},{"$f":"'DATOS DEL ESTUDIANTE'!D8","v":0},null,null,null,null,null,null,null,{"$error":"#DIV/0!"},null,null,null,null,null,null,{"$error":"#DIV/0!"},null,{"$error":"#DIV/0!"},null,null,{"$error":"#DIV/0!"}]
[null,6,{"$f":"'DATOS DEL ESTUDIANTE'!B9","v":0},{"$f":"'DATOS DEL ESTUDIANTE'!C9","v":0},{"$f":"'DATOS DEL ESTUDIANTE'!D9","v":0},null,null,null,null,null,null,null,{"$error":"#DIV/0!"},null,null,null,null,null,null,{"$error":"#DIV/0!"},null,{"$error":"#DIV/0!"},null,null,{"$error":"#DIV/0!"}]
[null,7,{"$f":"'DATOS DEL ESTUDIANTE'!B10","v":0},{"$f":"'DATOS DEL ESTUDIANTE'!C10","v":0},{"$f":"'DATOS DEL ESTUDIANTE'!D10","v":0},null,null,null,null,null,null,null,{"$error":"#DIV/0!"},null,null,null,null,null,null,{"$error":"#DIV/0!"},null,{"$error":"#DIV/0!"},null,null,{"$error":"#DIV/0!"}]
[null,8,{"$f":"'DATOS DEL ESTUDIANTE'!B11","v":0},{"$f":"'DATOS DEL ESTUDIANTE'!C11","v":0},{"$f":"'DATOS DEL ESTUDIANTE'!D11","v":0},null,null,null,null,null,null,null,{"$error":"#DIV/0!"},null,null,null,null,null,null,{"$error":"#DIV/0!"},null,{"$error":"#DIV/0!"},null,null,{"$error":"#DIV/0!"}]
[null,9,{"$f":"'DATOS DEL ESTUDIANTE'!B12","v":0},{"$f":"'DATOS DEL ESTUDIANTE'!C12","v":0},{"$f":"'DATOS DEL ESTUDIANTE'!D12","v":0},null,null,null,null,null,null,null,{"$error":"#DIV/0!"},null,null,null,null,null,null,{"$error":"#DIV/0!"},null,{"$error":"#DIV/0!"},null,null,{"$error":"#DIV/0!"}]
[null,10,{"$f":"'DATOS DEL ESTUDIANTE'!B13","v":0},{"$f":"'DATOS DEL ESTUDIANTE'!C13","v":0},{"$f":"'DATOS DEL ESTUDIANTE'!D13","v":0},null,null,null,null,null,null,null,{"$error":"#DIV/0!"},null,null,null,null,null,null,{"$error":"#DIV/0!"},null,{"$error":"#DIV/0!"},null,null,{"$error":"#DIV/0!"}]
[null,11,{"$f":"'DATOS DEL ESTUDIANTE'!B14","v":0},{"$f":"'DATOS DEL ESTUDIANTE'!C14","v":0},{"$f":"'DATOS DEL ESTUDIANTE'!D14","v":0},null,null,null,null,null,null,null,{"$error":"#DIV/0!"},null,null,null,null,null,null,{"$error":"#DIV/0!"},null,{"$error":"#DIV/0!"},null,null,{"$error":"#DIV/0!"}]
[null,12,{"$f":"'DATOS DEL ESTUDIANTE'!B15","v":0},{"$f":"'DATOS DEL ESTUDIANTE'!C15","v":0},{"$f":"'DATOS DEL ESTUDIANTE'!D15","v":0},null,null,null,null,null,null,null,{"$error":"#DIV/0!"},null,null,null,null,null,null,{"$error":"#DIV/0!"},null,{"$error":"#DIV/0!"},null,null,{"$error":"#DIV/0!"}]
[null,13,{"$f":"'DATOS DEL ESTUDIANTE'!B16","v":0},{"$f":"'DATOS DEL ESTUDIANTE'!C16","v":0},{"$f":"'DATOS DEL ESTUDIANTE'!D16","v":0},null,null,null,null,null,null,null,{"$error":"#DIV/0!"},null,null,null,null,null,null,{"$error":"#DIV/0!"},null,{"$error":"#DIV/0!"},null,null,{"$error":"#DIV/0!"}]
[null,14,{"$f":"'DATOS DEL ESTUDIANTE'!B17","v":0},{"$f":"'DATOS DEL ESTUDIANTE'!C17","v":0},{"$f":"'DATOS DEL ESTUDIANTE'!D17","v":0},null,null,null,null,null,null,null,{"$error":"#DIV/0!"},null,null,null,null,null,null,{"$error":"#DIV/0!"},null,{"$error":"#DIV/0!"},null,null,{"$error":"#DIV/0!"}]
[null,15,{"$f":"'DATOS DEL ESTUDIANTE'!B18","v":0},{"$f":"'DATOS DEL ESTUDIANTE'!C18","v":0},{"$f":"'DATOS DEL ESTUDIANTE'!D18","v":0},null,null,null,null,null,null,null,{"$error":"#DIV/0!"},null,null,null,null,null,null,{"$error":"#DIV/0!"},null,{"$error":"#DIV/0!"},null,null,{"$error":"#DIV/0!"}]
[null,16,{"$f":"'DATOS DEL ESTUDIANTE'!B19","v":0},{"$f":"'DATOS DEL ESTUDIANTE'!C19","v":0},{"$f":"'DATOS DEL ESTUDIANTE'!D19","v":0},null,null,null,null,null,null,null,{"$error":"#DIV/0!"},null,null,null,null,null,null,{"$error":"#DIV/0!"},null,{"$error":"#DIV/0!"},null,null,{"$error":"#DIV/0!"}]
[null,17,{"$f":"'DATOS DEL ESTUDIANTE'!B20","v":0},{"$f":"'DATOS DEL ESTUDIANTE'!C20","v":0},{"$f":"'DATOS DEL ESTUDIANTE'!D20","v":0},null,null,null,null,null,null,null,{"$error":"#DIV/0!"},null,null,null,null,null,null,{"$error":"#DIV/0!"},null,{"$error":"#DIV/0!"},null,null,{"$error":"#DIV/0!"}]
[null,18,{"$f":"'DATOS DEL ESTUDIANTE'!B21","v":0},{"$f":"'DATOS DEL ESTUDIANTE'!C21","v":0},{"$f":"'DATOS DEL ESTUDIANTE'!D21","v":0},null,null,null,null,null,null,null,{"$error":"#DIV/0!"},null,null,null,null,null,null,{"$error":"#DIV/0!"},null,{"$error":"#DIV/0!"},null,null,{"$error":"#DIV/0!"}]
[null,19,{"$f":"'DATOS DEL ESTUDIANTE'!B22","v":0},{"$f":"'DATOS DEL ESTUDIANTE'!C22","v":0},{"$f":"'DATOS DEL ESTUDIANTE'!D22","v":0},null,null,null,null,null,null,null,{"$error":"#DIV/0!"},null,null,null,null,null,null,{"$error":"#DIV/0!"},null,{"$error":"#DIV/0!"},null,null,{"$error":"#DIV/0!"}]
[null,20,{"$f":"'DATOS DEL ESTUDIANTE'!B23","v":0},{"$f":"'DATOS DEL ESTUDIANTE'!C23","v":0},{"$f":"'DATOS DEL ESTUDIANTE'!D23","v":0},null,null,null,null,null,null,null,{"$error":"#DIV/0!"},null,null,null,null,null,null,{"$error":"#DIV/0!"},null,{"$error":"#DIV/0!"},null,null,{"$error":"#DIV/0!"}]
[null,21,{"$f":"'DATOS DEL ESTUDIANTE'!B24","v":0},{"$f":"'DATOS DEL ESTUDIANTE'!C24","v":0},{"$f":"'DATOS DEL ESTUDIANTE'!D24","v":0},null,null,null,null,null,null,null,{"$error":"#DIV/0!"},null,null,null,null,null,null,{"$error":"#DIV/0!"},null,{"$error":"#DIV/0!"},null,null,{"$error":"#DIV/0!"}]
[null,22,{"$f":"'DATOS DEL ESTUDIANTE'!B25","v":0},{"$f":"'DATOS DEL ESTUDIANTE'!C25","v":0},{"$f":"'DATOS DEL ESTUDIANTE'!D25","v":0},null,null,null,null,null,null,null,{"$error":"#DIV/0!"},null,null,null,null,null,null,{"$error":"#DIV/0!"},null,{"$error":"#DIV/0!"},null,null,{"$error":"#DIV/0!"}]
[null,23,{"$f":"'DATOS DEL ESTUDIANTE'!B26","v":0},{"$f":"'DATOS DEL ESTUDIANTE'!C26","v":0},{"$f":"'DATOS DEL ESTUDIANTE'!D26","v":0},null,null,null,null,null,null,null,{"$error":"#DIV/0!"},null,null,null,null,null,null,{"$error":"#DIV/0!"},null,{"$error":"#DIV/0!"},null,null,{"$error":"#DIV/0!"}]
[null,24,{"$f":"'DATOS DEL ESTUDIANTE'!B27","v":0},{"$f":"'DATOS DEL ESTUDIANTE'!C27","v":0},{"$f":"'DATOS DEL ESTUDIANTE'!D27","v":0},null,null,null,null,null,null,null,{"$error":"#DIV/0!"},null,null,null,null,null,null,{"$error":"#DIV/0!"},null,{"$error":"#DIV/0!"},null,null,{"$error":"#DIV/0!"}]
[null,25,{"$f":"'DATOS DEL ESTUDIANTE'!B28","v":0},{"$f":"'DATOS DEL ESTUDIANTE'!C28","v":0},{"$f":"'DATOS DEL ESTUDIANTE'!D28","v":0},null,null,null,null,null,null,null,{"$error":"#DIV/0!"},null,null,null,null,null,null,{"$error":"#DIV/0!"},null,{"$error":"#DIV/0!"},null,null,{"$error":"#DIV/0!"}]
[null,26,{"$f":"'DATOS DEL ESTUDIANTE'!B29","v":0},{"$f":"'DATOS DEL ESTUDIANTE'!C29","v":0},{"$f":"'DATOS DEL ESTUDIANTE'!D29","v":0},null,null,null,null,null,null,null,{"$error":"#DIV/0!"},null,null,null,null,null,null,{"$error":"#DIV/0!"},null,{"$error":"#DIV/0!"},null,null,{"$error":"#DIV/0!"}]
[null,27,{"$f":"'DATOS DEL ESTUDIANTE'!B30","v":0},{"$f":"'DATOS DEL ESTUDIANTE'!C30","v":0},{"$f":"'DATOS DEL ESTUDIANTE'!D30","v":0},null,null,null,null,null,null,null,{"$error":"#DIV/0!"},null,null,null,null,null,null,{"$error":"#DIV/0!"},null,{"$error":"#DIV/0!"},null,null,{"$error":"#DIV/0!"}]
[null,28,{"$f":"'DATOS DEL ESTUDIANTE'!B31","v":0},{"$f":"'DATOS DEL ESTUDIANTE'!C31","v":0},{"$f":"'DATOS DEL ESTUDIANTE'!D31","v":0},null,null,null,null,null,null,null,{"$error":"#DIV/0!"},null,null,null,null,null,null,{"$error":"#DIV/0!"},null,{"$error":"#DIV/0!"},null,null,{"$error":"#DIV/0!"}]
[null,29,{"$f":"'DATOS DEL ESTUDIANTE'!B32","v":0},{"$f":"'DATOS DEL ESTUDIANTE'!C32","v":0},{"$f":"'DATOS DEL ESTUDIANTE'!D32","v":0},null,null,null,null,null,null,null,{"$error":"#DIV/0!"},null,null,null,null,null,null,{"$error":"#DIV/0!"},null,{"$error":"#DIV/0!"},null,null,{"$error":"#DIV/0!"}]
[null,30,{"$f":"'DATOS DEL ESTUDIANTE'!B33","v":0},{"$f":"'DATOS DEL ESTUDIANTE'!C33","v":0},{"$f":"'DATOS DEL ESTUDIANTE'!D33","v":0},null,null,null,null,null,null,null,{"$error":"#DIV/0!"},null,null,null,null,null,null,{"$error":"#DIV/0!"},null,{"$error":"#DIV/0!"},null,null,{"$error":"#DIV/0!"}]
[null,31,{"$f":"'DATOS DEL ESTUDIANTE'!B34","v":0},{"$f":"'DATOS DEL ESTUDIANTE'!C34","v":0},{"$f":"'DATOS DEL ESTUDIANTE'!D34","v":0},null,null,null,null,null,null,null,{"$error":"#DIV/0!"},null,null,null,null,null,null,{"$error":"#DIV/0!"},null,{"$error":"#DIV/0!"},null,null,{"$error":"#DIV/0!"}]
[null,32,{"$f":"'DATOS DEL ESTUDIANTE'!B35","v":0},{"$f":"'DATOS DEL ESTUDIANTE'!C35","v":0},{"$f":"'DATOS DEL ESTUDIANTE'!D35","v":0},null,null,null,null,null,null,null,{"$error":"#DIV/0!"},null,null,null,null,null,null,{"$error":"#DIV/0!"},null,{"$error":"#DIV/0!"},null,null,{"$error":"#DIV/0!"}]
[null,33,{"$f":"'DATOS DEL ESTUDIANTE'!B36","v":0},{"$f":"'DATOS DEL ESTUDIANTE'!C36","v":0},{"$f":"'DATOS DEL ESTUDIANTE'!D36","v":0},null,null,null,null,null,null,null,{"$error":"#DIV/0!"},null,null,null,null,null,null,{"$error":"#DIV/0!"},null,{"$error":"#DIV/0!"},null,null,{"$error":"#DIV/0!"}]
[null,34,{"$f":"'DATOS DEL ESTUDIANTE'!B37","v":0},{"$f":"'DATOS DEL ESTUDIANTE'!C37","v":0},{"$f":"'DATOS DEL ESTUDIANTE'!D37","v":0},null,null,null,null,null,null,null,{"$error":"#DIV/0!"},null,null,null,null,null,null,{"$error":"#DIV/0!"},null,{"$error":"#DIV/0!"},null,null,{"$error":"#DIV/0!"}]
[null,35,{"$f":"'DATOS DEL ESTUDIANTE'!B38","v":0},{"$f":"'DATOS DEL ESTUDIANTE'!C38","v":0},{"$f":"'DATOS DEL ESTUDIANTE'!D38","v":0},null,null,null,null,null,null,null,{"$error":"#DIV/0!"},null,null,null,null,null,null,{"$error":"#DIV/0!"},null,{"$error":"#DIV/0!"},null,null,{"$error":"#DIV/0!"}]
[null,36,{"$f":"'DATOS DEL ESTUDIANTE'!B39","v":0},{"$f":"'DATOS DEL ESTUDIANTE'!C39","v":0},{"$f":"'DATOS DEL ESTUDIANTE'!D39","v":0},null,null,null,null,null,null,null,{"$error":"#DIV/0!"},null,null,null,null,null,null,{"$error":"#DIV/0!"},null,{"$error":"#DIV/0!"},null,null,{"$error":"#DIV/0!"}]
[null,37,{"$f":"'DATOS DEL ESTUDIANTE'!B40","v":0},{"$f":"'DATOS DEL ESTUDIANTE'!C40","v":0},{"$f":"'DATOS DEL ESTUDIANTE'!D40","v":0},null,null,null,null,null,null,null,{"$error":"#DIV/0!"},null,null,null,null,null,null,{"$error":"#DIV/0!"},null,{"$error":"#DIV/0!"},null,null,{"$error":"#DIV/0!"}]
[null,38,{"$f":"'DATOS DEL ESTUDIANTE'!B41","v":0},{"$f":"'DATOS DEL ESTUDIANTE'!C41","v":0},{"$f":"'DATOS DEL ESTUDIANTE'!D41","v":0},null,null,null,null,null,null,null,{"$error":"#DIV/0!"},null,null,null,null,null,null,{"$error":"#DIV/0!"},null,{"$error":"#DIV/0!"},null,null,{"$error":"#DIV/0!"}]
[null,39,{"$f":"'DATOS DEL ESTUDIANTE'!B42","v":0},{"$f":"'DATOS DEL ESTUDIANTE'!C42","v":0},{"$f":"'DATOS DEL ESTUDIANTE'!D42","v":0},null,null,null,null,null,null,null,{"$error":"#DIV/0!"},null,null,null,null,null,null,{"$error":"#DIV/0!"},null,{"$error":"#DIV/0!"},null,null,{"$error":"#DIV/0!"}]
[null,40,{"$f":"'DATOS DEL ESTUDIANTE'!B43","v":0},{"$f":"'DATOS DEL ESTUDIANTE'!C43","v":0},{"$f":"'DATOS DEL ESTUDIANTE'!D43","v":0},null,null,null,null,null,null,null,{"$error":"#DIV/0!"},null,null,null,null,null,null,{"$error":"#DIV/0!"},null,{"$error":"#DIV/0!"},null,null,{"$error":"#DIV/0!"}]
[null,41,{"$f":"'DATOS DEL ESTUDIANTE'!B44","v":0},{"$f":"'DATOS DEL ESTUDIANTE'!C44","v":0},{"$f":"'DATOS DEL ESTUDIANTE'!D44","v":0},null,null,null,null,null,null,null,{"$error":"#DIV/0!"},null,null,null,null,null,null,{"$error":"#DIV/0!"},null,{"$error":"#DIV/0!"},null,null,{"$error":"#DIV/0!"}]
[null,42,{"$f":"'DATOS DEL ESTUDIANTE'!B45","v":0},{"$f":"'DATOS DEL ESTUDIANTE'!C45","v":0},{"$f":"'DATOS DEL ESTUDIANTE'!D45","v":0},null,null,null,null,null,null,null,{"$error":"#DIV/0!"},null,null,null,null,null,null,{"$error":"#DIV/0!"},null,{"$error":"#DIV/0!"},null,null,{"$error":"#DIV/0!"}]
[null,43,{"$f":"'DATOS DEL ESTUDIANTE'!B46","v":0},{"$f":"'DATOS DEL ESTUDIANTE'!C46","v":0},{"$f":"'DATOS DEL ESTUDIANTE'!D46","v":0},null,null,null,null,null,null,null,{"$error":"#DIV/0!"},null,null,null,null,null,null,{"$error":"#DIV/0!"},null,{"$error":"#DIV/0!"},null,null,{"$error":"#DIV/0!"}]
[null,44,{"$f":"'DATOS DEL ESTUDIANTE'!B47","v":0},{"$f":"'DATOS DEL ESTUDIANTE'!C47","v":0},{"$f":"'DATOS DEL ESTUDIANTE'!D47","v":0},null,null,null,null,null,null,null,{"$error":"#DIV/0!"},null,null,null,null,null,null,{"$error":"#DIV/0!"},null,{"$error":"#DIV/0!"},null,null,{"$error":"#DIV/0!"}]
[null,45,{"$f":"'DATOS DEL ESTUDIANTE'!B48","v":0},{"$f":"'DATOS DEL ESTUDIANTE'!C48","v":0},{"$f":"'DATOS DEL ESTUDIANTE'!D48","v":0},null,null,null,null,null,null,null,{"$error":"#DIV/0!"},null,null,null,null,null,null,{"$error":"#DIV/0!"},null,{"$error":"#DIV/0!"},null,null,{"$error":"#DIV/0!"}]

{"sheet":"VALORES, ESPIRITUALIDADES Y R1","index":48,"n_rows":55,"n_cols":25,"rows_kept":55,"cut":false,"hidden":false,"merged":[[1,1,1,3],[3,6,3,12],[3,13,3,19],[4,15,6,16],[8,7,9,7],[8,8,9,8],[8,16,9,16],[8,15,9,15],[8,14,9,14],[8,17,9,17],[8,18,9,18],[4,12,9,12],[8,20,9,20],[0,0,9,0],[0,1,0,19],[3,1,3,4],[4,13,6,14],[7,1,7,4],[8,1,9,1],[8,5,9,5],[8,6,9,6],[1,10,1,12],[1,13,1,19],[8,9,9,9],[8,10,9,10],[8,11,9,11],[1,4,1,9],[8,13,9,13],[0,25,3,25],[3,22,8,23],[3,24,9,24],[4,17,6,18],[4,20,6,20],[3,21,9,21],[0,21,2,24],[4,19,9,19],[1,20,2,20],[2,1,2,19],[4,1,6,4],[4,5,6,5],[4,6,6,7],[4,8,6,9],[4,10,6,11],[8,2,8,4]]}
[null,"VALORES, ESPIRITUALIDADES Y RELIGIONES",null,null,null,null,null,null,null,null,null,null,null,null,null,null,null,null,null,null,2018]
[null,"AÑO DE ESCOLARIDAD:",null,null,{"$f":"CARATULA!G15","v":0},null,null,null,null,null,"MAESTRA (O): ",null,null,{"$f":"CARATULA!G18","v":0},null,null,null,null,null,null,"PRIMER BIMESTRE"]
[null," REGISTRO  Y CENTRALIZADOR DEL PROCESO DE  EVALUACIÓN   "]
[null,"DIMENSIONES",null,null,null,"SER (10)","SABER (35)",null,null,null,null,null,null,"HACER (35)",null,null,null,null,null,null,"DECIDIR (10)","TOTAL     EVALUACIÓN    DEL     MAESTRO","AUTOEVALUACIÓN",null,"CALIFICACIÓN BIMESTRAL"]
[null,"CRITERIOS DE EVALUACIÓN SEGÚN PDC",null,null,null,null,null,null,null,null,null,null,"T      O     T     A       L",null,null,null,null,null,null,"T      O     T     A       L"]
[]
[]
[null,"INSTRUMENTO Y/ O ESTRATEGIAS DE EVALUACIÓN"]
[null,"N°","    FECHA DE  EVALUACIÓN\n \n\n"]
[null,null,"NOMBRES ","APELLIDO PATERNO"," \nAPELLIDO MATERNO",null,null,null,null,null,null,null,null,null,null,null,null,null,null,null,null,null,"SER\n(5)","DECIDIR\n(5)"]
[null,1,{"$f":"'DATOS DEL ESTUDIANTE'!B4","v":0},{"$f":"'DATOS DEL ESTUDIANTE'!C4","v":0},{"$f":"'DATOS DEL ESTUDIANTE'!D4","v":0},null,null,null,null,null,null,null,{"$f":"AVERAGE(G11:L11)","v":{"$error":"#DIV/0!"}},null,null,null,null,null,null,{"$f":"AVERAGE(N11:S11)","v":{"$error":"#DIV/0!"}},null,{"$f":"SUM(F11+M11+T11+U11)","v":{"$error":"#DIV/0!"}},null,null,{"$f":"SUM(V11:X11)","v":{"$error":"#DIV/0!"}}]
[null,2,{"$f":"'DATOS DEL ESTUDIANTE'!B5","v":0},{"$f":"'DATOS DEL ESTUDIANTE'!C5","v":0},{"$f":"'DATOS DEL ESTUDIANTE'!D5","v":0},null,null,null,null,null,null,null,{"$f":"AVERAGE(G12:L12)","v":{"$error":"#DIV/0!"}},null,null,null,null,null,null,{"$f":"AVERAGE(N12:S12)","v":{"$error":"#DIV/0!"}},null,{"$f":"SUM(F12+M12+T12+U12)","v":{"$error":"#DIV/0!"}},null,null,{"$f":"SUM(V12:X12)","v":{"$error":"#DIV/0!"}}]
[null,3,{"$f":"'DATOS DEL ESTUDIANTE'!B6","v":0},{"$f":"'DATOS DEL ESTUDIANTE'!C6","v":0},{"$f":"'DATOS DEL ESTUDIANTE'!D6","v":0},null,null,null,null,null,null,null,{"$error":"#DIV/0!"},null,null,null,null,null,null,{"$error":"#DIV/0!"},null,{"$error":"#DIV/0!"},null,null,{"$error":"#DIV/0!"}]
[null,4,{"$f":"'DATOS DEL ESTUDIANTE'!B7","v":0},{"$f":"'DATOS DEL ESTUDIANTE'!C7","v":0},{"$f":"'DATOS DEL ESTUDIANTE'!D7","v":0},null,null,null,null,null,null,null,{"$error":"#DIV/0!"},null,null,null,null,null,null,{"$error":"#DIV/0!"},null,{"$error":"#DIV/0!"},null,null,{"$error":"#DIV/0!"}]
[null,5,{"$f":"'DATOS DEL ESTUDIANTE'!B8","v":0},{"$f":"'DATOS DEL ESTUDIANTE'!C8","v":0},{"$f":"'DATOS DEL ESTUDIANTE'!D8","v":0},null,null,null,null,null,null,null,{"$error":"#DIV/0!"},null,null,null,null,null,null,{"$error":"#DIV/0!"},null,{"$error":"#DIV/0!"},null,null,{"$error":"#DIV/0!"}]
[null,6,{"$f":"'DATOS DEL ESTUDIANTE'!B9","v":0},{"$f":"'DATOS DEL ESTUDIANTE'!C9","v":0},{"$f":"'DATOS DEL ESTUDIANTE'!D9","v":0},null,null,null,null,null,null,null,{"$error":"#DIV/0!"},null,null,null,null,null,null,{"$error":"#DIV/0!"},null,{"$error":"#DIV/0!"},null,null,{"$error":"#DIV/0!"}]
[null,7,{"$f":"'DATOS DEL ESTUDIANTE'!B10","v":0},{"$f":"'DATOS DEL ESTUDIANTE'!C10","v":0},{"$f":"'DATOS DEL ESTUDIANTE'!D10","v":0},null,null,null,null,null,null,null,{"$error":"#DIV/0!"},null,null,null,null,null,null,{"$error":"#DIV/0!"},null,{"$error":"#DIV/0!"},null,null,{"$error":"#DIV/0!"}]
[null,8,{"$f":"'DATOS DEL ESTUDIANTE'!B11","v":0},{"$f":"'DATOS DEL ESTUDIANTE'!C11","v":0},{"$f":"'DATOS DEL ESTUDIANTE'!D11","v":0},null,null,null,null,null,null,null,{"$error":"#DIV/0!"},null,null,null,null,null,null,{"$error":"#DIV/0!"},null,{"$error":"#DIV/0!"},null,null,{"$error":"#DIV/0!"}]
[null,9,{"$f":"'DATOS DEL ESTUDIANTE'!B12","v":0},{"$f":"'DATOS DEL ESTUDIANTE'!C12","v":0},{"$f":"'DATOS DEL ESTUDIANTE'!D12","v":0},null,null,null,null,null,null,null,{"$error":"#DIV/0!"},null,null,null,null,null,null,{"$error":"#DIV/0!"},null,{"$error":"#DIV/0!"},null,null,{"$error":"#DIV/0!"}]
[null,10,{"$f":"'DATOS DEL ESTUDIANTE'!B13","v":0},{"$f":"'DATOS DEL ESTUDIANTE'!C13","v":0},{"$f":"'DATOS DEL ESTUDIANTE'!D13","v":0},null,null,null,null,null,null,null,{"$error":"#DIV/0!"},null,null,null,null,null,null,{"$error":"#DIV/0!"},null,{"$error":"#DIV/0!"},null,null,{"$error":"#DIV/0!"}]
[null,11,{"$f":"'DATOS DEL ESTUDIANTE'!B14","v":0},{"$f":"'DATOS DEL ESTUDIANTE'!C14","v":0},{"$f":"'DATOS DEL ESTUDIANTE'!D14","v":0},null,null,null,null,null,null,null,{"$error":"#DIV/0!"},null,null,null,null,null,null,{"$error":"#DIV/0!"},null,{"$error":"#DIV/0!"},null,null,{"$error":"#DIV/0!"}]
[null,12,{"$f":"'DATOS DEL ESTUDIANTE'!B15","v":0},{"$f":"'DATOS DEL ESTUDIANTE'!C15","v":0},{"$f":"'DATOS DEL ESTUDIANTE'!D15","v":0},null,null,null,null,null,null,null,{"$error":"#DIV/0!"},null,null,null,null,null,null,{"$error":"#DIV/0!"},null,{"$error":"#DIV/0!"},null,null,{"$error":"#DIV/0!"}]
[null,13,{"$f":"'DATOS DEL ESTUDIANTE'!B16","v":0},{"$f":"'DATOS DEL ESTUDIANTE'!C16","v":0},{"$f":"'DATOS DEL ESTUDIANTE'!D16","v":0},null,null,null,null,null,null,null,{"$error":"#DIV/0!"},null,null,null,null,null,null,{"$error":"#DIV/0!"},null,{"$error":"#DIV/0!"},null,null,{"$error":"#DIV/0!"}]
[null,14,{"$f":"'DATOS DEL ESTUDIANTE'!B17","v":0},{"$f":"'DATOS DEL ESTUDIANTE'!C17","v":0},{"$f":"'DATOS DEL ESTUDIANTE'!D17","v":0},null,null,null,null,null,null,null,{"$error":"#DIV/0!"},null,null,null,null,null,null,{"$error":"#DIV/0!"},null,{"$error":"#DIV/0!"},null,null,{"$error":"#DIV/0!"}]
[null,15,{"$f":"'DATOS DEL ESTUDIANTE'!B18","v":0},{"$f":"'DATOS DEL ESTUDIANTE'!C18","v":0},{"$f":"'DATOS DEL ESTUDIANTE'!D18","v":0},null,null,null,null,null,null,null,{"$error":"#DIV/0!"},null,null,null,null,null,null,{"$error":"#DIV/0!"},null,{"$error":"#DIV/0!"},null,null,{"$error":"#DIV/0!"}]
[null,16,{"$f":"'DATOS DEL ESTUDIANTE'!B19","v":0},{"$f":"'DATOS DEL ESTUDIANTE'!C19","v":0},{"$f":"'DATOS DEL ESTUDIANTE'!D19","v":0},null,null,null,null,null,null,null,{"$error":"#DIV/0!"},null,null,null,null,null,null,{"$error":"#DIV/0!"},null,{"$error":"#DIV/0!"},null,null,{"$error":"#DIV/0!"}]
[null,17,{"$f":"'DATOS DEL ESTUDIANTE'!B20","v":0},{"$f":"'DATOS DEL ESTUDIANTE'!C20","v":0},{"$f":"'DATOS DEL ESTUDIANTE'!D20","v":0},null,null,null,null,null,null,null,{"$error":"#DIV/0!"},null,null,null,null,null,null,{"$error":"#DIV/0!"},null,{"$error":"#DIV/0!"},null,null,{"$error":"#DIV/0!"}]
[null,18,{"$f":"'DATOS DEL ESTUDIANTE'!B21","v":0},{"$f":"'DATOS DEL ESTUDIANTE'!C21","v":0},{"$f":"'DATOS DEL ESTUDIANTE'!D21","v":0},null,null,null,null,null,null,null,{"$error":"#DIV/0!"},null,null,null,null,null,null,{"$error":"#DIV/0!"},null,{"$error":"#DIV/0!"},null,null,{"$error":"#DIV/0!"}]
[null,19,{"$f":"'DATOS DEL ESTUDIANTE'!B22","v":0},{"$f":"'DATOS DEL ESTUDIANTE'!C22","v":0},{"$f":"'DATOS DEL ESTUDIANTE'!D22","v":0},null,null,null,null,null,null,null,{"$error":"#DIV/0!"},null,null,null,null,null,null,{"$error":"#DIV/0!"},null,{"$error":"#DIV/0!"},null,null,{"$error":"#DIV/0!"}]
[null,20,{"$f":"'DATOS DEL ESTUDIANTE'!B23","v":0},{"$f":"'DATOS DEL ESTUDIANTE'!C23","v":0},{"$f":"'DATOS DEL ESTUDIANTE'!D23","v":0},null,null,null,null,null,null,null,{"$error":"#DIV/0!"},null,null,null,null,null,null,{"$error":"#DIV/0!"},null,{"$error":"#DIV/0!"},null,null,{"$error":"#DIV/0!"}]
[null,21,{"$f":"'DATOS DEL ESTUDIANTE'!B24","v":0},{"$f":"'DATOS DEL ESTUDIANTE'!C24","v":0},{"$f":"'DATOS DEL ESTUDIANTE'!D24","v":0},null,null,null,null,null,null,null,{"$error":"#DIV/0!"},null,null,null,null,null,null,{"$error":"#DIV/0!"},null,{"$error":"#DIV/0!"},null,null,{"$error":"#DIV/0!"}]
[null,22,{"$f":"'DATOS DEL ESTUDIANTE'!B25","v":0},{"$f":"'DATOS DEL ESTUDIANTE'!C25","v":0},{"$f":"'DATOS DEL ESTUDIANTE'!D25","v":0},null,null,null,null,null,null,null,{"$error":"#DIV/0!"},null,null,null,null,null,null,{"$error":"#DIV/0!"},null,{"$error":"#DIV/0!"},null,null,{"$error":"#DIV/0!"}]
[null,23,{"$f":"'DATOS DEL ESTUDIANTE'!B26","v":0},{"$f":"'DATOS DEL ESTUDIANTE'!C26","v":0},{"$f":"'DATOS DEL ESTUDIANTE'!D26","v":0},null,null,null,null,null,null,null,{"$error":"#DIV/0!"},null,null,null,null,null,null,{"$error":"#DIV/0!"},null,{"$error":"#DIV/0!"},null,null,{"$error":"#DIV/0!"}]
[null,24,{"$f":"'DATOS DEL ESTUDIANTE'!B27","v":0},{"$f":"'DATOS DEL ESTUDIANTE'!C27","v":0},{"$f":"'DATOS DEL ESTUDIANTE'!D27","v":0},null,null,null,null,null,null,null,{"$error":"#DIV/0!"},null,null,null,null,null,null,{"$error":"#DIV/0!"},null,{"$error":"#DIV/0!"},null,null,{"$error":"#DIV/0!"}]
[null,25,{"$f":"'DATOS DEL ESTUDIANTE'!B28","v":0},{"$f":"'DATOS DEL ESTUDIANTE'!C28","v":0},{"$f":"'DATOS DEL ESTUDIANTE'!D28","v":0},null,null,null,null,null,null,null,{"$error":"#DIV/0!"},null,null,null,null,null,null,{"$error":"#DIV/0!"},null,{"$error":"#DIV/0!"},null,null,{"$error":"#DIV/0!"}]
[null,26,{"$f":"'DATOS DEL ESTUDIANTE'!B29","v":0},{"$f":"'DATOS DEL ESTUDIANTE'!C29","v":0},{"$f":"'DATOS DEL ESTUDIANTE'!D29","v":0},null,null,null,null,null,null,null,{"$error":"#DIV/0!"},null,null,null,null,null,null,{"$error":"#DIV/0!"},null,{"$error":"#DIV/0!"},null,null,{"$error":"#DIV/0!"}]
[null,27,{"$f":"'DATOS DEL ESTUDIANTE'!B30","v":0},{"$f":"'DATOS DEL ESTUDIANTE'!C30","v":0},{"$f":"'DATOS DEL ESTUDIANTE'!D30","v":0},null,null,null,null,null,null,null,{"$error":"#DIV/0!"},null,null,null,null,null,null,{"$error":"#DIV/0!"},null,{"$error":"#DIV/0!"},null,null,{"$error":"#DIV/0!"}]
[null,28,{"$f":"'DATOS DEL ESTUDIANTE'!B31","v":0},{"$f":"'DATOS DEL ESTUDIANTE'!C31","v":0},{"$f":"'DATOS DEL ESTUDIANTE'!D31","v":0},null,null,null,null,null,null,null,{"$error":"#DIV/0!"},null,null,null,null,null,null,{"$error":"#DIV/0!"},null,{"$error":"#DIV/0!"},null,null,{"$error":"#DIV/0!"}]
[null,29,{"$f":"'DATOS DEL ESTUDIANTE'!B32","v":0},{"$f":"'DATOS DEL ESTUDIANTE'!C32","v":0},{"$f":"'DATOS DEL ESTUDIANTE'!D32","v":0},null,null,null,null,null,null,null,{"$error":"#DIV/0!"},null,null,null,null,null,null,{"$error":"#DIV/0!"},null,{"$error":"#DIV/0!"},null,null,{"$error":"#DIV/0!"}]
[null,30,{"$f":"'DATOS DEL ESTUDIANTE'!B33","v":0},{"$f":"'DATOS DEL ESTUDIANTE'!C33","v":0},{"$f":"'DATOS DEL ESTUDIANTE'!D33","v":0},null,null,null,null,null,null,null,{"$error":"#DIV/0!"},null,null,null,null,null,null,{"$error":"#DIV/0!"},null,{"$error":"#DIV/0!"},null,null,{"$error":"#DIV/0!"}]
[null,31,{"$f":"'DATOS DEL ESTUDIANTE'!B34","v":0},{"$f":"'DATOS DEL ESTUDIANTE'!C34","v":0},{"$f":"'DATOS DEL ESTUDIANTE'!D34","v":0},null,null,null,null,null,null,null,{"$error":"#DIV/0!"},null,null,null,null,null,null,{"$error":"#DIV/0!"},null,{"$error":"#DIV/0!"},null,null,{"$error":"#DIV/0!"}]
[null,32,{"$f":"'DATOS DEL ESTUDIANTE'!B35","v":0},{"$f":"'DATOS DEL ESTUDIANTE'!C35","v":0},{"$f":"'DATOS DEL ESTUDIANTE'!D35","v":0},null,null,null,null,null,null,null,{"$error":"#DIV/0!"},null,null,null,null,null,null,{"$error":"#DIV/0!"},null,{"$error":"#DIV/0!"},null,null,{"$error":"#DIV/0!"}]
[null,33,{"$f":"'DATOS DEL ESTUDIANTE'!B36","v":0},{"$f":"'DATOS DEL ESTUDIANTE'!C36","v":0},{"$f":"'DATOS DEL ESTUDIANTE'!D36","v":0},null,null,null,null,null,null,null,{"$error":"#DIV/0!"},null,null,null,null,null,null,{"$error":"#DIV/0!"},null,{"$error":"#DIV/0!"},null,null,{"$error":"#DIV/0!"}]
[null,34,{"$f":"'DATOS DEL ESTUDIANTE'!B37","v":0},{"$f":"'DATOS DEL ESTUDIANTE'!C37","v":0},{"$f":"'DATOS DEL ESTUDIANTE'!D37","v":0},null,null,null,null,null,null,null,{"$error":"#DIV/0!"},null,null,null,null,null,null,{"$error":"#DIV/0!"},null,{"$error":"#DIV/0!"},null,null,{"$error":"#DIV/0!"}]
[null,35,{"$f":"'DATOS DEL ESTUDIANTE'!B38","v":0},{"$f":"'DATOS DEL ESTUDIANTE'!C38","v":0},{"$f":"'DATOS DEL ESTUDIANTE'!D38","v":0},null,null,null,null,null,null,null,{"$error":"#DIV/0!"},null,null,null,null,null,null,{"$error":"#DIV/0!"},null,{"$error":"#DIV/0!"},null,null,{"$error":"#DIV/0!"}]
[null,36,{"$f":"'DATOS DEL ESTUDIANTE'!B39","v":0},{"$f":"'DATOS DEL ESTUDIANTE'!C39","v":0},{"$f":"'DATOS DEL ESTUDIANTE'!D39","v":0},null,null,null,null,null,null,null,{"$error":"#DIV/0!"},null,null,null,null,null,null,{"$error":"#DIV/0!"},null,{"$error":"#DIV/0!"},null,null,{"$error":"#DIV/0!"}]
[null,37,{"$f":"'DATOS DEL ESTUDIANTE'!B40","v":0},{"$f":"'DATOS DEL ESTUDIANTE'!C40","v":0},{"$f":"'DATOS DEL ESTUDIANTE'!D40","v":0},null,null,null,null,null,null,null,{"$error":"#DIV/0!"},null,null,null,null,null,null,{"$error":"#DIV/0!"},null,{"$error":"#DIV/0!"},null,null,{"$error":"#DIV/0!"}]
[null,38,{"$f":"'DATOS DEL ESTUDIANTE'!B41","v":0},{"$f":"'DATOS DEL ESTUDIANTE'!C41","v":0},{"$f":"'DATOS DEL ESTUDIANTE'!D41","v":0},null,null,null,null,null,null,null,{"$error":"#DIV/0!"},null,null,null,null,null,null,{"$error":"#DIV/0!"},null,{"$error":"#DIV/0!"},null,null,{"$error":"#DIV/0!"}]
[null,39,{"$f":"'DATOS DEL ESTUDIANTE'!B42","v":0},{"$f":"'DATOS DEL ESTUDIANTE'!C42","v":0},{"$f":"'DATOS DEL ESTUDIANTE'!D42","v":0},null,null,null,null,null,null,null,{"$error":"#DIV/0!"},null,null,null,null,null,null,{"$error":"#DIV/0!"},null,{"$error":"#DIV/0!"},null,null,{"$error":"#DIV/0!"}]
[null,40,{"$f":"'DATOS DEL ESTUDIANTE'!B43","v":0},{"$f":"'DATOS DEL ESTUDIANTE'!C43","v":0},{"$f":"'DATOS DEL ESTUDIANTE'!D43","v":0},null,null,null,null,null,null,null,{"$error":"#DIV/0!"},null,null,null,null,null,null,{"$error":"#DIV/0!"},null,{"$error":"#DIV/0!"},null,null,{"$error":"#DIV/0!"}]
[null,41,{"$f":"'DATOS DEL ESTUDIANTE'!B44","v":0},{"$f":"'DATOS DEL ESTUDIANTE'!C44","v":0},{"$f":"'DATOS DEL ESTUDIANTE'!D44","v":0},null,null,null,null,null,null,null,{"$error":"#DIV/0!"},null,null,null,null,null,null,{"$error":"#DIV/0!"},null,{"$error":"#DIV/0!"},null,null,{"$error":"#DIV/0!"}]
[null,42,{"$f":"'DATOS DEL ESTUDIANTE'!B45","v":0},{"$f":"'DATOS DEL ESTUDIANTE'!C45","v":0},{"$f":"'DATOS DEL ESTUDIANTE'!D45","v":0},null,null,null,null,null,null,null,{"$error":"#DIV/0!"},null,null,null,null,null,null,{"$error":"#DIV/0!"},null,{"$error":"#DIV/0!"},null,null,{"$error":"#DIV/0!"}]
[null,43,{"$f":"'DATOS DEL ESTUDIANTE'!B46","v":0},{"$f":"'DATOS DEL ESTUDIANTE'!C46","v":0},{"$f":"'DATOS DEL ESTUDIANTE'!D46","v":0},null,null,null,null,null,null,null,{"$error":"#DIV/0!"},null,null,null,null,null,null,{"$error":"#DIV/0!"},null,{"$error":"#DIV/0!"},null,null,{"$error":"#DIV/0!"}]
[null,44,{"$f":"'DATOS DEL ESTUDIANTE'!B47","v":0},{"$f":"'DATOS DEL ESTUDIANTE'!C47","v":0},{"$f":"'DATOS DEL ESTUDIANTE'!D47","v":0},null,null,null,null,null,null,null,{"$error":"#DIV/0!"},null,null,null,null,null,null,{"$error":"#DIV/0!"},null,{"$error":"#DIV/0!"},null,null,{"$error":"#DIV/0!"}]
[null,45,{"$f":"'DATOS DEL ESTUDIANTE'!B48","v":0},{"$f":"'DATOS DEL ESTUDIANTE'!C48","v":0},{"$f":"'DATOS DEL ESTUDIANTE'!D48","v":0},null,null,null,null,null,null,null,{"$error":"#DIV/0!"},null,null,null,null,null,null,{"$error":"#DIV/0!"},null,{"$error":"#DIV/0!"},null,null,{"$error":"#DIV/0!"}]

{"sheet":"VALORES, ESPIRITUALIDADES Y R2","index":49,"n_rows":55,"n_cols":25,"rows_kept":55,"cut":false,"hidden":false,"merged":[[1,1,1,3],[3,6,3,12],[3,13,3,19],[4,15,6,16],[8,7,9,7],[8,8,9,8],[8,16,9,16],[8,15,9,15],[8,14,9,14],[8,17,9,17],[8,18,9,18],[4,12,9,12],[8,20,9,20],[0,0,9,0],[0,1,0,19],[3,1,3,4],[4,13,6,14],[7,1,7,4],[8,1,9,1],[8,5,9,5],[8,6,9,6],[1,10,1,12],[1,13,1,19],[8,9,9,9],[8,10,9,10],[8,11,9,11],[1,4,1,9],[8,13,9,13],[0,25,3,25],[3,22,8,23],[3,24,9,24],[4,17,6,18],[4,20,6,20],[3,21,9,21],[0,21,2,24],[4,19,9,19],[1,20,2,20],[2,1,2,19],[4,1,6,4],[4,5,6,5],[4,6,6,7],[4,8,6,9],[4,10,6,11],[8,2,8,4]]}
[null,"VALORES, ESPIRITUALIDADES  Y RELIGIONES",null,null,null,null,null,null,null,null,null,null,null,null,null,null,null,null,null,null,2018]
[null,"AÑO DE ESCOLARIDAD:",null,null,{"$f":"CARATULA!G15","v":0},null,null,null,null,null,"MAESTRA (O): ",null,null,{"$f":"CARATULA!G18","v":0},null,null,null,null,null,null,"SEGUNDO BIMETRE"]
[null," REGISTRO  Y CENTRALIZADOR DEL PROCESO DE  EVALUACIÓN   "]
[null,"DIMENSIONES",null,null,null,"SER (10)","SABER (35)",null,null,null,null,null,null,"HACER (35)",null,null,null,null,null,null,"DECIDIR (10)","TOTAL     EVALUACIÓN    DEL     MAESTRO","AUTOEVALUACIÓN",null,"CALIFICACIÓN BIMESTRAL"]
[null,"CRITERIOS DE EVALUACIÓN SEGÚN PDC",null,null,null,null,null,null,null,null,null,null,"T      O     T     A       L",null,null,null,null,null,null,"T      O     T     A       L"]
[]
[]
[null,"INSTRUMENTO Y/ O ESTRATEGIAS DE EVALUACIÓN"]
[null,"N°","    FECHA DE  EVALUACIÓN\n \n\n"]
[null,null,"NOMBRES ","APELLIDO PATERNO"," \nAPELLIDO MATERNO",null,null,null,null,null,null,null,null,null,null,null,null,null,null,null,null,null,"SER\n(5)","DECIDIR\n(5)"]
[null,1,{"$f":"'DATOS DEL ESTUDIANTE'!B4","v":0},{"$f":"'DATOS DEL ESTUDIANTE'!C4","v":0},{"$f":"'DATOS DEL ESTUDIANTE'!D4","v":0},null,null,null,null,null,null,null,{"$f":"AVERAGE(G11:L11)","v":{"$error":"#DIV/0!"}},null,null,null,null,null,null,{"$f":"AVERAGE(N11:S11)","v":{"$error":"#DIV/0!"}},null,{"$f":"SUM(F11+M11+T11+U11)","v":{"$error":"#DIV/0!"}},null,null,{"$f":"SUM(V11:X11)","v":{"$error":"#DIV/0!"}}]
[null,2,{"$f":"'DATOS DEL ESTUDIANTE'!B5","v":0},{"$f":"'DATOS DEL ESTUDIANTE'!C5","v":0},{"$f":"'DATOS DEL ESTUDIANTE'!D5","v":0},null,null,null,null,null,null,null,{"$f":"AVERAGE(G12:L12)","v":{"$error":"#DIV/0!"}},null,null,null,null,null,null,{"$f":"AVERAGE(N12:S12)","v":{"$error":"#DIV/0!"}},null,{"$f":"SUM(F12+M12+T12+U12)","v":{"$error":"#DIV/0!"}},null,null,{"$f":"SUM(V12:X12)","v":{"$error":"#DIV/0!"}}]
[null,3,{"$f":"'DATOS DEL ESTUDIANTE'!B6","v":0},{"$f":"'DATOS DEL ESTUDIANTE'!C6","v":0},{"$f":"'DATOS DEL ESTUDIANTE'!D6","v":0},null,null,null,null,null,null,null,{"$error":"#DIV/0!"},null,null,null,null,null,null,{"$error":"#DIV/0!"},null,{"$error":"#DIV/0!"},null,null,{"$error":"#DIV/0!"}]
[null,4,{"$f":"'DATOS DEL ESTUDIANTE'!B7","v":0},{"$f":"'DATOS DEL ESTUDIANTE'!C7","v":0},{"$f":"'DATOS DEL ESTUDIANTE'!D7","v":0},null,null,null,null,null,null,null,{"$error":"#DIV/0!"},null,null,null,null,null,null,{"$error":"#DIV/0!"},null,{"$error":"#DIV/0!"},null,null,{"$error":"#DIV/0!"}]
[null,5,{"$f":"'DATOS DEL ESTUDIANTE'!B8","v":0},{"$f":"'DATOS DEL ESTUDIANTE'!C8","v":0},{"$f":"'DATOS DEL ESTUDIANTE'!D8","v":0},null,null,null,null,null,null,null,{"$error":"#DIV/0!"},null,null,null,null,null,null,{"$error":"#DIV/0!"},null,{"$error":"#DIV/0!"},null,null,{"$error":"#DIV/0!"}]
[null,6,{"$f":"'DATOS DEL ESTUDIANTE'!B9","v":0},{"$f":"'DATOS DEL ESTUDIANTE'!C9","v":0},{"$f":"'DATOS DEL ESTUDIANTE'!D9","v":0},null,null,null,null,null,null,null,{"$error":"#DIV/0!"},null,null,null,null,null,null,{"$error":"#DIV/0!"},null,{"$error":"#DIV/0!"},null,null,{"$error":"#DIV/0!"}]
[null,7,{"$f":"'DATOS DEL ESTUDIANTE'!B10","v":0},{"$f":"'DATOS DEL ESTUDIANTE'!C10","v":0},{"$f":"'DATOS DEL ESTUDIANTE'!D10","v":0},null,null,null,null,null,null,null,{"$error":"#DIV/0!"},null,null,null,null,null,null,{"$error":"#DIV/0!"},null,{"$error":"#DIV/0!"},null,null,{"$error":"#DIV/0!"}]
[null,8,{"$f":"'DATOS DEL ESTUDIANTE'!B11","v":0},{"$f":"'DATOS DEL ESTUDIANTE'!C11","v":0},{"$f":"'DATOS DEL ESTUDIANTE'!D11","v":0},null,null,null,null,null,null,null,{"$error":"#DIV/0!"},null,null,null,null,null,null,{"$error":"#DIV/0!"},null,{"$error":"#DIV/0!"},null,null,{"$error":"#DIV/0!"}]
[null,9,{"$f":"'DATOS DEL ESTUDIANTE'!B12","v":0},{"$f":"'DATOS DEL ESTUDIANTE'!C12","v":0},{"$f":"'DATOS DEL ESTUDIANTE'!D12","v":0},null,null,null,null,null,null,null,{"$error":"#DIV/0!"},null,null,null,null,null,null,{"$error":"#DIV/0!"},null,{"$error":"#DIV/0!"},null,null,{"$error":"#DIV/0!"}]
[null,10,{"$f":"'DATOS DEL ESTUDIANTE'!B13","v":0},{"$f":"'DATOS DEL ESTUDIANTE'!C13","v":0},{"$f":"'DATOS DEL ESTUDIANTE'!D13","v":0},null,null,null,null,null,null,null,{"$error":"#DIV/0!"},null,null,null,null,null,null,{"$error":"#DIV/0!"},null,{"$error":"#DIV/0!"},null,null,{"$error":"#DIV/0!"}]
[null,11,{"$f":"'DATOS DEL ESTUDIANTE'!B14","v":0},{"$f":"'DATOS DEL ESTUDIANTE'!C14","v":0},{"$f":"'DATOS DEL ESTUDIANTE'!D14","v":0},null,null,null,null,null,null,null,{"$error":"#DIV/0!"},null,null,null,null,null,null,{"$error":"#DIV/0!"},null,{"$error":"#DIV/0!"},null,null,{"$error":"#DIV/0!"}]
[null,12,{"$f":"'DATOS DEL ESTUDIANTE'!B15","v":0},{"$f":"'DATOS DEL ESTUDIANTE'!C15","v":0},{"$f":"'DATOS DEL ESTUDIANTE'!D15","v":0},null,null,null,null,null,null,null,{"$error":"#DIV/0!"},null,null,null,null,null,null,{"$error":"#DIV/0!"},null,{"$error":"#DIV/0!"},null,null,{"$error":"#DIV/0!"}]
[null,13,{"$f":"'DATOS DEL ESTUDIANTE'!B16","v":0},{"$f":"'DATOS DEL ESTUDIANTE'!C16","v":0},{"$f":"'DATOS DEL ESTUDIANTE'!D16","v":0},null,null,null,null,null,null,null,{"$error":"#DIV/0!"},null,null,null,null,null,null,{"$error":"#DIV/0!"},null,{"$error":"#DIV/0!"},null,null,{"$error":"#DIV/0!"}]
[null,14,{"$f":"'DATOS DEL ESTUDIANTE'!B17","v":0},{"$f":"'DATOS DEL ESTUDIANTE'!C17","v":0},{"$f":"'DATOS DEL ESTUDIANTE'!D17","v":0},null,null,null,null,null,null,null,{"$error":"#DIV/0!"},null,null,null,null,null,null,{"$error":"#DIV/0!"},null,{"$error":"#DIV/0!"},null,null,{"$error":"#DIV/0!"}]
[null,15,{"$f":"'DATOS DEL ESTUDIANTE'!B18","v":0},{"$f":"'DATOS DEL ESTUDIANTE'!C18","v":0},{"$f":"'DATOS DEL ESTUDIANTE'!D18","v":0},null,null,null,null,null,null,null,{"$error":"#DIV/0!"},null,null,null,null,null,null,{"$error":"#DIV/0!"},null,{"$error":"#DIV/0!"},null,null,{"$error":"#DIV/0!"}]
[null,16,{"$f":"'DATOS DEL ESTUDIANTE'!B19","v":0},{"$f":"'DATOS DEL ESTUDIANTE'!C19","v":0},{"$f":"'DATOS DEL ESTUDIANTE'!D19","v":0},null,null,null,null,null,null,null,{"$error":"#DIV/0!"},null,null,null,null,null,null,{"$error":"#DIV/0!"},null,{"$error":"#DIV/0!"},null,null,{"$error":"#DIV/0!"}]
[null,17,{"$f":"'DATOS DEL ESTUDIANTE'!B20","v":0},{"$f":"'DATOS DEL ESTUDIANTE'!C20","v":0},{"$f":"'DATOS DEL ESTUDIANTE'!D20","v":0},null,null,null,null,null,null,null,{"$error":"#DIV/0!"},null,null,null,null,null,null,{"$error":"#DIV/0!"},null,{"$error":"#DIV/0!"},null,null,{"$error":"#DIV/0!"}]
[null,18,{"$f":"'DATOS DEL ESTUDIANTE'!B21","v":0},{"$f":"'DATOS DEL ESTUDIANTE'!C21","v":0},{"$f":"'DATOS DEL ESTUDIANTE'!D21","v":0},null,null,null,null,null,null,null,{"$error":"#DIV/0!"},null,null,null,null,null,null,{"$error":"#DIV/0!"},null,{"$error":"#DIV/0!"},null,null,{"$error":"#DIV/0!"}]
[null,19,{"$f":"'DATOS DEL ESTUDIANTE'!B22","v":0},{"$f":"'DATOS DEL ESTUDIANTE'!C22","v":0},{"$f":"'DATOS DEL ESTUDIANTE'!D22","v":0},null,null,null,null,null,null,null,{"$error":"#DIV/0!"},null,null,null,null,null,null,{"$error":"#DIV/0!"},null,{"$error":"#DIV/0!"},null,null,{"$error":"#DIV/0!"}]
[null,20,{"$f":"'DATOS DEL ESTUDIANTE'!B23","v":0},{"$f":"'DATOS DEL ESTUDIANTE'!C23","v":0},{"$f":"'DATOS DEL ESTUDIANTE'!D23","v":0},null,null,null,null,null,null,null,{"$error":"#DIV/0!"},null,null,null,null,null,null,{"$error":"#DIV/0!"},null,{"$error":"#DIV/0!"},null,null,{"$error":"#DIV/0!"}]
[null,21,{"$f":"'DATOS DEL ESTUDIANTE'!B24","v":0},{"$f":"'DATOS DEL ESTUDIANTE'!C24","v":0},{"$f":"'DATOS DEL ESTUDIANTE'!D24","v":0},null,null,null,null,null,null,null,{"$error":"#DIV/0!"},null,null,null,null,null,null,{"$error":"#DIV/0!"},null,{"$error":"#DIV/0!"},null,null,{"$error":"#DIV/0!"}]
[null,22,{"$f":"'DATOS DEL ESTUDIANTE'!B25","v":0},{"$f":"'DATOS DEL ESTUDIANTE'!C25","v":0},{"$f":"'DATOS DEL ESTUDIANTE'!D25","v":0},null,null,null,null,null,null,null,{"$error":"#DIV/0!"},null,null,null,null,null,null,{"$error":"#DIV/0!"},null,{"$error":"#DIV/0!"},null,null,{"$error":"#DIV/0!"}]
[null,23,{"$f":"'DATOS DEL ESTUDIANTE'!B26","v":0},{"$f":"'DATOS DEL ESTUDIANTE'!C26","v":0},{"$f":"'DATOS DEL ESTUDIANTE'!D26","v":0},null,null,null,null,null,null,null,{"$error":"#DIV/0!"},null,null,null,null,null,null,{"$error":"#DIV/0!"},null,{"$error":"#DIV/0!"},null,null,{"$error":"#DIV/0!"}]
[null,24,{"$f":"'DATOS DEL ESTUDIANTE'!B27","v":0},{"$f":"'DATOS DEL ESTUDIANTE'!C27","v":0},{"$f":"'DATOS DEL ESTUDIANTE'!D27","v":0},null,null,null,null,null,null,null,{"$error":"#DIV/0!"},null,null,null,null,null,null,{"$error":"#DIV/0!"},null,{"$error":"#DIV/0!"},null,null,{"$error":"#DIV/0!"}]
[null,25,{"$f":"'DATOS DEL ESTUDIANTE'!B28","v":0},{"$f":"'DATOS DEL ESTUDIANTE'!C28","v":0},{"$f":"'DATOS DEL ESTUDIANTE'!D28","v":0},null,null,null,null,null,null,null,{"$error":"#DIV/0!"},null,null,null,null,null,null,{"$error":"#DIV/0!"},null,{"$error":"#DIV/0!"},null,null,{"$error":"#DIV/0!"}]
[null,26,{"$f":"'DATOS DEL ESTUDIANTE'!B29","v":0},{"$f":"'DATOS DEL ESTUDIANTE'!C29","v":0},{"$f":"'DATOS DEL ESTUDIANTE'!D29","v":0},null,null,null,null,null,null,null,{"$error":"#DIV/0!"},null,null,null,null,null,null,{"$error":"#DIV/0!"},null,{"$error":"#DIV/0!"},null,null,{"$error":"#DIV/0!"}]
[null,27,{"$f":"'DATOS DEL ESTUDIANTE'!B30","v":0},{"$f":"'DATOS DEL ESTUDIANTE'!C30","v":0},{"$f":"'DATOS DEL ESTUDIANTE'!D30","v":0},null,null,null,null,null,null,null,{"$error":"#DIV/0!"},null,null,null,null,null,null,{"$error":"#DIV/0!"},null,{"$error":"#DIV/0!"},null,null,{"$error":"#DIV/0!"}]
[null,28,{"$f":"'DATOS DEL ESTUDIANTE'!B31","v":0},{"$f":"'DATOS DEL ESTUDIANTE'!C31","v":0},{"$f":"'DATOS DEL ESTUDIANTE'!D31","v":0},null,null,null,null,null,null,null,{"$error":"#DIV/0!"},null,null,null,null,null,null,{"$error":"#DIV/0!"},null,{"$error":"#DIV/0!"},null,null,{"$error":"#DIV/0!"}]
[null,29,{"$f":"'DATOS DEL ESTUDIANTE'!B32","v":0},{"$f":"'DATOS DEL ESTUDIANTE'!C32","v":0},{"$f":"'DATOS DEL ESTUDIANTE'!D32","v":0},null,null,null,null,null,null,null,{"$error":"#DIV/0!"},null,null,null,null,null,null,{"$error":"#DIV/0!"},null,{"$error":"#DIV/0!"},null,null,{"$error":"#DIV/0!"}]
[null,30,{"$f":"'DATOS DEL ESTUDIANTE'!B33","v":0},{"$f":"'DATOS DEL ESTUDIANTE'!C33","v":0},{"$f":"'DATOS DEL ESTUDIANTE'!D33","v":0},null,null,null,null,null,null,null,{"$error":"#DIV/0!"},null,null,null,null,null,null,{"$error":"#DIV/0!"},null,{"$error":"#DIV/0!"},null,null,{"$error":"#DIV/0!"}]
[null,31,{"$f":"'DATOS DEL ESTUDIANTE'!B34","v":0},{"$f":"'DATOS DEL ESTUDIANTE'!C34","v":0},{"$f":"'DATOS DEL ESTUDIANTE'!D34","v":0},null,null,null,null,null,null,null,{"$error":"#DIV/0!"},null,null,null,null,null,null,{"$error":"#DIV/0!"},null,{"$error":"#DIV/0!"},null,null,{"$error":"#DIV/0!"}]
[null,32,{"$f":"'DATOS DEL ESTUDIANTE'!B35","v":0},{"$f":"'DATOS DEL ESTUDIANTE'!C35","v":0},{"$f":"'DATOS DEL ESTUDIANTE'!D35","v":0},null,null,null,null,null,null,null,{"$error":"#DIV/0!"},null,null,null,null,null,null,{"$error":"#DIV/0!"},null,{"$error":"#DIV/0!"},null,null,{"$error":"#DIV/0!"}]
[null,33,{"$f":"'DATOS DEL ESTUDIANTE'!B36","v":0},{"$f":"'DATOS DEL ESTUDIANTE'!C36","v":0},{"$f":"'DATOS DEL ESTUDIANTE'!D36","v":0},null,null,null,null,null,null,null,{"$error":"#DIV/0!"},null,null,null,null,null,null,{"$error":"#DIV/0!"},null,{"$error":"#DIV/0!"},null,null,{"$error":"#DIV/0!"}]
[null,34,{"$f":"'DATOS DEL ESTUDIANTE'!B37","v":0},{"$f":"'DATOS DEL ESTUDIANTE'!C37","v":0},{"$f":"'DATOS DEL ESTUDIANTE'!D37","v":0},null,null,null,null,null,null,null,{"$error":"#DIV/0!"},null,null,null,null,null,null,{"$error":"#DIV/0!"},null,{"$error":"#DIV/0!"},null,null,{"$error":"#DIV/0!"}]
[null,35,{"$f":"'DATOS DEL ESTUDIANTE'!B38","v":0},{"$f":"'DATOS DEL ESTUDIANTE'!C38","v":0},{"$f":"'DATOS DEL ESTUDIANTE'!D38","v":0},null,null,null,null,null,null,null,{"$error":"#DIV/0!"},null,null,null,null,null,null,{"$error":"#DIV/0!"},null,{"$error":"#DIV/0!"},null,null,{"$error":"#DIV/0!"}]
[null,36,{"$f":"'DATOS DEL ESTUDIANTE'!B39","v":0},{"$f":"'DATOS DEL ESTUDIANTE'!C39","v":0},{"$f":"'DATOS DEL ESTUDIANTE'!D39","v":0},null,null,null,null,null,null,null,{"$error":"#DIV/0!"},null,null,null,null,null,null,{"$error":"#DIV/0!"},null,{"$error":"#DIV/0!"},null,null,{"$error":"#DIV/0!"}]
[null,37,{"$f":"'DATOS DEL ESTUDIANTE'!B40","v":0},{"$f":"'DATOS DEL ESTUDIANTE'!C40","v":0},{"$f":"'DATOS DEL ESTUDIANTE'!D40","v":0},null,null,null,null,null,null,null,{"$error":"#DIV/0!"},null,null,null,null,null,null,{"$error":"#DIV/0!"},null,{"$error":"#DIV/0!"},null,null,{"$error":"#DIV/0!"}]
[null,38,{"$f":"'DATOS DEL ESTUDIANTE'!B41","v":0},{"$f":"'DATOS DEL ESTUDIANTE'!C41","v":0},{"$f":"'DATOS DEL ESTUDIANTE'!D41","v":0},null,null,null,null,null,null,null,{"$error":"#DIV/0!"},null,null,null,null,null,null,{"$error":"#DIV/0!"},null,{"$error":"#DIV/0!"},null,null,{"$error":"#DIV/0!"}]
[null,39,{"$f":"'DATOS DEL ESTUDIANTE'!B42","v":0},{"$f":"'DATOS DEL ESTUDIANTE'!C42","v":0},{"$f":"'DATOS DEL ESTUDIANTE'!D42","v":0},null,null,null,null,null,null,null,{"$error":"#DIV/0!"},null,null,null,null,null,null,{"$error":"#DIV/0!"},null,{"$error":"#DIV/0!"},null,null,{"$error":"#DIV/0!"}]
[null,40,{"$f":"'DATOS DEL ESTUDIANTE'!B43","v":0},{"$f":"'DATOS DEL ESTUDIANTE'!C43","v":0},{"$f":"'DATOS DEL ESTUDIANTE'!D43","v":0},null,null,null,null,null,null,null,{"$error":"#DIV/0!"},null,null,null,null,null,null,{"$error":"#DIV/0!"},null,{"$error":"#DIV/0!"},null,null,{"$error":"#DIV/0!"}]
[null,41,{"$f":"'DATOS DEL ESTUDIANTE'!B44","v":0},{"$f":"'DATOS DEL ESTUDIANTE'!C44","v":0},{"$f":"'DATOS DEL ESTUDIANTE'!D44","v":0},null,null,null,null,null,null,null,{"$error":"#DIV/0!"},null,null,null,null,null,null,{"$error":"#DIV/0!"},null,{"$error":"#DIV/0!"},null,null,{"$error":"#DIV/0!"}]
[null,42,{"$f":"'DATOS DEL ESTUDIANTE'!B45","v":0},{"$f":"'DATOS DEL ESTUDIANTE'!C45","v":0},{"$f":"'DATOS DEL ESTUDIANTE'!D45","v":0},null,null,null,null,null,null,null,{"$error":"#DIV/0!"},null,null,null,null,null,null,{"$error":"#DIV/0!"},null,{"$error":"#DIV/0!"},null,null,{"$error":"#DIV/0!"}]
[null,43,{"$f":"'DATOS DEL ESTUDIANTE'!B46","v":0},{"$f":"'DATOS DEL ESTUDIANTE'!C46","v":0},{"$f":"'DATOS DEL ESTUDIANTE'!D46","v":0},null,null,null,null,null,null,null,{"$error":"#DIV/0!"},null,null,null,null,null,null,{"$error":"#DIV/0!"},null,{"$error":"#DIV/0!"},null,null,{"$error":"#DIV/0!"}]
[null,44,{"$f":"'DATOS DEL ESTUDIANTE'!B47","v":0},{"$f":"'DATOS DEL ESTUDIANTE'!C47","v":0},{"$f":"'DATOS DEL ESTUDIANTE'!D47","v":0},null,null,null,null,null,null,null,{"$error":"#DIV/0!"},null,null,null,null,null,null,{"$error":"#DIV/0!"},null,{"$error":"#DIV/0!"},null,null,{"$error":"#DIV/0!"}]
[null,45,{"$f":"'DATOS DEL ESTUDIANTE'!B48","v":0},{"$f":"'DATOS DEL ESTUDIANTE'!C48","v":0},{"$f":"'DATOS DEL ESTUDIANTE'!D48","v":0},null,null,null,null,null,null,null,{"$error":"#DIV/0!"},null,null,null,null,null,null,{"$error":"#DIV/0!"},null,{"$error":"#DIV/0!"},null,null,{"$error":"#DIV/0!"}]

{"sheet":"VALORES, ESPIRITUALIDADES Y R3","index":50,"n_rows":55,"n_cols":25,"rows_kept":55,"cut":false,"hidden":false,"merged":[[1,1,1,3],[3,6,3,12],[3,13,3,19],[4,15,6,16],[8,7,9,7],[8,8,9,8],[8,16,9,16],[8,15,9,15],[8,14,9,14],[8,17,9,17],[8,18,9,18],[4,12,9,12],[8,20,9,20],[0,0,9,0],[0,1,0,19],[3,1,3,4],[4,13,6,14],[7,1,7,4],[8,1,9,1],[8,5,9,5],[8,6,9,6],[1,10,1,12],[1,13,1,19],[8,9,9,9],[8,10,9,10],[8,11,9,11],[1,4,1,9],[8,13,9,13],[0,25,3,25],[3,22,8,23],[3,24,9,24],[4,17,6,18],[4,20,6,20],[3,21,9,21],[0,21,2,24],[4,19,9,19],[1,20,2,20],[2,1,2,19],[4,1,6,4],[4,5,6,5],[4,6,6,7],[4,8,6,9],[4,10,6,11],[8,2,8,4]]}
[null,"VALORES ESPIRITUALIDADES Y RELIGIONES",null,null,null,null,null,null,null,null,null,null,null,null,null,null,null,null,null,null,2018]
[null,"AÑO DE ESCOLARIDAD:",null,null,{"$f":"CARATULA!G15","v":0},null,null,null,null,null,"MAESTRA (O): ",null,null,{"$f":"CARATULA!G18","v":0},null,null,null,null,null,null,"TERCER BIMESTRE"]
[null," REGISTRO  Y CENTRALIZADOR DEL PROCESO DE  EVALUACIÓN   "]
[null,"DIMENSIONES",null,null,null,"SER (10)","SABER (35)",null,null,null,null,null,null,"HACER (35)",null,null,null,null,null,null,"DECIDIR (10)","TOTAL     EVALUACIÓN    DEL     MAESTRO","AUTOEVALUACIÓN",null,"CALIFICACIÓN BIMESTRAL"]
[null,"CRITERIOS DE EVALUACIÓN SEGÚN PDC",null,null,null,null,null,null,null,null,null,null,"T      O     T     A       L",null,null,null,null,null,null,"T      O     T     A       L"]
[]
[]
[null,"INSTRUMENTO Y/ O ESTRATEGIAS DE EVALUACIÓN"]
[null,"N°","    FECHA DE  EVALUACIÓN\n \n\n"]
[null,null,"NOMBRES ","APELLIDO PATERNO"," \nAPELLIDO MATERNO",null,null,null,null,null,null,null,null,null,null,null,null,null,null,null,null,null,"SER\n(5)","DECIDIR\n(5)"]
[null,1,{"$f":"'DATOS DEL ESTUDIANTE'!B4","v":0},{"$f":"'DATOS DEL ESTUDIANTE'!C4","v":0},{"$f":"'DATOS DEL ESTUDIANTE'!D4","v":0},null,null,null,null,null,null,null,{"$f":"AVERAGE(G11:L11)","v":{"$error":"#DIV/0!"}},null,null,null,null,null,null,{"$f":"AVERAGE(N11:S11)","v":{"$error":"#DIV/0!"}},null,{"$f":"SUM(F11+M11+T11+U11)","v":{"$error":"#DIV/0!"}},null,null,{"$f":"SUM(V11:X11)","v":{"$error":"#DIV/0!"}}]
[null,2,{"$f":"'DATOS DEL ESTUDIANTE'!B5","v":0},{"$f":"'DATOS DEL ESTUDIANTE'!C5","v":0},{"$f":"'DATOS DEL ESTUDIANTE'!D5","v":0},null,null,null,null,null,null,null,{"$f":"AVERAGE(G12:L12)","v":{"$error":"#DIV/0!"}},null,null,null,null,null,null,{"$f":"AVERAGE(N12:S12)","v":{"$error":"#DIV/0!"}},null,{"$f":"SUM(F12+M12+T12+U12)","v":{"$error":"#DIV/0!"}},null,null,{"$f":"SUM(V12:X12)","v":{"$error":"#DIV/0!"}}]
[null,3,{"$f":"'DATOS DEL ESTUDIANTE'!B6","v":0},{"$f":"'DATOS DEL ESTUDIANTE'!C6","v":0},{"$f":"'DATOS DEL ESTUDIANTE'!D6","v":0},null,null,null,null,null,null,null,{"$error":"#DIV/0!"},null,null,null,null,null,null,{"$error":"#DIV/0!"},null,{"$error":"#DIV/0!"},null,null,{"$error":"#DIV/0!"}]
[null,4,{"$f":"'DATOS DEL ESTUDIANTE'!B7","v":0},{"$f":"'DATOS DEL ESTUDIANTE'!C7","v":0},{"$f":"'DATOS DEL ESTUDIANTE'!D7","v":0},null,null,null,null,null,null,null,{"$error":"#DIV/0!"},null,null,null,null,null,null,{"$error":"#DIV/0!"},null,{"$error":"#DIV/0!"},null,null,{"$error":"#DIV/0!"}]
[null,5,{"$f":"'DATOS DEL ESTUDIANTE'!B8","v":0},{"$f":"'DATOS DEL ESTUDIANTE'!C8","v":0},{"$f":"'DATOS DEL ESTUDIANTE'!D8","v":0},null,null,null,null,null,null,null,{"$error":"#DIV/0!"},null,null,null,null,null,null,{"$error":"#DIV/0!"},null,{"$error":"#DIV/0!"},null,null,{"$error":"#DIV/0!"}]
[null,6,{"$f":"'DATOS DEL ESTUDIANTE'!B9","v":0},{"$f":"'DATOS DEL ESTUDIANTE'!C9","v":0},{"$f":"'DATOS DEL ESTUDIANTE'!D9","v":0},null,null,null,null,null,null,null,{"$error":"#DIV/0!"},null,null,null,null,null,null,{"$error":"#DIV/0!"},null,{"$error":"#DIV/0!"},null,null,{"$error":"#DIV/0!"}]
[null,7,{"$f":"'DATOS DEL ESTUDIANTE'!B10","v":0},{"$f":"'DATOS DEL ESTUDIANTE'!C10","v":0},{"$f":"'DATOS DEL ESTUDIANTE'!D10","v":0},null,null,null,null,null,null,null,{"$error":"#DIV/0!"},null,null,null,null,null,null,{"$error":"#DIV/0!"},null,{"$error":"#DIV/0!"},null,null,{"$error":"#DIV/0!"}]
[null,8,{"$f":"'DATOS DEL ESTUDIANTE'!B11","v":0},{"$f":"'DATOS DEL ESTUDIANTE'!C11","v":0},{"$f":"'DATOS DEL ESTUDIANTE'!D11","v":0},null,null,null,null,null,null,null,{"$error":"#DIV/0!"},null,null,null,null,null,null,{"$error":"#DIV/0!"},null,{"$error":"#DIV/0!"},null,null,{"$error":"#DIV/0!"}]
[null,9,{"$f":"'DATOS DEL ESTUDIANTE'!B12","v":0},{"$f":"'DATOS DEL ESTUDIANTE'!C12","v":0},{"$f":"'DATOS DEL ESTUDIANTE'!D12","v":0},null,null,null,null,null,null,null,{"$error":"#DIV/0!"},null,null,null,null,null,null,{"$error":"#DIV/0!"},null,{"$error":"#DIV/0!"},null,null,{"$error":"#DIV/0!"}]
[null,10,{"$f":"'DATOS DEL ESTUDIANTE'!B13","v":0},{"$f":"'DATOS DEL ESTUDIANTE'!C13","v":0},{"$f":"'DATOS DEL ESTUDIANTE'!D13","v":0},null,null,null,null,null,null,null,{"$error":"#DIV/0!"},null,null,null,null,null,null,{"$error":"#DIV/0!"},null,{"$error":"#DIV/0!"},null,null,{"$error":"#DIV/0!"}]
[null,11,{"$f":"'DATOS DEL ESTUDIANTE'!B14","v":0},{"$f":"'DATOS DEL ESTUDIANTE'!C14","v":0},{"$f":"'DATOS DEL ESTUDIANTE'!D14","v":0},null,null,null,null,null,null,null,{"$error":"#DIV/0!"},null,null,null,null,null,null,{"$error":"#DIV/0!"},null,{"$error":"#DIV/0!"},null,null,{"$error":"#DIV/0!"}]
[null,12,{"$f":"'DATOS DEL ESTUDIANTE'!B15","v":0},{"$f":"'DATOS DEL ESTUDIANTE'!C15","v":0},{"$f":"'DATOS DEL ESTUDIANTE'!D15","v":0},null,null,null,null,null,null,null,{"$error":"#DIV/0!"},null,null,null,null,null,null,{"$error":"#DIV/0!"},null,{"$error":"#DIV/0!"},null,null,{"$error":"#DIV/0!"}]
[null,13,{"$f":"'DATOS DEL ESTUDIANTE'!B16","v":0},{"$f":"'DATOS DEL ESTUDIANTE'!C16","v":0},{"$f":"'DATOS DEL ESTUDIANTE'!D16","v":0},null,null,null,null,null,null,null,{"$error":"#DIV/0!"},null,null,null,null,null,null,{"$error":"#DIV/0!"},null,{"$error":"#DIV/0!"},null,null,{"$error":"#DIV/0!"}]
[null,14,{"$f":"'DATOS DEL ESTUDIANTE'!B17","v":0},{"$f":"'DATOS DEL ESTUDIANTE'!C17","v":0},{"$f":"'DATOS DEL ESTUDIANTE'!D17","v":0},null,null,null,null,null,null,null,{"$error":"#DIV/0!"},null,null,null,null,null,null,{"$error":"#DIV/0!"},null,{"$error":"#DIV/0!"},null,null,{"$error":"#DIV/0!"}]
[null,15,{"$f":"'DATOS DEL ESTUDIANTE'!B18","v":0},{"$f":"'DATOS DEL ESTUDIANTE'!C18","v":0},{"$f":"'DATOS DEL ESTUDIANTE'!D18","v":0},null,null,null,null,null,null,null,{"$error":"#DIV/0!"},null,null,null,null,null,null,{"$error":"#DIV/0!"},null,{"$error":"#DIV/0!"},null,null,{"$error":"#DIV/0!"}]
[null,16,{"$f":"'DATOS DEL ESTUDIANTE'!B19","v":0},{"$f":"'DATOS DEL ESTUDIANTE'!C19","v":0},{"$f":"'DATOS DEL ESTUDIANTE'!D19","v":0},null,null,null,null,null,null,null,{"$error":"#DIV/0!"},null,null,null,null,null,null,{"$error":"#DIV/0!"},null,{"$error":"#DIV/0!"},null,null,{"$error":"#DIV/0!"}]
[null,17,{"$f":"'DATOS DEL ESTUDIANTE'!B20","v":0},{"$f":"'DATOS DEL ESTUDIANTE'!C20","v":0},{"$f":"'DATOS DEL ESTUDIANTE'!D20","v":0},null,null,null,null,null,null,null,{"$error":"#DIV/0!"},null,null,null,null,null,null,{"$error":"#DIV/0!"},null,{"$error":"#DIV/0!"},null,null,{"$error":"#DIV/0!"}]
[null,18,{"$f":"'DATOS DEL ESTUDIANTE'!B21","v":0},{"$f":"'DATOS DEL ESTUDIANTE'!C21","v":0},{"$f":"'DATOS DEL ESTUDIANTE'!D21","v":0},null,null,null,null,null,null,null,{"$error":"#DIV/0!"},null,null,null,null,null,null,{"$error":"#DIV/0!"},null,{"$error":"#DIV/0!"},null,null,{"$error":"#DIV/0!"}]
[null,19,{"$f":"'DATOS DEL ESTUDIANTE'!B22","v":0},{"$f":"'DATOS DEL ESTUDIANTE'!C22","v":0},{"$f":"'DATOS DEL ESTUDIANTE'!D22","v":0},null,null,null,null,null,null,null,{"$error":"#DIV/0!"},null,null,null,null,null,null,{"$error":"#DIV/0!"},null,{"$error":"#DIV/0!"},null,null,{"$error":"#DIV/0!"}]
[null,20,{"$f":"'DATOS DEL ESTUDIANTE'!B23","v":0},{"$f":"'DATOS DEL ESTUDIANTE'!C23","v":0},{"$f":"'DATOS DEL ESTUDIANTE'!D23","v":0},null,null,null,null,null,null,null,{"$error":"#DIV/0!"},null,null,null,null,null,null,{"$error":"#DIV/0!"},null,{"$error":"#DIV/0!"},null,null,{"$error":"#DIV/0!"}]
[null,21,{"$f":"'DATOS DEL ESTUDIANTE'!B24","v":0},{"$f":"'DATOS DEL ESTUDIANTE'!C24","v":0},{"$f":"'DATOS DEL ESTUDIANTE'!D24","v":0},null,null,null,null,null,null,null,{"$error":"#DIV/0!"},null,null,null,null,null,null,{"$error":"#DIV/0!"},null,{"$error":"#DIV/0!"},null,null,{"$error":"#DIV/0!"}]
[null,22,{"$f":"'DATOS DEL ESTUDIANTE'!B25","v":0},{"$f":"'DATOS DEL ESTUDIANTE'!C25","v":0},{"$f":"'DATOS DEL ESTUDIANTE'!D25","v":0},null,null,null,null,null,null,null,{"$error":"#DIV/0!"},null,null,null,null,null,null,{"$error":"#DIV/0!"},null,{"$error":"#DIV/0!"},null,null,{"$error":"#DIV/0!"}]
[null,23,{"$f":"'DATOS DEL ESTUDIANTE'!B26","v":0},{"$f":"'DATOS DEL ESTUDIANTE'!C26","v":0},{"$f":"'DATOS DEL ESTUDIANTE'!D26","v":0},null,null,null,null,null,null,null,{"$error":"#DIV/0!"},null,null,null,null,null,null,{"$error":"#DIV/0!"},null,{"$error":"#DIV/0!"},null,null,{"$error":"#DIV/0!"}]
[null,24,{"$f":"'DATOS DEL ESTUDIANTE'!B27","v":0},{"$f":"'DATOS DEL ESTUDIANTE'!C27","v":0},{"$f":"'DATOS DEL ESTUDIANTE'!D27","v":0},null,null,null,null,null,null,null,{"$error":"#DIV/0!"},null,null,null,null,null,null,{"$error":"#DIV/0!"},null,{"$error":"#DIV/0!"},null,null,{"$error":"#DIV/0!"}]
[null,25,{"$f":"'DATOS DEL ESTUDIANTE'!B28","v":0},{"$f":"'DATOS DEL ESTUDIANTE'!C28","v":0},{"$f":"'DATOS DEL ESTUDIANTE'!D28","v":0},null,null,null,null,null,null,null,{"$error":"#DIV/0!"},null,null,null,null,null,null,{"$error":"#DIV/0!"},null,{"$error":"#DIV/0!"},null,null,{"$error":"#DIV/0!"}]
[null,26,{"$f":"'DATOS DEL ESTUDIANTE'!B29","v":0},{"$f":"'DATOS DEL ESTUDIANTE'!C29","v":0},{"$f":"'DATOS DEL ESTUDIANTE'!D29","v":0},null,null,null,null,null,null,null,{"$error":"#DIV/0!"},null,null,null,null,null,null,{"$error":"#DIV/0!"},null,{"$error":"#DIV/0!"},null,null,{"$error":"#DIV/0!"}]
[null,27,{"$f":"'DATOS DEL ESTUDIANTE'!B30","v":0},{"$f":"'DATOS DEL ESTUDIANTE'!C30","v":0},{"$f":"'DATOS DEL ESTUDIANTE'!D30","v":0},null,null,null,null,null,null,null,{"$error":"#DIV/0!"},null,null,null,null,null,null,{"$error":"#DIV/0!"},null,{"$error":"#DIV/0!"},null,null,{"$error":"#DIV/0!"}]
[null,28,{"$f":"'DATOS DEL ESTUDIANTE'!B31","v":0},{"$f":"'DATOS DEL ESTUDIANTE'!C31","v":0},{"$f":"'DATOS DEL ESTUDIANTE'!D31","v":0},null,null,null,null,null,null,null,{"$error":"#DIV/0!"},null,null,null,null,null,null,{"$error":"#DIV/0!"},null,{"$error":"#DIV/0!"},null,null,{"$error":"#DIV/0!"}]
[null,29,{"$f":"'DATOS DEL ESTUDIANTE'!B32","v":0},{"$f":"'DATOS DEL ESTUDIANTE'!C32","v":0},{"$f":"'DATOS DEL ESTUDIANTE'!D32","v":0},null,null,null,null,null,null,null,{"$error":"#DIV/0!"},null,null,null,null,null,null,{"$error":"#DIV/0!"},null,{"$error":"#DIV/0!"},null,null,{"$error":"#DIV/0!"}]
[null,30,{"$f":"'DATOS DEL ESTUDIANTE'!B33","v":0},{"$f":"'DATOS DEL ESTUDIANTE'!C33","v":0},{"$f":"'DATOS DEL ESTUDIANTE'!D33","v":0},null,null,null,null,null,null,null,{"$error":"#DIV/0!"},null,null,null,null,null,null,{"$error":"#DIV/0!"},null,{"$error":"#DIV/0!"},null,null,{"$error":"#DIV/0!"}]
[null,31,{"$f":"'DATOS DEL ESTUDIANTE'!B34","v":0},{"$f":"'DATOS DEL ESTUDIANTE'!C34","v":0},{"$f":"'DATOS DEL ESTUDIANTE'!D34","v":0},null,null,null,null,null,null,null,{"$error":"#DIV/0!"},null,null,null,null,null,null,{"$error":"#DIV/0!"},null,{"$error":"#DIV/0!"},null,null,{"$error":"#DIV/0!"}]
[null,32,{"$f":"'DATOS DEL ESTUDIANTE'!B35","v":0},{"$f":"'DATOS DEL ESTUDIANTE'!C35","v":0},{"$f":"'DATOS DEL ESTUDIANTE'!D35","v":0},null,null,null,null,null,null,null,{"$error":"#DIV/0!"},null,null,null,null,null,null,{"$error":"#DIV/0!"},null,{"$error":"#DIV/0!"},null,null,{"$error":"#DIV/0!"}]
[null,33,{"$f":"'DATOS DEL ESTUDIANTE'!B36","v":0},{"$f":"'DATOS DEL ESTUDIANTE'!C36","v":0},{"$f":"'DATOS DEL ESTUDIANTE'!D36","v":0},null,null,null,null,null,null,null,{"$error":"#DIV/0!"},null,null,null,null,null,null,{"$error":"#DIV/0!"},null,{"$error":"#DIV/0!"},null,null,{"$error":"#DIV/0!"}]
[null,34,{"$f":"'DATOS DEL ESTUDIANTE'!B37","v":0},{"$f":"'DATOS DEL ESTUDIANTE'!C37","v":0},{"$f":"'DATOS DEL ESTUDIANTE'!D37","v":0},null,null,null,null,null,null,null,{"$error":"#DIV/0!"},null,null,null,null,null,null,{"$error":"#DIV/0!"},null,{"$error":"#DIV/0!"},null,null,{"$error":"#DIV/0!"}]
[null,35,{"$f":"'DATOS DEL ESTUDIANTE'!B38","v":0},{"$f":"'DATOS DEL ESTUDIANTE'!C38","v":0},{"$f":"'DATOS DEL ESTUDIANTE'!D38","v":0},null,null,null,null,null,null,null,{"$error":"#DIV/0!"},null,null,null,null,null,null,{"$error":"#DIV/0!"},null,{"$error":"#DIV/0!"},null,null,{"$error":"#DIV/0!"}]
[null,36,{"$f":"'DATOS DEL ESTUDIANTE'!B39","v":0},{"$f":"'DATOS DEL ESTUDIANTE'!C39","v":0},{"$f":"'DATOS DEL ESTUDIANTE'!D39","v":0},null,null,null,null,null,null,null,{"$error":"#DIV/0!"},null,null,null,null,null,null,{"$error":"#DIV/0!"},null,{"$error":"#DIV/0!"},null,null,{"$error":"#DIV/0!"}]
[null,37,{"$f":"'DATOS DEL ESTUDIANTE'!B40","v":0},{"$f":"'DATOS DEL ESTUDIANTE'!C40","v":0},{"$f":"'DATOS DEL ESTUDIANTE'!D40","v":0},null,null,null,null,null,null,null,{"$error":"#DIV/0!"},null,null,null,null,null,null,{"$error":"#DIV/0!"},null,{"$error":"#DIV/0!"},null,null,{"$error":"#DIV/0!"}]
[null,38,{"$f":"'DATOS DEL ESTUDIANTE'!B41","v":0},{"$f":"'DATOS DEL ESTUDIANTE'!C41","v":0},{"$f":"'DATOS DEL ESTUDIANTE'!D41","v":0},null,null,null,null,null,null,null,{"$error":"#DIV/0!"},null,null,null,null,null,null,{"$error":"#DIV/0!"},null,{"$error":"#DIV/0!"},null,null,{"$error":"#DIV/0!"}]
[null,39,{"$f":"'DATOS DEL ESTUDIANTE'!B42","v":0},{"$f":"'DATOS DEL ESTUDIANTE'!C42","v":0},{"$f":"'DATOS DEL ESTUDIANTE'!D42","v":0},null,null,null,null,null,null,null,{"$error":"#DIV/0!"},null,null,null,null,null,null,{"$error":"#DIV/0!"},null,{"$error":"#DIV/0!"},null,null,{"$error":"#DIV/0!"}]
[null,40,{"$f":"'DATOS DEL ESTUDIANTE'!B43","v":0},{"$f":"'DATOS DEL ESTUDIANTE'!C43","v":0},{"$f":"'DATOS DEL ESTUDIANTE'!D43","v":0},null,null,null,null,null,null,null,{"$error":"#DIV/0!"},null,null,null,null,null,null,{"$error":"#DIV/0!"},null,{"$error":"#DIV/0!"},null,null,{"$error":"#DIV/0!"}]
[null,41,{"$f":"'DATOS DEL ESTUDIANTE'!B44","v":0},{"$f":"'DATOS DEL ESTUDIANTE'!C44","v":0},{"$f":"'DATOS DEL ESTUDIANTE'!D44","v":0},null,null,null,null,null,null,null,{"$error":"#DIV/0!"},null,null,null,null,null,null,{"$error":"#DIV/0!"},null,{"$error":"#DIV/0!"},null,null,{"$error":"#DIV/0!"}]
[null,42,{"$f":"'DATOS DEL ESTUDIANTE'!B45","v":0},{"$f":"'DATOS DEL ESTUDIANTE'!C45","v":0},{"$f":"'DATOS DEL ESTUDIANTE'!D45","v":0},null,null,null,null,null,null,null,{"$error":"#DIV/0!"},null,null,null,null,null,null,{"$error":"#DIV/0!"},null,{"$error":"#DIV/0!"},null,null,{"$error":"#DIV/0!"}]
[null,43,{"$f":"'DATOS DEL ESTUDIANTE'!B46","v":0},{"$f":"'DATOS DEL ESTUDIANTE'!C46","v":0},{"$f":"'DATOS DEL ESTUDIANTE'!D46","v":0},null,null,null,null,null,null,null,{"$error":"#DIV/0!"},null,null,null,null,null,null,{"$error":"#DIV/0!"},null,{"$error":"#DIV/0!"},null,null,{"$error":"#DIV/0!"}]
[null,44,{"$f":"'DATOS DEL ESTUDIANTE'!B47","v":0},{"$f":"'DATOS DEL ESTUDIANTE'!C47","v":0},{"$f":"'DATOS DEL ESTUDIANTE'!D47","v":0},null,null,null,null,null,null,null,{"$error":"#DIV/0!"},null,null,null,null,null,null,{"$error":"#DIV/0!"},null,{"$error":"#DIV/0!"},null,null,{"$error":"#DIV/0!"}]
[null,45,{"$f":"'DATOS DEL ESTUDIANTE'!B48","v":0},{"$f":"'DATOS DEL ESTUDIANTE'!C48","v":0},{"$f":"'DATOS DEL ESTUDIANTE'!D48","v":0},null,null,null,null,null,null,null,{"$error":"#DIV/0!"},null,null,null,null,null,null,{"$error":"#DIV/0!"},null,{"$error":"#DIV/0!"},null,null,{"$error":"#DIV/0!"}]

{"sheet":"VALORES, ESPIRITUALIDADES Y R4","index":51,"n_rows":55,"n_cols":25,"rows_kept":55,"cut":false,"hidden":false,"merged":[[4,12,9,12],[4,19,9,19],[3,6,3,12],[3,13,3,19],[4,15,6,16],[8,7,9,7],[8,8,9,8],[8,16,9,16],[8,15,9,15],[8,14,9,14],[8,17,9,17],[8,18,9,18],[4,10,6,10],[4,11,6,11],[4,8,6,8],[0,0,9,0],[0,1,0,19],[3,1,3,4],[4,13,6,14],[7,1,7,4],[8,1,9,1],[8,5,9,5],[8,6,9,6],[1,10,1,12],[1,13,1,19],[8,9,9,9],[8,10,9,10],[8,11,9,11],[8,13,9,13],[8,2,8,4],[1,1,1,3],[1,4,1,9],[8,20,9,20],[0,25,3,25],[3,22,8,23],[3,24,9,24],[4,17,6,18],[4,20,6,20],[3,21,9,21],[0,21,2,24],[1,20,2,20],[2,1,2,19],[4,1,6,4],[4,5,6,5],[4,6,6,6],[4,7,6,7],[4,9,6,9]]}
[null,"VALORES, ESPIRITUALIDADES Y RELIGIONES",null,null,null,null,null,null,null,null,null,null,null,null,null,null,null,null,null,null,2018]
[null,"AÑO DE ESCOLARIDAD:",null,null,{"$f":"CARATULA!G15","v":0},null,null,null,null,null,"MAESTRA (O): ",null,null,{"$f":"CARATULA!G18","v":0},null,null,null,null,null,null,"CUARTO\nBIMESTRE"]
[null," REGISTRO  Y CENTRALIZADOR DEL PROCESO DE  EVALUACIÓN   "]
[null,"DIMENSIONES",null,null,null,"SER (10)","SABER (35)",null,null,null,null,null,null,"HACER (35)",null,null,null,null,null,null,"DECIDIR (10)","TOTAL     EVALUACIÓN    DEL     MAESTRO","AUTOEVALUACIÓN",null,"CALIFICACIÓN BIMESTRAL"]
[null,"CRITERIOS DE EVALUACIÓN SEGÚN PDC",null,null,null,null,null,null,null,null,null,null,"T      O     T     A       L",null,null,null,null,null,null,"T      O     T     A       L"]
[]
[]
[null,"INSTRUMENTO Y/ O ESTRATEGIAS DE EVALUACIÓN"]
[null,"N°","    FECHA DE  EVALUACIÓN\n \n\n"]
[null,null,"NOMBRES ","APELLIDO PATERNO"," \nAPELLIDO MATERNO",null,null,null,null,null,null,null,null,null,null,null,null,null,null,null,null,null,"SER\n(5)","DECIDIR\n(5)"]
[null,1,{"$f":"'DATOS DEL ESTUDIANTE'!B4","v":0},{"$f":"'DATOS DEL ESTUDIANTE'!C4","v":0},{"$f":"'DATOS DEL ESTUDIANTE'!D4","v":0},null,null,null,null,null,null,null,{"$f":"AVERAGE(G11:L11)","v":{"$error":"#DIV/0!"}},null,null,null,null,null,null,{"$f":"AVERAGE(N11:S11)","v":{"$error":"#DIV/0!"}},null,{"$f":"SUM(F11+M11+T11+U11)","v":{"$error":"#DIV/0!"}},null,null,{"$f":"SUM(V11:X11)","v":{"$error":"#DIV/0!"}}]
[null,2,{"$f":"'DATOS DEL ESTUDIANTE'!B5","v":0},{"$f":"'DATOS DEL ESTUDIANTE'!C5","v":0},{"$f":"'DATOS DEL ESTUDIANTE'!D5","v":0},null,null,null,null,null,null,null,{"$f":"AVERAGE(G12:L12)","v":{"$error":"#DIV/0!"}},null,null,null,null,null,null,{"$f":"AVERAGE(N12:S12)","v":{"$error":"#DIV/0!"}},null,{"$f":"SUM(F12+M12+T12+U12)","v":{"$error":"#DIV/0!"}},null,null,{"$f":"SUM(V12:X12)","v":{"$error":"#DIV/0!"}}]
[null,3,{"$f":"'DATOS DEL ESTUDIANTE'!B6","v":0},{"$f":"'DATOS DEL ESTUDIANTE'!C6","v":0},{"$f":"'DATOS DEL ESTUDIANTE'!D6","v":0},null,null,null,null,null,null,null,{"$error":"#DIV/0!"},null,null,null,null,null,null,{"$error":"#DIV/0!"},null,{"$error":"#DIV/0!"},null,null,{"$error":"#DIV/0!"}]
[null,4,{"$f":"'DATOS DEL ESTUDIANTE'!B7","v":0},{"$f":"'DATOS DEL ESTUDIANTE'!C7","v":0},{"$f":"'DATOS DEL ESTUDIANTE'!D7","v":0},null,null,null,null,null,null,null,{"$error":"#DIV/0!"},null,null,null,null,null,null,{"$error":"#DIV/0!"},null,{"$error":"#DIV/0!"},null,null,{"$error":"#DIV/0!"}]
[null,5,{"$f":"'DATOS DEL ESTUDIANTE'!B8","v":0},{"$f":"'DATOS DEL ESTUDIANTE'!C8","v":0},{"$f":"'DATOS DEL ESTUDIANTE'!D8","v":0},null,null,null,null,null,null,null,{"$error":"#DIV/0!"},null,null,null,null,null,null,{"$error":"#DIV/0!"},null,{"$error":"#DIV/0!"},null,null,{"$error":"#DIV/0!"}]
[null,6,{"$f":"'DATOS DEL ESTUDIANTE'!B9","v":0},{"$f":"'DATOS DEL ESTUDIANTE'!C9","v":0},{"$f":"'DATOS DEL ESTUDIANTE'!D9","v":0},null,null,null,null,null,null,null,{"$error":"#DIV/0!"},null,null,null,null,null,null,{"$error":"#DIV/0!"},null,{"$error":"#DIV/0!"},null,null,{"$error":"#DIV/0!"}]
[null,7,{"$f":"'DATOS DEL ESTUDIANTE'!B10","v":0},{"$f":"'DATOS DEL ESTUDIANTE'!C10","v":0},{"$f":"'DATOS DEL ESTUDIANTE'!D10","v":0},null,null,null,null,null,null,null,{"$error":"#DIV/0!"},null,null,null,null,null,null,{"$error":"#DIV/0!"},null,{"$error":"#DIV/0!"},null,null,{"$error":"#DIV/0!"}]
[null,8,{"$f":"'DATOS DEL ESTUDIANTE'!B11","v":0},{"$f":"'DATOS DEL ESTUDIANTE'!C11","v":0},{"$f":"'DATOS DEL ESTUDIANTE'!D11","v":0},null,null,null,null,null,null,null,{"$error":"#DIV/0!"},null,null,null,null,null,null,{"$error":"#DIV/0!"},null,{"$error":"#DIV/0!"},null,null,{"$error":"#DIV/0!"}]
[null,9,{"$f":"'DATOS DEL ESTUDIANTE'!B12","v":0},{"$f":"'DATOS DEL ESTUDIANTE'!C12","v":0},{"$f":"'DATOS DEL ESTUDIANTE'!D12","v":0},null,null,null,null,null,null,null,{"$error":"#DIV/0!"},null,null,null,null,null,null,{"$error":"#DIV/0!"},null,{"$error":"#DIV/0!"},null,null,{"$error":"#DIV/0!"}]
[null,10,{"$f":"'DATOS DEL ESTUDIANTE'!B13","v":0},{"$f":"'DATOS DEL ESTUDIANTE'!C13","v":0},{"$f":"'DATOS DEL ESTUDIANTE'!D13","v":0},null,null,null,null,null,null,null,{"$error":"#DIV/0!"},null,null,null,null,null,null,{"$error":"#DIV/0!"},null,{"$error":"#DIV/0!"},null,null,{"$error":"#DIV/0!"}]
[null,11,{"$f":"'DATOS DEL ESTUDIANTE'!B14","v":0},{"$f":"'DATOS DEL ESTUDIANTE'!C14","v":0},{"$f":"'DATOS DEL ESTUDIANTE'!D14","v":0},null,null,null,null,null,null,null,{"$error":"#DIV/0!"},null,null,null,null,null,null,{"$error":"#DIV/0!"},null,{"$error":"#DIV/0!"},null,null,{"$error":"#DIV/0!"}]
[null,12,{"$f":"'DATOS DEL ESTUDIANTE'!B15","v":0},{"$f":"'DATOS DEL ESTUDIANTE'!C15","v":0},{"$f":"'DATOS DEL ESTUDIANTE'!D15","v":0},null,null,null,null,null,null,null,{"$error":"#DIV/0!"},null,null,null,null,null,null,{"$error":"#DIV/0!"},null,{"$error":"#DIV/0!"},null,null,{"$error":"#DIV/0!"}]
[null,13,{"$f":"'DATOS DEL ESTUDIANTE'!B16","v":0},{"$f":"'DATOS DEL ESTUDIANTE'!C16","v":0},{"$f":"'DATOS DEL ESTUDIANTE'!D16","v":0},null,null,null,null,null,null,null,{"$error":"#DIV/0!"},null,null,null,null,null,null,{"$error":"#DIV/0!"},null,{"$error":"#DIV/0!"},null,null,{"$error":"#DIV/0!"}]
[null,14,{"$f":"'DATOS DEL ESTUDIANTE'!B17","v":0},{"$f":"'DATOS DEL ESTUDIANTE'!C17","v":0},{"$f":"'DATOS DEL ESTUDIANTE'!D17","v":0},null,null,null,null,null,null,null,{"$error":"#DIV/0!"},null,null,null,null,null,null,{"$error":"#DIV/0!"},null,{"$error":"#DIV/0!"},null,null,{"$error":"#DIV/0!"}]
[null,15,{"$f":"'DATOS DEL ESTUDIANTE'!B18","v":0},{"$f":"'DATOS DEL ESTUDIANTE'!C18","v":0},{"$f":"'DATOS DEL ESTUDIANTE'!D18","v":0},null,null,null,null,null,null,null,{"$error":"#DIV/0!"},null,null,null,null,null,null,{"$error":"#DIV/0!"},null,{"$error":"#DIV/0!"},null,null,{"$error":"#DIV/0!"}]
[null,16,{"$f":"'DATOS DEL ESTUDIANTE'!B19","v":0},{"$f":"'DATOS DEL ESTUDIANTE'!C19","v":0},{"$f":"'DATOS DEL ESTUDIANTE'!D19","v":0},null,null,null,null,null,null,null,{"$error":"#DIV/0!"},null,null,null,null,null,null,{"$error":"#DIV/0!"},null,{"$error":"#DIV/0!"},null,null,{"$error":"#DIV/0!"}]
[null,17,{"$f":"'DATOS DEL ESTUDIANTE'!B20","v":0},{"$f":"'DATOS DEL ESTUDIANTE'!C20","v":0},{"$f":"'DATOS DEL ESTUDIANTE'!D20","v":0},null,null,null,null,null,null,null,{"$error":"#DIV/0!"},null,null,null,null,null,null,{"$error":"#DIV/0!"},null,{"$error":"#DIV/0!"},null,null,{"$error":"#DIV/0!"}]
[null,18,{"$f":"'DATOS DEL ESTUDIANTE'!B21","v":0},{"$f":"'DATOS DEL ESTUDIANTE'!C21","v":0},{"$f":"'DATOS DEL ESTUDIANTE'!D21","v":0},null,null,null,null,null,null,null,{"$error":"#DIV/0!"},null,null,null,null,null,null,{"$error":"#DIV/0!"},null,{"$error":"#DIV/0!"},null,null,{"$error":"#DIV/0!"}]
[null,19,{"$f":"'DATOS DEL ESTUDIANTE'!B22","v":0},{"$f":"'DATOS DEL ESTUDIANTE'!C22","v":0},{"$f":"'DATOS DEL ESTUDIANTE'!D22","v":0},null,null,null,null,null,null,null,{"$error":"#DIV/0!"},null,null,null,null,null,null,{"$error":"#DIV/0!"},null,{"$error":"#DIV/0!"},null,null,{"$error":"#DIV/0!"}]
[null,20,{"$f":"'DATOS DEL ESTUDIANTE'!B23","v":0},{"$f":"'DATOS DEL ESTUDIANTE'!C23","v":0},{"$f":"'DATOS DEL ESTUDIANTE'!D23","v":0},null,null,null,null,null,null,null,{"$error":"#DIV/0!"},null,null,null,null,null,null,{"$error":"#DIV/0!"},null,{"$error":"#DIV/0!"},null,null,{"$error":"#DIV/0!"}]
[null,21,{"$f":"'DATOS DEL ESTUDIANTE'!B24","v":0},{"$f":"'DATOS DEL ESTUDIANTE'!C24","v":0},{"$f":"'DATOS DEL ESTUDIANTE'!D24","v":0},null,null,null,null,null,null,null,{"$error":"#DIV/0!"},null,null,null,null,null,null,{"$error":"#DIV/0!"},null,{"$error":"#DIV/0!"},null,null,{"$error":"#DIV/0!"}]
[null,22,{"$f":"'DATOS DEL ESTUDIANTE'!B25","v":0},{"$f":"'DATOS DEL ESTUDIANTE'!C25","v":0},{"$f":"'DATOS DEL ESTUDIANTE'!D25","v":0},null,null,null,null,null,null,null,{"$error":"#DIV/0!"},null,null,null,null,null,null,{"$error":"#DIV/0!"},null,{"$error":"#DIV/0!"},null,null,{"$error":"#DIV/0!"}]
[null,23,{"$f":"'DATOS DEL ESTUDIANTE'!B26","v":0},{"$f":"'DATOS DEL ESTUDIANTE'!C26","v":0},{"$f":"'DATOS DEL ESTUDIANTE'!D26","v":0},null,null,null,null,null,null,null,{"$error":"#DIV/0!"},null,null,null,null,null,null,{"$error":"#DIV/0!"},null,{"$error":"#DIV/0!"},null,null,{"$error":"#DIV/0!"}]
[null,24,{"$f":"'DATOS DEL ESTUDIANTE'!B27","v":0},{"$f":"'DATOS DEL ESTUDIANTE'!C27","v":0},{"$f":"'DATOS DEL ESTUDIANTE'!D27","v":0},null,null,null,null,null,null,null,{"$error":"#DIV/0!"},null,null,null,null,null,null,{"$error":"#DIV/0!"},null,{"$error":"#DIV/0!"},null,null,{"$error":"#DIV/0!"}]
[null,25,{"$f":"'DATOS DEL ESTUDIANTE'!B28","v":0},{"$f":"'DATOS DEL ESTUDIANTE'!C28","v":0},{"$f":"'DATOS DEL ESTUDIANTE'!D28","v":0},null,null,null,null,null,null,null,{"$error":"#DIV/0!"},null,null,null,null,null,null,{"$error":"#DIV/0!"},null,{"$error":"#DIV/0!"},null,null,{"$error":"#DIV/0!"}]
[null,26,{"$f":"'DATOS DEL ESTUDIANTE'!B29","v":0},{"$f":"'DATOS DEL ESTUDIANTE'!C29","v":0},{"$f":"'DATOS DEL ESTUDIANTE'!D29","v":0},null,null,null,null,null,null,null,{"$error":"#DIV/0!"},null,null,null,null,null,null,{"$error":"#DIV/0!"},null,{"$error":"#DIV/0!"},null,null,{"$error":"#DIV/0!"}]
[null,27,{"$f":"'DATOS DEL ESTUDIANTE'!B30","v":0},{"$f":"'DATOS DEL ESTUDIANTE'!C30","v":0},{"$f":"'DATOS DEL ESTUDIANTE'!D30","v":0},null,null,null,null,null,null,null,{"$error":"#DIV/0!"},null,null,null,null,null,null,{"$error":"#DIV/0!"},null,{"$error":"#DIV/0!"},null,null,{"$error":"#DIV/0!"}]
[null,28,{"$f":"'DATOS DEL ESTUDIANTE'!B31","v":0},{"$f":"'DATOS DEL ESTUDIANTE'!C31","v":0},{"$f":"'DATOS DEL ESTUDIANTE'!D31","v":0},null,null,null,null,null,null,null,{"$error":"#DIV/0!"},null,null,null,null,null,null,{"$error":"#DIV/0!"},null,{"$error":"#DIV/0!"},null,null,{"$error":"#DIV/0!"}]
[null,29,{"$f":"'DATOS DEL ESTUDIANTE'!B32","v":0},{"$f":"'DATOS DEL ESTUDIANTE'!C32","v":0},{"$f":"'DATOS DEL ESTUDIANTE'!D32","v":0},null,null,null,null,null,null,null,{"$error":"#DIV/0!"},null,null,null,null,null,null,{"$error":"#DIV/0!"},null,{"$error":"#DIV/0!"},null,null,{"$error":"#DIV/0!"}]
[null,30,{"$f":"'DATOS DEL ESTUDIANTE'!B33","v":0},{"$f":"'DATOS DEL ESTUDIANTE'!C33","v":0},{"$f":"'DATOS DEL ESTUDIANTE'!D33","v":0},null,null,null,null,null,null,null,{"$error":"#DIV/0!"},null,null,null,null,null,null,{"$error":"#DIV/0!"},null,{"$error":"#DIV/0!"},null,null,{"$error":"#DIV/0!"}]
[null,31,{"$f":"'DATOS DEL ESTUDIANTE'!B34","v":0},{"$f":"'DATOS DEL ESTUDIANTE'!C34","v":0},{"$f":"'DATOS DEL ESTUDIANTE'!D34","v":0},null,null,null,null,null,null,null,{"$error":"#DIV/0!"},null,null,null,null,null,null,{"$error":"#DIV/0!"},null,{"$error":"#DIV/0!"},null,null,{"$error":"#DIV/0!"}]
[null,32,{"$f":"'DATOS DEL ESTUDIANTE'!B35","v":0},{"$f":"'DATOS DEL ESTUDIANTE'!C35","v":0},{"$f":"'DATOS DEL ESTUDIANTE'!D35","v":0},null,null,null,null,null,null,null,{"$error":"#DIV/0!"},null,null,null,null,null,null,{"$error":"#DIV/0!"},null,{"$error":"#DIV/0!"},null,null,{"$error":"#DIV/0!"}]
[null,33,{"$f":"'DATOS DEL ESTUDIANTE'!B36","v":0},{"$f":"'DATOS DEL ESTUDIANTE'!C36","v":0},{"$f":"'DATOS DEL ESTUDIANTE'!D36","v":0},null,null,null,null,null,null,null,{"$error":"#DIV/0!"},null,null,null,null,null,null,{"$error":"#DIV/0!"},null,{"$error":"#DIV/0!"},null,null,{"$error":"#DIV/0!"}]
[null,34,{"$f":"'DATOS DEL ESTUDIANTE'!B37","v":0},{"$f":"'DATOS DEL ESTUDIANTE'!C37","v":0},{"$f":"'DATOS DEL ESTUDIANTE'!D37","v":0},null,null,null,null,null,null,null,{"$error":"#DIV/0!"},null,null,null,null,null,null,{"$error":"#DIV/0!"},null,{"$error":"#DIV/0!"},null,null,{"$error":"#DIV/0!"}]
[null,35,{"$f":"'DATOS DEL ESTUDIANTE'!B38","v":0},{"$f":"'DATOS DEL ESTUDIANTE'!C38","v":0},{"$f":"'DATOS DEL ESTUDIANTE'!D38","v":0},null,null,null,null,null,null,null,{"$error":"#DIV/0!"},null,null,null,null,null,null,{"$error":"#DIV/0!"},null,{"$error":"#DIV/0!"},null,null,{"$error":"#DIV/0!"}]
[null,36,{"$f":"'DATOS DEL ESTUDIANTE'!B39","v":0},{"$f":"'DATOS DEL ESTUDIANTE'!C39","v":0},{"$f":"'DATOS DEL ESTUDIANTE'!D39","v":0},null,null,null,null,null,null,null,{"$error":"#DIV/0!"},null,null,null,null,null,null,{"$error":"#DIV/0!"},null,{"$error":"#DIV/0!"},null,null,{"$error":"#DIV/0!"}]
[null,37,{"$f":"'DATOS DEL ESTUDIANTE'!B40","v":0},{"$f":"'DATOS DEL ESTUDIANTE'!C40","v":0},{"$f":"'DATOS DEL ESTUDIANTE'!D40","v":0},null,null,null,null,null,null,null,{"$error":"#DIV/0!"},null,null,null,null,null,null,{"$error":"#DIV/0!"},null,{"$error":"#DIV/0!"},null,null,{"$error":"#DIV/0!"}]
[null,38,{"$f":"'DATOS DEL ESTUDIANTE'!B41","v":0},{"$f":"'DATOS DEL ESTUDIANTE'!C41","v":0},{"$f":"'DATOS DEL ESTUDIANTE'!D41","v":0},null,null,null,null,null,null,null,{"$error":"#DIV/0!"},null,null,null,null,null,null,{"$error":"#DIV/0!"},null,{"$error":"#DIV/0!"},null,null,{"$error":"#DIV/0!"}]
[null,39,{"$f":"'DATOS DEL ESTUDIANTE'!B42","v":0},{"$f":"'DATOS DEL ESTUDIANTE'!C42","v":0},{"$f":"'DATOS DEL ESTUDIANTE'!D42","v":0},null,null,null,null,null,null,null,{"$error":"#DIV/0!"},null,null,null,null,null,null,{"$error":"#DIV/0!"},null,{"$error":"#DIV/0!"},null,null,{"$error":"#DIV/0!"}]
[null,40,{"$f":"'DATOS DEL ESTUDIANTE'!B43","v":0},{"$f":"'DATOS DEL ESTUDIANTE'!C43","v":0},{"$f":"'DATOS DEL ESTUDIANTE'!D43","v":0},null,null,null,null,null,null,null,{"$error":"#DIV/0!"},null,null,null,null,null,null,{"$error":"#DIV/0!"},null,{"$error":"#DIV/0!"},null,null,{"$error":"#DIV/0!"}]
[null,41,{"$f":"'DATOS DEL ESTUDIANTE'!B44","v":0},{"$f":"'DATOS DEL ESTUDIANTE'!C44","v":0},{"$f":"'DATOS DEL ESTUDIANTE'!D44","v":0},null,null,null,null,null,null,null,{"$error":"#DIV/0!"},null,null,null,null,null,null,{"$error":"#DIV/0!"},null,{"$error":"#DIV/0!"},null,null,{"$error":"#DIV/0!"}]
[null,42,{"$f":"'DATOS DEL ESTUDIANTE'!B45","v":0},{"$f":"'DATOS DEL ESTUDIANTE'!C45","v":0},{"$f":"'DATOS DEL ESTUDIANTE'!D45","v":0},null,null,null,null,null,null,null,{"$error":"#DIV/0!"},null,null,null,null,null,null,{"$error":"#DIV/0!"},null,{"$error":"#DIV/0!"},null,null,{"$error":"#DIV/0!"}]
[null,43,{"$f":"'DATOS DEL ESTUDIANTE'!B46","v":0},{"$f":"'DATOS DEL ESTUDIANTE'!C46","v":0},{"$f":"'DATOS DEL ESTUDIANTE'!D46","v":0},null,null,null,null,null,null,null,{"$error":"#DIV/0!"},null,null,null,null,null,null,{"$error":"#DIV/0!"},null,{"$error":"#DIV/0!"},null,null,{"$error":"#DIV/0!"}]
[null,44,{"$f":"'DATOS DEL ESTUDIANTE'!B47","v":0},{"$f":"'DATOS DEL ESTUDIANTE'!C47","v":0},{"$f":"'DATOS DEL ESTUDIANTE'!D47","v":0},null,null,null,null,null,null,null,{"$error":"#DIV/0!"},null,null,null,null,null,null,{"$error":"#DIV/0!"},null,{"$error":"#DIV/0!"},null,null,{"$error":"#DIV/0!"}]
[null,45,{"$f":"'DATOS DEL ESTUDIANTE'!B48","v":0},{"$f":"'DATOS DEL ESTUDIANTE'!C48","v":0},{"$f":"'DATOS DEL ESTUDIANTE'!D48","v":0},null,null,null,null,null,null,null,{"$error":"#DIV/0!"},null,null,null,null,null,null,{"$error":"#DIV/0!"},null,{"$error":"#DIV/0!"},null,null,{"$error":"#DIV/0!"}]